{"text_format":"1","workbook":"xlsx","n_sheets":9,"sheets":["Market Size","System Parameter","EESS","EESS 5.340 bands","RAS","RAS 5.340 bands","FS","Amateur","EESS Shielding Table"],"not_rendered":{"charts":0,"images":0,"macros":1,"external_links":0,"defined_names":2,"comments":4,"pivot_tables":0},"unopened":[],"bounds":{"document_bytes":16777216,"sheet_cells":100000,"rows_first":2000,"rows_last":500,"rows_between":2000,"halvings":0,"cell_chars":16384,"cell_head_chars":4096},"cells_cut":0,"cells_raw":0,"read":"whole","date_system":"1900"}

{"sheet":"Market Size","index":0,"n_rows":26,"n_cols":10,"rows_kept":26,"cut":false,"hidden":false,"merged":[[8,1,8,6],[10,1,10,6],[16,1,16,6],[9,1,9,6],[11,1,11,6],[13,1,13,6],[14,1,14,6],[15,1,15,6],[3,1,3,6],[4,1,4,6],[5,1,5,6],[6,1,6,6],[7,1,7,6],[24,1,24,6],[25,1,25,6],[12,1,12,6],[19,1,19,6],[20,1,20,6],[21,1,21,6],[22,1,22,6],[23,1,23,6],[18,1,18,6],[17,1,17,6]]}
[]
[]
[]
[]
[]
[null,"Accumulated number of indoor automation devices (shielded applications) in the field 5 years after launch worldwide in all different frequency bands:",null,null,null,null,null,200000]
[null,"Fraction of devices sold for the European market in all bands [%]:",null,null,null,null,null,40]
[null,"Fraction of devices sold in the band 116-130GHz  [%]:",null,null,null,null,null,100,null,"100%, because systems are assumed to sweep over all frequency bands"]
[null,"Fraction of devices sold in the band 134-141GHz  [%]:",null,null,null,null,null,100]
[null,"Fraction of devices sold in the band 174,8-182GHz  [%]:",null,null,null,null,null,100]
[null,"Fraction of devices sold in the band 185-190GHz  [%]:",null,null,null,null,null,100]
[null,"Fraction of devices sold in the band 231,5-250GHz  [%]:",null,null,null,null,null,100,null,"Check-SUM"]
[null,null,null,null,null,null,null,null,null,{"$f":"H8+H9+H10+H11+H12","v":500}]
[null,"Accumulated number of devices in the field after 5 years in Europe in the band 116-130GHz:",null,null,null,null,null,{"$f":"H6*H7/100*H8/100","v":80000}]
[null,"Accumulated number of devices in the field after 5 years in Europe in the band 134-141GHz:",null,null,null,null,null,{"$f":"H6*H7/100*H9/100","v":80000}]
[null,"Accumulated number of devices in the field after 5 years in Europe in the band 174,8-182GHz:",null,null,null,null,null,{"$f":"H6*H7/100*H10/100","v":80000}]
[null,"Accumulated number of devices in the field after 5 years in Europe in the band 185-190GHz:",null,null,null,null,null,{"$f":"H6*H7/100*H11/100","v":80000}]
[null,"Accumulated number of devices in the field after 5 years in Europe in the band 231,5-250GHz:",null,null,null,null,null,{"$f":"H6*H7/100*H12/100","v":80000}]
[]
[null,"Land area of Europe [km²]",null,null,null,null,null,10523000]
[]
[null,"Interferer density in Europe in the band 116-130GHz [devices/km²]",null,null,null,null,null,{"$f":"H14/H20","v":7.6023947543476193E-3}]
[null,"Interferer density in Europe in the band 134-141GHz [devices/km²]",null,null,null,null,null,{"$f":"H15/H20","v":7.6023947543476193E-3}]
[null,"Interferer density in Europe in the band 174,8-182GHz [devices/km²]",null,null,null,null,null,{"$f":"H16/H20","v":7.6023947543476193E-3}]
[null,"Interferer density in Europe in the band 185-190GHz [devices/km²]",null,null,null,null,null,{"$f":"H17/H20","v":7.6023947543476193E-3}]
[null,"Interferer density in Europe in the band 231,5-250GHz [devices/km²]",null,null,null,null,null,{"$f":"H18/H20","v":7.6023947543476193E-3}]

{"sheet":"System Parameter","index":1,"n_rows":54,"n_cols":37,"rows_kept":54,"cut":false,"hidden":false,"merged":[[37,34,38,34],[39,25,40,25],[39,27,40,27],[39,34,40,34],[39,22,39,23],[37,25,38,25],[37,27,38,27],[29,3,29,5],[30,3,30,5],[37,14,38,14],[37,17,38,17],[36,22,36,23],[37,22,37,23],[31,3,31,5],[32,3,32,5],[36,2,36,3],[37,2,37,3],[39,20,39,21],[36,20,36,21],[37,20,37,21],[37,7,37,8],[42,6,42,7],[42,17,42,18],[39,14,40,14],[39,17,40,17],[36,7,36,8],[41,17,41,18],[39,7,39,8],[42,23,42,27],[41,23,41,27],[42,31,42,35],[41,31,41,35],[41,6,41,7],[42,10,42,12],[42,13,42,15],[41,10,41,12],[41,13,41,15],[42,21,43,21],[5,36,6,36],[5,10,6,10],[5,6,6,6],[5,7,6,7],[5,8,6,8],[5,9,6,9],[5,11,6,11],[5,12,6,12],[5,13,6,13],[5,14,6,14],[5,15,6,15],[5,16,6,16],[5,17,6,17],[5,18,6,18],[5,19,6,19],[5,20,6,20],[5,34,6,34],[5,35,6,35],[5,26,6,26],[5,27,6,27],[5,28,6,28],[5,29,6,29],[5,30,6,30],[46,15,46,16],[46,18,46,19],[48,31,48,33],[47,31,47,33],[5,31,6,31],[5,32,6,32],[5,33,6,33],[5,21,6,21],[5,22,6,22],[5,23,6,23],[5,24,6,24],[5,25,6,25],[44,18,44,19],[45,18,45,19],[44,15,44,16],[45,15,45,16]]}
[null,"Example Interferer system parameter",null,null,null,null,"Frequency Sub-Band Parameter & Checks"]
[null,null,null,null,null,null,111.8,114.25,116,122.25,123,130,134,141,148.5,151.5,158.5,164,167,174.5,174.8,182,185,190,191.8,200,209,226,231.5,235,238,241,244,246,250,252,"GHz"]
[null,"RDI-S Device Parameter",null,null,null,null,114.25,116,122.25,123,130,134,141,148.5,151.5,158.5,164,167,174.5,174.8,182,185,190,191.8,200,209,226,231.5,235,238,241,244,246,250,252,275,"GHz"]
[null,"Conducted Tx power of interferer","see right","dBm",null,null,"adjacent","adjacent",9,9,24,9,24,9,-1,9,9,-1,9,9,24,-1,9,-1,9,-1,9,-1,9,9,9,9,9,9,-1,9,"dBm"]
[null,"Gain of the interferer antenna in the direction of main radiation",36,"dBi",null,null,null,null,{"$f":"$C$5","v":36},{"$f":"$C$5","v":36},36,36,36,36,36,36,36,36,36,36,36,36,36,36,36,36,36,36,36,36,36,36,36,36,36,36,"dBi"]
[null,"Interferer Tx signal FMCW start frequency",120,"GHz",null,null,{"$f":"IF(AND($C6<G3,$C7>G2),\"YES\",\"NO\")","v":"NO"},"NO","YES","YES",{"$f":"IF(AND($C6<K3,$C7>K2),\"YES\",\"NO\")","v":"YES"},{"$f":"IF(AND($C6<L3,$C7>L2),\"YES\",\"NO\")","v":"YES"},"YES","YES","YES","YES","YES","YES","YES","YES","YES","YES","YES","YES","YES","YES","YES","NO","NO","NO","NO","NO","NO","NO","NO","NO","In-Band?"]
[null,"Interferer Tx signal FMCW stop frequency",220,"GHz"]
[null,"Bandwidth of interferer Tx signal",{"$f":"C7-C6","v":100},"GHz",null,null,null,null,{"$f":"$C8","v":100},100,100,100,100,100,100,100,100,100,100,100,100,100,100,100,100,100,100,100,100,100,100,100,100,100,100,100,"GHz"]
[]
[null,"Tx e.i.r.p. of interferer","see right","dBm",null,null,null,null,{"$f":"I4+I5","v":45},45,60,45,60,45,35,45,45,35,45,45,60,35,45,35,45,35,45,35,45,45,45,45,45,45,35,45,"dBm"]
[null,"Tx e.i.r.p. spectral density of interferer","see right","dBm/MHz",null,null,null,null,{"$f":"I10-10*LOG(I8*1000)","v":-5},-5,10,-5,10,-5,-15,-5,-5,-15,-5,-5,10,-15,-5,-15,-5,-15,-5,-15,-5,-5,-5,-5,-5,-5,-15,-5,"dBm/MHz"]
[null,"Tx e.i.r.p. spectral density of interferer","see right","dBW/MHz",null,null,null,null,{"$f":"I11-30","v":-35},-35,-20,-35,-20,-35,-45,-35,-35,-45,-35,-35,-20,-45,-35,-45,-35,-45,-35,-45,-35,-35,-35,-35,-35,-35,-45,-35,"dBW/MHz"]
[]
[null,"Mitigations"]
[null,"DC - Duty Cycle",0,"dB",null,null,{"$f":"$C$15","v":0},{"$f":"$C$15","v":0},0,0,0,0,0,0,0,0,0,0,0,0,0,0,0,0,0,0,0,0,0,0,0,0,0,0,0,0,"dB"]
[null,"APC - Adaptive Power Control ",0,"dB",null,null,{"$f":"$C$16","v":0},{"$f":"$C$16","v":0},0,0,{"$f":"$C$16","v":0},{"$f":"$C$16","v":0},0,0,0,0,0,0,0,0,0,0,0,0,0,0,0,0,0,0,0,0,0,0,0,0,"dB"]
[null,"Sum of all Mitigations (has to be negative)",{"$f":"SUM(C15:C16)","v":0},"dB",null,null,{"$f":"$C$17","v":0},{"$f":"$C$17","v":0},0,0,0,0,0,0,0,0,0,0,0,0,0,0,0,0,0,0,0,0,0,0,0,0,0,0,0,0,"dB"]
[]
[null,"Single Entry Study Attenuations"]
[null,"Lump-sum RDI-S shielding loss",50,"dB","Agreed RDI-S lump-sum value, see SE24_WI71#14",null,{"$f":"$C$20","v":50},{"$f":"$C$20","v":50},50,50,50,50,50,50,50,50,50,50,50,50,50,50,50,50,50,50,50,50,50,50,50,50,50,50,50,50,"dB"]
[null,"Dev. / Applic. dep. additional shielding",0,"dB","Optional, needs to be assured by HEN",null,{"$f":"$C$21","v":0},{"$f":"$C$21","v":0},0,0,0,0,0,0,0,0,0,0,0,0,0,0,0,0,0,0,0,0,0,0,0,0,0,0,0,0,"dB"]
[null,"Sum of shielding & reflexion attenuation (positive)",{"$f":"C20+C21","v":50},"dB",null,null,{"$f":"$C$22","v":50},{"$f":"$C$22","v":50},50,50,50,50,50,50,50,50,50,50,50,50,50,50,50,50,50,50,50,50,50,50,50,50,50,50,50,50,"dB"]
[]
[null,"Specials"]
[null,"Atmospheric loss Zenith (ITU Fig 6, Earth-space)","see right","dB",null,null,1,1,2,2,1.5,1.5,1.5,1.8,2,2,2.4,3,4,8,8,13,10,10,5,5,4.5,4.5,5,5,5,5,5,5.5,5.5,5.5,"dB"]
[null,"Atmospheric loss Terrestrial (ITU Fig 5 for RAS)","see right","dB/km",null,null,0.13,0.22,0.31,0.24,0.11,0.1,0.1,0.1,0.12,0.12,0.15,0.18,0.21,0.46,0.49,3.55,0.79,0.57999999999999996,0.3,0.25,0.25,0.26,0.27,0.27,0.28000000000000003,0.28999999999999998,0.28999999999999998,0.3,0.31,0.31,"dB/km"]
[null,"Interferer density in Europe in the band (from Market size)","see right","devices/km²",null,null,{"$f":"'Market Size'!H22","v":7.6023947543476193E-3},{"$f":"'Market Size'!H23","v":7.6023947543476193E-3},{"$f":"'Market Size'!H24","v":7.6023947543476193E-3},{"$f":"'Market Size'!H25","v":7.6023947543476193E-3},{"$f":"'Market Size'!$H$26","v":7.6023947543476193E-3},{"$f":"'Market Size'!$H$26","v":7.6023947543476193E-3},{"$f":"'Market Size'!$H$26","v":7.6023947543476193E-3},{"$f":"'Market Size'!$H$26","v":7.6023947543476193E-3},{"$f":"'Market Size'!$H$26","v":7.6023947543476193E-3},{"$f":"'Market Size'!$H$26","v":7.6023947543476193E-3},{"$f":"'Market Size'!$H$26","v":7.6023947543476193E-3},{"$f":"'Market Size'!$H$26","v":7.6023947543476193E-3},{"$f":"'Market Size'!$H$26","v":7.6023947543476193E-3},{"$f":"'Market Size'!$H$26","v":7.6023947543476193E-3},{"$f":"'Market Size'!$H$26","v":7.6023947543476193E-3},{"$f":"'Market Size'!$H$26","v":7.6023947543476193E-3},{"$f":"'Market Size'!$H$26","v":7.6023947543476193E-3},{"$f":"'Market Size'!$H$26","v":7.6023947543476193E-3},{"$f":"'Market Size'!$H$26","v":7.6023947543476193E-3},{"$f":"'Market Size'!$H$26","v":7.6023947543476193E-3},{"$f":"'Market Size'!$H$26","v":7.6023947543476193E-3},{"$f":"'Market Size'!$H$26","v":7.6023947543476193E-3},{"$f":"'Market Size'!$H$26","v":7.6023947543476193E-3},{"$f":"'Market Size'!$H$26","v":7.6023947543476193E-3},{"$f":"'Market Size'!$H$26","v":7.6023947543476193E-3},{"$f":"'Market Size'!$H$26","v":7.6023947543476193E-3},{"$f":"'Market Size'!$H$26","v":7.6023947543476193E-3},{"$f":"'Market Size'!$H$26","v":7.6023947543476193E-3},{"$f":"'Market Size'!$H$26","v":7.6023947543476193E-3},{"$f":"'Market Size'!$H$26","v":7.6023947543476193E-3},"devices/km²"]
[null,"Aggregation: Industrial area device density factor",75,null,null,null,{"$f":"$C$28","v":75},{"$f":"$C$28","v":75},75,75,75,75,75,75,75,75,75,75,75,75,75,75,75,75,75,75,75,75,75,75,75,75,75,75,75,75,"devices/km²"]
[null,"Resulting devices used for EESS calculation","see right","devices/km²",null,null,{"$f":"G27*G28","v":0.57017960657607147},{"$f":"H27*H28","v":0.57017960657607147},{"$f":"I27*I28","v":0.57017960657607147},0.57017960657607147,0.57017960657607147,0.57017960657607147,0.57017960657607147,0.57017960657607147,0.57017960657607147,0.57017960657607147,0.57017960657607147,0.57017960657607147,0.57017960657607147,0.57017960657607147,0.57017960657607147,0.57017960657607147,0.57017960657607147,0.57017960657607147,0.57017960657607147,0.57017960657607147,0.57017960657607147,0.57017960657607147,0.57017960657607147,0.57017960657607147,0.57017960657607147,0.57017960657607147,0.57017960657607147,0.57017960657607147,0.57017960657607147,{"$f":"AJ27*AJ28","v":0.57017960657607147},"devices/km²"]
[null,null,null,"EIRP desity (dBm/MHz) at sensor main beam",null,null,"OOB","OOB",{"$f":"I4+I5-10*LOG10(I8*1000)","v":-5},{"$f":"J4+J5-10*LOG10(J8*1000)","v":-5},10,-5,10,-5,-15,-5,-5,-15,-5,-5,10,-15,-5,-15,-5,-15,-5,-15,-5,-5,-5,-5,-5,-5,-15,-5,"dBm/MHz"]
[null,null,null,"EIRP desity (dBm/MHz) outside shielded enclosure",null,null,"OOB","OOB",{"$f":"I4+I5-10*LOG10(I8*1000)-I22","v":-55},{"$f":"J4+J5-10*LOG10(J8*1000)-J22","v":-55},-40,-55,-40,-55,-65,-55,-55,-65,-55,-55,-40,-65,-55,-65,-55,-65,-55,-65,-55,-55,-55,-55,-55,-55,-65,-55,"dBm/MHz"]
[null,null,null,"Max. peak EIRP (dBm) at sensor main beam",null,null,null,null,{"$f":"I4+I5","v":45},{"$f":"J4+J5","v":45},60,45,60,45,35,45,45,35,45,45,60,35,45,35,45,35,45,35,45,45,45,45,45,45,35,45,"dBm/MHz"]
[null,null,null,"Max. peak EIRP leakage outside shielded enclosure",null,null,null,null,{"$f":"I32-I22","v":-5},{"$f":"J32-J22","v":-5},10,-5,10,-5,-15,-5,-5,-15,-5,-5,10,-15,-5,-15,-5,-15,-5,-15,-5,-5,-5,-5,-5,-5,-15,-5,"dBm/MHz"]
[]
[null,null,null,null,null,"Affected Services Overview\n& MCL Result Overview","111,8-114,25","114,25-116","116-122,25","122,25-123","123-130","130-134","134-141","141-148,5","148,5-151,5","151,5-158,5","158,5-164","164-167","167-174,5","174,5-174,8","174,8-182","182-185","185-190","190-191,8","191,8-200","200-209","209-226","226-231,5","231,5-235","235-238","238-241","241-244","244-246","246-250","250-252","252-275","GHz"]
[null,"EESS Aggregate Study Attenuations (average values)",null,null,null,"RR FN 5.340"]
[null,"BEL acc. ITU-R P.2109-1 (@100 GHz, \"omni\"-antenna,70/30) ","see \"EESS Shielding Table\"",null,null,"Passive/EESS",null,null,null,null,null,null,null,null,null,null,null,null,null,null,"lower",null,"upper"]
[null,"Earth-Space Clutter acc. ITU-R P.2108 sect. 3-3","see \"EESS Shielding Table\"",null,null,"Passive/EESS Margin",null,{"$f":"MIN(EESS!C39:D39)","v":30.720731328344357},null,null,null,null,null,null,{"$f":"MIN('EESS 5.340 bands'!E39:F39)","v":49.943690699464781},null,null,{"$f":"MIN('EESS 5.340 bands'!G39:I39)","v":50.902806237325507},null,null,{"$f":"MIN(EESS!E39:L39)","v":26.328405273718545},null,{"$f":"MIN(EESS!M39:T39)","v":41.760533714191212},null,null,{"$f":"MIN('EESS 5.340 bands'!Z39:AG39)","v":48.814539302283919},null,{"$f":"MIN('EESS 5.340 bands'!AH39:AO39)","v":52.28789511018644},null,{"$f":"MIN(EESS!U39:AB39)","v":43.077295956893323},{"$f":"MIN(EESS!AC39:AE39)","v":43.868466291879201},null,null,null,{"$f":"MIN('EESS 5.340 bands'!AP39:AW39)","v":54.094147485037496},null,"dB"]
[null,"Aggregate antenna gain",10,"dBi",null,"Passive/EESS 5.340 Marg.",null,{"$f":"MIN('EESS 5.340 bands'!C39:D39)","v":40.424065919514817},null,null,null,null,null,null,null,null,null,null,null,null,null,{"$f":"MIN('EESS 5.340 bands'!J39:Q39)","v":51.573229644678605},null,{"$f":"MIN('EESS 5.340 bands'!R39:Y39)","v":51.916626840789803},null,null,null,null,null,null,null,null,null,null,null,null,"dB"]
[null,"BEL high gain ant. correction acc. ITU-R P.2109-1 ",0,"dB",null,"Passive/EESS Aggr. Margin ",null,{"$f":"MIN(EESS!C84:D84)","v":12.315986643604504},null,null,null,null,null,null,{"$f":"MIN('EESS 5.340 bands'!E86:F86)","v":28.170883458003459},null,null,{"$f":"MIN('EESS 5.340 bands'!G86:I86)","v":31.189906565514292},null,null,{"$f":"MIN(EESS!E84:L84)","v":14.30412349316407},null,{"$f":"MIN(EESS!M84:T84)","v":29.736251933636709},null,null,{"$f":"MIN('EESS 5.340 bands'!Z86:AG86)","v":31.69009275339846},null,{"$f":"MIN('EESS 5.340 bands'!AH86:AO86)","v":35.163448561300982},null,{"$f":"MIN(EESS!U84:AB84)","v":25.952849393838562},{"$f":"MIN(EESS!AC84:AE84)","v":30.453586418830525},null,null,null,{"$f":"MIN('EESS 5.340 bands'!AP86:AW86)","v":36.969700936152037}]
[null,"Reflection/ Transm. loss by target",0,"dB",null,"Passive/EESS 5.340 Aggr. Margin",null,{"$f":"MIN('EESS 5.340 bands'!C86:D86)","v":22.019321234774964},null,null,null,null,null,null,null,null,null,null,null,null,null,{"$f":"MIN('EESS 5.340 bands'!J86:Q86)","v":39.548947878293404},null,{"$f":"MIN('EESS 5.340 bands'!R86:Y86)","v":39.892345074404602}]
[null,"RDI-S avg. Inherent device shielding",0,"dB",null,"RAS",null,null,null,null,"lower",null,null,"upper"]
[null,null,null,null,null,"RAS separation distance",{"$f":"MAX(RAS!C36:D36)","v":0.90974547543103479},null,null,null,{"$f":"MAX(RAS!E36:F36)","v":13.18082336230934},null,null,{"$f":"MAX(RAS!G36:H36)","v":2.5326700610770856},null,null,null,{"$f":"MAX(RAS!I36:J36)","v":0.63144119855989045},null,null,null,{"$f":"MAX('RAS 5.340 bands'!I36:J36)","v":0.47949877886977832},null,{"$f":"MAX(RAS!K36:L36)","v":0.43189510850732177},null,null,null,null,null,{"$f":"MAX(RAS!M36:N36)","v":1.2008855216096439},null,{"$f":"MAX(RAS!O36:P36)","v":1.0339531875904284},null,null,null,null,"km"]
[null,null,null,null,null,"RAS IR RR FN 5.340",null,{"$f":"MAX('RAS 5.340 bands'!C36:D36)","v":0.90036655967860701},null,null,null,null,null,null,{"$f":"MAX('RAS 5.340 bands'!E36:F36)","v":0.70666452755788978},null,null,{"$f":"MAX('RAS 5.340 bands'!G36:H36)","v":0.63826666827008038},null,null,null,null,null,{"$f":"MAX('RAS 5.340 bands'!K36:L36)","v":0.54082270435197177},null,{"$f":"MAX('RAS 5.340 bands'!M36:N36)","v":0.50603027410165702},null,{"$f":"MAX('RAS 5.340 bands'!O36:P36)","v":0.4067596249731244},null,null,null,null,null,null,{"$f":"MAX('RAS 5.340 bands'!Q36:R36)","v":0.37078166437129684},null,"km"]
[null,null,null,null,null,"FS"]
[null,"Yellow boxes can safely be adjusted",null,null,null,"FS separation distance scenario 1",{"$f":"MAX(FS!C42:D42)","v":1.1209874649953997E-2},null,null,null,null,{"$f":"MAX(FS!E42:F42)","v":2.4069262441520696E-2},null,{"$f":"MAX(FS!G42:H42)","v":2.1942383189755835E-2},null,{"$f":"MAX(FS!I42:J42)","v":2.0129008365138111E-2},null,null,{"$f":"MAX(FS!K42:L42)","v":1.8568717841070843E-2},null,null,null,null,null,null,null,null,null,null,null,null,null,null,null,null,null,"km"]
[null,null,null,null,null,"FS separation distance scenario 2",{"$f":"MAX(FS!C86:D86)","v":1.1879582847160934E-3},null,null,null,null,{"$f":"MAX(FS!E86:F86)","v":2.5547001115058033E-3},null,{"$f":"MAX(FS!G86:H86)","v":2.3295091438242871E-3},null,{"$f":"MAX(FS!I86:J86)","v":2.137478971935565E-3},null,null,{"$f":"MAX(FS!K86:L86)","v":1.9744280569818332E-3}]
[null,null,null,null,null,"Amateur"]
[null,null,null,null,null,"Amateur separation distance",null,null,null,{"$f":"MAX(Amateur!C39:F39)","v":1.2041935462593838E-2},null,null,{"$f":"MAX(Amateur!G39:J39)","v":6.0088762867359036E-2},null,null,null,null,null,null,null,null,null,null,null,null,null,null,null,null,null,null,{"$f":"MAX(Amateur!K39:N39)","v":4.2541212414713894E-3},null,null,null,null,"km"]
[null,"Duty Cycle Calculator (non-automatic update)"]
[null,"FMCW Ramp Time",4,"ms"]
[null,"Measurement Rate",250,"Hz"]
[null,"Time Between Measurements",{"$f":"1/C52","v":4.0000000000000001E-3},"s"]
[null,"DC Mitigation Value --> has to be entered manually above",{"$f":"10*LOG(1000/C51/C52)","v":0},"dB"]

{"sheet":"EESS","index":2,"n_rows":84,"n_cols":31,"rows_kept":84,"cut":false,"hidden":false,"merged":[[2,20,2,27],[45,20,45,27],[2,28,2,30],[45,28,45,30],[2,2,2,3],[0,0,1,0],[2,4,2,11],[2,12,2,19],[45,2,45,3],[45,4,45,11],[45,12,45,19]]}
["Compatibility analysis between radiodetermination systems for industry automation in shielded environments and EESS"]
[]
[null,null,"Band of EESS: 114,25-122,25 GHz",null,"Band of EESS: 174,8-191,8 GHz (lower)",null,null,null,null,null,null,null,"Band of EESS: 174,8-191,8 GHz (upper)",null,null,null,null,null,null,null,"Band of EESS: 235-238 GHz",null,null,null,null,null,null,null,"Band of EESS: 239 GHz"]
["Single-entry study",null,"MWI","Planned EUMETSAT radiometer (ECC Report 190)","MHS (nadir)","MHS (outer)","MWI","MWS (nadir)","MWS (outer)","ICI","AWS (nadir)","AWS (outer)","MHS (nadir)","MHS (outer)","MWI","MWS (nadir)","MWS (outer)","ICI","AWS (nadir)","AWS (outer)","MHS (nadir)","MHS (outer)","MWI","MWS (nadir)","MWS (outer)","ICI","AWS (nadir)","AWS (outer)","ICI","AWS (nadir)","AWS (outer)"]
["Sensor type",null,"Conical scan","Conical scan","Nadir scan","Nadir scan","Conical scan","Nadir scan","Nadir scan","Conical scan","Nadir scan","Nadir scan","Nadir scan","Nadir scan","Conical scan","Nadir scan","Nadir scan","Conical scan","Nadir scan","Nadir scan","Nadir scan","Nadir scan","Conical scan","Nadir scan","Nadir scan","Conical scan","Nadir scan","Nadir scan","Conical scan","Nadir scan","Nadir scan"]
["EESS:","Units"]
["Assumed centre frequency of EESS","GHz",119.125,119.125,178.4,178.4,178.4,178.4,178.4,178.4,178.4,178.4,187.5,187.5,187.5,187.5,187.5,187.5,187.5,187.5,{"$f":"(235+238)/2","v":236.5},{"$f":"(235+238)/2","v":236.5},236.5,236.5,236.5,236.5,236.5,236.5,239,239,239]
["Wavelength of EESS","m",{"$f":"2.99792458/C7/10","v":2.5166208436516262E-3},2.5166208436516262E-3,1.6804509977578475E-3,1.6804509977578475E-3,1.6804509977578475E-3,1.6804509977578475E-3,1.6804509977578475E-3,1.6804509977578475E-3,1.6804509977578475E-3,1.6804509977578475E-3,1.5988931093333333E-3,1.5988931093333333E-3,1.5988931093333333E-3,1.5988931093333333E-3,1.5988931093333333E-3,1.5988931093333333E-3,{"$f":"2.99792458/S7/10","v":1.5988931093333333E-3},1.5988931093333333E-3,1.2676213868921776E-3,1.2676213868921776E-3,1.2676213868921776E-3,1.2676213868921776E-3,1.2676213868921776E-3,1.2676213868921776E-3,{"$f":"2.99792458/AA7/10","v":1.2676213868921776E-3},1.2676213868921776E-3,1.2543617489539749E-3,{"$f":"2.99792458/AD7/10","v":1.2543617489539749E-3},1.2543617489539749E-3]
["Reference bandwidth","MHz",200,200,200,200,200,200,200,200,200,200,200,200,200,200,200,200,200,200,200,200,200,200,200,200,200,200,200,200,200]
["Orbit altitude","km",830,800,822,822,830,830,830,830,600,600,822,822,830,830,830,830,600,600,822,822,830,830,830,830,600,600,830,600,600]
["Angle of incidence at Earth's surface (from zenith)","deg",53.3,53,0,59,53.3,0,58.5,53.3,0,55.7,0,59,53.3,0,58.5,53.3,0,55.7,0,59,53.3,0,58.5,53.3,0,55.7,53.3,0,55.7]
["Elevation angle at ground","deg",{"$f":"90-C11","v":36.700000000000003},{"$f":"90-D11","v":37},{"$f":"90-E11","v":90},31,36.700000000000003,90,31.5,36.700000000000003,90,34.299999999999997,90,31,36.700000000000003,90,31.5,36.700000000000003,{"$f":"90-S11","v":90},34.299999999999997,90,31,36.700000000000003,90,31.5,36.700000000000003,{"$f":"90-AA11","v":90},34.299999999999997,36.700000000000003,{"$f":"90-AD11","v":90},34.299999999999997]
["Off-nadir angle","deg",{"$f":"(ASIN(SIN(C11*PI()/180)/(1+C10/6371)))*180/PI()+0.00000001","v":45.182994227157891},{"$f":"(ASIN(SIN(D11*PI()/180)/(1+D10/6371)))*180/PI()+0.00000001","v":45.197449705097966},1E-8,49.394790432078054,45.182994227157891,1E-8,48.969771809919081,45.182994227157891,1E-8,49.024959080746484,1E-8,49.394790432078054,45.182994227157891,1E-8,48.969771809919081,45.182994227157891,1E-8,49.024959080746484,1E-8,49.394790432078054,45.182994227157891,1E-8,48.969771809919081,45.182994227157891,1E-8,49.024959080746484,45.182994227157891,1E-8,49.024959080746484]
["Slant path distance","km",{"$f":"6371*SIN((ASIN(((6371+C10)/6371)*SIN(C13*PI()/180))*180/PI()-C13)*PI()/180)/SIN(C13*PI()/180)","v":1268.1174814937638},{"$f":"6371*SIN((ASIN(((6371+D10)/6371)*SIN(D13*PI()/180))*180/PI()-D13)*PI()/180)/SIN(D13*PI()/180)","v":1218.9948902651022},822.00000000000023,1400.207928002734,1268.1174814937638,829.99999999999943,1398.3092834001552,1268.1174814937638,600.00000000000011,980.87077854286042,822.00000000000023,1400.207928002734,1268.1174814937638,829.99999999999943,1398.3092834001552,1268.1174814937638,600.00000000000011,980.87077854286042,822.00000000000023,1400.207928002734,1268.1174814937638,829.99999999999943,1398.3092834001552,1268.1174814937638,600.00000000000011,980.87077854286042,1268.1174814937638,600.00000000000011,980.87077854286042]
["EESS antenna gain","dBi",55.5,55,44.8,44.8,56.9,43,43,52,50,50,44.8,44.8,56.9,43,43,52,50,50,44.8,44.8,56.9,43,43,52,50,50,52,50,50]
["Size of EESS FOV on Earth's surface","km²",82,82,201,1103,61,315,1762,164,28,141,201,1103,61,315,1762,164,28,141,201,1103,61,315,1762,164,28,141,164,28,141]
["EESS interference criterion in the reference bandwidth (ITU-R RS.2017-0)","dBW",-166,-166,-163,-163,-163,-163,-163,-163,-163,-163,-163,-163,-163,-163,-163,-163,-163,-163,-160,-160,-160,-160,-160,-160,-160,-160,-160,-160,-160]
["Apportionment factor","dB",12,12,12,12,12,12,12,12,12,12,12,12,12,12,12,12,12,12,12,12,12,12,12,12,12,12,12,12,12]
[]
["Radiodetermination system (interferer):"]
["Conducted Tx power of interferer","dBm",{"$f":"'System Parameter'!$I4","v":9},{"$f":"'System Parameter'!$I4","v":9},{"$f":"'System Parameter'!$U4","v":24},{"$f":"'System Parameter'!$U4","v":24},{"$f":"'System Parameter'!$U4","v":24},{"$f":"'System Parameter'!$U4","v":24},{"$f":"'System Parameter'!$U4","v":24},{"$f":"'System Parameter'!$U4","v":24},{"$f":"'System Parameter'!$U4","v":24},{"$f":"'System Parameter'!$U4","v":24},{"$f":"'System Parameter'!$W4","v":9},{"$f":"'System Parameter'!$W4","v":9},{"$f":"'System Parameter'!$W4","v":9},{"$f":"'System Parameter'!$W4","v":9},{"$f":"'System Parameter'!$W4","v":9},{"$f":"'System Parameter'!$W4","v":9},{"$f":"'System Parameter'!$W4","v":9},{"$f":"'System Parameter'!$W4","v":9},{"$f":"'System Parameter'!$AD4","v":9},{"$f":"'System Parameter'!$AD4","v":9},{"$f":"'System Parameter'!$AD4","v":9},{"$f":"'System Parameter'!$AD4","v":9},{"$f":"'System Parameter'!$AD4","v":9},{"$f":"'System Parameter'!$AD4","v":9},{"$f":"'System Parameter'!$AD4","v":9},{"$f":"'System Parameter'!$AD4","v":9},{"$f":"'System Parameter'!$AE4","v":9},{"$f":"'System Parameter'!$AE4","v":9},{"$f":"'System Parameter'!$AE4","v":9}]
["Out-of-band unwanted emissions attenuation (if EESS victim is located in an adjacent band)","dB",0,0,0,0,0,0,0,0,0,0,0,0,0,0,0,0,0,0,0,0,0,0,0,0,0,0,0,0,0]
["Tx e.i.r.p. of interferer","dBm",{"$f":"C21-C22+C28","v":45},45,60,60,60,60,60,60,60,60,45,45,45,45,45,45,{"$f":"S21-S22+S28","v":45},45,45,45,45,45,45,45,{"$f":"AA21-AA22+AA28","v":45},45,45,{"$f":"AD21-AD22+AD28","v":45},45]
["Bandwidth of interferer Tx signal","GHz",{"$f":"'System Parameter'!I8","v":100},{"$f":"'System Parameter'!I8","v":100},{"$f":"'System Parameter'!$U8","v":100},{"$f":"'System Parameter'!$U8","v":100},{"$f":"'System Parameter'!$U8","v":100},{"$f":"'System Parameter'!$U8","v":100},{"$f":"'System Parameter'!$U8","v":100},{"$f":"'System Parameter'!$U8","v":100},{"$f":"'System Parameter'!$U8","v":100},{"$f":"'System Parameter'!$U8","v":100},{"$f":"'System Parameter'!$W8","v":100},{"$f":"'System Parameter'!$W8","v":100},{"$f":"'System Parameter'!$W8","v":100},{"$f":"'System Parameter'!$W8","v":100},{"$f":"'System Parameter'!$W8","v":100},{"$f":"'System Parameter'!$W8","v":100},{"$f":"'System Parameter'!$W8","v":100},{"$f":"'System Parameter'!$W8","v":100},{"$f":"'System Parameter'!$AD8","v":100},{"$f":"'System Parameter'!$AD8","v":100},{"$f":"'System Parameter'!$AD8","v":100},{"$f":"'System Parameter'!$AD8","v":100},{"$f":"'System Parameter'!$AD8","v":100},{"$f":"'System Parameter'!$AD8","v":100},{"$f":"'System Parameter'!$AD8","v":100},{"$f":"'System Parameter'!$AD8","v":100},{"$f":"'System Parameter'!$AE8","v":100},{"$f":"'System Parameter'!$AE8","v":100},{"$f":"'System Parameter'!$AE8","v":100}]
["Tx e.i.r.p. spectral density of interferer","dBm/MHz",{"$f":"C23-10*LOG(C24*1000)","v":-5},-5,10,10,10,10,10,10,10,10,-5,-5,-5,-5,-5,-5,{"$f":"S23-10*LOG(S24*1000)","v":-5},-5,-5,-5,-5,-5,-5,-5,{"$f":"AA23-10*LOG(AA24*1000)","v":-5},-5,-5,{"$f":"AD23-10*LOG(AD24*1000)","v":-5},-5]
["Tx e.i.r.p. spectral density of interferer","dBW/MHz",{"$f":"C25-30","v":-35},-35,-20,-20,-20,-20,-20,-20,-20,-20,-35,-35,-35,-35,-35,-35,{"$f":"S25-30","v":-35},-35,-35,-35,-35,-35,-35,-35,{"$f":"AA25-30","v":-35},-35,-35,{"$f":"AD25-30","v":-35},-35]
["Mitigation technique (e.g. duty cycle, adaptive power control)","dB",{"$f":"'System Parameter'!H17","v":0},{"$f":"'System Parameter'!H17","v":0},{"$f":"'System Parameter'!$U17","v":0},{"$f":"'System Parameter'!$U17","v":0},{"$f":"'System Parameter'!$U17","v":0},{"$f":"'System Parameter'!$U17","v":0},{"$f":"'System Parameter'!$U17","v":0},{"$f":"'System Parameter'!$U17","v":0},{"$f":"'System Parameter'!$U17","v":0},{"$f":"'System Parameter'!$U17","v":0},{"$f":"'System Parameter'!$W17","v":0},{"$f":"'System Parameter'!$W17","v":0},{"$f":"'System Parameter'!$W17","v":0},{"$f":"'System Parameter'!$W17","v":0},{"$f":"'System Parameter'!$W17","v":0},{"$f":"'System Parameter'!$W17","v":0},{"$f":"'System Parameter'!$W17","v":0},{"$f":"'System Parameter'!$W17","v":0},{"$f":"'System Parameter'!$AD17","v":0},{"$f":"'System Parameter'!$AD17","v":0},{"$f":"'System Parameter'!$AD17","v":0},{"$f":"'System Parameter'!$AD17","v":0},{"$f":"'System Parameter'!$AD17","v":0},{"$f":"'System Parameter'!$AD17","v":0},{"$f":"'System Parameter'!$AD17","v":0},{"$f":"'System Parameter'!$AD17","v":0},{"$f":"'System Parameter'!$AE17","v":0},{"$f":"'System Parameter'!$AE17","v":0},{"$f":"'System Parameter'!$AE17","v":0}]
["Gain of the interferer antenna in direction of main radiation","dBi",{"$f":"'System Parameter'!I5","v":36},{"$f":"'System Parameter'!I5","v":36},{"$f":"'System Parameter'!$U5","v":36},{"$f":"'System Parameter'!$U5","v":36},{"$f":"'System Parameter'!$U5","v":36},{"$f":"'System Parameter'!$U5","v":36},{"$f":"'System Parameter'!$U5","v":36},{"$f":"'System Parameter'!$U5","v":36},{"$f":"'System Parameter'!$U5","v":36},{"$f":"'System Parameter'!$U5","v":36},{"$f":"'System Parameter'!$W5","v":36},{"$f":"'System Parameter'!$W5","v":36},{"$f":"'System Parameter'!$W5","v":36},{"$f":"'System Parameter'!$W5","v":36},{"$f":"'System Parameter'!$W5","v":36},{"$f":"'System Parameter'!$W5","v":36},{"$f":"'System Parameter'!$W5","v":36},{"$f":"'System Parameter'!$W5","v":36},{"$f":"'System Parameter'!$AD5","v":36},{"$f":"'System Parameter'!$AD5","v":36},{"$f":"'System Parameter'!$AD5","v":36},{"$f":"'System Parameter'!$AD5","v":36},{"$f":"'System Parameter'!$AD5","v":36},{"$f":"'System Parameter'!$AD5","v":36},{"$f":"'System Parameter'!$AD5","v":36},{"$f":"'System Parameter'!$AD5","v":36},{"$f":"'System Parameter'!$AE5","v":36},{"$f":"'System Parameter'!$AE5","v":36},{"$f":"'System Parameter'!$AE5","v":36}]
[]
["Free space loss between interferer and EESS","dB",{"$f":"20*LOG10(4*PI()*C14*1000/C8)","v":196.03103128498418},{"$f":"20*LOG10(4*PI()*D14*1000/D8)","v":195.68787919808398},{"$f":"20*LOG10(4*PI()*E14*1000/E8)","v":195.77311657348648},200.3995308688082,199.53887001285864,195.85724207020692,200.38774504169734,199.53887001285864,193.03870523035835,197.30791615290838,196.20524501395914,200.83165930928087,199.97099845333128,196.28937051067962,200.81987348217001,199.97099845333128,{"$f":"20*LOG10(4*PI()*S14*1000/S8)","v":193.47083367083101},197.74004459338101,198.22184247416101,202.84825676948273,201.98759591353314,198.30596797088145,202.83647094237185,201.98759591353314,{"$f":"20*LOG10(4*PI()*AA14*1000/AA8)","v":195.48743113103285},199.75664205358288,202.07893103101927,{"$f":"20*LOG10(4*PI()*AD14*1000/AD8)","v":195.578766248519},199.84797717106903]
["Direct e.i.r.p. spectral density at the EESS antenna","dBW/MHz",{"$f":"C26-C30+C27","v":-231.03103128498418},-230.68787919808398,-215.77311657348648,-220.3995308688082,-219.53887001285864,-215.85724207020692,-220.38774504169734,-219.53887001285864,-213.03870523035835,-217.30791615290838,-231.20524501395914,-235.83165930928087,-234.97099845333128,-231.28937051067962,-235.81987348217001,-234.97099845333128,{"$f":"S26-S30+S27","v":-228.47083367083101},-232.74004459338101,-233.22184247416101,-237.84825676948273,-236.98759591353314,-233.30596797088145,-237.83647094237185,-236.98759591353314,{"$f":"AA26-AA30+AA27","v":-230.48743113103285},-234.75664205358288,-237.07893103101927,{"$f":"AD26-AD30+AD27","v":-230.578766248519},-234.84797717106903]
["Atmospheric loss (according to contribution SE24(20)063_rev1 and SE24(20)WI71#9-03)","dB",3.2,3.2,8.3000000000000007,16,13.8,8.3000000000000007,15.8,13.8,8.3000000000000007,14.7,8.3000000000000007,16,13.8,8.3000000000000007,15.8,13.8,8.3000000000000007,14.7,{"$f":"'System Parameter'!$AD25","v":5},{"$f":"'System Parameter'!$AD25","v":5},{"$f":"'System Parameter'!$AD25","v":5},{"$f":"'System Parameter'!$AD25","v":5},{"$f":"'System Parameter'!$AD25","v":5},{"$f":"'System Parameter'!$AD25","v":5},{"$f":"'System Parameter'!$AD25","v":5},{"$f":"'System Parameter'!$AD25","v":5},8.8000000000000007,5.3,9.3000000000000007]
["Polarisation mismatch loss","dB",3,3,3,3,3,3,3,3,3,3,3,3,3,3,3,3,3,3,3,3,3,3,3,3,3,3,3,3,3]
["Indoor-outdoor attenuation (according to clause 2.3 in the Report)","dB",{"$f":"'System Parameter'!$H22","v":50},{"$f":"'System Parameter'!$H22","v":50},{"$f":"'System Parameter'!$U22","v":50},{"$f":"'System Parameter'!$U22","v":50},{"$f":"'System Parameter'!$U22","v":50},{"$f":"'System Parameter'!$U22","v":50},{"$f":"'System Parameter'!$U22","v":50},{"$f":"'System Parameter'!$U22","v":50},{"$f":"'System Parameter'!$U22","v":50},{"$f":"'System Parameter'!$U22","v":50},{"$f":"'System Parameter'!$W22","v":50},{"$f":"'System Parameter'!$W22","v":50},{"$f":"'System Parameter'!$W22","v":50},{"$f":"'System Parameter'!$W22","v":50},{"$f":"'System Parameter'!$W22","v":50},{"$f":"'System Parameter'!$W22","v":50},{"$f":"'System Parameter'!$W22","v":50},{"$f":"'System Parameter'!$W22","v":50},{"$f":"'System Parameter'!$W22","v":50},{"$f":"'System Parameter'!$W22","v":50},{"$f":"'System Parameter'!$W22","v":50},{"$f":"'System Parameter'!$W22","v":50},{"$f":"'System Parameter'!$W22","v":50},{"$f":"'System Parameter'!$W22","v":50},{"$f":"'System Parameter'!$W22","v":50},{"$f":"'System Parameter'!$W22","v":50},{"$f":"'System Parameter'!$W22","v":50},{"$f":"'System Parameter'!$W22","v":50},{"$f":"'System Parameter'!$W22","v":50}]
["Power spectral density at the EESS receiver in a 1 MHz bandwidth","dBW/MHz",{"$f":"C31+C15-C32-C33-C34","v":-231.73103128498417},{"$f":"D31+D15-D32-D33-D34","v":-231.88787919808397},-232.2731165734865,-244.59953086880819,-229.43887001285864,-234.15724207020693,-246.18774504169735,-234.33887001285865,-224.33870523035836,-235.00791615290836,-247.70524501395914,-260.03165930928088,-244.87099845333128,-249.58937051067963,-261.61987348217002,-249.77099845333129,-239.77083367083102,-250.440044593381,-246.421842474161,-251.04825676948275,-238.08759591353314,-248.30596797088145,-252.83647094237185,-242.98759591353314,-238.48743113103285,-242.75664205358288,-246.87893103101928,-238.87876624851901,-247.14797717106904]
["Corresponding power at the EESS receiver in the reference bandwidth for a single interferer","dBW",{"$f":"C35+10*LOG10(C9)","v":-208.72073132834436},{"$f":"D35+10*LOG10(D9)","v":-208.87757924144415},{"$f":"E35+10*LOG10(E9)","v":-209.26281661684669},-221.58923091216838,-206.42857005621883,-211.14694211356712,-223.17744508505754,-211.32857005621884,-201.32840527371854,-211.99761619626855,-224.69494505731933,-237.02135935264107,-221.86069849669147,-226.57907055403982,-238.60957352553021,-226.76069849669148,{"$f":"S35+10*LOG10(S9)","v":-216.76053371419121},-227.42974463674119,-223.41154251752118,-228.03795681284294,-215.07729595689332,-225.29566801424164,-229.82617098573203,-219.97729595689333,{"$f":"AA35+10*LOG10(AA9)","v":-215.47713117439304},-219.74634209694307,-223.86863107437946,{"$f":"AD35+10*LOG10(AD9)","v":-215.8684662918792},-224.13767721442923]
["Number of interferers in EESS FOV on Earth's surface",null,1,1,1,1,1,1,1,1,1,1,1,1,1,1,1,1,1,1,1,1,1,1,1,1,1,1,1,1,1]
["Corresponding received power at the EESS in the reference bandwidth within the EESS's FOV","dBW",{"$f":"C36+10*LOG10(C37)","v":-208.72073132834436},{"$f":"D36+10*LOG10(D37)","v":-208.87757924144415},{"$f":"E36+10*LOG10(E37)","v":-209.26281661684669},-221.58923091216838,-206.42857005621883,-211.14694211356712,-223.17744508505754,-211.32857005621884,-201.32840527371854,-211.99761619626855,-224.69494505731933,-237.02135935264107,-221.86069849669147,-226.57907055403982,-238.60957352553021,-226.76069849669148,{"$f":"S36+10*LOG10(S37)","v":-216.76053371419121},-227.42974463674119,-223.41154251752118,-228.03795681284294,-215.07729595689332,-225.29566801424164,-229.82617098573203,-219.97729595689333,{"$f":"AA36+10*LOG10(AA37)","v":-215.47713117439304},-219.74634209694307,-223.86863107437946,{"$f":"AD36+10*LOG10(AD37)","v":-215.8684662918792},-224.13767721442923]
["Margin with reference to ITU-R RS.2017-0 ","dB",{"$f":"C17-C18-C38","v":30.720731328344357},{"$f":"D17-D18-D38","v":30.877579241444153},{"$f":"E17-E18-E38","v":34.262816616846692},46.589230912168375,31.428570056218831,36.146942113567121,48.177445085057542,36.328570056218837,26.328405273718545,36.997616196268552,49.69494505731933,62.02135935264107,46.860698496691469,51.579070554039816,63.609573525530209,51.760698496691475,{"$f":"S17-S18-S38","v":41.760533714191212},52.429744636741191,51.411542517521184,56.037956812842936,43.077295956893323,53.295668014241642,57.826170985732034,47.977295956893329,{"$f":"AA17-AA18-AA38","v":43.477131174393037},47.746342096943067,51.868631074379465,{"$f":"AD17-AD18-AD38","v":43.868466291879201},52.137677214429232]
[]
[]
[]
[]
[]
[]
[null,null,"Band of EESS: 114,25-122,25 GHz",null,"Band of EESS: 174,8-191,8 GHz (lower)",null,null,null,null,null,null,null,"Band of EESS: 174,8-191,8 GHz (upper)",null,null,null,null,null,null,null,"Band of EESS: 235-238 GHz",null,null,null,null,null,null,null,"Band of EESS: 239 GHz"]
["Aggregated interference study",null,"MWI","Planned EUMETSAT radiometer (ECC Report 190)","MHS (nadir)","MHS (outer)","MWI","MWS (nadir)","MWS (outer)","ICI","AWS (nadir)","AWS (outer)","MHS (nadir)","MHS (outer)","MWI","MWS (nadir)","MWS (outer)","ICI","AWS (nadir)","AWS (outer)","MHS (nadir)","MHS (outer)","MWI","MWS (nadir)","MWS (outer)","ICI","AWS (nadir)","AWS (outer)","ICI","AWS (nadir)","AWS (outer)"]
["Sensor type",null,"Conical scan","Conical scan","Nadir scan","Nadir scan","Conical scan","Nadir scan","Nadir scan","Conical scan","Nadir scan","Nadir scan","Nadir scan","Nadir scan","Conical scan","Nadir scan","Nadir scan","Conical scan","Nadir scan","Nadir scan","Nadir scan","Nadir scan","Conical scan","Nadir scan","Nadir scan","Conical scan","Nadir scan","Nadir scan","Conical scan","Nadir scan","Nadir scan"]
["EESS:","Units"]
["Assumed centre frequency of EESS","GHz",119.125,119.125,178.4,178.4,178.4,178.4,178.4,178.4,178.4,178.4,187.5,187.5,187.5,187.5,187.5,187.5,187.5,187.5,{"$f":"(235+238)/2","v":236.5},{"$f":"(235+238)/2","v":236.5},236.5,236.5,236.5,236.5,236.5,236.5,239,239,239]
["Wavelength of EESS","m",{"$f":"2.99792458/C50/10","v":2.5166208436516262E-3},2.5166208436516262E-3,1.6804509977578475E-3,1.6804509977578475E-3,1.6804509977578475E-3,1.6804509977578475E-3,1.6804509977578475E-3,1.6804509977578475E-3,1.6804509977578475E-3,1.6804509977578475E-3,1.5988931093333333E-3,1.5988931093333333E-3,1.5988931093333333E-3,1.5988931093333333E-3,1.5988931093333333E-3,1.5988931093333333E-3,1.5988931093333333E-3,1.5988931093333333E-3,{"$f":"2.99792458/U50/10","v":1.2676213868921776E-3},1.2676213868921776E-3,1.2676213868921776E-3,1.2676213868921776E-3,1.2676213868921776E-3,1.2676213868921776E-3,1.2676213868921776E-3,1.2676213868921776E-3,{"$f":"2.99792458/AC50/10","v":1.2543617489539749E-3},1.2543617489539749E-3,1.2543617489539749E-3]
["Reference bandwidth","MHz",200,200,200,200,200,200,200,200,200,200,200,200,200,200,200,200,200,200,200,200,200,200,200,200,200,200,200,200,200]
["Orbit altitude","km",830,800,822,822,830,830,830,830,600,600,822,822,830,830,830,830,600,600,822,822,830,830,830,830,600,600,830,600,600]
["Angle of incidence at Earth's surface (from zenith)","deg",53.3,53,0,59,53.3,0,58.5,53.3,0,55.7,0,59,53.3,0,58.5,53.3,0,55.7,0,59,53.3,0,58.5,53.3,0,55.7,53.3,0,55.7]
["Elevation angle at ground","deg",{"$f":"90-C54","v":36.700000000000003},{"$f":"90-D54","v":37},{"$f":"90-E54","v":90},31,36.700000000000003,90,31.5,36.700000000000003,90,34.299999999999997,90,31,36.700000000000003,90,31.5,36.700000000000003,90,34.299999999999997,{"$f":"90-U54","v":90},31,36.700000000000003,90,31.5,36.700000000000003,90,34.299999999999997,{"$f":"90-AC54","v":36.700000000000003},90,34.299999999999997]
["Off-nadir angle","deg",{"$f":"(ASIN(SIN(C54*PI()/180)/(1+C53/6371)))*180/PI()+0.00000001","v":45.182994227157891},{"$f":"(ASIN(SIN(D54*PI()/180)/(1+D53/6371)))*180/PI()+0.00000001","v":45.197449705097966},1E-8,49.394790432078054,45.182994227157891,1E-8,48.969771809919081,45.182994227157891,1E-8,49.024959080746484,1E-8,49.394790432078054,45.182994227157891,1E-8,48.969771809919081,45.182994227157891,1E-8,49.024959080746484,1E-8,49.394790432078054,45.182994227157891,1E-8,48.969771809919081,45.182994227157891,1E-8,49.024959080746484,45.182994227157891,1E-8,49.024959080746484]
["Slant path distance","km",{"$f":"6371*SIN((ASIN(((6371+C53)/6371)*SIN(C56*PI()/180))*180/PI()-C56)*PI()/180)/SIN(C56*PI()/180)","v":1268.1174814937638},{"$f":"6371*SIN((D54-D56)*PI()/180)/SIN(D56*PI()/180)","v":1218.9948882188396},822,{"$f":"6371*SIN((F54-F56)*PI()/180)/SIN(F56*PI()/180)","v":1400.2079259424386},{"$f":"6371*SIN((G54-G56)*PI()/180)/SIN(G56*PI()/180)","v":1268.1174794250805},830,{"$f":"6371*SIN((I54-I56)*PI()/180)/SIN(I56*PI()/180)","v":1398.3092813358467},{"$f":"6371*SIN((J54-J56)*PI()/180)/SIN(J56*PI()/180)","v":1268.1174794250805},600,{"$f":"6371*SIN((L54-L56)*PI()/180)/SIN(L56*PI()/180)","v":980.87077668040797},822,{"$f":"6371*SIN((N54-N56)*PI()/180)/SIN(N56*PI()/180)","v":1400.2079259424386},{"$f":"6371*SIN((O54-O56)*PI()/180)/SIN(O56*PI()/180)","v":1268.1174794250805},830,{"$f":"6371*SIN((Q54-Q56)*PI()/180)/SIN(Q56*PI()/180)","v":1398.3092813358467},{"$f":"6371*SIN((R54-R56)*PI()/180)/SIN(R56*PI()/180)","v":1268.1174794250805},600,{"$f":"6371*SIN((T54-T56)*PI()/180)/SIN(T56*PI()/180)","v":980.87077668040797},822,{"$f":"6371*SIN((V54-V56)*PI()/180)/SIN(V56*PI()/180)","v":1400.2079259424386},{"$f":"6371*SIN((W54-W56)*PI()/180)/SIN(W56*PI()/180)","v":1268.1174794250805},830,{"$f":"6371*SIN((Y54-Y56)*PI()/180)/SIN(Y56*PI()/180)","v":1398.3092813358467},{"$f":"6371*SIN((Z54-Z56)*PI()/180)/SIN(Z56*PI()/180)","v":1268.1174794250805},600,{"$f":"6371*SIN((AB54-AB56)*PI()/180)/SIN(AB56*PI()/180)","v":980.87077668040797},{"$f":"6371*SIN((AC54-AC56)*PI()/180)/SIN(AC56*PI()/180)","v":1268.1174794250805},600,{"$f":"6371*SIN((AE54-AE56)*PI()/180)/SIN(AE56*PI()/180)","v":980.87077668040797}]
["EESS antenna gain","dBi",55.5,55,44.8,44.8,56.9,43,43,52,50,50,44.8,44.8,56.9,43,43,52,50,50,44.8,44.8,56.9,43,43,52,50,50,52,50,50]
["Size of EESS FOV on Earth's surface","km²",82,82,201,1103,61,315,1762,164,28,141,201,1103,61,315,1762,164,28,141,201,1103,61,315,1762,164,28,141,164,28,141]
["EESS interference criterion in the reference bandwidth (ITU-R RS.2017-0)","dBW",-166,-166,-163,-163,-163,-163,-163,-163,-163,-163,-163,-163,-163,-163,-163,-163,-163,-163,-160,-160,-160,-160,-160,-160,-160,-160,-160,-160,-160]
["Apportionment factor","dB",12,12,12,12,12,12,12,12,12,12,12,12,12,12,12,12,12,12,12,12,12,12,12,12,12,12,12,12,12]
[]
["Radiodetermination system (interferer):"]
["Conducted Tx power of interferer","dBm",{"$f":"'System Parameter'!$I4","v":9},{"$f":"'System Parameter'!$I4","v":9},{"$f":"'System Parameter'!$U4","v":24},{"$f":"'System Parameter'!$U4","v":24},{"$f":"'System Parameter'!$U4","v":24},{"$f":"'System Parameter'!$U4","v":24},{"$f":"'System Parameter'!$U4","v":24},{"$f":"'System Parameter'!$U4","v":24},{"$f":"'System Parameter'!$U4","v":24},{"$f":"'System Parameter'!$U4","v":24},{"$f":"'System Parameter'!$W4","v":9},{"$f":"'System Parameter'!$W4","v":9},{"$f":"'System Parameter'!$W4","v":9},{"$f":"'System Parameter'!$W4","v":9},{"$f":"'System Parameter'!$W4","v":9},{"$f":"'System Parameter'!$W4","v":9},{"$f":"'System Parameter'!$W4","v":9},{"$f":"'System Parameter'!$W4","v":9},{"$f":"'System Parameter'!$AD4","v":9},{"$f":"'System Parameter'!$AD4","v":9},{"$f":"'System Parameter'!$AD4","v":9},{"$f":"'System Parameter'!$AD4","v":9},{"$f":"'System Parameter'!$AD4","v":9},{"$f":"'System Parameter'!$AD4","v":9},{"$f":"'System Parameter'!$AD4","v":9},{"$f":"'System Parameter'!$AD4","v":9},{"$f":"'System Parameter'!$AE4","v":9},{"$f":"'System Parameter'!$AE4","v":9},{"$f":"'System Parameter'!$AE4","v":9}]
["Out-of-band unwanted emissions attenuation (if EESS victim is located in an adjacent band)","dB",0,0,0,0,0,0,0,0,0,0,0,0,0,0,0,0,0,0,0,0,0,0,0,0,0,0,0,0,0]
["Tx e.i.r.p. of interferer","dBm",{"$f":"C64-C65+C71","v":19},19,34,34,34,34,34,34,34,34,19,19,19,19,19,19,19,19,{"$f":"U64-U65+U71","v":19},19,19,19,19,19,19,19,{"$f":"AC64-AC65+AC71","v":19},19,19]
["Bandwidth of interferer Tx signal","GHz",{"$f":"'System Parameter'!I8","v":100},{"$f":"'System Parameter'!I8","v":100},{"$f":"'System Parameter'!$U8","v":100},{"$f":"'System Parameter'!$U8","v":100},{"$f":"'System Parameter'!$U8","v":100},{"$f":"'System Parameter'!$U8","v":100},{"$f":"'System Parameter'!$U8","v":100},{"$f":"'System Parameter'!$U8","v":100},{"$f":"'System Parameter'!$U8","v":100},{"$f":"'System Parameter'!$U8","v":100},{"$f":"'System Parameter'!$W8","v":100},{"$f":"'System Parameter'!$W8","v":100},{"$f":"'System Parameter'!$W8","v":100},{"$f":"'System Parameter'!$W8","v":100},{"$f":"'System Parameter'!$W8","v":100},{"$f":"'System Parameter'!$W8","v":100},{"$f":"'System Parameter'!$W8","v":100},{"$f":"'System Parameter'!$W8","v":100},{"$f":"'System Parameter'!$AD8","v":100},{"$f":"'System Parameter'!$AD8","v":100},{"$f":"'System Parameter'!$AD8","v":100},{"$f":"'System Parameter'!$AD8","v":100},{"$f":"'System Parameter'!$AD8","v":100},{"$f":"'System Parameter'!$AD8","v":100},{"$f":"'System Parameter'!$AD8","v":100},{"$f":"'System Parameter'!$AD8","v":100},{"$f":"'System Parameter'!$AE8","v":100},{"$f":"'System Parameter'!$AE8","v":100},{"$f":"'System Parameter'!$AE8","v":100}]
["Tx e.i.r.p. spectral density of interferer","dBm/MHz",{"$f":"C66-10*LOG(C67*1000)","v":-31},-31,-16,-16,-16,-16,-16,-16,-16,-16,-31,-31,-31,-31,-31,-31,-31,-31,{"$f":"U66-10*LOG(U67*1000)","v":-31},-31,-31,-31,-31,-31,-31,-31,{"$f":"AC66-10*LOG(AC67*1000)","v":-31},-31,-31]
["Tx e.i.r.p. spectral density of interferer","dBW/MHz",{"$f":"C68-30","v":-61},-61,-46,-46,-46,-46,-46,-46,-46,-46,-61,-61,-61,-61,-61,-61,-61,-61,{"$f":"U68-30","v":-61},-61,-61,-61,-61,-61,-61,-61,{"$f":"AC68-30","v":-61},-61,-61]
["Mitigation technique (e.g. duty cycle, adaptive power control)","dB",{"$f":"'System Parameter'!H60","v":0},{"$f":"'System Parameter'!H60","v":0},{"$f":"'System Parameter'!$U60","v":0},{"$f":"'System Parameter'!$U60","v":0},{"$f":"'System Parameter'!$U60","v":0},{"$f":"'System Parameter'!$U60","v":0},{"$f":"'System Parameter'!$U60","v":0},{"$f":"'System Parameter'!$U60","v":0},{"$f":"'System Parameter'!$U60","v":0},{"$f":"'System Parameter'!$U60","v":0},{"$f":"'System Parameter'!$W60","v":0},{"$f":"'System Parameter'!$W60","v":0},{"$f":"'System Parameter'!$W60","v":0},{"$f":"'System Parameter'!$W60","v":0},{"$f":"'System Parameter'!$W60","v":0},{"$f":"'System Parameter'!$W60","v":0},{"$f":"'System Parameter'!$W60","v":0},{"$f":"'System Parameter'!$W60","v":0},{"$f":"'System Parameter'!$AD60","v":0},{"$f":"'System Parameter'!$AD60","v":0},{"$f":"'System Parameter'!$AD60","v":0},{"$f":"'System Parameter'!$AD60","v":0},{"$f":"'System Parameter'!$AD60","v":0},{"$f":"'System Parameter'!$AD60","v":0},{"$f":"'System Parameter'!$AD60","v":0},{"$f":"'System Parameter'!$AD60","v":0},{"$f":"'System Parameter'!$AE60","v":0},{"$f":"'System Parameter'!$AE60","v":0},{"$f":"'System Parameter'!$AE60","v":0}]
["Average gain of the interferer antenna in the direction of the victim EESS system","dBi",{"$f":"'System Parameter'!$C$39","v":10},{"$f":"'System Parameter'!$C$39","v":10},{"$f":"'System Parameter'!$C$39","v":10},{"$f":"'System Parameter'!$C$39","v":10},{"$f":"'System Parameter'!$C$39","v":10},{"$f":"'System Parameter'!$C$39","v":10},{"$f":"'System Parameter'!$C$39","v":10},{"$f":"'System Parameter'!$C$39","v":10},{"$f":"'System Parameter'!$C$39","v":10},{"$f":"'System Parameter'!$C$39","v":10},{"$f":"'System Parameter'!$C$39","v":10},{"$f":"'System Parameter'!$C$39","v":10},{"$f":"'System Parameter'!$C$39","v":10},{"$f":"'System Parameter'!$C$39","v":10},{"$f":"'System Parameter'!$C$39","v":10},{"$f":"'System Parameter'!$C$39","v":10},{"$f":"'System Parameter'!$C$39","v":10},{"$f":"'System Parameter'!$C$39","v":10},{"$f":"'System Parameter'!$C$39","v":10},{"$f":"'System Parameter'!$C$39","v":10},{"$f":"'System Parameter'!$C$39","v":10},{"$f":"'System Parameter'!$C$39","v":10},{"$f":"'System Parameter'!$C$39","v":10},{"$f":"'System Parameter'!$C$39","v":10},{"$f":"'System Parameter'!$C$39","v":10},{"$f":"'System Parameter'!$C$39","v":10},{"$f":"'System Parameter'!$C$39","v":10},{"$f":"'System Parameter'!$C$39","v":10},{"$f":"'System Parameter'!$C$39","v":10}]
[]
["Free space loss between interferer and EESS","dB",{"$f":"20*LOG10(4*PI()*C57*1000/C51)","v":196.03103128498418},{"$f":"20*LOG10(4*PI()*D57*1000/D51)","v":195.68787918350347},{"$f":"20*LOG10(4*PI()*E57*1000/E51)","v":195.77311657348648},200.39953085602761,199.53886999868931,195.85724207020692,200.38774502887446,199.53886999868931,193.03870523035835,197.30791613641583,196.20524501395914,200.83165929650025,199.97099843916197,196.28937051067962,200.81987346934713,199.97099843916197,193.47083367083101,197.74004457688847,{"$f":"20*LOG10(4*PI()*U57*1000/U51)","v":198.22184247416101},202.84825675670214,201.98759589936384,198.30596797088145,202.83647092954897,201.98759589936384,195.48743113103285,199.75664203709033,{"$f":"20*LOG10(4*PI()*AC57*1000/AC51)","v":202.07893101684999},195.578766248519,199.84797715457648]
["Direct e.i.r.p. spectral density at the EESS antenna","dBW/MHz",{"$f":"C69-C73+C70","v":-257.03103128498418},-256.68787918350347,-241.77311657348648,-246.39953085602761,-245.53886999868931,-241.85724207020692,-246.38774502887446,-245.53886999868931,-239.03870523035835,-243.30791613641583,-257.20524501395914,-261.83165929650022,-260.97099843916197,-257.28937051067965,-261.81987346934716,-260.97099843916197,-254.47083367083101,-258.74004457688847,{"$f":"U69-U73+U70","v":-259.22184247416101},-263.84825675670214,-262.98759589936384,-259.30596797088145,-263.83647092954897,-262.98759589936384,-256.48743113103285,-260.75664203709033,{"$f":"AC69-AC73+AC70","v":-263.07893101684999},-256.578766248519,-260.84797715457648]
["Atmospheric loss (according to contribution SE24(20)063_rev1 and SE24(20)WI71#9-03)","dB",3.2,3.2,8.3000000000000007,16,13.8,8.3000000000000007,15.8,13.8,8.3000000000000007,14.7,8.3000000000000007,16,13.8,8.3000000000000007,15.8,13.8,8.3000000000000007,14.7,{"$f":"'System Parameter'!$AD$25","v":5},{"$f":"'System Parameter'!$AD$25","v":5},{"$f":"'System Parameter'!$AD$25","v":5},{"$f":"'System Parameter'!$AD$25","v":5},{"$f":"'System Parameter'!$AD$25","v":5},{"$f":"'System Parameter'!$AD$25","v":5},{"$f":"'System Parameter'!$AD$25","v":5},{"$f":"'System Parameter'!$AD$25","v":5},8.8000000000000007,5.3,9.3000000000000007]
["Polarisation mismatch loss","dB",3,3,3,3,3,3,3,3,3,3,3,3,3,3,3,3,3,3,3,3,3,3,3,3,3,3,3,3,3]
["Indoor-outdoor attenuation (according to clause 2.3 in the Report)","dB",{"$f":"VLOOKUP(C55,'EESS Shielding Table'!data_1,9)","v":22.316233894617302},{"$f":"VLOOKUP(D55,'EESS Shielding Table'!data_1,9)","v":22.313188791708029},{"$f":"VLOOKUP(E55,'EESS Shielding Table'!data_1,9)","v":26.615627756397593},{"$f":"VLOOKUP(F55,'EESS Shielding Table'!data_1,9)","v":22.522123788591671},{"$f":"VLOOKUP(G55,'EESS Shielding Table'!data_1,9)","v":22.316233894617302},{"$f":"VLOOKUP(H55,'EESS Shielding Table'!data_1,9)","v":26.615627756397593},{"$f":"VLOOKUP(I55,'EESS Shielding Table'!data_1,9)","v":22.522123788591671},{"$f":"VLOOKUP(J55,'EESS Shielding Table'!data_1,9)","v":22.316233894617302},{"$f":"VLOOKUP(K55,'EESS Shielding Table'!data_1,9)","v":26.615627756397593},{"$f":"VLOOKUP(L55,'EESS Shielding Table'!data_1,9)","v":22.416233894617296},{"$f":"VLOOKUP(M55,'EESS Shielding Table'!data_1,9)","v":26.615627756397593},{"$f":"VLOOKUP(N55,'EESS Shielding Table'!data_1,9)","v":22.522123788591671},{"$f":"VLOOKUP(O55,'EESS Shielding Table'!data_1,9)","v":22.316233894617302},{"$f":"VLOOKUP(P55,'EESS Shielding Table'!data_1,9)","v":26.615627756397593},{"$f":"VLOOKUP(Q55,'EESS Shielding Table'!data_1,9)","v":22.522123788591671},{"$f":"VLOOKUP(R55,'EESS Shielding Table'!data_1,9)","v":22.316233894617302},{"$f":"VLOOKUP(S55,'EESS Shielding Table'!data_1,9)","v":26.615627756397593},{"$f":"VLOOKUP(T55,'EESS Shielding Table'!data_1,9)","v":22.416233894617296},{"$f":"VLOOKUP(U55,'EESS Shielding Table'!data_1,9)","v":26.615627756397593},{"$f":"VLOOKUP(V55,'EESS Shielding Table'!data_1,9)","v":22.522123788591671},{"$f":"VLOOKUP(W55,'EESS Shielding Table'!data_1,9)","v":22.316233894617302},{"$f":"VLOOKUP(X55,'EESS Shielding Table'!data_1,9)","v":26.615627756397593},{"$f":"VLOOKUP(Y55,'EESS Shielding Table'!data_1,9)","v":22.522123788591671},{"$f":"VLOOKUP(Z55,'EESS Shielding Table'!data_1,9)","v":22.316233894617302},{"$f":"VLOOKUP(AA55,'EESS Shielding Table'!data_1,9)","v":26.615627756397593},{"$f":"VLOOKUP(AB55,'EESS Shielding Table'!data_1,9)","v":22.416233894617296},{"$f":"VLOOKUP(AC55,'EESS Shielding Table'!data_1,9)","v":22.316233894617302},{"$f":"VLOOKUP(AD55,'EESS Shielding Table'!data_1,9)","v":26.615627756397593},{"$f":"VLOOKUP(AE55,'EESS Shielding Table'!data_1,9)","v":22.416233894617296}]
["Power spectral density at the EESS receiver in a 1 MHz bandwidth","dBW/MHz",{"$f":"C74+C58-C75-C76-C77","v":-230.04726517960148},{"$f":"D74+D58-D75-D76-D77","v":-230.20106797521149},-234.8887443298841,-243.1216546446193,-227.75510389330663,-236.77286982660453,-244.70986881746614,-232.65510389330663,-226.95433298675596,-233.42415003103312,-250.32087277035674,-258.55378308509188,-243.18723233377929,-252.20499826707726,-260.14199725793884,-248.0872323337793,-242.38646142722862,-248.85627847150576,-249.0374702305586,-249.5703805452938,-236.40382979398115,-250.92159572727905,-251.35859471814064,-241.30382979398115,-241.10305888743045,-241.17287593170764,-245.19516491146732,-241.49439400491661,-245.5642110491938]
["Corresponding power at the EESS receiver in the reference bandwidth for a single interferer","dBW",{"$f":"C78+10*LOG10(C52)","v":-207.03696522296167},-207.19076801857167,-211.87844437324429,-220.11135468797949,-204.74480393666681,-213.76256986996472,-221.69956886082633,-209.64480393666682,-203.94403303011615,-210.41385007439331,-227.31057281371693,-235.54348312845207,-220.17693237713948,-229.19469831043745,-237.13169730129903,-225.07693237713949,-219.37616147058881,-225.84597851486595,{"$f":"U78+10*LOG10(U52)","v":-226.02717027391878},-226.56008058865399,-213.39352983734133,-227.91129577063924,-228.34829476150082,-218.29352983734134,-218.09275893079064,-218.16257597506782,{"$f":"AC78+10*LOG10(AC52)","v":-222.1848649548275},-218.4840940482768,-222.55391109255399]
["Number of RDI-S devices per square kilometre with uniform distribution over Europe","1/km²",{"$f":"'Market Size'!H22","v":7.6023947543476193E-3},{"$f":"'Market Size'!H22","v":7.6023947543476193E-3},{"$f":"'Market Size'!H24","v":7.6023947543476193E-3},{"$f":"'Market Size'!H24","v":7.6023947543476193E-3},{"$f":"'Market Size'!H24","v":7.6023947543476193E-3},{"$f":"'Market Size'!H24","v":7.6023947543476193E-3},{"$f":"'Market Size'!H24","v":7.6023947543476193E-3},{"$f":"'Market Size'!H24","v":7.6023947543476193E-3},{"$f":"'Market Size'!H24","v":7.6023947543476193E-3},{"$f":"'Market Size'!H24","v":7.6023947543476193E-3},{"$f":"'Market Size'!H25","v":7.6023947543476193E-3},{"$f":"'Market Size'!H25","v":7.6023947543476193E-3},{"$f":"'Market Size'!H25","v":7.6023947543476193E-3},{"$f":"'Market Size'!H25","v":7.6023947543476193E-3},{"$f":"'Market Size'!H25","v":7.6023947543476193E-3},{"$f":"'Market Size'!H25","v":7.6023947543476193E-3},{"$f":"'Market Size'!H25","v":7.6023947543476193E-3},{"$f":"'Market Size'!H25","v":7.6023947543476193E-3},{"$f":"'Market Size'!$H25","v":7.6023947543476193E-3},{"$f":"'Market Size'!$H25","v":7.6023947543476193E-3},{"$f":"'Market Size'!$H25","v":7.6023947543476193E-3},{"$f":"'Market Size'!$H25","v":7.6023947543476193E-3},{"$f":"'Market Size'!$H25","v":7.6023947543476193E-3},{"$f":"'Market Size'!$H25","v":7.6023947543476193E-3},{"$f":"'Market Size'!$H25","v":7.6023947543476193E-3},{"$f":"'Market Size'!$H25","v":7.6023947543476193E-3},{"$f":"'Market Size'!$H25","v":7.6023947543476193E-3},{"$f":"'Market Size'!$H25","v":7.6023947543476193E-3},{"$f":"'Market Size'!$H25","v":7.6023947543476193E-3}]
["Aggregate RDI-S device density (uniform distribution weighted with factor 75; acc. to contribution SE24(20)117)","1/km²",{"$f":"'System Parameter'!H29","v":0.57017960657607147},{"$f":"'System Parameter'!H29","v":0.57017960657607147},{"$f":"'System Parameter'!$U$29","v":0.57017960657607147},{"$f":"'System Parameter'!$U$29","v":0.57017960657607147},{"$f":"'System Parameter'!$U$29","v":0.57017960657607147},{"$f":"'System Parameter'!$U$29","v":0.57017960657607147},{"$f":"'System Parameter'!$U$29","v":0.57017960657607147},{"$f":"'System Parameter'!$U$29","v":0.57017960657607147},{"$f":"'System Parameter'!$U$29","v":0.57017960657607147},{"$f":"'System Parameter'!$U$29","v":0.57017960657607147},{"$f":"'System Parameter'!$W$29","v":0.57017960657607147},{"$f":"'System Parameter'!$W$29","v":0.57017960657607147},{"$f":"'System Parameter'!$W$29","v":0.57017960657607147},{"$f":"'System Parameter'!$W$29","v":0.57017960657607147},{"$f":"'System Parameter'!$W$29","v":0.57017960657607147},{"$f":"'System Parameter'!$W$29","v":0.57017960657607147},{"$f":"'System Parameter'!$W$29","v":0.57017960657607147},{"$f":"'System Parameter'!$W$29","v":0.57017960657607147},{"$f":"'System Parameter'!$AD$29","v":0.57017960657607147},{"$f":"'System Parameter'!$AD$29","v":0.57017960657607147},{"$f":"'System Parameter'!$AD$29","v":0.57017960657607147},{"$f":"'System Parameter'!$AD$29","v":0.57017960657607147},{"$f":"'System Parameter'!$AD$29","v":0.57017960657607147},{"$f":"'System Parameter'!$AD$29","v":0.57017960657607147},{"$f":"'System Parameter'!$AD$29","v":0.57017960657607147},{"$f":"'System Parameter'!$AD$29","v":0.57017960657607147},{"$f":"'System Parameter'!$AE$29","v":0.57017960657607147},{"$f":"'System Parameter'!$AE$29","v":0.57017960657607147},{"$f":"'System Parameter'!$AE$29","v":0.57017960657607147}]
["Number of aggregate RDI-S devices in the IFOV and active in the reference BW of the satellite",null,{"$f":"ROUNDUP(C81*C59,0)","v":47},{"$f":"ROUNDUP(D81*D59,0)","v":47},115,629,35,180,1005,94,16,81,115,629,35,180,1005,94,16,81,115,629,35,180,1005,94,16,81,94,16,81]
["Corresponding received power at the EESS in the reference bandwidth within the EESS's FOV","dBW",{"$f":"C79+10*LOG10(C82)","v":-190.3159866436045},-190.46978943921451,-191.27146596970817,-192.12484823352679,-189.30412349316407,-191.20984481893166,-191.67790824326124,-189.91352540066984,-191.9028332035569,-191.32899988560681,-206.70359441018081,-207.55697667399937,-204.73625193363671,-206.64197325940438,-207.11003668373394,-205.34565384114251,-207.33496164402956,-206.76112832607944,-205.42019187038267,-198.57357413420129,-197.95284939383856,-205.35857071960618,-198.32663414393573,-198.56225130134436,-206.05155910423139,-199.07772578628132,-202.45358641883053,-206.44289422171755,-203.46906090376748]
["Margin with reference to ITU-R RS.2017-0 ","dB",{"$f":"C60-C61-C83","v":12.315986643604504},12.469789439214509,16.271465969708174,17.124848233526791,14.30412349316407,16.209844818931657,16.677908243261243,14.91352540066984,16.902833203556895,16.328999885606805,31.703594410180813,32.556976673999372,29.736251933636709,31.641973259404381,32.110036683733938,30.345653841142507,32.334961644029562,31.761128326079444,33.420191870382666,26.573574134201294,25.952849393838562,33.358570719606178,26.326634143935735,26.562251301344361,34.051559104231387,27.07772578628132,30.453586418830525,34.442894221717552,31.469060903767485]

{"sheet":"EESS 5.340 bands","index":3,"n_rows":86,"n_cols":49,"rows_kept":86,"cut":false,"hidden":false,"merged":[[0,0,1,0],[2,2,2,3],[2,4,2,5],[2,6,2,8],[2,9,2,16],[2,33,2,40],[47,33,47,40],[2,41,2,48],[47,41,47,48],[1,2,1,48],[46,2,46,48],[2,17,2,24],[2,25,2,32],[47,2,47,3],[47,4,47,5],[47,6,47,8],[47,9,47,16],[47,17,47,24],[47,25,47,32]]}
["Compatibility analysis between radiodetermination systems for industry automation in shielded environments and EESS in protected bands ( protected by article 5.340 in the Radio Regulations)"]
[null,null,"Protected bands assigned to EESS"]
[null,null," 114,25-116 GHz",null,"148,5-151,5 GHz",null,"164-167 GHz",null,null,"182-185 GHz",null,null,null,null,null,null,null,"190-191,8 GHz",null,null,null,null,null,null,null,"200-209 GHz",null,null,null,null,null,null,null,"226-231,5 GHz",null,null,null,null,null,null,null,"250-252 GHz"]
["Single-entry study",null,"MWI","Planned EUMETSAT radiometer (ECC Report 190)","Syst. N1 (nadir)","Syst. N1 (outer)","Syst. P1","Syst. P2 (nadir)","Syst. P2 (outer)","MHS (nadir)","MHS (outer)","MWI","MWS (nadir)","MWS (outer)","ICI","AWS (nadir)","AWS (outer)","MHS (nadir)","MHS (outer)","MWI","MWS (nadir)","MWS (outer)","ICI","AWS (nadir)","AWS (outer)","MHS (nadir)","MHS (outer)","MWI","MWS (nadir)","MWS (outer)","ICI","AWS (nadir)","AWS (outer)","MHS (nadir)","MHS (outer)","MWI","MWS (nadir)","MWS (outer)","ICI","AWS (nadir)","AWS (outer)","MHS (nadir)","MHS (outer)","MWI","MWS (nadir)","MWS (outer)","ICI","AWS (nadir)","AWS (outer)"]
["Sensor type",null,"Conical scan","Conical scan","Nadir","Nadir","Conical scan","Nadir","Nadir","Nadir scan","Nadir scan","Conical scan","Nadir scan","Nadir scan","Conical scan","Nadir scan","Nadir scan","Nadir scan","Nadir scan","Conical scan","Nadir scan","Nadir scan","Conical scan","Nadir scan","Nadir scan","Nadir scan","Nadir scan","Conical scan","Nadir scan","Nadir scan","Conical scan","Nadir scan","Nadir scan","Nadir scan","Nadir scan","Conical scan","Nadir scan","Nadir scan","Conical scan","Nadir scan","Nadir scan","Nadir scan","Nadir scan","Conical scan","Nadir scan","Nadir scan","Conical scan","Nadir scan","Nadir scan"]
["EESS:","Units"]
["Assumed centre frequency of EESS","GHz",115.125,115.125,150,150,165.5,165.5,165.5,183.5,183.5,183.5,183.5,183.5,183.5,183.5,183.5,190.9,190.9,190.9,190.9,190.9,190.9,190.9,190.9,204.5,204.5,204.5,204.5,204.5,204.5,204.5,204.5,228.75,228.75,228.75,228.75,228.75,228.75,228.75,228.75,251,251,251,251,251,251,251,251]
["Wavelength of EESS","m",{"$f":"2.99792458/C7/10","v":2.6040604386536369E-3},2.6040604386536369E-3,1.9986163866666665E-3,1.9986163866666665E-3,{"$f":"2.99792458/G7/10","v":1.8114347915407854E-3},{"$f":"2.99792458/H7/10","v":1.8114347915407854E-3},1.8114347915407854E-3,1.6337463651226157E-3,1.6337463651226157E-3,1.6337463651226157E-3,1.6337463651226157E-3,1.6337463651226157E-3,1.6337463651226157E-3,1.6337463651226157E-3,1.6337463651226157E-3,1.5704162283918283E-3,1.5704162283918283E-3,1.5704162283918283E-3,1.5704162283918283E-3,1.5704162283918283E-3,1.5704162283918283E-3,1.5704162283918283E-3,1.5704162283918283E-3,{"$f":"2.99792458/Z7/10","v":1.4659777897310512E-3},1.4659777897310512E-3,1.4659777897310512E-3,1.4659777897310512E-3,1.4659777897310512E-3,1.4659777897310512E-3,1.4659777897310512E-3,1.4659777897310512E-3,{"$f":"2.99792458/AH7/10","v":1.3105681224043716E-3},1.3105681224043716E-3,1.3105681224043716E-3,1.3105681224043716E-3,1.3105681224043716E-3,1.3105681224043716E-3,1.3105681224043716E-3,1.3105681224043716E-3,1.1943922629482071E-3,1.1943922629482071E-3,1.1943922629482071E-3,1.1943922629482071E-3,1.1943922629482071E-3,1.1943922629482071E-3,1.1943922629482071E-3,1.1943922629482071E-3]
["Reference bandwidth","MHz",200,200,500,500,200,200,200,200,200,200,200,200,200,200,200,200,200,200,200,200,200,200,200,200,200,200,200,200,200,200,200,200,200,200,200,200,200,200,200,200,200,200,200,200,200,200,200]
["Orbit altitude","km",830,800,705,705,828,824,824,822,822,830,830,830,830,600,600,822,822,830,830,830,830,600,600,822,822,830,830,830,830,600,600,822,822,830,830,830,830,600,600,822,822,830,830,830,830,600,600]
["Angle of incidence at Earth's surface (from zenith)","deg",53.3,53,0,56.9,55.5,0,64,0,59,53.3,0,58.5,53.3,0,55.7,0,59,53.3,0,58.5,53.3,0,55.7,0,59,53.3,0,58.5,53.3,0,55.7,0,59,53.3,0,58.5,53.3,0,55.7,0,59,53.3,0,58.5,53.3,0,55.7]
["Elevation angle at ground","deg",{"$f":"90-C11","v":36.700000000000003},{"$f":"90-D11","v":37},90,33.1,34.5,90,26,90,31,36.700000000000003,90,31.5,36.700000000000003,90,34.299999999999997,90,31,36.700000000000003,90,31.5,36.700000000000003,90,34.299999999999997,90,31,36.700000000000003,90,31.5,36.700000000000003,90,34.299999999999997,90,31,36.700000000000003,90,31.5,36.700000000000003,90,34.299999999999997,90,31,36.700000000000003,90,31.5,36.700000000000003,90,34.299999999999997]
["Off-nadir angle","deg",{"$f":"(ASIN(SIN(C11*PI()/180)/(1+C10/6371)))*180/PI()+0.00000001","v":45.182994227157891},{"$f":"(ASIN(SIN(D11*PI()/180)/(1+D10/6371)))*180/PI()+0.00000001","v":45.197449705097966},1E-8,48.960285792894503,46.830967821220632,1E-8,52.736615269680954,1E-8,49.394790432078054,45.182994227157891,1E-8,48.969771809919081,45.182994227157891,1E-8,49.024959080746484,1E-8,49.394790432078054,45.182994227157891,1E-8,48.969771809919081,45.182994227157891,1E-8,49.024959080746484,1E-8,49.394790432078054,45.182994227157891,1E-8,48.969771809919081,45.182994227157891,1E-8,49.024959080746484,1E-8,49.394790432078054,45.182994227157891,1E-8,48.969771809919081,45.182994227157891,1E-8,49.024959080746484,1E-8,49.394790432078054,45.182994227157891,1E-8,48.969771809919081,45.182994227157891,1E-8,49.024959080746484]
["Slant path distance","km",{"$f":"6371*SIN((ASIN(((6371+C10)/6371)*SIN(C13*PI()/180))*180/PI()-C13)*PI()/180)/SIN(C13*PI()/180)","v":1268.1174814937638},{"$f":"6371*SIN((ASIN(((6371+D10)/6371)*SIN(D13*PI()/180))*180/PI()-D13)*PI()/180)/SIN(D13*PI()/180)","v":1218.9948902651022},{"$f":"6371*SIN((ASIN(((6371+E10)/6371)*SIN(E13*PI()/180))*180/PI()-E13)*PI()/180)/SIN(E13*PI()/180)","v":704.99999999999977},1166.7585937581823,1316.6433515587985,824.00000000000045,1563.5654760504558,822.00000000000023,1400.207928002734,1268.1174814937638,829.99999999999943,1398.3092834001552,1268.1174814937638,600.00000000000011,980.87077854286042,822.00000000000023,1400.207928002734,1268.1174814937638,829.99999999999943,1398.3092834001552,1268.1174814937638,600.00000000000011,980.87077854286042,822.00000000000023,1400.207928002734,1268.1174814937638,829.99999999999943,1398.3092834001552,1268.1174814937638,600.00000000000011,980.87077854286042,822.00000000000023,1400.207928002734,1268.1174814937638,829.99999999999943,1398.3092834001552,1268.1174814937638,600.00000000000011,980.87077854286042,822.00000000000023,1400.207928002734,1268.1174814937638,829.99999999999943,1398.3092834001552,1268.1174814937638,600.00000000000011,980.87077854286042]
["EESS antenna gain","dBi",55.5,55,45,45,54,43.9,43.9,44.8,44.8,56.9,43,43,52,50,50,44.8,44.8,56.9,43,43,52,50,50,44.8,44.8,56.9,43,43,52,50,50,44.8,44.8,56.9,43,43,52,50,50,44.8,44.8,56.9,43,43,52,50,50]
["Size of EESS FOV on Earth's surface","km²",82,82,154,759,113,254,2083,201,1103,61,315,1762,164,28,141,201,1103,61,315,1762,164,28,141,201,1103,61,315,1762,164,28,141,201,1103,61,315,1762,164,28,141,201,1103,61,315,1762,164,28,141]
["EESS interference criterion in the reference bandwidth (ITU-R RS.2017-0)","dBW",-166,-166,-159,-159,-163,-163,-163,-163,-163,-163,-163,-163,-163,-163,-163,-163,-163,-163,-163,-163,-163,-163,-163,-163,-163,-163,-163,-163,-163,-163,-163,-160,-160,-160,-160,-160,-160,-160,-160,-160,-160,-160,-160,-160,-160,-160,-160]
["Apportionment factor","dB",12,12,12,12,12,12,12,12,12,12,12,12,12,12,12,12,12,12,12,12,12,12,12,12,12,12,12,12,12,12,12,12,12,12,12,12,12,12,12,12,12,12,12,12,12,12,12]
[]
["Radiodetermination system (interferer):"]
["Conducted Tx power of interferer","dBm",{"$f":"'System Parameter'!$I4","v":9},{"$f":"'System Parameter'!$I4","v":9},{"$f":"'System Parameter'!$O4","v":-1},{"$f":"'System Parameter'!$O4","v":-1},{"$f":"'System Parameter'!R4","v":-1},{"$f":"'System Parameter'!$R4","v":-1},{"$f":"'System Parameter'!$R4","v":-1},{"$f":"'System Parameter'!$V4","v":-1},{"$f":"'System Parameter'!$V4","v":-1},{"$f":"'System Parameter'!$V4","v":-1},{"$f":"'System Parameter'!$V4","v":-1},{"$f":"'System Parameter'!$V4","v":-1},{"$f":"'System Parameter'!$V4","v":-1},{"$f":"'System Parameter'!$V4","v":-1},{"$f":"'System Parameter'!$V4","v":-1},{"$f":"'System Parameter'!$X4","v":-1},{"$f":"'System Parameter'!$X4","v":-1},{"$f":"'System Parameter'!$X4","v":-1},{"$f":"'System Parameter'!$X4","v":-1},{"$f":"'System Parameter'!$X4","v":-1},{"$f":"'System Parameter'!$X4","v":-1},{"$f":"'System Parameter'!$X4","v":-1},{"$f":"'System Parameter'!$X4","v":-1},{"$f":"'System Parameter'!$Z4","v":-1},{"$f":"'System Parameter'!$Z4","v":-1},{"$f":"'System Parameter'!$Z4","v":-1},{"$f":"'System Parameter'!$Z4","v":-1},{"$f":"'System Parameter'!$Z4","v":-1},{"$f":"'System Parameter'!$Z4","v":-1},{"$f":"'System Parameter'!$Z4","v":-1},{"$f":"'System Parameter'!$Z4","v":-1},{"$f":"'System Parameter'!$AB4","v":-1},{"$f":"'System Parameter'!$AB4","v":-1},{"$f":"'System Parameter'!$AB4","v":-1},{"$f":"'System Parameter'!$AB4","v":-1},{"$f":"'System Parameter'!$AB4","v":-1},{"$f":"'System Parameter'!$AB4","v":-1},{"$f":"'System Parameter'!$AB4","v":-1},{"$f":"'System Parameter'!$AB4","v":-1},{"$f":"'System Parameter'!$AI4","v":-1},{"$f":"'System Parameter'!$AI4","v":-1},{"$f":"'System Parameter'!$AI4","v":-1},{"$f":"'System Parameter'!$AI4","v":-1},{"$f":"'System Parameter'!$AI4","v":-1},{"$f":"'System Parameter'!$AI4","v":-1},{"$f":"'System Parameter'!$AI4","v":-1},{"$f":"'System Parameter'!$AI4","v":-1}]
["Out-of-band unwanted emissions attenuation (if EESS victim is located in an adjacent band)","dB",10,10,0,0,0,0,0,0,0,0,0,0,0,0,0,0,0,0,0,0,0,0,0,0,0,0,0,0,0,0,0,0,0,0,0,0,0,0,0,0,0,0,0,0,0,0,0]
["Tx e.i.r.p. of interferer","dBm",{"$f":"C21-C22+C28","v":35},35,35,35,{"$f":"G21-G22+G28","v":35},{"$f":"H21-H22+H28","v":35},35,35,35,35,35,35,35,35,35,35,35,35,35,35,35,35,35,{"$f":"Z21-Z22+Z28","v":35},35,35,35,35,35,35,35,{"$f":"AH21-AH22+AH28","v":35},35,35,35,35,35,35,35,35,35,35,35,35,35,35,35]
["Bandwidth of interferer Tx signal","GHz",{"$f":"'System Parameter'!I8","v":100},{"$f":"'System Parameter'!I8","v":100},{"$f":"'System Parameter'!$O8","v":100},{"$f":"'System Parameter'!$O8","v":100},{"$f":"'System Parameter'!R8","v":100},{"$f":"'System Parameter'!$R8","v":100},{"$f":"'System Parameter'!$R8","v":100},{"$f":"'System Parameter'!$V8","v":100},{"$f":"'System Parameter'!$V8","v":100},{"$f":"'System Parameter'!$V8","v":100},{"$f":"'System Parameter'!$V8","v":100},{"$f":"'System Parameter'!$V8","v":100},{"$f":"'System Parameter'!$V8","v":100},{"$f":"'System Parameter'!$V8","v":100},{"$f":"'System Parameter'!$V8","v":100},{"$f":"'System Parameter'!$X8","v":100},{"$f":"'System Parameter'!$X8","v":100},{"$f":"'System Parameter'!$X8","v":100},{"$f":"'System Parameter'!$X8","v":100},{"$f":"'System Parameter'!$X8","v":100},{"$f":"'System Parameter'!$X8","v":100},{"$f":"'System Parameter'!$X8","v":100},{"$f":"'System Parameter'!$X8","v":100},{"$f":"'System Parameter'!$Z8","v":100},{"$f":"'System Parameter'!$Z8","v":100},{"$f":"'System Parameter'!$Z8","v":100},{"$f":"'System Parameter'!$Z8","v":100},{"$f":"'System Parameter'!$Z8","v":100},{"$f":"'System Parameter'!$Z8","v":100},{"$f":"'System Parameter'!$Z8","v":100},{"$f":"'System Parameter'!$Z8","v":100},{"$f":"'System Parameter'!$AB8","v":100},{"$f":"'System Parameter'!$AB8","v":100},{"$f":"'System Parameter'!$AB8","v":100},{"$f":"'System Parameter'!$AB8","v":100},{"$f":"'System Parameter'!$AB8","v":100},{"$f":"'System Parameter'!$AB8","v":100},{"$f":"'System Parameter'!$AB8","v":100},{"$f":"'System Parameter'!$AB8","v":100},{"$f":"'System Parameter'!$AI8","v":100},{"$f":"'System Parameter'!$AI8","v":100},{"$f":"'System Parameter'!$AI8","v":100},{"$f":"'System Parameter'!$AI8","v":100},{"$f":"'System Parameter'!$AI8","v":100},{"$f":"'System Parameter'!$AI8","v":100},{"$f":"'System Parameter'!$AI8","v":100},{"$f":"'System Parameter'!$AI8","v":100}]
["Tx e.i.r.p. spectral density of interferer","dBm/MHz",{"$f":"C23-10*LOG(C24*1000)","v":-15},-15,-15,-15,{"$f":"G23-10*LOG(G24*1000)","v":-15},{"$f":"H23-10*LOG(H24*1000)","v":-15},-15,-15,-15,-15,-15,-15,-15,-15,-15,-15,-15,-15,-15,-15,-15,-15,-15,{"$f":"Z23-10*LOG(Z24*1000)","v":-15},-15,-15,-15,-15,-15,-15,-15,{"$f":"AH23-10*LOG(AH24*1000)","v":-15},-15,-15,-15,-15,-15,-15,-15,-15,-15,-15,-15,-15,-15,-15,-15]
["Tx e.i.r.p. spectral density of interferer","dBW/MHz",{"$f":"C25-30","v":-45},-45,-45,-45,{"$f":"G25-30","v":-45},{"$f":"H25-30","v":-45},-45,-45,-45,-45,-45,-45,-45,-45,-45,-45,-45,-45,-45,-45,-45,-45,-45,{"$f":"Z25-30","v":-45},-45,-45,-45,-45,-45,-45,-45,{"$f":"AH25-30","v":-45},-45,-45,-45,-45,-45,-45,-45,-45,-45,-45,-45,-45,-45,-45,-45]
["Mitigation technique (e.g. duty cycle, adaptive power control)","dB",{"$f":"'System Parameter'!H17","v":0},{"$f":"'System Parameter'!H17","v":0},{"$f":"'System Parameter'!$U17","v":0},{"$f":"'System Parameter'!$U17","v":0},{"$f":"'System Parameter'!R17","v":0},{"$f":"'System Parameter'!$R17","v":0},{"$f":"'System Parameter'!$R17","v":0},{"$f":"'System Parameter'!$V17","v":0},{"$f":"'System Parameter'!$V17","v":0},{"$f":"'System Parameter'!$V17","v":0},{"$f":"'System Parameter'!$V17","v":0},{"$f":"'System Parameter'!$V17","v":0},{"$f":"'System Parameter'!$V17","v":0},{"$f":"'System Parameter'!$V17","v":0},{"$f":"'System Parameter'!$V17","v":0},{"$f":"'System Parameter'!$X17","v":0},{"$f":"'System Parameter'!$X17","v":0},{"$f":"'System Parameter'!$X17","v":0},{"$f":"'System Parameter'!$X17","v":0},{"$f":"'System Parameter'!$X17","v":0},{"$f":"'System Parameter'!$X17","v":0},{"$f":"'System Parameter'!$X17","v":0},{"$f":"'System Parameter'!$X17","v":0},{"$f":"'System Parameter'!$Z17","v":0},{"$f":"'System Parameter'!$Z17","v":0},{"$f":"'System Parameter'!$Z17","v":0},{"$f":"'System Parameter'!$Z17","v":0},{"$f":"'System Parameter'!$Z17","v":0},{"$f":"'System Parameter'!$Z17","v":0},{"$f":"'System Parameter'!$Z17","v":0},{"$f":"'System Parameter'!$Z17","v":0},{"$f":"'System Parameter'!$AB17","v":0},{"$f":"'System Parameter'!$AB17","v":0},{"$f":"'System Parameter'!$AB17","v":0},{"$f":"'System Parameter'!$AB17","v":0},{"$f":"'System Parameter'!$AB17","v":0},{"$f":"'System Parameter'!$AB17","v":0},{"$f":"'System Parameter'!$AB17","v":0},{"$f":"'System Parameter'!$AB17","v":0},{"$f":"'System Parameter'!$AI17","v":0},{"$f":"'System Parameter'!$AI17","v":0},{"$f":"'System Parameter'!$AI17","v":0},{"$f":"'System Parameter'!$AI17","v":0},{"$f":"'System Parameter'!$AI17","v":0},{"$f":"'System Parameter'!$AI17","v":0},{"$f":"'System Parameter'!$AI17","v":0},{"$f":"'System Parameter'!$AI17","v":0}]
["Gain of the interferer antenna in direction of main radiation","dBi",{"$f":"'System Parameter'!I5","v":36},{"$f":"'System Parameter'!I5","v":36},{"$f":"'System Parameter'!$O5","v":36},{"$f":"'System Parameter'!$O5","v":36},{"$f":"'System Parameter'!R5","v":36},{"$f":"'System Parameter'!$R5","v":36},{"$f":"'System Parameter'!$R5","v":36},{"$f":"'System Parameter'!$V5","v":36},{"$f":"'System Parameter'!$V5","v":36},{"$f":"'System Parameter'!$V5","v":36},{"$f":"'System Parameter'!$V5","v":36},{"$f":"'System Parameter'!$V5","v":36},{"$f":"'System Parameter'!$V5","v":36},{"$f":"'System Parameter'!$V5","v":36},{"$f":"'System Parameter'!$V5","v":36},{"$f":"'System Parameter'!$X5","v":36},{"$f":"'System Parameter'!$X5","v":36},{"$f":"'System Parameter'!$X5","v":36},{"$f":"'System Parameter'!$X5","v":36},{"$f":"'System Parameter'!$X5","v":36},{"$f":"'System Parameter'!$X5","v":36},{"$f":"'System Parameter'!$X5","v":36},{"$f":"'System Parameter'!$X5","v":36},{"$f":"'System Parameter'!$Z5","v":36},{"$f":"'System Parameter'!$Z5","v":36},{"$f":"'System Parameter'!$Z5","v":36},{"$f":"'System Parameter'!$Z5","v":36},{"$f":"'System Parameter'!$Z5","v":36},{"$f":"'System Parameter'!$Z5","v":36},{"$f":"'System Parameter'!$Z5","v":36},{"$f":"'System Parameter'!$Z5","v":36},{"$f":"'System Parameter'!$AB5","v":36},{"$f":"'System Parameter'!$AB5","v":36},{"$f":"'System Parameter'!$AB5","v":36},{"$f":"'System Parameter'!$AB5","v":36},{"$f":"'System Parameter'!$AB5","v":36},{"$f":"'System Parameter'!$AB5","v":36},{"$f":"'System Parameter'!$AB5","v":36},{"$f":"'System Parameter'!$AB5","v":36},{"$f":"'System Parameter'!$AI5","v":36},{"$f":"'System Parameter'!$AI5","v":36},{"$f":"'System Parameter'!$AI5","v":36},{"$f":"'System Parameter'!$AI5","v":36},{"$f":"'System Parameter'!$AI5","v":36},{"$f":"'System Parameter'!$AI5","v":36},{"$f":"'System Parameter'!$AI5","v":36},{"$f":"'System Parameter'!$AI5","v":36}]
[]
["Free space loss between interferer and EESS","dB",{"$f":"20*LOG10(4*PI()*C14*1000/C8)","v":195.73436587615464},{"$f":"20*LOG10(4*PI()*D14*1000/D8)","v":195.39121378925444},{"$f":"20*LOG10(4*PI()*E14*1000/E8)","v":192.93339074282497},197.30922857027994,{"$f":"20*LOG10(4*PI()*G14*1000/G8)","v":199.21310619396533},{"$f":"20*LOG10(4*PI()*H14*1000/H8)","v":195.14228741806045},200.70606463464196,196.01794094444654,200.64435523976829,199.78369438381867,196.10206644116701,200.6325694126574,199.78369438381867,193.28352960131841,197.55274052386847,196.36133814055771,200.98775243587943,200.12709157992987,196.44546363727818,200.9759666087686,200.12709157992987,193.6269267974296,197.89613771997961,{"$f":"20*LOG10(4*PI()*Z14*1000/Z8)","v":196.9590858195516},201.58550011487333,200.72483925892374,197.04321131627208,201.57371428776247,200.72483925892374,194.22467447642347,198.49388539897348,{"$f":"20*LOG10(4*PI()*AH14*1000/AH8)","v":197.9324416274541},202.55885592277582,201.69819506682626,198.01656712417457,202.54707009566499,201.69819506682626,195.19803028432597,199.467241206876,198.73869400230515,203.36510829762688,202.50444744167731,198.8228194990256,203.35332247051605,202.50444744167731,196.00428265917702,200.27349358172702]
["Direct e.i.r.p. spectral density at the EESS antenna","dBW/MHz",{"$f":"C26-C30+C27","v":-240.73436587615464},-240.39121378925444,-237.93339074282497,-242.30922857027994,{"$f":"G26-G30+G27","v":-244.21310619396533},{"$f":"H26-H30+H27","v":-240.14228741806045},-245.70606463464196,-241.01794094444654,-245.64435523976829,-244.78369438381867,-241.10206644116701,-245.6325694126574,-244.78369438381867,-238.28352960131841,-242.55274052386847,-241.36133814055771,-245.98775243587943,-245.12709157992987,-241.44546363727818,-245.9759666087686,-245.12709157992987,-238.6269267974296,-242.89613771997961,{"$f":"Z26-Z30+Z27","v":-241.9590858195516},-246.58550011487333,-245.72483925892374,-242.04321131627208,-246.57371428776247,-245.72483925892374,-239.22467447642347,-243.49388539897348,{"$f":"AH26-AH30+AH27","v":-242.9324416274541},-247.55885592277582,-246.69819506682626,-243.01656712417457,-247.54707009566499,-246.69819506682626,-240.19803028432597,-244.467241206876,-243.73869400230515,-248.36510829762688,-247.50444744167731,-243.8228194990256,-248.35332247051605,-247.50444744167731,-241.00428265917702,-245.27349358172702]
["Atmospheric loss (according to contribution SE24(20)063_rev1 and SE24(20)WI71#9-03)","dB",3.2,3.2,2,3.8,5.7,3.2,7.4,8.3000000000000007,16,13.8,8.3000000000000007,15.8,13.8,8.3000000000000007,14.7,8.3000000000000007,16,13.8,8.3000000000000007,15.8,13.8,8.3000000000000007,14.7,{"$f":"'System Parameter'!$Z25","v":5},{"$f":"'System Parameter'!$Z25","v":5},{"$f":"'System Parameter'!$Z25","v":5},{"$f":"'System Parameter'!$Z25","v":5},{"$f":"'System Parameter'!$Z25","v":5},{"$f":"'System Parameter'!$Z25","v":5},{"$f":"'System Parameter'!$Z25","v":5},{"$f":"'System Parameter'!$Z25","v":5},{"$f":"'System Parameter'!$AB25","v":4.5},{"$f":"'System Parameter'!$AB25","v":4.5},{"$f":"'System Parameter'!$AB25","v":4.5},{"$f":"'System Parameter'!$AB25","v":4.5},{"$f":"'System Parameter'!$AB25","v":4.5},{"$f":"'System Parameter'!$AB25","v":4.5},4.8,8.5,{"$f":"'System Parameter'!$AI25","v":5.5},{"$f":"'System Parameter'!$AI25","v":5.5},{"$f":"'System Parameter'!$AI25","v":5.5},{"$f":"'System Parameter'!$AI25","v":5.5},{"$f":"'System Parameter'!$AI25","v":5.5},{"$f":"'System Parameter'!$AI25","v":5.5},{"$f":"'System Parameter'!$AI25","v":5.5},{"$f":"'System Parameter'!$AI25","v":5.5}]
["Polarisation mismatch loss","dB",3,3,3,3,3,3,3,3,3,3,3,3,3,3,3,3,3,3,3,3,3,3,3,3,3,3,3,3,3,3,3,3,3,3,3,3,3,3,3,3,3,3,3,3,3,3,3]
["Indoor-outdoor attenuation (according to clause 2.3 in the Report)","dB",{"$f":"'System Parameter'!$H22","v":50},{"$f":"'System Parameter'!$H22","v":50},{"$f":"'System Parameter'!$U22","v":50},{"$f":"'System Parameter'!$U22","v":50},{"$f":"'System Parameter'!$R22","v":50},{"$f":"'System Parameter'!$R22","v":50},{"$f":"'System Parameter'!$R22","v":50},{"$f":"'System Parameter'!$V22","v":50},{"$f":"'System Parameter'!$V22","v":50},{"$f":"'System Parameter'!$V22","v":50},{"$f":"'System Parameter'!$V22","v":50},{"$f":"'System Parameter'!$V22","v":50},{"$f":"'System Parameter'!$V22","v":50},{"$f":"'System Parameter'!$V22","v":50},{"$f":"'System Parameter'!$V22","v":50},{"$f":"'System Parameter'!$X22","v":50},{"$f":"'System Parameter'!$X22","v":50},{"$f":"'System Parameter'!$X22","v":50},{"$f":"'System Parameter'!$X22","v":50},{"$f":"'System Parameter'!$X22","v":50},{"$f":"'System Parameter'!$X22","v":50},{"$f":"'System Parameter'!$X22","v":50},{"$f":"'System Parameter'!$X22","v":50},{"$f":"'System Parameter'!$Z22","v":50},{"$f":"'System Parameter'!$Z22","v":50},{"$f":"'System Parameter'!$Z22","v":50},{"$f":"'System Parameter'!$Z22","v":50},{"$f":"'System Parameter'!$Z22","v":50},{"$f":"'System Parameter'!$Z22","v":50},{"$f":"'System Parameter'!$Z22","v":50},{"$f":"'System Parameter'!$Z22","v":50},{"$f":"'System Parameter'!$AB22","v":50},{"$f":"'System Parameter'!$AB22","v":50},{"$f":"'System Parameter'!$AB22","v":50},{"$f":"'System Parameter'!$AB22","v":50},{"$f":"'System Parameter'!$AB22","v":50},{"$f":"'System Parameter'!$AB22","v":50},{"$f":"'System Parameter'!$AB22","v":50},{"$f":"'System Parameter'!$AB22","v":50},{"$f":"'System Parameter'!$AI22","v":50},{"$f":"'System Parameter'!$AI22","v":50},{"$f":"'System Parameter'!$AI22","v":50},{"$f":"'System Parameter'!$AI22","v":50},{"$f":"'System Parameter'!$AI22","v":50},{"$f":"'System Parameter'!$AI22","v":50},{"$f":"'System Parameter'!$AI22","v":50},{"$f":"'System Parameter'!$AI22","v":50}]
["Power spectral density at the EESS receiver in a 1 MHz bandwidth","dBW/MHz",{"$f":"C31+C15-C32-C33-C34","v":-241.43436587615463},{"$f":"D31+D15-D32-D33-D34","v":-241.59121378925443},-247.93339074282497,-254.10922857027995,-248.91310619396532,-252.44228741806043,-262.20606463464196,-257.51794094444654,-269.84435523976828,-254.68369438381868,-259.40206644116699,-271.43256941265741,-259.58369438381868,-249.58352960131842,-260.25274052386845,-257.86133814055773,-270.18775243587942,-255.02709157992987,-259.74546363727819,-271.77596660876861,-259.92709157992988,-249.92692679742962,-260.59613771997959,-255.15908581955159,-259.78550011487334,-246.82483925892373,-257.04321131627205,-261.57371428776247,-251.72483925892374,-247.22467447642347,-251.49388539897348,-255.63244162745411,-260.25885592277581,-247.29819506682625,-257.51656712417457,-262.04707009566499,-252.19819506682626,-247.99803028432598,-255.967241206876,-257.43869400230517,-262.06510829762686,-249.10444744167731,-259.32281949902563,-263.85332247051605,-254.00444744167731,-249.50428265917702,-253.77349358172702]
["Corresponding power at the EESS receiver in the reference bandwidth for a single interferer","dBW",{"$f":"C35+10*LOG10(C9)","v":-218.42406591951482},{"$f":"D35+10*LOG10(D9)","v":-218.58091383261461},{"$f":"E35+10*LOG10(E9)","v":-220.94369069946478},-227.11952852691977,{"$f":"G35+10*LOG10(G9)","v":-225.90280623732551},{"$f":"H35+10*LOG10(H9)","v":-229.43198746142062},-239.19576467800215,-234.50764098780672,-246.83405528312846,-231.67339442717886,-236.39176648452718,-248.4222694560176,-236.57339442717887,-226.57322964467861,-237.24244056722864,-234.85103818391792,-247.17745247923961,-232.01679162329006,-236.73516368063838,-248.7656666521288,-236.91679162329007,-226.9166268407898,-237.58583776333978,{"$f":"Z35+10*LOG10(Z9)","v":-232.14878586291178},-236.77520015823353,-223.81453930228392,-234.03291135963224,-238.56341433112266,-228.71453930228392,-224.21437451978366,-228.48358544233366,{"$f":"AH35+10*LOG10(AH9)","v":-232.6221416708143},-237.248555966136,-224.28789511018644,-234.50626716753476,-239.03677013902518,-229.18789511018645,-224.98773032768617,-232.95694125023618,-234.42839404566536,-239.05480834098705,-226.0941474850375,-236.31251954238581,-240.84302251387624,-230.9941474850375,-226.49398270253721,-230.76319362508721]
["Number of interferers in EESS FOV on Earth's surface",null,1,1,1,1,1,1,1,1,1,1,1,1,1,1,1,1,1,1,1,1,1,1,1,1,1,1,1,1,1,1,1,1,1,1,1,1,1,1,1,1,1,1,1,1,1,1,1]
["Corresponding received power at the EESS in the reference bandwidth within the EESS's FOV","dBW",{"$f":"C36+10*LOG10(C37)","v":-218.42406591951482},{"$f":"D36+10*LOG10(D37)","v":-218.58091383261461},{"$f":"E36+10*LOG10(E37)","v":-220.94369069946478},-227.11952852691977,{"$f":"G36+10*LOG10(G37)","v":-225.90280623732551},{"$f":"H36+10*LOG10(H37)","v":-229.43198746142062},-239.19576467800215,-234.50764098780672,-246.83405528312846,-231.67339442717886,-236.39176648452718,-248.4222694560176,-236.57339442717887,-226.57322964467861,-237.24244056722864,-234.85103818391792,-247.17745247923961,-232.01679162329006,-236.73516368063838,-248.7656666521288,-236.91679162329007,-226.9166268407898,-237.58583776333978,{"$f":"Z36+10*LOG10(Z37)","v":-232.14878586291178},-236.77520015823353,-223.81453930228392,-234.03291135963224,-238.56341433112266,-228.71453930228392,-224.21437451978366,-228.48358544233366,{"$f":"AH36+10*LOG10(AH37)","v":-232.6221416708143},-237.248555966136,-224.28789511018644,-234.50626716753476,-239.03677013902518,-229.18789511018645,-224.98773032768617,-232.95694125023618,-234.42839404566536,-239.05480834098705,-226.0941474850375,-236.31251954238581,-240.84302251387624,-230.9941474850375,-226.49398270253721,-230.76319362508721]
["Margin with reference to ITU-R RS.2017-0 ","dB",{"$f":"C17-C18-C38","v":40.424065919514817},{"$f":"D17-D18-D38","v":40.580913832614613},{"$f":"E17-E18-E38","v":49.943690699464781},56.119528526919765,{"$f":"G17-G18-G38","v":50.902806237325507},{"$f":"H17-H18-H38","v":54.431987461420619},64.195764678002149,59.507640987806724,71.834055283128464,56.673394427178863,61.391766484527182,73.422269456017602,61.573394427178869,51.573229644678605,62.242440567228641,59.851038183917922,72.177452479239605,57.016791623290061,61.735163680638379,73.7656666521288,61.916791623290067,51.916626840789803,62.585837763339782,{"$f":"Z17-Z18-Z38","v":57.14878586291178},61.775200158233531,48.814539302283919,59.032911359632237,63.563414331122658,53.714539302283924,49.214374519783661,53.483585442333663,{"$f":"AH17-AH18-AH38","v":60.622141670814301},65.248555966135996,52.28789511018644,62.506267167534759,67.03677013902518,57.187895110186446,52.987730327686165,60.956941250236184,62.428394045665357,67.054808340987051,54.094147485037496,64.312519542385814,68.843022513876235,58.994147485037502,54.49398270253721,58.763193625087212]
[]
[]
[]
[]
[]
[]
[]
[null,null,"Protected bands assigned to EESS"]
[null,null," 114,25-116 GHz",null,"148,5-151,5 GHz",null,"164-167 GHz",null,null,"182-185 GHz",null,null,null,null,null,null,null,"190-191,8 GHz",null,null,null,null,null,null,null,"200-209 GHz",null,null,null,null,null,null,null,"226-231,5 GHz",null,null,null,null,null,null,null,"250-252 GHz"]
["Aggregated interference study",null,"MWI","Planned EUMETSAT radiometer (ECC Report 190)","Syst. N1 (nadir)","Syst. N1 (outer)","Syst. P1","Syst. P2 (nadir)","Syst. P2 (outer)","MHS (nadir)","MHS (outer)","MWI","MWS (nadir)","MWS (outer)","ICI","AWS (nadir)","AWS (outer)","MHS (nadir)","MHS (outer)","MWI","MWS (nadir)","MWS (outer)","ICI","AWS (nadir)","AWS (outer)","MHS (nadir)","MHS (outer)","MWI","MWS (nadir)","MWS (outer)","ICI","AWS (nadir)","AWS (outer)","MHS (nadir)","MHS (outer)","MWI","MWS (nadir)","MWS (outer)","ICI","AWS (nadir)","AWS (outer)","MHS (nadir)","MHS (outer)","MWI","MWS (nadir)","MWS (outer)","ICI","AWS (nadir)","AWS (outer)"]
["Sensor type",null,"Conical scan","Conical scan","Nadir","Nadir","Conical scan","Nadir","Nadir","Nadir scan","Nadir scan","Conical scan","Nadir scan","Nadir scan","Conical scan","Nadir scan","Nadir scan","Nadir scan","Nadir scan","Conical scan","Nadir scan","Nadir scan","Conical scan","Nadir scan","Nadir scan","Nadir scan","Nadir scan","Conical scan","Nadir scan","Nadir scan","Conical scan","Nadir scan","Nadir scan","Nadir scan","Nadir scan","Conical scan","Nadir scan","Nadir scan","Conical scan","Nadir scan","Nadir scan","Nadir scan","Nadir scan","Conical scan","Nadir scan","Nadir scan","Conical scan","Nadir scan","Nadir scan"]
["EESS:","Units"]
["Assumed centre frequency of EESS","GHz",115.125,115.125,150,150,165.5,165.5,165.5,183.5,183.5,183.5,183.5,183.5,183.5,183.5,183.5,190.9,190.9,190.9,190.9,190.9,190.9,190.9,190.9,204.5,204.5,204.5,204.5,204.5,204.5,204.5,204.5,228.75,228.75,228.75,228.75,228.75,228.75,228.75,228.75,251,251,251,251,251,251,251,251]
["Wavelength of EESS","m",{"$f":"2.99792458/C52/10","v":2.6040604386536369E-3},2.6040604386536369E-3,1.9986163866666665E-3,1.9986163866666665E-3,1.8114347915407854E-3,1.8114347915407854E-3,1.8114347915407854E-3,1.6337463651226157E-3,1.6337463651226157E-3,1.6337463651226157E-3,1.6337463651226157E-3,1.6337463651226157E-3,1.6337463651226157E-3,1.6337463651226157E-3,1.6337463651226157E-3,1.5704162283918283E-3,1.5704162283918283E-3,1.5704162283918283E-3,1.5704162283918283E-3,1.5704162283918283E-3,1.5704162283918283E-3,1.5704162283918283E-3,1.5704162283918283E-3,{"$f":"2.99792458/Z52/10","v":1.4659777897310512E-3},1.4659777897310512E-3,1.4659777897310512E-3,1.4659777897310512E-3,1.4659777897310512E-3,1.4659777897310512E-3,1.4659777897310512E-3,1.4659777897310512E-3,{"$f":"2.99792458/AH52/10","v":1.3105681224043716E-3},1.3105681224043716E-3,1.3105681224043716E-3,1.3105681224043716E-3,1.3105681224043716E-3,1.3105681224043716E-3,1.3105681224043716E-3,1.3105681224043716E-3,1.1943922629482071E-3,1.1943922629482071E-3,1.1943922629482071E-3,1.1943922629482071E-3,1.1943922629482071E-3,1.1943922629482071E-3,1.1943922629482071E-3,1.1943922629482071E-3]
["Reference bandwidth","MHz",200,200,500,500,200,200,200,200,200,200,200,200,200,200,200,200,200,200,200,200,200,200,200,200,200,200,200,200,200,200,200,200,200,200,200,200,200,200,200,200,200,200,200,200,200,200,200]
["Orbit altitude","km",830,800,705,705,828,824,824,822,822,830,830,830,830,600,600,822,822,830,830,830,830,600,600,822,822,830,830,830,830,600,600,822,822,830,830,830,830,600,600,822,822,830,830,830,830,600,600]
["Angle of incidence at Earth's surface (from zenith)","deg",53.3,53,0,56.9,55.5,0,64,0,59,53.3,0,58.5,53.3,0,55.7,0,59,53.3,0,58.5,53.3,0,55.7,0,59,53.3,0,58.5,53.3,0,55.7,0,59,53.3,0,58.5,53.3,0,55.7,0,59,53.3,0,58.5,53.3,0,55.7]
["Elevation angle at ground","deg",{"$f":"90-C56","v":36.700000000000003},{"$f":"90-D56","v":37},{"$f":"90-E56","v":90},33.1,{"$f":"90-G56","v":34.5},{"$f":"90-H56","v":90},26,90,31,36.700000000000003,90,31.5,36.700000000000003,90,34.299999999999997,90,31,36.700000000000003,90,31.5,36.700000000000003,90,34.299999999999997,{"$f":"90-Z56","v":90},31,36.700000000000003,90,31.5,36.700000000000003,90,34.299999999999997,{"$f":"90-AH56","v":90},31,36.700000000000003,90,31.5,36.700000000000003,90,34.299999999999997,90,31,36.700000000000003,90,31.5,36.700000000000003,90,34.299999999999997]
["Off-nadir angle","deg",{"$f":"(ASIN(SIN(C56*PI()/180)/(1+C55/6371)))*180/PI()+0.00000001","v":45.182994227157891},45.197449705097966,{"$f":"(ASIN(SIN(E56*PI()/180)/(1+E55/6371)))*180/PI()+0.00000001","v":1E-8},{"$f":"(ASIN(SIN(F56*PI()/180)/(1+F55/6371)))*180/PI()+0.00000001","v":48.960285792894503},46.830967821220632,1E-8,52.736615269680954,1E-8,49.394790432078054,45.182994227157891,1E-8,48.969771809919081,45.182994227157891,1E-8,49.024959080746484,1E-8,49.394790432078054,45.182994227157891,1E-8,48.969771809919081,45.182994227157891,1E-8,49.024959080746484,1E-8,49.394790432078054,45.182994227157891,1E-8,48.969771809919081,45.182994227157891,1E-8,49.024959080746484,1E-8,49.394790432078054,45.182994227157891,1E-8,48.969771809919081,45.182994227157891,1E-8,49.024959080746484,1E-8,49.394790432078054,45.182994227157891,1E-8,48.969771809919081,45.182994227157891,1E-8,49.024959080746484]
["Slant path distance","km",{"$f":"6371*SIN((ASIN(((6371+C55)/6371)*SIN(C58*PI()/180))*180/PI()-C58)*PI()/180)/SIN(C58*PI()/180)","v":1268.1174814937638},1218.9948902651022,704.99999999999977,1166.7585937581823,1316.6433515587985,824.00000000000045,1563.5654760504558,822.00000000000023,1400.207928002734,1268.1174814937638,829.99999999999943,1398.3092834001552,1268.1174814937638,600.00000000000011,980.87077854286042,822.00000000000023,1400.207928002734,1268.1174814937638,829.99999999999943,1398.3092834001552,1268.1174814937638,600.00000000000011,980.87077854286042,822.00000000000023,1400.207928002734,1268.1174814937638,829.99999999999943,1398.3092834001552,1268.1174814937638,600.00000000000011,980.87077854286042,822.00000000000023,1400.207928002734,1268.1174814937638,829.99999999999943,1398.3092834001552,1268.1174814937638,600.00000000000011,980.87077854286042,822.00000000000023,1400.207928002734,1268.1174814937638,829.99999999999943,1398.3092834001552,1268.1174814937638,600.00000000000011,980.87077854286042]
["EESS antenna gain","dBi",55.5,55,45,45,54,43.9,43.9,44.8,44.8,56.9,43,43,52,50,50,44.8,44.8,56.9,43,43,52,50,50,44.8,44.8,56.9,43,43,52,50,50,44.8,44.8,56.9,43,43,52,50,50,44.8,44.8,56.9,43,43,52,50,50]
["Size of EESS FOV on Earth's surface","km²",82,82,154,759,113,254,2083,201,1103,61,315,1762,164,28,141,201,1103,61,315,1762,164,28,141,201,1103,61,315,1762,164,28,141,201,1103,61,315,1762,164,28,141,201,1103,61,315,1762,164,28,141]
["EESS interference criterion in the reference bandwidth (ITU-R RS.2017-0)","dBW",-166,-166,-159,-159,-163,-163,-163,-163,-163,-163,-163,-163,-163,-163,-163,-163,-163,-163,-163,-163,-163,-163,-163,-163,-163,-163,-163,-163,-163,-163,-163,-160,-160,-160,-160,-160,-160,-160,-160,-160,-160,-160,-160,-160,-160,-160,-160]
["Apportionment factor","dB",12,12,12,12,12,12,12,12,12,12,12,12,12,12,12,12,12,12,12,12,12,12,12,12,12,12,12,12,12,12,12,12,12,12,12,12,12,12,12,12,12,12,12,12,12,12,12]
[]
["Radiodetermination system (interferer):"]
["Conducted Tx power of interferer","dBm",{"$f":"'System Parameter'!$I4","v":9},{"$f":"'System Parameter'!$I4","v":9},{"$f":"'System Parameter'!$O4","v":-1},{"$f":"'System Parameter'!$O4","v":-1},{"$f":"'System Parameter'!R4","v":-1},{"$f":"'System Parameter'!$R4","v":-1},{"$f":"'System Parameter'!$R4","v":-1},{"$f":"'System Parameter'!$V4","v":-1},{"$f":"'System Parameter'!$V4","v":-1},{"$f":"'System Parameter'!$V4","v":-1},{"$f":"'System Parameter'!$V4","v":-1},{"$f":"'System Parameter'!$V4","v":-1},{"$f":"'System Parameter'!$V4","v":-1},{"$f":"'System Parameter'!$V4","v":-1},{"$f":"'System Parameter'!$V4","v":-1},{"$f":"'System Parameter'!$X4","v":-1},{"$f":"'System Parameter'!$X4","v":-1},{"$f":"'System Parameter'!$X4","v":-1},{"$f":"'System Parameter'!$X4","v":-1},{"$f":"'System Parameter'!$X4","v":-1},{"$f":"'System Parameter'!$X4","v":-1},{"$f":"'System Parameter'!$X4","v":-1},{"$f":"'System Parameter'!$X4","v":-1},{"$f":"'System Parameter'!$Z4","v":-1},{"$f":"'System Parameter'!$Z4","v":-1},{"$f":"'System Parameter'!$Z4","v":-1},{"$f":"'System Parameter'!$Z4","v":-1},{"$f":"'System Parameter'!$Z4","v":-1},{"$f":"'System Parameter'!$Z4","v":-1},{"$f":"'System Parameter'!$Z4","v":-1},{"$f":"'System Parameter'!$Z4","v":-1},{"$f":"'System Parameter'!$AB4","v":-1},{"$f":"'System Parameter'!$AB4","v":-1},{"$f":"'System Parameter'!$AB4","v":-1},{"$f":"'System Parameter'!$AB4","v":-1},{"$f":"'System Parameter'!$AB4","v":-1},{"$f":"'System Parameter'!$AB4","v":-1},{"$f":"'System Parameter'!$AB4","v":-1},{"$f":"'System Parameter'!$AB4","v":-1},{"$f":"'System Parameter'!$AI4","v":-1},{"$f":"'System Parameter'!$AI4","v":-1},{"$f":"'System Parameter'!$AI4","v":-1},{"$f":"'System Parameter'!$AI4","v":-1},{"$f":"'System Parameter'!$AI4","v":-1},{"$f":"'System Parameter'!$AI4","v":-1},{"$f":"'System Parameter'!$AI4","v":-1},{"$f":"'System Parameter'!$AI4","v":-1}]
["Out-of-band unwanted emissions attenuation (if EESS victim is located in an adjacent band)","dB",10,10,0,0,0,0,0,0,0,0,0,0,0,0,0,0,0,0,0,0,0,0,0,0,0,0,0,0,0,0,0,0,0,0,0,0,0,0,0,0,0,0,0,0,0,0,0]
["Tx e.i.r.p. of interferer","dBm",{"$f":"C66-C67+C73","v":9},9,9,9,9,9,9,9,9,9,9,9,9,9,9,9,9,9,9,9,9,9,9,{"$f":"Z66-Z67+Z73","v":9},9,9,9,9,9,9,9,{"$f":"AH66-AH67+AH73","v":9},9,9,9,9,9,9,9,9,9,9,9,9,9,9,9]
["Bandwidth of interferer Tx signal","GHz",{"$f":"'System Parameter'!$I8","v":100},{"$f":"'System Parameter'!I8","v":100},{"$f":"'System Parameter'!$O8","v":100},{"$f":"'System Parameter'!$O8","v":100},{"$f":"'System Parameter'!R8","v":100},{"$f":"'System Parameter'!$R8","v":100},{"$f":"'System Parameter'!$R8","v":100},{"$f":"'System Parameter'!$V8","v":100},{"$f":"'System Parameter'!$V8","v":100},{"$f":"'System Parameter'!$V8","v":100},{"$f":"'System Parameter'!$V8","v":100},{"$f":"'System Parameter'!$V8","v":100},{"$f":"'System Parameter'!$V8","v":100},{"$f":"'System Parameter'!$V8","v":100},{"$f":"'System Parameter'!$V8","v":100},{"$f":"'System Parameter'!$X8","v":100},{"$f":"'System Parameter'!$X8","v":100},{"$f":"'System Parameter'!$X8","v":100},{"$f":"'System Parameter'!$X8","v":100},{"$f":"'System Parameter'!$X8","v":100},{"$f":"'System Parameter'!$X8","v":100},{"$f":"'System Parameter'!$X8","v":100},{"$f":"'System Parameter'!$X8","v":100},{"$f":"'System Parameter'!$Z8","v":100},{"$f":"'System Parameter'!$Z8","v":100},{"$f":"'System Parameter'!$Z8","v":100},{"$f":"'System Parameter'!$Z8","v":100},{"$f":"'System Parameter'!$Z8","v":100},{"$f":"'System Parameter'!$Z8","v":100},{"$f":"'System Parameter'!$Z8","v":100},{"$f":"'System Parameter'!$Z8","v":100},{"$f":"'System Parameter'!$AB8","v":100},{"$f":"'System Parameter'!$AB8","v":100},{"$f":"'System Parameter'!$AB8","v":100},{"$f":"'System Parameter'!$AB8","v":100},{"$f":"'System Parameter'!$AB8","v":100},{"$f":"'System Parameter'!$AB8","v":100},{"$f":"'System Parameter'!$AB8","v":100},{"$f":"'System Parameter'!$AB8","v":100},{"$f":"'System Parameter'!$AI8","v":100},{"$f":"'System Parameter'!$AI8","v":100},{"$f":"'System Parameter'!$AI8","v":100},{"$f":"'System Parameter'!$AI8","v":100},{"$f":"'System Parameter'!$AI8","v":100},{"$f":"'System Parameter'!$AI8","v":100},{"$f":"'System Parameter'!$AI8","v":100},{"$f":"'System Parameter'!$AI8","v":100}]
["Tx e.i.r.p. spectral density of interferer","dBm/MHz",{"$f":"C68-10*LOG(C69*1000)","v":-41},-41,-41,-41,-41,-41,-41,-41,-41,-41,-41,-41,-41,-41,-41,-41,-41,-41,-41,-41,-41,-41,-41,{"$f":"Z68-10*LOG(Z69*1000)","v":-41},-41,-41,-41,-41,-41,-41,-41,{"$f":"AH68-10*LOG(AH69*1000)","v":-41},-41,-41,-41,-41,-41,-41,-41,-41,-41,-41,-41,-41,-41,-41,-41]
["Tx e.i.r.p. spectral density of interferer","dBW/MHz",{"$f":"C70-30","v":-71},-71,-71,-71,-71,-71,-71,-71,-71,-71,-71,-71,-71,-71,-71,-71,-71,-71,-71,-71,-71,-71,-71,{"$f":"Z70-30","v":-71},-71,-71,-71,-71,-71,-71,-71,{"$f":"AH70-30","v":-71},-71,-71,-71,-71,-71,-71,-71,-71,-71,-71,-71,-71,-71,-71,-71]
["Mitigation technique (e.g. duty cycle, adaptive power control)","dB",{"$f":"'System Parameter'!$H62","v":0},{"$f":"'System Parameter'!H64","v":0},{"$f":"'System Parameter'!$U64","v":0},{"$f":"'System Parameter'!$U64","v":0},{"$f":"'System Parameter'!R64","v":0},{"$f":"'System Parameter'!$R64","v":0},{"$f":"'System Parameter'!$R64","v":0},{"$f":"'System Parameter'!$V64","v":0},{"$f":"'System Parameter'!$V64","v":0},{"$f":"'System Parameter'!$V64","v":0},{"$f":"'System Parameter'!$V64","v":0},{"$f":"'System Parameter'!$V64","v":0},{"$f":"'System Parameter'!$V64","v":0},{"$f":"'System Parameter'!$V64","v":0},{"$f":"'System Parameter'!$V64","v":0},{"$f":"'System Parameter'!$X64","v":0},{"$f":"'System Parameter'!$X64","v":0},{"$f":"'System Parameter'!$X64","v":0},{"$f":"'System Parameter'!$X64","v":0},{"$f":"'System Parameter'!$X64","v":0},{"$f":"'System Parameter'!$X64","v":0},{"$f":"'System Parameter'!$X64","v":0},{"$f":"'System Parameter'!$X64","v":0},{"$f":"'System Parameter'!$Z64","v":0},{"$f":"'System Parameter'!$Z64","v":0},{"$f":"'System Parameter'!$Z64","v":0},{"$f":"'System Parameter'!$Z64","v":0},{"$f":"'System Parameter'!$Z64","v":0},{"$f":"'System Parameter'!$Z64","v":0},{"$f":"'System Parameter'!$Z64","v":0},{"$f":"'System Parameter'!$Z64","v":0},{"$f":"'System Parameter'!$AB64","v":0},{"$f":"'System Parameter'!$AB64","v":0},{"$f":"'System Parameter'!$AB64","v":0},{"$f":"'System Parameter'!$AB64","v":0},{"$f":"'System Parameter'!$AB64","v":0},{"$f":"'System Parameter'!$AB64","v":0},{"$f":"'System Parameter'!$AB64","v":0},{"$f":"'System Parameter'!$AB64","v":0},{"$f":"'System Parameter'!$AI64","v":0},{"$f":"'System Parameter'!$AI64","v":0},{"$f":"'System Parameter'!$AI64","v":0},{"$f":"'System Parameter'!$AI64","v":0},{"$f":"'System Parameter'!$AI64","v":0},{"$f":"'System Parameter'!$AI64","v":0},{"$f":"'System Parameter'!$AI64","v":0},{"$f":"'System Parameter'!$AI64","v":0}]
["Average gain of the interferer antenna in the direction of the victim EESS system","dBi",{"$f":"'System Parameter'!$C$39","v":10},{"$f":"'System Parameter'!$C$39","v":10},{"$f":"'System Parameter'!$C$39","v":10},{"$f":"'System Parameter'!$C$39","v":10},{"$f":"'System Parameter'!$C$39","v":10},{"$f":"'System Parameter'!$C$39","v":10},{"$f":"'System Parameter'!$C$39","v":10},{"$f":"'System Parameter'!$C$39","v":10},{"$f":"'System Parameter'!$C$39","v":10},{"$f":"'System Parameter'!$C$39","v":10},{"$f":"'System Parameter'!$C$39","v":10},{"$f":"'System Parameter'!$C$39","v":10},{"$f":"'System Parameter'!$C$39","v":10},{"$f":"'System Parameter'!$C$39","v":10},{"$f":"'System Parameter'!$C$39","v":10},{"$f":"'System Parameter'!$C$39","v":10},{"$f":"'System Parameter'!$C$39","v":10},{"$f":"'System Parameter'!$C$39","v":10},{"$f":"'System Parameter'!$C$39","v":10},{"$f":"'System Parameter'!$C$39","v":10},{"$f":"'System Parameter'!$C$39","v":10},{"$f":"'System Parameter'!$C$39","v":10},{"$f":"'System Parameter'!$C$39","v":10},{"$f":"'System Parameter'!$C$39","v":10},{"$f":"'System Parameter'!$C$39","v":10},{"$f":"'System Parameter'!$C$39","v":10},{"$f":"'System Parameter'!$C$39","v":10},{"$f":"'System Parameter'!$C$39","v":10},{"$f":"'System Parameter'!$C$39","v":10},{"$f":"'System Parameter'!$C$39","v":10},{"$f":"'System Parameter'!$C$39","v":10},{"$f":"'System Parameter'!$C$39","v":10},{"$f":"'System Parameter'!$C$39","v":10},{"$f":"'System Parameter'!$C$39","v":10},{"$f":"'System Parameter'!$C$39","v":10},{"$f":"'System Parameter'!$C$39","v":10},{"$f":"'System Parameter'!$C$39","v":10},{"$f":"'System Parameter'!$C$39","v":10},{"$f":"'System Parameter'!$C$39","v":10},{"$f":"'System Parameter'!$C$39","v":10},{"$f":"'System Parameter'!$C$39","v":10},{"$f":"'System Parameter'!$C$39","v":10},{"$f":"'System Parameter'!$C$39","v":10},{"$f":"'System Parameter'!$C$39","v":10},{"$f":"'System Parameter'!$C$39","v":10},{"$f":"'System Parameter'!$C$39","v":10},{"$f":"'System Parameter'!$C$39","v":10}]
[]
["Free space loss between interferer and EESS","dB",{"$f":"20*LOG10(4*PI()*C59*1000/C53)","v":195.73436587615464},195.39121378925444,192.93339074282497,197.30922857027994,199.21310619396533,195.14228741806045,200.70606463464196,196.01794094444654,200.64435523976829,199.78369438381867,196.10206644116701,200.6325694126574,199.78369438381867,193.28352960131841,197.55274052386847,196.36133814055771,200.98775243587943,200.12709157992987,196.44546363727818,200.9759666087686,200.12709157992987,193.6269267974296,197.89613771997961,{"$f":"20*LOG10(4*PI()*Z59*1000/Z53)","v":196.9590858195516},201.58550011487333,200.72483925892374,197.04321131627208,201.57371428776247,200.72483925892374,194.22467447642347,198.49388539897348,{"$f":"20*LOG10(4*PI()*AH59*1000/AH53)","v":197.9324416274541},202.55885592277582,201.69819506682626,198.01656712417457,202.54707009566499,201.69819506682626,195.19803028432597,199.467241206876,198.73869400230515,203.36510829762688,202.50444744167731,198.8228194990256,203.35332247051605,202.50444744167731,196.00428265917702,200.27349358172702]
["Direct e.i.r.p. spectral density at the EESS antenna","dBW/MHz",{"$f":"C71-C75+C72","v":-266.73436587615464},-266.39121378925444,{"$f":"E71-E75+E72","v":-263.93339074282494},-268.30922857027997,-270.21310619396536,-266.14228741806045,-271.70606463464196,-267.01794094444654,-271.64435523976829,-270.78369438381867,-267.10206644116704,-271.6325694126574,-270.78369438381867,-264.28352960131838,{"$f":"Q71-Q75+Q72","v":-268.55274052386847},-267.36133814055768,-271.98775243587943,-271.12709157992987,-267.44546363727818,-271.9759666087686,-271.12709157992987,-264.62692679742963,-268.89613771997961,{"$f":"Z71-Z75+Z72","v":-267.9590858195516},-272.5855001148733,-271.72483925892374,-268.04321131627205,-272.57371428776247,-271.72483925892374,-265.2246744764235,-269.49388539897348,{"$f":"AH71-AH75+AH72","v":-268.93244162745407},-273.55885592277582,-272.69819506682626,-269.01656712417457,-273.54707009566499,-272.69819506682626,-266.19803028432597,-270.467241206876,-269.73869400230512,-274.36510829762688,-273.50444744167731,-269.82281949902563,-274.35332247051605,-273.50444744167731,-267.00428265917702,-271.27349358172705]
["Atmospheric loss (according to contribution SE24(20)063_rev1 and SE24(20)WI71#9-03)","dB",3.2,3.2,2,3.8,5.7,3.2,7.4,8.3000000000000007,16,13.8,8.3000000000000007,15.8,13.8,8.3000000000000007,14.7,8.3000000000000007,16,13.8,8.3000000000000007,15.8,13.8,8.3000000000000007,14.7,{"$f":"'System Parameter'!$Z25","v":5},{"$f":"'System Parameter'!$Z25","v":5},{"$f":"'System Parameter'!$Z25","v":5},{"$f":"'System Parameter'!$Z25","v":5},{"$f":"'System Parameter'!$Z25","v":5},{"$f":"'System Parameter'!$Z25","v":5},{"$f":"'System Parameter'!$Z25","v":5},{"$f":"'System Parameter'!$Z25","v":5},{"$f":"'System Parameter'!$AB25","v":4.5},{"$f":"'System Parameter'!$AB25","v":4.5},{"$f":"'System Parameter'!$AB25","v":4.5},{"$f":"'System Parameter'!$AB25","v":4.5},{"$f":"'System Parameter'!$AB25","v":4.5},{"$f":"'System Parameter'!$AB25","v":4.5},4.8,8.5,{"$f":"'System Parameter'!$AI25","v":5.5},{"$f":"'System Parameter'!$AI25","v":5.5},{"$f":"'System Parameter'!$AI25","v":5.5},{"$f":"'System Parameter'!$AI25","v":5.5},{"$f":"'System Parameter'!$AI25","v":5.5},{"$f":"'System Parameter'!$AI25","v":5.5},{"$f":"'System Parameter'!$AI25","v":5.5},{"$f":"'System Parameter'!$AI25","v":5.5}]
["Polarisation mismatch loss","dB",3,3,3,3,3,3,3,3,3,3,3,3,3,3,3,3,3,3,3,3,3,3,3,3,3,3,3,3,3,3,3,3,3,3,3,3,3,3,3,3,3,3,3,3,3,3,3]
["Indoor-outdoor attenuation (according to clause 2.3 in the Report)","dB",{"$f":"VLOOKUP(C57,'EESS Shielding Table'!data_1,9)","v":22.316233894617302},{"$f":"VLOOKUP(D57,'EESS Shielding Table'!data_1,9)","v":22.313188791708029},{"$f":"VLOOKUP(E57,'EESS Shielding Table'!data_1,9)","v":26.615627756397593},{"$f":"VLOOKUP(F57,'EESS Shielding Table'!data_1,9)","v":22.416233894617296},{"$f":"VLOOKUP(G57,'EESS Shielding Table'!data_1,9)","v":22.416233894617296},{"$f":"VLOOKUP(H57,'EESS Shielding Table'!data_1,9)","v":26.615627756397593},{"$f":"VLOOKUP(I57,'EESS Shielding Table'!data_1,9)","v":22.924971431983643},{"$f":"VLOOKUP(J57,'EESS Shielding Table'!data_1,9)","v":26.615627756397593},{"$f":"VLOOKUP(K57,'EESS Shielding Table'!data_1,9)","v":22.522123788591671},{"$f":"VLOOKUP(L57,'EESS Shielding Table'!data_1,9)","v":22.316233894617302},{"$f":"VLOOKUP(M57,'EESS Shielding Table'!data_1,9)","v":26.615627756397593},{"$f":"VLOOKUP(N57,'EESS Shielding Table'!data_1,9)","v":22.522123788591671},{"$f":"VLOOKUP(O57,'EESS Shielding Table'!data_1,9)","v":22.316233894617302},{"$f":"VLOOKUP(P57,'EESS Shielding Table'!data_1,9)","v":26.615627756397593},{"$f":"VLOOKUP(Q57,'EESS Shielding Table'!data_1,9)","v":22.416233894617296},{"$f":"VLOOKUP(R57,'EESS Shielding Table'!data_1,9)","v":26.615627756397593},{"$f":"VLOOKUP(S57,'EESS Shielding Table'!data_1,9)","v":22.522123788591671},{"$f":"VLOOKUP(T57,'EESS Shielding Table'!data_1,9)","v":22.316233894617302},{"$f":"VLOOKUP(U57,'EESS Shielding Table'!data_1,9)","v":26.615627756397593},{"$f":"VLOOKUP(V57,'EESS Shielding Table'!data_1,9)","v":22.522123788591671},{"$f":"VLOOKUP(W57,'EESS Shielding Table'!data_1,9)","v":22.316233894617302},{"$f":"VLOOKUP(X57,'EESS Shielding Table'!data_1,9)","v":26.615627756397593},{"$f":"VLOOKUP(Y57,'EESS Shielding Table'!data_1,9)","v":22.416233894617296},{"$f":"VLOOKUP(Z57,'EESS Shielding Table'!data_1,9)","v":26.615627756397593},{"$f":"VLOOKUP(AA57,'EESS Shielding Table'!data_1,9)","v":22.522123788591671},{"$f":"VLOOKUP(AB57,'EESS Shielding Table'!data_1,9)","v":22.316233894617302},{"$f":"VLOOKUP(AC57,'EESS Shielding Table'!data_1,9)","v":26.615627756397593},{"$f":"VLOOKUP(AD57,'EESS Shielding Table'!data_1,9)","v":22.522123788591671},{"$f":"VLOOKUP(AE57,'EESS Shielding Table'!data_1,9)","v":22.316233894617302},{"$f":"VLOOKUP(AF57,'EESS Shielding Table'!data_1,9)","v":26.615627756397593},{"$f":"VLOOKUP(AG57,'EESS Shielding Table'!data_1,9)","v":22.416233894617296},{"$f":"VLOOKUP(AH57,'EESS Shielding Table'!data_1,9)","v":26.615627756397593},{"$f":"VLOOKUP(AI57,'EESS Shielding Table'!data_1,9)","v":22.522123788591671},{"$f":"VLOOKUP(AJ57,'EESS Shielding Table'!data_1,9)","v":22.316233894617302},{"$f":"VLOOKUP(AK57,'EESS Shielding Table'!data_1,9)","v":26.615627756397593},{"$f":"VLOOKUP(AL57,'EESS Shielding Table'!data_1,9)","v":22.522123788591671},{"$f":"VLOOKUP(AM57,'EESS Shielding Table'!data_1,9)","v":22.316233894617302},{"$f":"VLOOKUP(AN57,'EESS Shielding Table'!data_1,9)","v":26.615627756397593},{"$f":"VLOOKUP(AO57,'EESS Shielding Table'!data_1,9)","v":22.416233894617296},{"$f":"VLOOKUP(AP57,'EESS Shielding Table'!data_1,9)","v":26.615627756397593},{"$f":"VLOOKUP(AQ57,'EESS Shielding Table'!data_1,9)","v":22.522123788591671},{"$f":"VLOOKUP(AR57,'EESS Shielding Table'!data_1,9)","v":22.316233894617302},{"$f":"VLOOKUP(AS57,'EESS Shielding Table'!data_1,9)","v":26.615627756397593},{"$f":"VLOOKUP(AT57,'EESS Shielding Table'!data_1,9)","v":22.522123788591671},{"$f":"VLOOKUP(AU57,'EESS Shielding Table'!data_1,9)","v":22.316233894617302},{"$f":"VLOOKUP(AV57,'EESS Shielding Table'!data_1,9)","v":26.615627756397593},{"$f":"VLOOKUP(AW57,'EESS Shielding Table'!data_1,9)","v":22.416233894617296}]
["Power spectral density at the EESS receiver in a 1 MHz bandwidth","dBW/MHz",{"$f":"C76+C60-C77-C78-C79","v":-239.75059977077194},{"$f":"D76+D60-D77-D78-D79","v":-239.90440258096245},-250.54901849922254,-252.52546246489729,-247.32934008858265,-255.05791517445803,-261.1310360666256,-260.13356870084414,-268.36647902835995,-252.99992827843599,-262.01769419756465,-269.95469320124909,-257.89992827843599,-252.19915735771599,-258.66897441848573,-260.47696589695528,-268.70987622447109,-253.34332547454719,-262.36109139367579,-270.29809039736028,-258.24332547454719,-252.54255455382724,-259.01237161459687,-257.77471357594919,-258.30762390346496,-245.14107315354104,-259.65883907266965,-260.09583807635414,-250.04107315354105,-249.8403022328211,-249.91011929359078,-258.24806938385166,-258.78097971136748,-245.61442896144356,-260.13219488057217,-260.56919388425666,-250.51442896144357,-250.61365804072358,-254.3834751014933,-260.05432175870271,-260.58723208621853,-247.42068133629462,-261.93844725542323,-262.37544625910772,-252.32068133629463,-252.11991041557462,-252.18972747634436]
["Corresponding power at the EESS receiver in the reference bandwidth for a single interferer","dBW",{"$f":"C80+10*LOG10(C54)","v":-216.74029981413213},-216.89410262432264,{"$f":"E80+10*LOG10(E54)","v":-223.55931845586235},-225.5357624215371,-224.31904013194284,-232.04761521781822,-238.12073610998578,-237.12326874420432,-245.35617907172013,-229.98962832179618,-239.00739424092484,-246.94439324460927,-234.88962832179618,-229.18885740107618,{"$f":"Q80+10*LOG10(Q54)","v":-235.65867446184592},-237.46666594031547,-245.69957626783128,-230.33302551790737,-239.35079143703598,-247.28779044072047,-235.23302551790738,-229.53225459718743,-236.00207165795706,{"$f":"Z80+10*LOG10(Z54)","v":-234.76441361930938},-235.29732394682514,-222.13077319690123,-236.64853911602984,-237.08553811971433,-227.03077319690124,-226.83000227618129,-226.89981933695097,{"$f":"AH80+10*LOG10(AH54)","v":-235.23776942721184},-235.77067975472767,-222.60412900480375,-237.12189492393236,-237.55889392761685,-227.50412900480376,-227.60335808408377,-231.37317514485349,-237.0440218020629,-237.57693212957872,-224.41038137965481,-238.92814729878341,-239.36514630246791,-229.31038137965481,-229.10961045893481,-229.17942751970455]
["Number of RDI-S devices per square kilometre with uniform distribution over Europe","1/km²",{"$f":"'Market Size'!H24","v":7.6023947543476193E-3},{"$f":"'Market Size'!H22","v":7.6023947543476193E-3},{"$f":"'Market Size'!H23","v":7.6023947543476193E-3},{"$f":"'Market Size'!H23","v":7.6023947543476193E-3},{"$f":"'Market Size'!H24","v":7.6023947543476193E-3},{"$f":"'Market Size'!H24","v":7.6023947543476193E-3},{"$f":"'Market Size'!H24","v":7.6023947543476193E-3},{"$f":"'Market Size'!H25","v":7.6023947543476193E-3},{"$f":"'Market Size'!H25","v":7.6023947543476193E-3},{"$f":"'Market Size'!H25","v":7.6023947543476193E-3},{"$f":"'Market Size'!H25","v":7.6023947543476193E-3},{"$f":"'Market Size'!H25","v":7.6023947543476193E-3},{"$f":"'Market Size'!H25","v":7.6023947543476193E-3},{"$f":"'Market Size'!H25","v":7.6023947543476193E-3},{"$f":"'Market Size'!H25","v":7.6023947543476193E-3},{"$f":"'Market Size'!H25","v":7.6023947543476193E-3},{"$f":"'Market Size'!H25","v":7.6023947543476193E-3},{"$f":"'Market Size'!H25","v":7.6023947543476193E-3},{"$f":"'Market Size'!H25","v":7.6023947543476193E-3},{"$f":"'Market Size'!H25","v":7.6023947543476193E-3},{"$f":"'Market Size'!H25","v":7.6023947543476193E-3},{"$f":"'Market Size'!H25","v":7.6023947543476193E-3},{"$f":"'Market Size'!$H$25","v":7.6023947543476193E-3},{"$f":"'Market Size'!$H$25","v":7.6023947543476193E-3},{"$f":"'Market Size'!$H$25","v":7.6023947543476193E-3},{"$f":"'Market Size'!$H$25","v":7.6023947543476193E-3},{"$f":"'Market Size'!$H$25","v":7.6023947543476193E-3},{"$f":"'Market Size'!$H$25","v":7.6023947543476193E-3},{"$f":"'Market Size'!$H$25","v":7.6023947543476193E-3},{"$f":"'Market Size'!$H$25","v":7.6023947543476193E-3},{"$f":"'Market Size'!$H$25","v":7.6023947543476193E-3},{"$f":"'Market Size'!$H$25","v":7.6023947543476193E-3},{"$f":"'Market Size'!$H$25","v":7.6023947543476193E-3},{"$f":"'Market Size'!$H$25","v":7.6023947543476193E-3},{"$f":"'Market Size'!$H$25","v":7.6023947543476193E-3},{"$f":"'Market Size'!$H$25","v":7.6023947543476193E-3},{"$f":"'Market Size'!$H$25","v":7.6023947543476193E-3},{"$f":"'Market Size'!$H$25","v":7.6023947543476193E-3},{"$f":"'Market Size'!$H$25","v":7.6023947543476193E-3},{"$f":"'Market Size'!$H$25","v":7.6023947543476193E-3},{"$f":"'Market Size'!$H$25","v":7.6023947543476193E-3},{"$f":"'Market Size'!$H$25","v":7.6023947543476193E-3},{"$f":"'Market Size'!$H$25","v":7.6023947543476193E-3},{"$f":"'Market Size'!$H$25","v":7.6023947543476193E-3},{"$f":"'Market Size'!$H$25","v":7.6023947543476193E-3},{"$f":"'Market Size'!$H$25","v":7.6023947543476193E-3},{"$f":"'Market Size'!$H$25","v":7.6023947543476193E-3}]
["Aggregate RDI-S device density (uniform distribution weighted with factor 75; acc. to contribution SE24(20)117)","1/km²",{"$f":"'System Parameter'!$H29","v":0.57017960657607147},{"$f":"'System Parameter'!$H29","v":0.57017960657607147},{"$f":"'System Parameter'!O29","v":0.57017960657607147},{"$f":"'System Parameter'!O29","v":0.57017960657607147},{"$f":"'System Parameter'!$R29","v":0.57017960657607147},{"$f":"'System Parameter'!$R29","v":0.57017960657607147},{"$f":"'System Parameter'!$R29","v":0.57017960657607147},{"$f":"'System Parameter'!$V29","v":0.57017960657607147},{"$f":"'System Parameter'!$V29","v":0.57017960657607147},{"$f":"'System Parameter'!$V29","v":0.57017960657607147},{"$f":"'System Parameter'!$V29","v":0.57017960657607147},{"$f":"'System Parameter'!$V29","v":0.57017960657607147},{"$f":"'System Parameter'!$V29","v":0.57017960657607147},{"$f":"'System Parameter'!$V29","v":0.57017960657607147},{"$f":"'System Parameter'!$V29","v":0.57017960657607147},{"$f":"'System Parameter'!$X29","v":0.57017960657607147},{"$f":"'System Parameter'!$X29","v":0.57017960657607147},{"$f":"'System Parameter'!$X29","v":0.57017960657607147},{"$f":"'System Parameter'!$X29","v":0.57017960657607147},{"$f":"'System Parameter'!$X29","v":0.57017960657607147},{"$f":"'System Parameter'!$X29","v":0.57017960657607147},{"$f":"'System Parameter'!$X29","v":0.57017960657607147},{"$f":"'System Parameter'!$X29","v":0.57017960657607147},{"$f":"'System Parameter'!$Z29","v":0.57017960657607147},{"$f":"'System Parameter'!$Z29","v":0.57017960657607147},{"$f":"'System Parameter'!$Z29","v":0.57017960657607147},{"$f":"'System Parameter'!$Z29","v":0.57017960657607147},{"$f":"'System Parameter'!$Z29","v":0.57017960657607147},{"$f":"'System Parameter'!$Z29","v":0.57017960657607147},{"$f":"'System Parameter'!$Z29","v":0.57017960657607147},{"$f":"'System Parameter'!$Z29","v":0.57017960657607147},{"$f":"'System Parameter'!$AB29","v":0.57017960657607147},{"$f":"'System Parameter'!$AB29","v":0.57017960657607147},{"$f":"'System Parameter'!$AB29","v":0.57017960657607147},{"$f":"'System Parameter'!$AB29","v":0.57017960657607147},{"$f":"'System Parameter'!$AB29","v":0.57017960657607147},{"$f":"'System Parameter'!$AB29","v":0.57017960657607147},{"$f":"'System Parameter'!$AB29","v":0.57017960657607147},{"$f":"'System Parameter'!$AB29","v":0.57017960657607147},{"$f":"'System Parameter'!$AI29","v":0.57017960657607147},{"$f":"'System Parameter'!$AI29","v":0.57017960657607147},{"$f":"'System Parameter'!$AI29","v":0.57017960657607147},{"$f":"'System Parameter'!$AI29","v":0.57017960657607147},{"$f":"'System Parameter'!$AI29","v":0.57017960657607147},{"$f":"'System Parameter'!$AI29","v":0.57017960657607147},{"$f":"'System Parameter'!$AI29","v":0.57017960657607147},{"$f":"'System Parameter'!$AI29","v":0.57017960657607147}]
["Number of aggregate RDI-S devices in the IFOV and active in the reference BW of the satellite",null,{"$f":"ROUNDUP(C83*C61,0)","v":47},{"$f":"ROUNDUP(D83*D61,0)","v":47},88,433,65,145,1188,115,629,35,180,1005,94,16,81,115,629,35,180,1005,94,16,81,115,629,35,180,1005,94,16,81,115,629,35,180,1005,94,16,81,115,629,35,180,1005,94,16,81]
["Corresponding received power at the EESS in the reference bandwidth within the EESS's FOV","dBW",{"$f":"C81+10*LOG10(C84)","v":-200.01932123477496},-200.17312404496548,-204.11449173436066,-199.17088345800346,-206.18990656551429,-210.43393519546848,-207.37257170353405,-216.51629034066821,-217.36967261726744,-214.5489478782934,-216.45466918989177,-216.92273262704418,-215.1583497857992,-217.14765757451693,-216.57382427305942,-216.85968753677935,-217.71306981337858,-214.8923450744046,-216.79806638600292,-217.26612982315538,-215.5017469819104,-217.49105477062818,-216.91722146917056,-214.15743521577326,-207.31081749237245,-206.69009275339846,-214.09581406499677,-207.06387750214924,-207.29949466090426,-214.78880244962204,-207.81496914816447,-214.63079102367573,-207.78417330027497,-207.16344856130098,-214.56916987289929,-207.53723331005176,-207.77285046880678,-215.56215825752452,-212.28832495606699,-216.43704339852678,-209.59042567512603,-208.96970093615204,-216.37542224775035,-209.34348568490282,-209.57910284365784,-217.06841063237556,-210.09457733091804]
["Margin with reference to ITU-R RS.2017-0 ","dB",{"$f":"C62-C63-C85","v":22.019321234774964},22.173124044965476,33.114491734360655,28.170883458003459,31.189906565514292,35.433935195468479,32.372571703534049,41.516290340668206,42.36967261726744,39.548947878293404,41.454669189891774,41.922732627044184,40.158349785799203,42.147657574516927,41.573824273059415,41.859687536779347,42.713069813378581,39.892345074404602,41.798066386002915,42.266129823155381,40.501746981910401,42.491054770628182,41.917221469170556,39.157435215773262,32.31081749237245,31.69009275339846,39.095814064996773,32.063877502149239,32.299494660904259,39.78880244962204,32.814969148164465,42.630791023675727,35.784173300274972,35.163448561300982,42.569169872899295,35.537233310051761,35.77285046880678,43.562158257524516,40.288324956066987,44.437043398526782,37.590425675126028,36.969700936152037,44.37542224775035,37.343485684902817,37.579102843657836,45.06841063237556,38.094577330918042]

{"sheet":"RAS","index":4,"n_rows":37,"n_cols":16,"rows_kept":37,"cut":false,"hidden":false,"merged":[[4,14,4,15],[0,0,1,0],[4,4,4,5],[4,6,4,7],[4,8,4,9],[4,10,4,11],[4,12,4,13],[4,2,4,3]]}
["Compatibility analysis between radiodetermination systems for industry automation in shielded environments and RAS "]
[]
[]
[]
["Victim RAS system",null,"Band of RAS system: 111,8-116 GHz",null,"Band of RAS system: 123-158,5 GHz (lower)",null,"Band of RAS system: 123-158,5 GHz (upper)",null,"Band of RAS system: 164-174,5 GHz",null,"Band of RAS system: 190-231,5 GHz",null,"Band of RAS system: 235-238 GHz",null,"Band of RAS system: 241-275 GHz"]
["Sensor type",null,"Continuum observation","Spectral-line observation","Continuum observation","Spectral-line observation","Continuum observation","Spectral-line observation","Continuum observation","Spectral-line observation","Continuum observation","Spectral-line observation","Continuum observation","Spectral-line observation","Continuum observation","Spectral-line observation"]
["RAS:","Units"]
["Assumed centre frequency of RAS","GHz",113.9,113.9,126.5,126.5,137.5,137.5,169.25,169.25,210.75,210.75,236.5,236.5,245.5,245.5]
["Wavelength of RAS","m",{"$f":"2.99792458/C8/10","v":2.6320672344161541E-3},2.6320672344161541E-3,{"$f":"2.99792458/E8/10","v":2.3699008537549403E-3},2.3699008537549403E-3,2.1803087854545453E-3,2.1803087854545453E-3,{"$f":"2.99792458/I8/10","v":1.7712996041358935E-3},{"$f":"2.99792458/J8/10","v":1.7712996041358935E-3},{"$f":"2.99792458/K8/10","v":1.4225027663107947E-3},1.4225027663107947E-3,1.2676213868921776E-3,1.2676213868921776E-3,1.2211505417515276E-3,1.2211505417515276E-3]
["Bandwidth (ITU-R RA.769-2 )","MHz",8000,1,8000,1,8000,1,8000,1,8000,1,8000,1,8000,1]
["Antenna gain in the direction of interferer (ITU-R RA.769-2 )","dBi",0,0,0,0,0,0,0,0,0,0,0,0,0,0]
["Feeder (insertion) loss","dB",0,0,0,0,0,0,0,0,0,0,0,0,0,0]
["Threshold Interference level at receiver input (ITU-R RA.769-2 )","dBW",-189,-209,-189.3,-209,-189.5,-209,-189.1,-209,-187.7,-207,-187.8,-207,-186.8,-207]
["Threshold Interference level at receiver input","dBm",{"$f":"C13+30","v":-159},{"$f":"D13+30","v":-179},{"$f":"E13+30","v":-159.30000000000001},-179,-159.5,-179,{"$f":"I13+30","v":-159.1},{"$f":"J13+30","v":-179},{"$f":"K13+30","v":-157.69999999999999},-177,-157.80000000000001,-177,-156.80000000000001,-177]
[]
["Radiodetermination system (interferer):"]
["Conducted Tx power of interferer","dBm",{"$f":"'System Parameter'!$I4","v":9},{"$f":"'System Parameter'!$I4","v":9},{"$f":"'System Parameter'!$K4","v":24},{"$f":"'System Parameter'!$K4","v":24},{"$f":"'System Parameter'!$N4","v":9},{"$f":"'System Parameter'!$N4","v":9},{"$f":"'System Parameter'!$R4","v":-1},{"$f":"'System Parameter'!$R4","v":-1},{"$f":"'System Parameter'!$Z4","v":-1},{"$f":"'System Parameter'!$Z4","v":-1},{"$f":"'System Parameter'!$AD4","v":9},{"$f":"'System Parameter'!$AD4","v":9},{"$f":"'System Parameter'!$AF4","v":9},{"$f":"'System Parameter'!$AF4","v":9}]
["Out-of-band unwanted emissions attenuation (if RAS victim is located in an adjacent band)","dB",10,10,0,0,0,0,0,0,0,0,0,0,0,0]
["Tx e.i.r.p. of interferer","dBm",{"$f":"C17-C18+C25","v":35},35,{"$f":"E17-E18+E25","v":60},60,45,45,35,35,{"$f":"K17-K18+K25","v":35},35,45,45,45,45]
["Bandwidth of interferer Tx signal","GHz",{"$f":"'System Parameter'!$I8","v":100},{"$f":"'System Parameter'!$I8","v":100},{"$f":"'System Parameter'!$K8","v":100},{"$f":"'System Parameter'!$K8","v":100},{"$f":"'System Parameter'!$N8","v":100},{"$f":"'System Parameter'!$N8","v":100},{"$f":"'System Parameter'!$R8","v":100},{"$f":"'System Parameter'!$R8","v":100},{"$f":"'System Parameter'!$Z8","v":100},{"$f":"'System Parameter'!$Z8","v":100},{"$f":"'System Parameter'!$AD8","v":100},{"$f":"'System Parameter'!$AD8","v":100},{"$f":"'System Parameter'!$AF8","v":100},{"$f":"'System Parameter'!$AF8","v":100}]
["Mitigation technique (e.g. duty cycle, adaptive power control)","dB",{"$f":"'System Parameter'!$I17","v":0},{"$f":"'System Parameter'!$I17","v":0},{"$f":"'System Parameter'!$K17","v":0},{"$f":"'System Parameter'!$K17","v":0},{"$f":"'System Parameter'!$N17","v":0},{"$f":"'System Parameter'!$N17","v":0},{"$f":"'System Parameter'!$R17","v":0},{"$f":"'System Parameter'!$R17","v":0},{"$f":"'System Parameter'!Z17","v":0},{"$f":"'System Parameter'!$Z17","v":0},{"$f":"'System Parameter'!$AD17","v":0},{"$f":"'System Parameter'!$AD17","v":0},{"$f":"'System Parameter'!$AF17","v":0},{"$f":"'System Parameter'!$AF17","v":0}]
["Tx e.i.r.p. spectral density of interferer","dBm/MHz",{"$f":"C19-10*LOG(C20*1000)","v":-15},-15,10,{"$f":"F19-10*LOG(F20*1000)","v":10},-5,-5,{"$f":"I19-10*LOG(I20*1000)","v":-15},{"$f":"J19-10*LOG(J20*1000)","v":-15},{"$f":"K19-10*LOG(K20*1000)","v":-15},-15,-5,-5,-5,-5]
["Tx e.i.r.p. spectral density of interferer with mitigation ","dBm/MHz",{"$f":"C19+C21-10*LOG(C20*1000)","v":-15},-15,10,{"$f":"F19+F21-10*LOG(F20*1000)","v":10},-5,-5,{"$f":"I19+I21-10*LOG(I20*1000)","v":-15},{"$f":"J19+J21-10*LOG(J20*1000)","v":-15},{"$f":"K19+K21-10*LOG(K20*1000)","v":-15},-15,-5,-5,-5,-5]
["Tx e.i.r.p. of interferer with mitigation ","dBm",{"$f":"C19+C21","v":35},35,{"$f":"E19+E21","v":60},60,45,45,35,35,{"$f":"K19+K21","v":35},35,45,45,45,45]
["Gain of interferer antenna in the direction of main radiation","dBi",{"$f":"'System Parameter'!$I5","v":36},{"$f":"'System Parameter'!$I5","v":36},{"$f":"'System Parameter'!$K5","v":36},{"$f":"'System Parameter'!$K5","v":36},{"$f":"'System Parameter'!$N5","v":36},{"$f":"'System Parameter'!$N5","v":36},{"$f":"'System Parameter'!$R5","v":36},{"$f":"'System Parameter'!$R5","v":36},{"$f":"'System Parameter'!$Z5","v":36},{"$f":"'System Parameter'!$Z5","v":36},{"$f":"'System Parameter'!$AD5","v":36},{"$f":"'System Parameter'!$AD5","v":36},{"$f":"'System Parameter'!$AF5","v":36},{"$f":"'System Parameter'!$AF5","v":36}]
[]
["Indoor-outdoor attenuation (according to clause 2.3 in the Report)","dB",{"$f":"'System Parameter'!$I22","v":50},{"$f":"'System Parameter'!$I22","v":50},{"$f":"'System Parameter'!$K22","v":50},{"$f":"'System Parameter'!$K22","v":50},{"$f":"'System Parameter'!$N22","v":50},{"$f":"'System Parameter'!$N22","v":50},{"$f":"'System Parameter'!$R22","v":50},{"$f":"'System Parameter'!$R22","v":50},{"$f":"'System Parameter'!$Z22","v":50},{"$f":"'System Parameter'!$Z22","v":50},{"$f":"'System Parameter'!$AD22","v":50},{"$f":"'System Parameter'!$AD22","v":50},{"$f":"'System Parameter'!$AF22","v":50},{"$f":"'System Parameter'!$AF22","v":50}]
["Total e.i.r.p. towards RAS","dBm",{"$f":"C24-C27","v":-15},-15,{"$f":"E24-E27","v":10},10,-5,-5,-15,-15,-15,-15,{"$f":"M24-M27","v":-5},-5,-5,-5]
["BWCF","dB",{"$f":"IF(C20*1000<=C10, 0, 10*LOG10(C10/C20/1000))","v":-10.969100130080564},-50,-10.969100130080564,-50,-10.969100130080564,-50,-10.969100130080564,-50,-10.969100130080564,-50,-10.969100130080564,-50,-10.969100130080564,-50]
[]
[]
["Separation distance calculation:"]
["Minimum coupling loss (MCL)","dB",{"$f":"C28-(C14-C11+C12)+C29","v":133.03089986991944},114,{"$f":"E28-(E14-E11+E12)+E29","v":158.33089986991945},139,143.53089986991944,124,133.13089986991943,114,{"$f":"K28-(K14-K11+K12)+K29","v":131.73089986991943},112,141.83089986991945,122,140.83089986991945,122]
["Separation distance with FSL model","km",{"$f":"10^((C33-32.44-20*LOG10(C8*1000))/20)","v":0.93976933430455323},0.10506940573373529,{"$f":"10^((E33-32.44-20*LOG10(E8*1000))/20)","v":15.575947259512157},1.6823233565080742,2.607607943365418,0.27523097070334046,0.63975887032277623,7.0708450889645114E-2,{"$f":"10^((K33-32.44-20*LOG10(K8*1000))/20)","v":0.43729791855368721},4.5105802783216228E-2,1.246561898474313,0.12710682040711346,1.0702703569636809,0.12244709990339023]
["Specific attenuation due to atmospheric gases (acc. to ITU-R  P.835-6 winter high latitude model)","dB/km",{"$f":"'System Parameter'!I26","v":0.31},{"$f":"'System Parameter'!I26","v":0.31},{"$f":"'System Parameter'!K26","v":0.11},{"$f":"'System Parameter'!K26","v":0.11},{"$f":"'System Parameter'!N26","v":0.1},{"$f":"'System Parameter'!N26","v":0.1},{"$f":"'System Parameter'!R26","v":0.18},{"$f":"'System Parameter'!R26","v":0.18},{"$f":"'System Parameter'!Z26","v":0.25},{"$f":"'System Parameter'!Z26","v":0.25},{"$f":"'System Parameter'!AD26","v":0.27},{"$f":"'System Parameter'!AD26","v":0.27},{"$f":"'System Parameter'!AF26","v":0.28999999999999998},{"$f":"'System Parameter'!AF26","v":0.28999999999999998}]
["Separation distance adjusted for attenuation due to atmospheric gases","km",0.90974547543103479,0.10467748306641679,13.18082336230934,1.6475833248500136,2.5326700610770856,0.27436264467989863,0.63144119855989045,7.0604983426841808E-2,0.43189510850732177,4.5047303715929431E-2,1.2008855216096439,0.12660741833208547,1.0339531875904284,0.12194941924358917]
["Balance check (should be close to zero)","dB",{"$f":"C33-20*LOG10(C36)-C36*C35-32.44-20*LOG10(C8*1000)","v":6.2044741611089194E-6},1.0065987638085971E-5,{"$f":"E33-20*LOG10(E36)-E36*E35-32.44-20*LOG10(E8*1000)","v":3.4798901052113251E-4},7.5675710036193777E-6,6.56923610620197E-6,1.0161669521835393E-5,8.6240923593550178E-6,1.0447438754113136E-5,{"$f":"K33-20*LOG10(K36)-K36*K35-32.44-20*LOG10(K8*1000)","v":8.7186927828497574E-6},1.0475901291329137E-5,5.7012884866480817E-6,1.0033084166138906E-5,5.9874350313293689E-6,1.0010722718334364E-5]

{"sheet":"RAS 5.340 bands","index":5,"n_rows":37,"n_cols":18,"rows_kept":37,"cut":false,"hidden":false,"merged":[[0,0,1,0],[4,2,4,3],[4,4,4,5],[4,6,4,7],[3,2,3,17],[4,10,4,11],[4,12,4,13],[4,14,4,15],[4,16,4,17],[4,8,4,9]]}
["Compatibility analysis between radiodetermination systems for industry automation in shielded environments and RAS in protected bands by Article 5.340 in the Radio Regulations"]
[]
[]
[null,null,"Protected bands assigned to RAS"]
["Victim RAS system",null,"114,25-116 GHz",null,"148,5-151,5 GHz",null,"164-167 GHz",null,"182-185 GHz",null,"190-191,8 GHz",null,"200-209 GHz",null,"226-231,5 GHz",null,"250-252 GHz"]
["Sensor type",null,"Continuum observation","Spectral-line observation","Continuum observation","Spectral-line observation","Continuum observation","Spectral-line observation","Continuum observation","Spectral-line observation","Continuum observation","Spectral-line observation","Continuum observation","Spectral-line observation","Continuum observation","Spectral-line observation","Continuum observation","Spectral-line observation"]
["RAS:","Units"]
["Assumed centre frequency of RAS","GHz",115.125,115.125,150,150,165.5,165.5,183.5,183.5,190.9,190.9,204.5,204.5,228.25,228.25,251,251]
["Wavelength of RAS","m",{"$f":"2.99792458/C8/10","v":2.6040604386536369E-3},2.6040604386536369E-3,{"$f":"2.99792458/E8/10","v":1.9986163866666665E-3},1.9986163866666665E-3,1.8114347915407854E-3,1.8114347915407854E-3,{"$f":"2.99792458/I8/10","v":1.6337463651226157E-3},1.6337463651226157E-3,1.5704162283918283E-3,1.5704162283918283E-3,{"$f":"2.99792458/M8/10","v":1.4659777897310512E-3},1.4659777897310512E-3,{"$f":"2.99792458/O8/10","v":1.3134390273822562E-3},1.3134390273822562E-3,{"$f":"2.99792458/Q8/10","v":1.1943922629482071E-3},1.1943922629482071E-3]
["Bandwidth (ITU-R RA.769-2 )","MHz",8000,1,8000,1,8000,1,8000,1,8000,1,8000,1,8000,1,8000,1]
["Antenna gain in the direction of interferer (ITU-R RA.769-2 )","dBi",0,0,0,0,0,0,0,0,0,0,0,0,0,0,0,0]
["Feeder (insertion) loss","dB",0,0,0,0,0,0,0,0,0,0,0,0,0,0,0,0]
["Threshold Interference level at receiver input (ITU-R RA.769-2 )","dBW",-189,-209,-189,-209,-189,-209,-189,-209,-189,-209,-189,-208,-188,-207,-188,-207]
["Threshold Interference level at receiver input","dBm",{"$f":"C13+30","v":-159},{"$f":"D13+30","v":-179},{"$f":"E13+30","v":-159},-179,-159,-179,{"$f":"I13+30","v":-159},-179,-159,-179,{"$f":"M13+30","v":-159},-178,{"$f":"O13+30","v":-158},-177,{"$f":"Q13+30","v":-158},-177]
[]
["Radiodetermination system (interferer):"]
["Conducted Tx power of interferer","dBm",{"$f":"'System Parameter'!$I4","v":9},{"$f":"'System Parameter'!$I4","v":9},{"$f":"'System Parameter'!$O4","v":-1},{"$f":"'System Parameter'!$O4","v":-1},{"$f":"'System Parameter'!$R4","v":-1},{"$f":"'System Parameter'!$R4","v":-1},{"$f":"'System Parameter'!$V4","v":-1},{"$f":"'System Parameter'!$V4","v":-1},{"$f":"'System Parameter'!$X4","v":-1},{"$f":"'System Parameter'!$X4","v":-1},{"$f":"'System Parameter'!$Z4","v":-1},{"$f":"'System Parameter'!$Z4","v":-1},{"$f":"'System Parameter'!$AB4","v":-1},{"$f":"'System Parameter'!$AB4","v":-1},{"$f":"'System Parameter'!$AI4","v":-1},{"$f":"'System Parameter'!$AI4","v":-1}]
["Out-of-band unwanted emissions attenuation (if RAS victim is located in an adjacent band)","dB",10,10,0,0,0,0,0,0,0,0,0,0,0,0,0,0]
["Tx e.i.r.p. of interferer","dBm",{"$f":"C17-C18+C25","v":35},35,{"$f":"E17-E18+E25","v":35},35,35,35,35,35,35,35,{"$f":"M17-M18+M25","v":35},35,{"$f":"O17-O18+O25","v":35},35,{"$f":"Q17-Q18+Q25","v":35},35]
["Bandwidth of interferer Tx signal","GHz",{"$f":"'System Parameter'!$I8","v":100},{"$f":"'System Parameter'!$I8","v":100},{"$f":"'System Parameter'!$O8","v":100},{"$f":"'System Parameter'!$O8","v":100},{"$f":"'System Parameter'!$R8","v":100},{"$f":"'System Parameter'!$R8","v":100},{"$f":"'System Parameter'!$V8","v":100},{"$f":"'System Parameter'!$V8","v":100},{"$f":"'System Parameter'!$X8","v":100},{"$f":"'System Parameter'!$X8","v":100},{"$f":"'System Parameter'!$Z8","v":100},{"$f":"'System Parameter'!$Z8","v":100},{"$f":"'System Parameter'!$AB8","v":100},{"$f":"'System Parameter'!$AB8","v":100},{"$f":"'System Parameter'!$AI8","v":100},{"$f":"'System Parameter'!$AI8","v":100}]
["Mitigation technique (e.g. duty cycle, adaptive power control)","dB",{"$f":"'System Parameter'!$I17","v":0},{"$f":"'System Parameter'!$I17","v":0},0,0,0,0,0,0,0,0,0,0,0,0,0,0]
["Tx e.i.r.p. spectral density of interferer","dBm/MHz",{"$f":"C19-10*LOG(C20*1000)","v":-15},-15,{"$f":"E19-10*LOG(E20*1000)","v":-15},-15,-15,-15,{"$f":"I19-10*LOG(I20*1000)","v":-15},-15,-15,-15,{"$f":"M19-10*LOG(M20*1000)","v":-15},-15,{"$f":"O19-10*LOG(O20*1000)","v":-15},-15,{"$f":"Q19-10*LOG(Q20*1000)","v":-15},-15]
["Tx e.i.r.p. spectral density of interferer with mitigation ","dBm/MHz",{"$f":"C19+C21-10*LOG(C20*1000)","v":-15},-15,{"$f":"E19+E21-10*LOG(E20*1000)","v":-15},-15,-15,-15,{"$f":"I19+I21-10*LOG(I20*1000)","v":-15},-15,-15,-15,{"$f":"M19+M21-10*LOG(M20*1000)","v":-15},-15,{"$f":"O19+O21-10*LOG(O20*1000)","v":-15},-15,{"$f":"Q19+Q21-10*LOG(Q20*1000)","v":-15},-15]
["Tx e.i.r.p. of interferer with mitigation ","dBm",{"$f":"C19+C21","v":35},35,{"$f":"E19+E21","v":35},35,35,35,35,35,35,35,{"$f":"M19+M21","v":35},35,{"$f":"O19+O21","v":35},35,{"$f":"Q19+Q21","v":35},35]
["Gain of interferer antenna in the direction of main radiation","dBi",{"$f":"'System Parameter'!$I5","v":36},{"$f":"'System Parameter'!$I5","v":36},{"$f":"'System Parameter'!$O5","v":36},{"$f":"'System Parameter'!$O5","v":36},{"$f":"'System Parameter'!$R5","v":36},{"$f":"'System Parameter'!$R5","v":36},{"$f":"'System Parameter'!$V5","v":36},{"$f":"'System Parameter'!$V5","v":36},{"$f":"'System Parameter'!$X5","v":36},{"$f":"'System Parameter'!$X5","v":36},{"$f":"'System Parameter'!$Z5","v":36},{"$f":"'System Parameter'!$Z5","v":36},{"$f":"'System Parameter'!$AB5","v":36},{"$f":"'System Parameter'!$AB5","v":36},{"$f":"'System Parameter'!$AI5","v":36},{"$f":"'System Parameter'!$AI5","v":36}]
[]
["Indoor-outdoor attenuation (according to clause 2.3 in the Report)","dB",{"$f":"'System Parameter'!$I22","v":50},{"$f":"'System Parameter'!$I22","v":50},{"$f":"'System Parameter'!$O22","v":50},{"$f":"'System Parameter'!$O22","v":50},{"$f":"'System Parameter'!$R22","v":50},{"$f":"'System Parameter'!$R22","v":50},{"$f":"'System Parameter'!$V22","v":50},{"$f":"'System Parameter'!$V22","v":50},{"$f":"'System Parameter'!$X22","v":50},{"$f":"'System Parameter'!$X22","v":50},{"$f":"'System Parameter'!$Z22","v":50},{"$f":"'System Parameter'!$Z22","v":50},{"$f":"'System Parameter'!$AB22","v":50},{"$f":"'System Parameter'!$AB22","v":50},{"$f":"'System Parameter'!$AI22","v":50},{"$f":"'System Parameter'!$AI22","v":50}]
["Total e.i.r.p. towards RAS","dBm",{"$f":"C24-C27","v":-15},-15,{"$f":"E24-E27","v":-15},-15,-15,-15,-15,-15,-15,-15,{"$f":"M24-M27","v":-15},-15,{"$f":"O24-O27","v":-15},-15,{"$f":"Q24-Q27","v":-15},-15]
["BWCF","dB",{"$f":"IF(C20*1000<=C10, 0, 10*LOG10(C10/C20/1000))","v":-10.969100130080564},-50,-10.969100130080564,-50,-10.969100130080564,-50,-10.969100130080564,-50,-10.969100130080564,-50,-10.969100130080564,-50,-10.969100130080564,-50,-10.969100130080564,-50]
[]
[]
["Separation distance calculation:"]
["Minimum coupling loss (MCL)","dB",{"$f":"C28-(C14-C11+C12)+C29","v":133.03089986991944},114,{"$f":"E28-(E14-E11+E12)+E29","v":133.03089986991944},114,133.03089986991944,114,133.03089986991944,114,133.03089986991944,114,{"$f":"M28-(M14-M11+M12)+M29","v":133.03089986991944},113,{"$f":"O28-(O14-O11+O12)+O29","v":132.03089986991944},112,{"$f":"Q28-(Q14-Q11+Q12)+Q29","v":132.03089986991944},112]
["Separation distance with FSL model","km",{"$f":"10^((C33-32.44-20*LOG10(C8*1000))/20)","v":0.92976961717514517},0.10395140337087896,{"$f":"10^((E33-32.44-20*LOG10(E8*1000))/20)","v":0.71359818118192331},7.9782702087149535E-2,0.64676572312560976,7.2310606121283524E-2,0.58332276390892845,6.5217467646171215E-2,0.56071098573749822,6.2689393991998049E-2,{"$f":"10^((M33-32.44-20*LOG10(M8*1000))/20)","v":0.5234216487886969},5.2156289546711858E-2,{"$f":"10^((O33-32.44-20*LOG10(O8*1000))/20)","v":0.41795950608691623},4.1647526556682669E-2,{"$f":"10^((Q33-32.44-20*LOG10(Q8*1000))/20)","v":0.3800767221686796},3.7872700942481324E-2]
["Specific attenuation due to atmospheric gases (acc. to ITU-R  P.835-6 winter high latitude model)","dB/km",{"$f":"'System Parameter'!I26","v":0.31},{"$f":"'System Parameter'!I26","v":0.31},{"$f":"'System Parameter'!$O26","v":0.12},{"$f":"'System Parameter'!$O26","v":0.12},{"$f":"'System Parameter'!$R26","v":0.18},{"$f":"'System Parameter'!$R26","v":0.18},{"$f":"'System Parameter'!$V26","v":3.55},{"$f":"'System Parameter'!$V26","v":3.55},{"$f":"'System Parameter'!$X26","v":0.57999999999999996},{"$f":"'System Parameter'!$X26","v":0.57999999999999996},{"$f":"'System Parameter'!$X26","v":0.57999999999999996},{"$f":"'System Parameter'!$X26","v":0.57999999999999996},{"$f":"'System Parameter'!$X26","v":0.57999999999999996},{"$f":"'System Parameter'!$X26","v":0.57999999999999996},{"$f":"'System Parameter'!$X26","v":0.57999999999999996},{"$f":"'System Parameter'!$X26","v":0.57999999999999996}]
["Separation distance adjusted for attenuation due to atmospheric gases","km",0.90036655967860701,0.10356775278055005,0.70666452755788978,7.9694811291758955E-2,0.63826666827008038,7.2202404064986958E-2,0.47949877886977832,6.3545422561924983E-2,0.54082270435197177,6.242853511696491E-2,0.50603027410165702,5.1975525852059633E-2,0.4067596249731244,4.1532136293386E-2,0.37078166437129684,3.7777239991921174E-2]
["Balance check (should be close to zero)","dB",{"$f":"C33-20*LOG10(C36)-C36*C35-32.44-20*LOG10(C8*1000)","v":6.2405258205444625E-6},1.0072527047100266E-5,{"$f":"E33-20*LOG10(E36)-E36*E35-32.44-20*LOG10(E8*1000)","v":9.1138985283123475E-6},1.0509396531688253E-5,8.6037709650099714E-6,1.0441791459925298E-5,2.0772319408024487E-4,6.9381538878587889E-6,5.8236743711859162E-6,9.9947885985329776E-6,{"$f":"M33-20*LOG10(M36)-M36*M35-32.44-20*LOG10(M8*1000)","v":6.063957528112951E-6},1.0109860653528813E-5,{"$f":"O33-20*LOG10(O36)-O36*O35-32.44-20*LOG10(O8*1000)","v":6.7983332883159164E-6},1.02260063954418E-5,{"$f":"Q33-20*LOG10(Q36)-Q36*Q35-32.44-20*LOG10(Q8*1000)","v":7.0832733740644471E-6},1.0268056570339468E-5]

{"sheet":"FS","index":6,"n_rows":88,"n_cols":12,"rows_kept":88,"cut":false,"hidden":false,"merged":[[5,10,5,11],[0,0,1,0],[5,2,5,3],[5,4,5,5],[5,6,5,7],[5,8,5,9],[49,2,49,3],[49,4,49,5],[49,6,49,7],[49,8,49,9],[49,10,49,11]]}
["Compatibility analysis between radiodetermination systems for industry automation in shielded environments and fixed service (FS) systems"]
[]
[]
["Scenario 1: Light pole connected to a building by means of an FS link – FS Rx on building (RDI-S main beam points exactly towards FS receiver). See Report figure 60."]
[]
["Victim Fixed Service (FS) system",null,"Band of FS system: 111,8-114,25 GHz",null,"Band of FS system: 130-134 GHz",null,"Band of FS system: 141-148,5 GHz",null,"Band of FS system: 151,5-164 GHz",null,"Band of FS system: 167-174,8 GHz"]
["Sensor type",null,"Point-to-point (PP)","Point-to-point (PP)","Point-to-point (PP)","Point-to-point (PP)","Point-to-point (PP)","Point-to-point (PP)","Point-to-point (PP)","Point-to-point (PP)","Point-to-point (PP)","Point-to-point (PP)"]
["FS:","Units"]
["Assumed centre frequency of FS system","GHz",113.02500000000001,113.02500000000001,132,132,144.75,144.75,157.75,157.75,170.75,170.75]
["Wavelength of FS system","m",{"$f":"2.99792458/C9/10","v":2.6524437779252377E-3},2.6524437779252377E-3,2.2711549848484845E-3,2.2711549848484845E-3,2.0711050639032813E-3,2.0711050639032813E-3,1.9004276259904911E-3,1.9004276259904911E-3,1.75573913909224E-3,1.75573913909224E-3]
["Receiver noise bandwidth (ITU-R-F.758-6)","MHz",1000,1000,1000,1000,1000,1000,1000,1000,1000,1000]
["Receiver noise figure (ITU-R-F.758-6)","dB",12,12,14,14,14,14,14,14,14,14]
["Misalignment of antenna main beam towards Interferer (figure 60 in the Report)","°",0.95,0.95,0.95,0.95,0.95,0.95,0.95,0.95,0.95,0.95]
["Antenna gain in the direction of interferer (ITU-R-F.758-6)","dBi",37.5,37.5,37.5,37.5,37.5,37.5,37.5,37.5,37.5,37.5]
["Feeder (insertion) loss (ITU-R-F.758-6)","dB",0,0,0,0,0,0,0,0,0,0]
["I/N criterion (ITU-R F.758-6 )","dB",-20,5,-20,5,-20,5,-20,5,-20,5]
["Receiver noise power density typical (ITU-R-F.758-6)","dBW/MHz",-132,-132,-130,-130,-130,-130,-130,-130,-130,-130]
["Nominal long-term interference power density threshold (ITU-R-F.758-6)","dBW/MHz",{"$f":"C17+C16","v":-152},-127,-150,-125,-150,-125,-150,-125,-150,-125]
["Interference threshold at receiver input within IF bandwidth","dBm",{"$f":"C18+10*LOG10(C11)+30","v":-92},-67,-90,-65,-90,-65,-90,-65,-90,-65]
["(Receiver noise power density calculated over NF)","dBW/MHz",{"$f":"-113.83+C12-30","v":-131.82999999999998},-131.82999999999998,-129.82999999999998,-129.82999999999998,-129.82999999999998,-129.82999999999998,-129.82999999999998,-129.82999999999998,-129.82999999999998,-129.82999999999998]
[]
["Radiodetermination system (interferer):"]
["Conducted Tx power of interferer","dBm",{"$f":"'System Parameter'!$I4","v":9},{"$f":"'System Parameter'!$I4","v":9},{"$f":"'System Parameter'!$L4","v":9},{"$f":"'System Parameter'!$L4","v":9},{"$f":"'System Parameter'!$N4","v":9},{"$f":"'System Parameter'!$N4","v":9},{"$f":"'System Parameter'!$P4","v":9},{"$f":"'System Parameter'!$P4","v":9},{"$f":"'System Parameter'!$S4","v":9},{"$f":"'System Parameter'!$S4","v":9}]
["Out-of-band unwanted emissions attenuation (if FS victim is located in an adjacent band)","dB",10,10,0,0,0,0,0,0,0,0]
["Tx e.i.r.p. of interferer","dBm",{"$f":"C23-C24+C31","v":35},35,45,45,45,45,45,45,45,45]
["Bandwidth of interferer Tx signal ","GHz",{"$f":"'System Parameter'!$I8","v":100},{"$f":"'System Parameter'!$I8","v":100},{"$f":"'System Parameter'!$L8","v":100},{"$f":"'System Parameter'!$L8","v":100},{"$f":"'System Parameter'!$N8","v":100},{"$f":"'System Parameter'!$N8","v":100},{"$f":"'System Parameter'!$P8","v":100},{"$f":"'System Parameter'!$P8","v":100},{"$f":"'System Parameter'!$S8","v":100},{"$f":"'System Parameter'!$S8","v":100}]
["Mitigation technique (e.g. duty cycle, adaptive power control)","dB",{"$f":"'System Parameter'!$G17","v":0},{"$f":"'System Parameter'!$G17","v":0},{"$f":"'System Parameter'!$L17","v":0},{"$f":"'System Parameter'!$L17","v":0},{"$f":"'System Parameter'!$N17","v":0},{"$f":"'System Parameter'!$N17","v":0},{"$f":"'System Parameter'!$P17","v":0},{"$f":"'System Parameter'!$P17","v":0},{"$f":"'System Parameter'!S17","v":0},{"$f":"'System Parameter'!S17","v":0}]
["Tx e.i.r.p. spectral density of interferer","dBm/MHz",{"$f":"C25-10*LOG(C26*1000)","v":-15},-15,-5,-5,-5,-5,-5,-5,-5,-5]
["Tx e.i.r.p. spectral density of interferer with mitigation ","dBm/MHz",{"$f":"C25+C27-10*LOG(C26*1000)","v":-15},-15,-5,-5,-5,-5,-5,-5,-5,-5]
["Tx e.i.r.p. of interferer with mitigation","dBm",{"$f":"C25+C27","v":35},35,45,45,45,45,45,45,45,45]
["Gain of interferer antenna in the direction of main radiation","dBi",{"$f":"'System Parameter'!$I5","v":36},{"$f":"'System Parameter'!$I5","v":36},{"$f":"'System Parameter'!$L5","v":36},{"$f":"'System Parameter'!$L5","v":36},{"$f":"'System Parameter'!$N5","v":36},{"$f":"'System Parameter'!$N5","v":36},{"$f":"'System Parameter'!$Q5","v":36},{"$f":"'System Parameter'!$Q5","v":36},{"$f":"'System Parameter'!$T5","v":36},{"$f":"'System Parameter'!$T5","v":36}]
[]
["Indoor-outdoor attenuation (according to clause 2.3 in the Report)","dB",{"$f":"'System Parameter'!G22","v":50},{"$f":"'System Parameter'!G22","v":50},{"$f":"'System Parameter'!L22","v":50},{"$f":"'System Parameter'!L22","v":50},{"$f":"'System Parameter'!N22","v":50},{"$f":"'System Parameter'!N22","v":50},{"$f":"'System Parameter'!P22","v":50},{"$f":"'System Parameter'!P22","v":50},{"$f":"'System Parameter'!S22","v":50},{"$f":"'System Parameter'!S22","v":50}]
["Total e.i.r.p. towards FS system","dBm",{"$f":"C30-C33","v":-15},-15,-5,-5,-5,-5,-5,-5,-5,-5]
["BWCF","dB",{"$f":"IF(C26*1000<=C11, 0, 10*LOG10(C11/C26/1000))","v":-20},0,{"$f":"IF(E26*1000<=E11, 0, 10*LOG10(E11/E26/1000))","v":-20},0,{"$f":"IF(G26*1000<=G11, 0, 10*LOG10(G11/G26/1000))","v":-20},0,{"$f":"IF(I26*1000<=I11, 0, 10*LOG10(I11/I26/1000))","v":-20},0,{"$f":"IF(K26*1000<=K11, 0, 10*LOG10(K11/K26/1000))","v":-20},0]
[]
[]
["Separation distance calculation:"]
["Minimum coupling loss (MCL)","dB",{"$f":"C34-(C19-C14+C15)+C35","v":94.5},89.5,102.5,97.5,102.5,97.5,102.5,97.5,102.5,97.5]
["Separation distance with FSL model","km",{"$f":"10^((C39-32.44-20*LOG10(C9*1000))/20)","v":1.1215676760520633E-2},6.3070385324177775E-3,2.4122708497925194E-2,1.3565195863903744E-2,2.199791034007683E-2,1.2370334052057284E-2,2.0185087300957992E-2,1.1350908741903603E-2,1.8648301737781144E-2,1.0486710711773336E-2]
["Specific attenuation due to atmospheric gases (ITU-R P.676-11 figure 5)","dB/km",0.4,0.4,0.8,0.8,1,1,1.2,1.2,2,2]
["Separation distance adjusted for attenuation due to atmospheric gases","km",1.1209874649953997E-2,6.3051997091381857E-3,2.4069262441520696E-2,1.3548262826121373E-2,2.1942383189755835E-2,1.2352739044173878E-2,2.0129008365138111E-2,1.1333136546453714E-2,1.8568717841070843E-2,1.0461467867870033E-2]
["Balance check (should be close to zero)","dB",{"$f":"C39-20*LOG10(C42)-C42*C41-32.44-20*LOG10(C9*1000)","v":1.0610140080302699E-5},1.066900323110076E-5,1.0319536272618279E-5,1.0504801707611477E-5,1.0267445645695261E-5,1.0475016125610637E-5,1.0224731127550513E-5,1.045054175108362E-5,9.9772617829785304E-6,1.0307847787771607E-5]
[null,null,"Long term interference criterion","Peak power objective","Long term interference criterion","Peak power objective","Long term interference criterion","Peak power objective","Long term interference criterion","Peak power objective","Long term interference criterion","Peak power objective"]
[]
[]
[]
["Scenario 2: Light pole connected to a building by means of an FS link – FS Rx at light pole (RDI-S main beam points exactly towards FS receiver). See Report figure 61."]
[]
["Victim Fixed Service (FS) system",null,"Band of FS system: 111,8-114,25 GHz",null,"Band of FS system: 130-134 GHz",null,"Band of FS system: 141-148,5 GHz",null,"Band of FS system: 151,5-164 GHz",null,"Band of FS system: 167-174,8 GHz"]
["Sensor type",null,"Point-to-point (PP)","Point-to-point (PP)","Point-to-point (PP)","Point-to-point (PP)","Point-to-point (PP)","Point-to-point (PP)","Point-to-point (PP)","Point-to-point (PP)","Point-to-point (PP)","Point-to-point (PP)"]
["FS:","Units"]
["Assumed centre frequency of FS system","GHz",113.02500000000001,113.02500000000001,132,132,144.75,144.75,157.75,157.75,170.75,170.75]
["Wavelength of FS system","m",{"$f":"2.99792458/C53/10","v":2.6524437779252377E-3},2.6524437779252377E-3,2.2711549848484845E-3,2.2711549848484845E-3,2.0711050639032813E-3,2.0711050639032813E-3,1.9004276259904911E-3,1.9004276259904911E-3,1.75573913909224E-3,1.75573913909224E-3]
["Receiver noise bandwidth (ITU-R-F.758-6)","MHz",1000,1000,1000,1000,1000,1000,1000,1000,1000,1000]
["Receiver noise figure (ITU-R-F.758-6)","dB",12,12,14,14,14,14,14,14,14,14]
["Misalignment of antenna main beam towards RDI (figure 61 in the Report)","°",4.57,4.57,4.57,4.57,4.57,4.57,4.57,4.57,4.57,4.57]
["Antenna gain in the direction of interferer (ITU-R-F.758-6)","dBi",18,18,18,18,18,18,18,18,18,18]
["Feeder (insertion) loss (ITU-R-F.758-6)","dB",0,0,0,0,0,0,0,0,0,0]
["I/N criterion (ITU-R F.758-6 )","dB",-20,5,-20,5,-20,5,-20,5,-20,5]
["Receiver noise power density typical (ITU-R-F.758-6)","dBW/MHz",-132,-132,-130,-130,-130,-130,-130,-130,-130,-130]
["Nominal long-term interference power density threshold (ITU-R-F.758-6)","dBW/MHz",{"$f":"C61+C60","v":-152},-127,-150,-125,-150,-125,-150,-125,-150,-125]
["Interference threshold at receiver input within IF bandwidth","dBm",{"$f":"C62+10*LOG10(C55)+30","v":-92},-67,-90,-65,-90,-65,-90,-65,-90,-65]
["(Receiver noise power density calculated over NF)","dBW/MHz",{"$f":"-113.83+C56-30","v":-131.82999999999998},-131.82999999999998,-129.82999999999998,-129.82999999999998,-129.82999999999998,-129.82999999999998,-129.82999999999998,-129.82999999999998,-129.82999999999998,-129.82999999999998]
[]
["Radiodetermination system (interferer):"]
["Conducted Tx power of interferer","dBm",{"$f":"'System Parameter'!$I4","v":9},{"$f":"'System Parameter'!$I4","v":9},{"$f":"'System Parameter'!$L4","v":9},{"$f":"'System Parameter'!$L4","v":9},{"$f":"'System Parameter'!$N4","v":9},{"$f":"'System Parameter'!$N4","v":9},{"$f":"'System Parameter'!$P4","v":9},{"$f":"'System Parameter'!$P4","v":9},{"$f":"'System Parameter'!$S4","v":9},{"$f":"'System Parameter'!$S4","v":9}]
["Out-of-band unwanted emissions attenuation (if FS victim is located in an adjacent band)","dB",10,10,0,0,0,0,0,0,0,0]
["Tx e.i.r.p. of interferer","dBm",{"$f":"C67-C68+C75","v":35},35,45,45,45,45,45,45,45,45]
["Bandwidth of interferer Tx signal ","GHz",{"$f":"'System Parameter'!$I8","v":100},{"$f":"'System Parameter'!$I8","v":100},{"$f":"'System Parameter'!$L8","v":100},{"$f":"'System Parameter'!$L8","v":100},{"$f":"'System Parameter'!$N8","v":100},{"$f":"'System Parameter'!$N8","v":100},{"$f":"'System Parameter'!$P8","v":100},{"$f":"'System Parameter'!$P8","v":100},{"$f":"'System Parameter'!$S8","v":100},{"$f":"'System Parameter'!$S8","v":100}]
["Mitigation technique (e.g. duty cycle, adaptive power control)","dB",{"$f":"'System Parameter'!$G61","v":0},{"$f":"'System Parameter'!$G61","v":0},{"$f":"'System Parameter'!$L61","v":0},{"$f":"'System Parameter'!$L61","v":0},{"$f":"'System Parameter'!$N61","v":0},{"$f":"'System Parameter'!$N61","v":0},{"$f":"'System Parameter'!$P61","v":0},{"$f":"'System Parameter'!$P61","v":0},{"$f":"'System Parameter'!S61","v":0},{"$f":"'System Parameter'!S61","v":0}]
["Tx e.i.r.p. spectral density of interferer","dBm/MHz",{"$f":"C69-10*LOG(C70*1000)","v":-15},-15,-5,-5,-5,-5,-5,-5,-5,-5]
["Tx e.i.r.p. spectral density of interferer with mitigation ","dBm/MHz",{"$f":"C69+C71-10*LOG(C70*1000)","v":-15},-15,-5,-5,-5,-5,-5,-5,-5,-5]
["Tx e.i.r.p. of interferer with mitigation","dBm",{"$f":"C69+C71","v":35},35,45,45,45,45,45,45,45,45]
["Gain of interferer antenna in the direction of main radiation","dBi",{"$f":"'System Parameter'!$I5","v":36},{"$f":"'System Parameter'!$I5","v":36},{"$f":"'System Parameter'!$L5","v":36},{"$f":"'System Parameter'!$L5","v":36},{"$f":"'System Parameter'!$N5","v":36},{"$f":"'System Parameter'!$N5","v":36},{"$f":"'System Parameter'!$Q5","v":36},{"$f":"'System Parameter'!$Q5","v":36},{"$f":"'System Parameter'!$T5","v":36},{"$f":"'System Parameter'!$T5","v":36}]
[]
["Indoor-outdoor attenuation (according to clause 2.3 in the Report)","dB",{"$f":"'System Parameter'!G22","v":50},{"$f":"'System Parameter'!G22","v":50},{"$f":"'System Parameter'!L22","v":50},{"$f":"'System Parameter'!L22","v":50},{"$f":"'System Parameter'!N22","v":50},{"$f":"'System Parameter'!N22","v":50},{"$f":"'System Parameter'!P22","v":50},{"$f":"'System Parameter'!P22","v":50},{"$f":"'System Parameter'!S22","v":50},{"$f":"'System Parameter'!S22","v":50}]
["Total e.i.r.p. towards FS system","dBm",{"$f":"C74-C77","v":-15},-15,-5,-5,-5,-5,-5,-5,-5,-5]
["BWCF","dB",{"$f":"IF(C70*1000<=C55, 0, 10*LOG10(C55/C70/1000))","v":-20},0,{"$f":"IF(E70*1000<=E55, 0, 10*LOG10(E55/E70/1000))","v":-20},0,{"$f":"IF(G70*1000<=G55, 0, 10*LOG10(G55/G70/1000))","v":-20},0,{"$f":"IF(I70*1000<=I55, 0, 10*LOG10(I55/I70/1000))","v":-20},0,{"$f":"IF(K70*1000<=K55, 0, 10*LOG10(K55/K70/1000))","v":-20},0]
[]
[]
["Separation distance calculation:"]
["Minimum coupling loss (MCL)","dB",{"$f":"C78-(C63-C58+C59)+C79","v":75},70,83,78,83,78,83,78,83,78]
["Separation distance with FSL model","km",{"$f":"10^((C83-32.44-20*LOG10(C53*1000))/20)","v":1.1880247388965824E-3},6.6807540603002293E-4,2.5552068837793093E-3,1.4368984251599598E-3,2.3301368473842392E-3,1.3103322426329151E-3,2.1381128916568553E-3,1.2023492369008849E-3,1.9753283083974778E-3,1.1108087386302479E-3]
["Specific attenuation due to atmospheric gases (ITU-R P.676-11 figure 5)","dB/km",0.4,0.4,0.8,0.8,1,1,1.2,1.2,2,2]
["Separation distance adjusted for attenuation due to atmospheric gases","km",1.1879582847160934E-3,6.6805402893855355E-4,2.5547001115058033E-3,1.4367065299550035E-3,2.3295091438242871E-3,1.3101330010262798E-3,2.137478971935565E-3,1.2021480841318925E-3,1.9744280569818332E-3,1.1105233679287354E-3]
["Balance check (should be close to zero)","dB",{"$f":"C83-20*LOG10(C86)-C86*C85-32.44-20*LOG10(C53*1000)","v":1.0690256871725978E-5},1.0714121955857081E-5,-3.209232321808031E-4,1.0697206903387269E-5,1.0653130487980889E-5,1.0693988826915302E-5,1.0648424350279129E-5,1.0691338403034933E-5,1.0620803038818849E-5,1.0675774802848537E-5]
[null,null,"Long term interference criterion","Peak power objective","Long term interference criterion","Peak power objective","Long term interference criterion","Peak power objective","Long term interference criterion","Peak power objective","Long term interference criterion","Peak power objective"]

{"sheet":"Amateur","index":7,"n_rows":40,"n_cols":14,"rows_kept":40,"cut":false,"hidden":false,"merged":[[4,2,4,5],[4,6,4,9],[4,10,4,13],[0,0,1,0]]}
["Compatibility analysis between radiodetermination systems for industry automation in shielded environments and amateur systems"]
[]
[]
[]
["Victim Amateur system",null,"Band of amateur system: 122,25-123 GHz",null,null,null,"Band of amateur system: 134-141 GHz",null,null,null,"Band of amateur system: 241-250 GHz"]
["Sensor type",null,"Morse on-off keying","Analogue voice","Data, digital voice and multimedia","Earth-moon-earth (EME) systems","Morse on-off keying","Analogue voice","Data, digital voice and multimedia","Earth-moon-earth (EME) systems","Morse on-off keying","Analogue voice","Data, digital voice and multimedia","Earth-moon-earth (EME) systems"]
["Amateur system:","Units"]
["Assumed centre frequency of Amateur system","GHz",122.625,122.625,122.625,122.625,137.5,137.5,137.5,137.5,245.5,245.5,245.5,245.5]
["Wavelength of Amateur system","m",{"$f":"2.99792458/C8/10","v":2.4447906870540262E-3},2.4447906870540262E-3,2.4447906870540262E-3,2.4447906870540262E-3,2.1803087854545453E-3,2.1803087854545453E-3,2.1803087854545453E-3,2.1803087854545453E-3,1.2211505417515276E-3,1.2211505417515276E-3,1.2211505417515276E-3,1.2211505417515276E-3]
["Receiver IF bandwidth (ITU-R M.1732-2)","MHz",5.0000000000000001E-4,2.7000000000000001E-3,2.7000000000000001E-3,2.3999999999999998E-3,5.0000000000000001E-4,2.7000000000000001E-3,2.7000000000000001E-3,2.3999999999999998E-3,5.0000000000000001E-4,2.7000000000000001E-3,2.7000000000000001E-3,2.3999999999999998E-3]
["Receiver noise figure (ITU-R M.1732-2)","dB",3,3,3,3,3,3,3,3,5,5,5,5]
["Antenna gain in the direction of interferer (ITU-R M.1732-2)","dBi",32,32,32,32,32,32,32,32,32,32,32,32]
["Feeder (insertion) loss (ITU-R M.1732-2)","dB",2,2,2,2,2,2,2,2,3,3,3,4]
["I/N criterion (ITU-R M.1808)","dB",-10,-10,-10,-10,-10,-10,-10,-10,-10,-10,-10,-10]
["Receiver noise power density","dBW/MHz",{"$f":"-113.83+C11-30","v":-140.82999999999998},-140.82999999999998,-140.82999999999998,-140.82999999999998,-140.82999999999998,-140.82999999999998,-140.82999999999998,-140.82999999999998,-138.82999999999998,-138.82999999999998,-138.82999999999998,-138.82999999999998]
["Interference power density threshold","dBW/MHz",{"$f":"C15+C14","v":-150.82999999999998},-150.82999999999998,-150.82999999999998,-150.82999999999998,-150.82999999999998,-150.82999999999998,-150.82999999999998,-150.82999999999998,-148.82999999999998,-148.82999999999998,-148.82999999999998,-148.82999999999998]
["Interference threshold at receiver input within IF bandwidth","dBm",{"$f":"C16+10*LOG10(C10)+30","v":-153.8402999566398},-146.51636235841011,-146.51636235841011,-147.02788758288392,-153.8402999566398,-146.51636235841011,-146.51636235841011,-147.02788758288392,-151.8402999566398,-144.51636235841011,-144.51636235841011,-145.02788758288392]
[]
["Radiodetermination system (interferer):"]
["Conducted Tx power of interferer","dBm",{"$f":"'System Parameter'!$J4","v":9},{"$f":"'System Parameter'!$J4","v":9},{"$f":"'System Parameter'!$J4","v":9},{"$f":"'System Parameter'!$J4","v":9},{"$f":"'System Parameter'!$M4","v":24},{"$f":"'System Parameter'!$M4","v":24},{"$f":"'System Parameter'!$M4","v":24},{"$f":"'System Parameter'!$M4","v":24},{"$f":"'System Parameter'!$AF4","v":9},{"$f":"'System Parameter'!$AF4","v":9},{"$f":"'System Parameter'!$AF4","v":9},{"$f":"'System Parameter'!$AF4","v":9}]
["Out-of-band unwanted emissions attenuation (if Amateur victim is located in an adjacent band)","dB",0,0,0,0,0,0,0,0,0,0,0,0]
["Tx e.i.r.p. of interferer","dBm",{"$f":"C20-C21+C28","v":45},45,45,45,60,60,60,60,45,45,45,45]
["Bandwidth of interferer Tx signal ","GHz",{"$f":"'System Parameter'!J8","v":100},{"$f":"'System Parameter'!J8","v":100},{"$f":"'System Parameter'!J8","v":100},{"$f":"'System Parameter'!J8","v":100},{"$f":"'System Parameter'!$M8","v":100},{"$f":"'System Parameter'!$M8","v":100},{"$f":"'System Parameter'!$M8","v":100},{"$f":"'System Parameter'!$M8","v":100},{"$f":"'System Parameter'!$AF8","v":100},{"$f":"'System Parameter'!$AF8","v":100},{"$f":"'System Parameter'!$AF8","v":100},{"$f":"'System Parameter'!$AF8","v":100}]
["Mitigation technique (e.g. duty cycle, adaptive power control)","dB",{"$f":"'System Parameter'!$J17","v":0},{"$f":"'System Parameter'!$J17","v":0},{"$f":"'System Parameter'!$J17","v":0},{"$f":"'System Parameter'!$J17","v":0},{"$f":"'System Parameter'!$M17","v":0},{"$f":"'System Parameter'!$M17","v":0},{"$f":"'System Parameter'!$M17","v":0},{"$f":"'System Parameter'!$M17","v":0},{"$f":"'System Parameter'!$AF17","v":0},{"$f":"'System Parameter'!$AF17","v":0},{"$f":"'System Parameter'!$AF17","v":0},{"$f":"'System Parameter'!$AF17","v":0}]
["Tx e.i.r.p. spectral density of interferer","dBm/MHz",{"$f":"C22-10*LOG(C23*1000)","v":-5},-5,-5,-5,10,10,10,10,-5,-5,-5,-5]
["Tx e.i.r.p. spectral density of interferer with mitigation ","dBm/MHz",{"$f":"C22+C24-10*LOG(C23*1000)","v":-5},-5,-5,-5,10,10,10,10,-5,-5,-5,-5]
["Tx e.i.r.p. of interferer with mitigation","dBm",{"$f":"C22+C24","v":45},45,45,45,60,60,60,60,45,45,45,45]
["Gain of the interferer antenna in the direction of main radiation","dBi",{"$f":"'System Parameter'!J5","v":36},{"$f":"'System Parameter'!$J5","v":36},{"$f":"'System Parameter'!$J5","v":36},{"$f":"'System Parameter'!$J5","v":36},{"$f":"'System Parameter'!M5","v":36},{"$f":"'System Parameter'!$M5","v":36},{"$f":"'System Parameter'!$M5","v":36},{"$f":"'System Parameter'!$M5","v":36},{"$f":"'System Parameter'!AF5","v":36},{"$f":"'System Parameter'!$AF5","v":36},{"$f":"'System Parameter'!$AF5","v":36},{"$f":"'System Parameter'!$AF5","v":36}]
[]
["Indoor-outdoor attenuation (according to clause 2.3 in the Report)","dB",{"$f":"'System Parameter'!$J22","v":50},{"$f":"'System Parameter'!$J22","v":50},{"$f":"'System Parameter'!$J22","v":50},{"$f":"'System Parameter'!$J22","v":50},{"$f":"'System Parameter'!$M22","v":50},{"$f":"'System Parameter'!$M22","v":50},{"$f":"'System Parameter'!$M22","v":50},{"$f":"'System Parameter'!$M22","v":50},{"$f":"'System Parameter'!$AF22","v":50},{"$f":"'System Parameter'!$AF22","v":50},{"$f":"'System Parameter'!$AF22","v":50},{"$f":"'System Parameter'!$AF22","v":50}]
["Total e.i.r.p. towards Amateur system","dBm",{"$f":"C27-C30","v":-5},-5,-5,-5,10,10,10,10,-5,-5,-5,-5]
["BWCF","dB",{"$f":"IF(C23*1000<=C10, 0, 10*LOG10(C10/C23/1000))","v":-83.010299956639813},-75.686362358410122,-75.686362358410122,-76.197887582883936,-83.010299956639813,-75.686362358410122,-75.686362358410122,-76.197887582883936,-83.010299956639813,-75.686362358410122,-75.686362358410122,-76.197887582883936]
[]
[]
["Separation distance calculation:"]
["Minimum coupling loss (MCL)","dB",{"$f":"C31-(C17-C12+C13)+C32","v":95.829999999999984},95.829999999999984,95.829999999999984,95.829999999999984,110.82999999999998,110.82999999999998,110.82999999999998,110.82999999999998,92.829999999999984,92.829999999999984,92.829999999999984,91.829999999999984]
["Separation distance with FSL model","km",{"$f":"10^((C36-32.44-20*LOG10(C8*1000))/20)","v":1.2048167026214968E-2},1.2048167026214968E-2,1.2048167026214968E-2,1.2048167026214968E-2,6.0422306814684544E-2,6.0422306814684544E-2,6.0422306814684544E-2,6.0422306814684544E-2,4.2603816312145274E-3,4.2603816312145274E-3,4.2603816312145274E-3,3.7970691256277228E-3]
["Specific attenuation due to atmospheric gases (ITU-R P.676-11 figure 5)","dB/km",0.4,0.4,0.4,0.4,0.8,0.8,0.8,0.8,3,3,3,3]
["Separation distance adjusted for attenuation due to atmospheric gases","km",1.2041935462593837E-2,1.2041935462593838E-2,1.2041935462593838E-2,1.2041935462593838E-2,6.0088762867358897E-2,6.0088762867359036E-2,6.0088762867359036E-2,6.0088762867359036E-2,4.2541212414713894E-3,4.2541212414713894E-3,4.2541212414713894E-3,3.7920946233834857E-3]
["Balance check (should be close to zero)","dB",{"$f":"C36-20*LOG10(C39)-C39*C38-32.44-20*LOG10(C8*1000)","v":-3.2308843850614721E-4},-3.2308843850614721E-4,-3.2308843850614721E-4,-3.2308843850614721E-4,9.773012109803858E-6,9.7730120813821486E-6,9.7730120813821486E-6,9.7730120813821486E-6,1.0446388444051991E-5,1.0446388444051991E-5,1.0446388444051991E-5,1.0473647478193016E-5]

{"sheet":"EESS Shielding Table","index":8,"n_rows":94,"n_cols":10,"rows_kept":94,"cut":false,"hidden":false,"merged":[]}
[]
[null,"Azimuth Elevation","Avg. BEL Traditional","Avg. BEL Efficient","70/30 BEL omni","BEL High-Gain Comp","Clutter ","Transm./Refl. Loss","Inherent Dev. Shielding","Total"]
[null,"deg","dB","dB",null,"dB","dB","dB","dB","dB"]
[null,0,13.6,26.1,{"$f":"(-10*LOG10(0.7*10^(-$C4/10)+0.3*10^(-$D4/10)))","v":15.045594485972952},{"$f":"'System Parameter'!C40","v":0},18.100000000000001,{"$f":"'System Parameter'!C41","v":0},{"$f":"'System Parameter'!C42","v":0},{"$f":"SUM(E4:I4)","v":33.14559448597295}]
[null,1,13.7,26.2,{"$f":"(-10*LOG10(0.7*10^(-$C5/10)+0.3*10^(-$D5/10)))","v":15.145594485972955},{"$f":"F4","v":0},16.8,{"$f":"H4","v":0},{"$f":"I4","v":0},31.945594485972954]
[null,2,13.8,26.2,15.243214517009926,{"$f":"F5","v":0},15.7,{"$f":"H5","v":0},{"$f":"I5","v":0},30.943214517009928]
[null,3,13.9,26.3,15.343214517009926,0,14.8,0,0,30.143214517009927]
[null,4,14,26.4,15.443214517009924,0,14,0,0,29.443214517009924]
[null,5,14.1,26.5,15.543214517009925,0,13.2,0,0,28.743214517009925]
[null,6,14.2,26.5,15.640780460862931,0,12.6,0,0,28.240780460862929]
[null,7,14.3,26.6,15.740780460862931,0,12,0,0,27.740780460862929]
[null,8,14.4,26.7,15.840780460862929,0,11.4,0,0,27.240780460862929]
[null,9,14.5,26.8,15.940780460862932,0,10.9,0,0,26.840780460862931]
[null,10,14.6,26.8,16.038291119692317,0,10.4,0,0,26.438291119692316]
[null,11,14.7,26.9,16.138291119692315,0,10,0,0,26.138291119692315]
[null,12,14.8,27,16.238291119692317,0,9.5,0,0,25.738291119692317]
[null,13,14.9,27.1,16.338291119692315,0,9.1,0,0,25.438291119692316]
[null,14,15.1,27.2,16.535745270569375,0,8.6999999999999993,0,0,25.235745270569375]
[null,15,15.2,27.2,16.633141665016865,0,8.3000000000000007,0,0,24.933141665016866]
[null,16,15.3,27.3,16.733141665016863,0,8,0,0,24.733141665016863]
[null,17,15.4,27.4,16.833141665016864,0,7.6,0,0,24.433141665016862]
[null,18,15.5,27.5,16.933141665016862,0,7.3,0,0,24.233141665016863]
[null,19,15.6,27.6,17.033141665016863,0,7,0,0,24.033141665016863]
[null,20,15.7,27.6,17.130479028544187,0,6.7,0,0,23.830479028544186]
[null,21,15.8,27.7,17.230479028544185,0,6.4,0,0,23.630479028544187]
[null,22,16,27.8,17.427756060177323,0,6.1,0,0,23.527756060177325]
[null,23,16.100000000000001,27.9,17.527756060177325,0,5.9,0,0,23.427756060177323]
[null,24,16.2,28,17.627756060177322,0,5.6,0,0,23.22775606017732]
[null,25,16.3,28.1,17.72775606017732,0,5.4,0,0,23.127756060177319]
[null,26,16.399999999999999,28.1,17.824971431983641,0,5.0999999999999996,0,0,22.924971431983643]
[null,27,16.600000000000001,28.2,18.022123788591674,0,4.9000000000000004,0,0,22.922123788591676]
[null,28,16.7,28.3,18.122123788591672,0,4.7,0,0,22.822123788591671]
[null,29,16.8,28.4,18.222123788591674,0,4.5,0,0,22.722123788591674]
[null,30,16.899999999999999,28.5,18.322123788591671,0,4.3,0,0,22.622123788591672]
[null,31,17,28.6,18.422123788591669,0,4.0999999999999996,0,0,22.522123788591671]
[null,32,17.2,28.6,18.616233894617299,0,3.9,0,0,{"$f":"SUM(E36:I36)","v":22.516233894617297}]
[null,33,17.3,28.7,18.716233894617297,0,3.7,0,0,22.416233894617296]
[null,34,17.399999999999999,28.8,18.816233894617294,0,3.6,0,0,22.416233894617296]
[null,35,17.5,28.9,18.916233894617296,0,3.4,0,0,22.316233894617294]
[null,36,17.600000000000001,29,19.016233894617301,0,3.3,0,0,22.316233894617302]
[null,37,17.8,29.1,19.213188791708028,0,3.1,0,0,22.313188791708029]
[null,38,17.899999999999999,29.2,19.313188791708022,0,3,0,0,22.313188791708022]
[null,39,18,29.3,19.413188791708023,0,2.8,0,0,22.213188791708024]
[null,40,18.2,29.4,19.610074967953299,0,2.7,0,0,22.310074967953298]
[null,41,18.3,29.4,19.706890923417784,0,2.6,0,0,22.306890923417786]
[null,42,18.399999999999999,29.5,19.806890923417782,0,2.5,0,0,22.306890923417782]
[null,43,18.5,29.6,19.906890923417787,0,2.2999999999999998,0,0,22.206890923417788]
[null,44,18.7,29.7,20.103635127748372,0,2.2000000000000002,0,0,22.303635127748372]
[null,45,18.8,29.8,20.203635127748377,0,2.1,0,0,22.303635127748379]
[null,46,18.899999999999999,29.9,20.303635127748375,0,2,0,0,22.303635127748375]
[null,47,19.100000000000001,30,20.500306019663029,0,1.9,0,0,22.400306019663027]
[null,48,19.2,30.1,20.60030601966303,0,1.8,0,0,22.400306019663031]
[null,49,19.3,30.2,20.700306019663032,0,1.7,0,0,22.400306019663031]
[null,50,19.5,30.3,20.89690200643593,0,1.6,0,0,22.496902006435931]
[null,51,19.600000000000001,30.4,20.996902006435931,0,1.6,0,0,22.596902006435933]
[null,52,19.7,30.5,21.096902006435933,0,1.5,0,0,22.596902006435933]
[null,53,19.899999999999999,30.5,21.289862733321606,0,1.4,0,0,22.689862733321604]
[null,54,20,30.6,21.38986273332161,0,1.3,0,0,22.689862733321611]
[null,55,20.100000000000001,30.7,21.489862733321612,0,1.3,0,0,22.789862733321613]
[null,56,20.3,30.8,21.686224126083932,0,1.2,0,0,22.886224126083931]
[null,57,20.399999999999999,30.9,21.786224126083937,0,1.1000000000000001,0,0,22.886224126083938]
[null,58,20.5,31,21.886224126083928,0,1.1000000000000001,0,0,22.986224126083929]
[null,59,20.7,31.1,22.08250391795227,0,1,0,0,23.08250391795227]
[null,60,20.8,31.2,22.182503917952271,0,0.9,0,0,23.08250391795227]
[null,61,21,31.3,22.378700351148609,0,0.9,0,0,23.278700351148608]
[null,62,21.1,31.4,22.478700351148611,0,0.8,0,0,23.278700351148611]
[null,63,21.2,31.5,22.578700351148608,0,0.8,0,0,23.378700351148609]
[null,64,21.4,31.6,22.774811633299528,0,0.7,0,0,{"$f":"SUM(E68:I68)","v":23.474811633299527}]
[null,65,21.5,31.7,{"$f":"(-10*LOG10(0.7*10^(-$C69/10)+0.3*10^(-$D69/10)))","v":22.874811633299533},0,0.7,0,0,23.574811633299532]
[null,66,21.7,31.8,23.070835936903276,{"$f":"F69","v":0},0.6,{"$f":"H69","v":0},{"$f":"I69","v":0},23.670835936903277]
[null,67,21.8,31.9,23.170835936903277,0,0.6,0,0,23.770835936903278]
[null,68,22,32,23.366771398795446,0,0.5,0,0,23.866771398795446]
[null,69,22.1,32.1,23.466771398795444,0,0.5,0,0,23.966771398795444]
[null,70,22.2,32.200000000000003,23.566771398795442,0,0.5,0,0,24.066771398795442]
[null,71,22.4,32.299999999999997,23.762616119613806,0,0.4,0,0,24.162616119613805]
[null,72,22.5,32.4,23.862616119613811,0,0.4,0,0,24.26261611961381]
[null,73,22.7,32.5,24.058368163262614,0,0.3,0,0,24.358368163262615]
[null,74,22.8,32.6,24.158368163262619,0,0.3,0,0,24.45836816326262]
[null,75,23,32.700000000000003,24.35402555637673,0,0.3,0,0,24.65402555637673]
[null,76,23.1,32.799999999999997,24.454025556376735,0,0.2,0,0,24.654025556376734]
[null,77,23.3,32.9,24.649586287786196,0,0.2,0,0,24.849586287786195]
[null,78,23.4,33,24.749586287786194,0,0.2,0,0,24.949586287786193]
[null,79,23.6,33.1,24.945048307981569,0,0.2,0,0,25.145048307981568]
[null,80,23.7,33.200000000000003,25.045048307981563,0,0.1,0,0,25.145048307981565]
[null,81,23.9,33.299999999999997,25.240409528580535,0,0.1,0,0,25.340409528580537]
[null,82,24,33.4,25.340409528580537,0,0.1,0,0,25.440409528580538]
[null,83,24.2,33.5,25.535667821796466,0,0.1,0,0,25.635667821796467]
[null,84,24.3,33.6,25.635667821796471,0,0,0,0,25.635667821796471]
[null,85,24.5,33.700000000000003,25.830821019909152,0,0,0,0,25.830821019909152]
[null,86,24.6,33.799999999999997,25.930821019909153,0,0,0,0,25.930821019909153]
[null,87,24.8,33.9,26.125866914738655,0,0,0,0,26.125866914738655]
[null,88,24.9,34,26.22586691473866,0,0,0,0,26.22586691473866]
[null,89,25.1,34.1,26.420803257122603,0,0,0,0,26.420803257122603]
[null,90,25.3,34.200000000000003,26.615627756397593,0,0,0,0,26.615627756397593]