{"text_format":"1","workbook":"xlsx","n_sheets":12,"sheets":["Market Size","Indoor outdoor attenuation","EESS 116-148,5GHz","EESS 167-182GHz","EESS 231,5-250GHz","RAS 116-148,5GHz","RAS 167-182GHz","RAS 231,5-250GHz","FS 116-148,5GHz","FS 167-182GHz","Amateur 116-148,5GHz","Amateur 231,5-250GHz"],"not_rendered":{"charts":0,"images":0,"macros":1,"external_links":0,"defined_names":1,"comments":0,"pivot_tables":0},"unopened":[],"bounds":{"document_bytes":16777216,"sheet_cells":100000,"rows_first":2000,"rows_last":500,"rows_between":2000,"halvings":0,"cell_chars":16384,"cell_head_chars":4096},"cells_cut":0,"cells_raw":0,"read":"whole","date_system":"1900"}

{"sheet":"Market Size","index":0,"n_rows":21,"n_cols":8,"rows_kept":21,"cut":false,"hidden":false,"merged":[[16,1,16,6],[17,1,17,6],[18,1,18,6],[19,1,19,6],[20,1,20,6],[15,1,15,6],[3,1,3,6],[4,1,4,6],[5,1,5,6],[6,1,6,6],[7,1,7,6],[8,1,8,6],[9,1,9,6],[11,1,11,6],[12,1,12,6],[13,1,13,6],[14,1,14,6]]}
[]
[]
[]
[]
[]
[null,"Accumulated number of LPR devices of all manufacturers in the field 5 years after launch worldwide in three different frequency bands:",null,null,null,null,null,200000]
[null,"Fraction of devices sold for the European market in all bands [%]:",null,null,null,null,null,40]
[null,"Fraction of devices sold in the band 116-148,5GHz  [%]:",null,null,null,null,null,50]
[null,"Fraction of devices sold in the band 167-182GHz  [%]:",null,null,null,null,null,30]
[null,"Fraction of devices sold in the band 231,5-250GHz  [%]:",null,null,null,null,null,20]
[]
[null,"Accumulated number of devices in the field after 5 years in Europe in the band 116-148,5GHz:",null,null,null,null,null,{"$f":"H6*H7/100*H8/100","v":40000}]
[null,"Accumulated number of devices in the field after 5 years in Europe in the band 167-182GHz:",null,null,null,null,null,{"$f":"H6*H7/100*H9/100","v":24000}]
[null,"Accumulated number of devices in the field after 5 years in Europe in the band 231,5-250GHz:",null,null,null,null,null,{"$f":"H6*H7/100*H10/100","v":16000}]
[]
[]
[null,"Land area of Europe [km²]",null,null,null,null,null,10523000]
[]
[null,"LPR density in Europe in the band 116-148,5GHz [devices/km²]",null,null,null,null,null,{"$f":"H12/H17","v":3.8011973771738096E-3}]
[null,"LPR density in Europe in the band 167-182GHz [devices/km²]",null,null,null,null,null,{"$f":"H13/H17","v":2.2807184263042859E-3}]
[null,"LPR density in Europe in the band 231,5-250GHz [devices/km²]",null,null,null,null,null,{"$f":"H14/H17","v":1.520478950869524E-3}]

{"sheet":"Indoor outdoor attenuation","index":1,"n_rows":94,"n_cols":10,"rows_kept":94,"cut":false,"hidden":false,"merged":[]}
[]
[null,"Elevation","Avg. BEL Traditional","Avg. BEL Efficient","70/30 BEL omni","BEL High-Gain Comp","Clutter ","Transm./Refl. Loss","Inherent Dev. Shielding","Total"]
[null,"deg","dB","dB",null,"dB","dB",null,null,"dB"]
[null,0,13.6,26.1,{"$f":"(-10*LOG10(0.7*10^(-$C4/10)+0.3*10^(-$D4/10)))","v":15.045594485972952},0,18.100000000000001,0,0,{"$f":"SUM(E4:I4)","v":33.14559448597295}]
[null,1,13.7,26.2,{"$f":"(-10*LOG10(0.7*10^(-$C5/10)+0.3*10^(-$D5/10)))","v":15.145594485972955},0,16.8,0,0,31.945594485972954]
[null,2,13.8,26.2,15.243214517009926,0,15.7,0,0,30.943214517009928]
[null,3,13.9,26.3,15.343214517009926,0,14.8,0,0,30.143214517009927]
[null,4,14,26.4,15.443214517009924,0,14,0,0,29.443214517009924]
[null,5,14.1,26.5,15.543214517009925,0,13.2,0,0,28.743214517009925]
[null,6,14.2,26.5,15.640780460862931,0,12.6,0,0,28.240780460862929]
[null,7,14.3,26.6,15.740780460862931,0,12,0,0,27.740780460862929]
[null,8,14.4,26.7,15.840780460862929,0,11.4,0,0,27.240780460862929]
[null,9,14.5,26.8,15.940780460862932,0,10.9,0,0,26.840780460862931]
[null,10,14.6,26.8,16.038291119692317,0,10.4,0,0,26.438291119692316]
[null,11,14.7,26.9,16.138291119692315,0,10,0,0,26.138291119692315]
[null,12,14.8,27,16.238291119692317,0,9.5,0,0,25.738291119692317]
[null,13,14.9,27.1,16.338291119692315,0,9.1,0,0,25.438291119692316]
[null,14,15.1,27.2,16.535745270569375,0,8.6999999999999993,0,0,25.235745270569375]
[null,15,15.2,27.2,16.633141665016865,0,8.3000000000000007,0,0,24.933141665016866]
[null,16,15.3,27.3,16.733141665016863,0,8,0,0,24.733141665016863]
[null,17,15.4,27.4,16.833141665016864,0,7.6,0,0,24.433141665016862]
[null,18,15.5,27.5,16.933141665016862,0,7.3,0,0,24.233141665016863]
[null,19,15.6,27.6,17.033141665016863,0,7,0,0,24.033141665016863]
[null,20,15.7,27.6,17.130479028544187,0,6.7,0,0,23.830479028544186]
[null,21,15.8,27.7,17.230479028544185,0,6.4,0,0,23.630479028544187]
[null,22,16,27.8,17.427756060177323,0,6.1,0,0,23.527756060177325]
[null,23,16.100000000000001,27.9,17.527756060177325,0,5.9,0,0,23.427756060177323]
[null,24,16.2,28,17.627756060177322,0,5.6,0,0,23.22775606017732]
[null,25,16.3,28.1,17.72775606017732,0,5.4,0,0,23.127756060177319]
[null,26,16.399999999999999,28.1,17.824971431983641,0,5.0999999999999996,0,0,22.924971431983643]
[null,27,16.600000000000001,28.2,18.022123788591674,0,4.9000000000000004,0,0,22.922123788591676]
[null,28,16.7,28.3,18.122123788591672,0,4.7,0,0,22.822123788591671]
[null,29,16.8,28.4,18.222123788591674,0,4.5,0,0,22.722123788591674]
[null,30,16.899999999999999,28.5,18.322123788591671,0,4.3,0,0,22.622123788591672]
[null,31,17,28.6,18.422123788591669,0,4.0999999999999996,0,0,22.522123788591671]
[null,32,17.2,28.6,18.616233894617299,0,3.9,0,0,{"$f":"SUM(E36:I36)","v":22.516233894617297}]
[null,33,17.3,28.7,18.716233894617297,0,3.7,0,0,22.416233894617296]
[null,34,17.399999999999999,28.8,18.816233894617294,0,3.6,0,0,22.416233894617296]
[null,35,17.5,28.9,18.916233894617296,0,3.4,0,0,22.316233894617294]
[null,36,17.600000000000001,29,19.016233894617301,0,3.3,0,0,22.316233894617302]
[null,37,17.8,29.1,19.213188791708028,0,3.1,0,0,22.313188791708029]
[null,38,17.899999999999999,29.2,19.313188791708022,0,3,0,0,22.313188791708022]
[null,39,18,29.3,19.413188791708023,0,2.8,0,0,22.213188791708024]
[null,40,18.2,29.4,19.610074967953299,0,2.7,0,0,22.310074967953298]
[null,41,18.3,29.4,19.706890923417784,0,2.6,0,0,22.306890923417786]
[null,42,18.399999999999999,29.5,19.806890923417782,0,2.5,0,0,22.306890923417782]
[null,43,18.5,29.6,19.906890923417787,0,2.2999999999999998,0,0,22.206890923417788]
[null,44,18.7,29.7,20.103635127748372,0,2.2000000000000002,0,0,22.303635127748372]
[null,45,18.8,29.8,20.203635127748377,0,2.1,0,0,22.303635127748379]
[null,46,18.899999999999999,29.9,20.303635127748375,0,2,0,0,22.303635127748375]
[null,47,19.100000000000001,30,20.500306019663029,0,1.9,0,0,22.400306019663027]
[null,48,19.2,30.1,20.60030601966303,0,1.8,0,0,22.400306019663031]
[null,49,19.3,30.2,20.700306019663032,0,1.7,0,0,22.400306019663031]
[null,50,19.5,30.3,20.89690200643593,0,1.6,0,0,22.496902006435931]
[null,51,19.600000000000001,30.4,20.996902006435931,0,1.6,0,0,22.596902006435933]
[null,52,19.7,30.5,21.096902006435933,0,1.5,0,0,22.596902006435933]
[null,53,19.899999999999999,30.5,21.289862733321606,0,1.4,0,0,22.689862733321604]
[null,54,20,30.6,21.38986273332161,0,1.3,0,0,22.689862733321611]
[null,55,20.100000000000001,30.7,21.489862733321612,0,1.3,0,0,22.789862733321613]
[null,56,20.3,30.8,21.686224126083932,0,1.2,0,0,22.886224126083931]
[null,57,20.399999999999999,30.9,21.786224126083937,0,1.1000000000000001,0,0,22.886224126083938]
[null,58,20.5,31,21.886224126083928,0,1.1000000000000001,0,0,22.986224126083929]
[null,59,20.7,31.1,22.08250391795227,0,1,0,0,23.08250391795227]
[null,60,20.8,31.2,22.182503917952271,0,0.9,0,0,23.08250391795227]
[null,61,21,31.3,22.378700351148609,0,0.9,0,0,23.278700351148608]
[null,62,21.1,31.4,22.478700351148611,0,0.8,0,0,23.278700351148611]
[null,63,21.2,31.5,22.578700351148608,0,0.8,0,0,23.378700351148609]
[null,64,21.4,31.6,22.774811633299528,0,0.7,0,0,{"$f":"SUM(E68:I68)","v":23.474811633299527}]
[null,65,21.5,31.7,{"$f":"(-10*LOG10(0.7*10^(-$C69/10)+0.3*10^(-$D69/10)))","v":22.874811633299533},0,0.7,0,0,{"$f":"SUM(E69:I69)","v":23.574811633299532}]
[null,66,21.7,31.8,23.070835936903276,0,0.6,0,0,23.670835936903277]
[null,67,21.8,31.9,23.170835936903277,0,0.6,0,0,23.770835936903278]
[null,68,22,32,23.366771398795446,0,0.5,0,0,23.866771398795446]
[null,69,22.1,32.1,23.466771398795444,0,0.5,0,0,23.966771398795444]
[null,70,22.2,32.200000000000003,23.566771398795442,0,0.5,0,0,24.066771398795442]
[null,71,22.4,32.299999999999997,23.762616119613806,0,0.4,0,0,24.162616119613805]
[null,72,22.5,32.4,23.862616119613811,0,0.4,0,0,24.26261611961381]
[null,73,22.7,32.5,24.058368163262614,0,0.3,0,0,24.358368163262615]
[null,74,22.8,32.6,24.158368163262619,0,0.3,0,0,24.45836816326262]
[null,75,23,32.700000000000003,24.35402555637673,0,0.3,0,0,24.65402555637673]
[null,76,23.1,32.799999999999997,24.454025556376735,0,0.2,0,0,24.654025556376734]
[null,77,23.3,32.9,24.649586287786196,0,0.2,0,0,24.849586287786195]
[null,78,23.4,33,24.749586287786194,0,0.2,0,0,24.949586287786193]
[null,79,23.6,33.1,24.945048307981569,0,0.2,0,0,25.145048307981568]
[null,80,23.7,33.200000000000003,25.045048307981563,0,0.1,0,0,25.145048307981565]
[null,81,23.9,33.299999999999997,25.240409528580535,0,0.1,0,0,25.340409528580537]
[null,82,24,33.4,25.340409528580537,0,0.1,0,0,25.440409528580538]
[null,83,24.2,33.5,25.535667821796466,0,0.1,0,0,25.635667821796467]
[null,84,24.3,33.6,25.635667821796471,0,0,0,0,25.635667821796471]
[null,85,24.5,33.700000000000003,25.830821019909152,0,0,0,0,25.830821019909152]
[null,86,24.6,33.799999999999997,25.930821019909153,0,0,0,0,25.930821019909153]
[null,87,24.8,33.9,26.125866914738655,0,0,0,0,26.125866914738655]
[null,88,24.9,34,26.22586691473866,0,0,0,0,26.22586691473866]
[null,89,25.1,34.1,26.420803257122603,0,0,0,0,26.420803257122603]
[null,90,25.3,34.200000000000003,26.615627756397593,0,0,0,0,26.615627756397593]

{"sheet":"EESS 116-148,5GHz","index":2,"n_rows":112,"n_cols":7,"rows_kept":112,"cut":false,"hidden":false,"merged":[[2,3,2,4],[2,5,2,6],[58,3,58,4],[58,5,58,6]]}
[null,"Compatibility analysis between LPR in the frequency band 116-148,5 GHz and EESS"]
[]
[null,"Single-entry study",null,"Band of EESS: 114,25-122,25 GHz",null,"Band of EESS: 148,5-151,5 GHz"]
[null,"Victim EESS system",null,"MWI","Planned EUMETSAT radiometer (ECC Report 190)","Sensor N1 (nadir)","Sensor N1 (outer)"]
[null,"Sensor type",null,"Conical Scan","Conical scan","Nadir scan","Nadir scan"]
[null,"EESS:","Units"]
[null,"Assumed centre frequency of EESS","GHz",119.125,119.125,150,150]
[null,"Wavelength of EESS","m",{"$f":"2.99792458/D7/10","v":2.5166208436516262E-3},{"$f":"2.99792458/E7/10","v":2.5166208436516262E-3},{"$f":"2.99792458/F7/10","v":1.9986163866666665E-3},{"$f":"2.99792458/G7/10","v":1.9986163866666665E-3}]
[null,"Reference bandwidth","MHz",200,200,500,500]
[null,"Orbit altitude","km²",830,800,705,705]
[null,"Angle of incidence at Earth's surface (from zenith)","deg",53.3,53,0,56.9]
[null,"Elevation angle at ground","deg",{"$f":"90-D11","v":36.700000000000003},{"$f":"90-E11","v":37},{"$f":"90-F11","v":90},{"$f":"90-G11","v":33.1}]
[null,"Off-nadir angle","deg",{"$f":"(ASIN(SIN(D11*PI()/180)/(1+D10/6371)))*180/PI()+0.00000001","v":45.182994227157891},{"$f":"(ASIN(SIN(E11*PI()/180)/(1+E10/6371)))*180/PI()+0.00000001","v":45.197449705097966},{"$f":"(ASIN(SIN(F11*PI()/180)/(1+F10/6371)))*180/PI()+0.00000001","v":1E-8},{"$f":"(ASIN(SIN(G11*PI()/180)/(1+G10/6371)))*180/PI()+0.00000001","v":48.960285792894503}]
[null,"Slant path distance","km",{"$f":"6371*SIN((ASIN(((6371+D10)/6371)*SIN(D13*PI()/180))*180/PI()-D13)*PI()/180)/SIN(D13*PI()/180)","v":1268.1174814937638},{"$f":"6371*SIN((ASIN(((6371+E10)/6371)*SIN(E13*PI()/180))*180/PI()-E13)*PI()/180)/SIN(E13*PI()/180)","v":1218.9948902651022},{"$f":"6371*SIN((ASIN(((6371+F10)/6371)*SIN(F13*PI()/180))*180/PI()-F13)*PI()/180)/SIN(F13*PI()/180)","v":704.99999999999977},{"$f":"6371*SIN((ASIN(((6371+G10)/6371)*SIN(G13*PI()/180))*180/PI()-G13)*PI()/180)/SIN(G13*PI()/180)","v":1166.7585937581823}]
[null,"EESS antenna gain","dBi",55.5,55,45,45]
[null,"Size of EESS FOV on Earth's surface","km²",82,82,154,759]
[null,"EESS interference criterion in the reference bandwidth (ITU-R RS.2017-0)","dBW",-166,-166,-159,-159]
[null,"Apportionment factor","dB",12,12,12,12]
[]
[null,"LPR system:"]
[null,"Conducted Tx power of LPR","dBm",-8,-8,-8,-8]
[null,"Out-of-band unwanted emissions attenuation (if EESS victim is located in an adjacent band)","dB",0,0,20,20]
[null,"Tx e.i.r.p. of LPR","dBm",{"$f":"D21-D22+D28","v":24},{"$f":"E21-E22+E28","v":24},{"$f":"F21-F22+F28","v":4},{"$f":"G21-G22+G28","v":4}]
[null,"Bandwidth of LPR Tx signal","GHz",1.6,1.6,1.6,1.6]
[null,"Tx e.i.r.p. spectral density of LPR","dBm/MHz",{"$f":"D23-10*LOG(D24*1000)","v":-8.041199826559243},{"$f":"E23-10*LOG(E24*1000)","v":-8.041199826559243},{"$f":"F23-10*LOG(F24*1000)","v":-28.041199826559243},{"$f":"G23-10*LOG(G24*1000)","v":-28.041199826559243}]
[null,"Tx e.i.r.p. spectral density of LPR","dBW/MHz",{"$f":"D25-30","v":-38.041199826559243},{"$f":"E25-30","v":-38.041199826559243},{"$f":"F25-30","v":-58.041199826559243},{"$f":"G25-30","v":-58.041199826559243}]
[null,"Mitigation technique (e.g. activity factor, adaptive power control)","dB",0,0,0,0]
[null,"Gain of the LPR antenna in direction of main radiation","dBi",32,32,32,32]
[null,"Tx power spectral density of LPR without mitigation","dBW/MHz",{"$f":"D26-D28","v":-70.04119982655925},{"$f":"E26-E28","v":-70.04119982655925},{"$f":"F26-F28","v":-90.04119982655925},{"$f":"G26-G28","v":-90.04119982655925}]
[null,"Tx power spectral density of LPR with mitigation","dBW/MHz",{"$f":"D26+D27-D28","v":-70.04119982655925},{"$f":"E26+E27-E28","v":-70.04119982655925},{"$f":"F26+F27-F28","v":-90.04119982655925},{"$f":"G26+G27-G28","v":-90.04119982655925}]
[]
[null,"Direct interference component:"]
[null,"Max. gain of the LPR antenna backlobe","dBi",0,0,0,0]
[null,"Direct e.i.r.p. spectral density component sent to the EESS","dBW/MHz",{"$f":"D30+D33","v":-70.04119982655925},{"$f":"E30+E33","v":-70.04119982655925},{"$f":"F30+F33","v":-90.04119982655925},{"$f":"G30+G33","v":-90.04119982655925}]
[]
[null,"Scattered/reflected interference component:"]
[null,"Additional losses for the scattered component","dB",-10,-10,-10,-10]
[null,"Dielectric reflection attenuation (e.g. water with εr=8 for f>100GHz)","dB",-6.42,-6.42,-6.42,-6.42]
[null,"Scattered/reflected e.i.r.p. spectral density component sent to the EESS","dBW/MHz",{"$f":"D26+D27+D37+D38","v":-54.461199826559245},{"$f":"E26+E27+E37+E38","v":-54.461199826559245},{"$f":"F26+F27+F37+F38","v":-74.461199826559252},{"$f":"G26+G27+G37+G38","v":-74.461199826559252}]
[]
[null,"Free space loss between LPR and EESS","dB",{"$f":"20*LOG10(4*PI()*D14*1000/D8)","v":196.03103128498418},{"$f":"20*LOG10(4*PI()*E14*1000/E8)","v":195.68787919808398},{"$f":"20*LOG10(4*PI()*F14*1000/F8)","v":192.93339074282497},{"$f":"20*LOG10(4*PI()*G14*1000/G8)","v":197.30922857027994}]
[null,"Direct e.i.r.p. spectral density component at the EESS antenna","dBW/MHz",{"$f":"D34-D41","v":-266.07223111154343},{"$f":"E34-E41","v":-265.72907902464323},{"$f":"F34-F41","v":-282.97459056938419},{"$f":"G34-G41","v":-287.35042839683922}]
[null,"Scattered/reflected e.i.r.p. spectral density component at the EESS antenna","dBW/MHz",{"$f":"D39-D41","v":-250.49223111154342},{"$f":"E39-E41","v":-250.14907902464321},{"$f":"F39-F41","v":-267.39459056938421},{"$f":"G39-G41","v":-271.77042839683918}]
[null,"Total e.i.r.p. spectral density at the EESS antenna (without consideration of atmospheric loss)","dBW/MHz",{"$f":"10*LOG10(10^(D42/10)+10^(D43/10))","v":-250.37369679082053},{"$f":"10*LOG10(10^(E42/10)+10^(E43/10))","v":-250.03054470392038},{"$f":"10*LOG10(10^(F42/10)+10^(F43/10))","v":-267.2760562486614},{"$f":"10*LOG10(10^(G42/10)+10^(G43/10))","v":-271.65189407611638}]
[null,"Atmospheric loss (according to contribution SE24(20)063_rev1)","dB",3.2,3.2,2,3.8]
[null,"Polarisation mismatch loss","dB",3,3,3,3]
[null,"Indoor-outdoor attenuation (according to clause 2.3 in the Report)","dB",0,0,0,0]
[null,"Power spectral density at the EESS receiver in a 1 MHz bandwidth","dBW/MHz",{"$f":"D44+D15-D45-D46-D47","v":-201.07369679082052},{"$f":"E44+E15-E45-E46-E47","v":-201.23054470392037},{"$f":"F44+F15-F45-F46-F47","v":-227.2760562486614},{"$f":"G44+G15-G45-G46-G47","v":-233.45189407611639}]
[null,"Corresponding power at the EESS receiver in the reference bandwidth for a single LPR","dBW",{"$f":"D48+10*LOG10(D9)","v":-178.06339683418071},{"$f":"E48+10*LOG10(E9)","v":-178.22024474728056},{"$f":"F48+10*LOG10(F9)","v":-200.28635620530122},{"$f":"G48+10*LOG10(G9)","v":-206.4621940327562}]
[null,"Number of interferers in EESS FOV on Earth's surface",null,1,1,1,1]
[null,"Corresponding received power at the EESS in the reference bandwidth within the EESS's FOV","dBW",{"$f":"D49+10*LOG10(D50)","v":-178.06339683418071},{"$f":"E49+10*LOG10(E50)","v":-178.22024474728056},{"$f":"F49+10*LOG10(F50)","v":-200.28635620530122},{"$f":"G49+10*LOG10(G50)","v":-206.4621940327562}]
[null,"Margin with reference to ITU-R RS.2017-0 ","dB",{"$f":"D17-D18-D51","v":6.3396834180707629E-2},{"$f":"E17-E18-E51","v":0.2202447472805602},{"$f":"F17-F18-F51","v":29.286356205301217},{"$f":"G17-G18-G51","v":35.462194032756202}]
[]
[]
[]
[]
[]
[]
[null,"Aggregate interference study",null,"Band of EESS: 114,25-122,25 GHz",null,"Band of EESS: 148,5-151,5 GHz"]
[null,"Victim EESS system",null,"MWI","Planned EUMETSAT radiometer (ECC Report 190)","Sensor N1 (nadir)","Sensor N1 (outer)"]
[null,"Sensor type",null,"Conical Scan","Conical scan","Nadir scan","Nadir scan"]
[null,"EESS:","Units"]
[null,"Assumed centre frequency of EESS","GHz",119.125,119.125,150,150]
[null,"Wavelength of EESS","m",{"$f":"2.99792458/D63/10","v":2.5166208436516262E-3},{"$f":"2.99792458/E63/10","v":2.5166208436516262E-3},{"$f":"2.99792458/F63/10","v":1.9986163866666665E-3},{"$f":"2.99792458/G63/10","v":1.9986163866666665E-3}]
[null,"Reference bandwidth","MHz",200,200,500,500]
[null,"Orbit altitude","km²",830,800,705,705]
[null,"Angle of incidence at Earth's surface (from zenith)","deg",53.3,53,0,56.9]
[null,"Elevation angle at ground","deg",{"$f":"90-D67","v":36.700000000000003},{"$f":"90-E67","v":37},{"$f":"90-F67","v":90},{"$f":"90-G67","v":33.1}]
[null,"Off-nadir angle","deg",{"$f":"(ASIN(SIN(D67*PI()/180)/(1+D66/6371)))*180/PI()+0.00000001","v":45.182994227157891},{"$f":"(ASIN(SIN(E67*PI()/180)/(1+E66/6371)))*180/PI()+0.00000001","v":45.197449705097966},{"$f":"(ASIN(SIN(F67*PI()/180)/(1+F66/6371)))*180/PI()+0.00000001","v":1E-8},{"$f":"(ASIN(SIN(G67*PI()/180)/(1+G66/6371)))*180/PI()+0.00000001","v":48.960285792894503}]
[null,"Slant path distance","km",{"$f":"6371*SIN((ASIN(((6371+D66)/6371)*SIN(D69*PI()/180))*180/PI()-D69)*PI()/180)/SIN(D69*PI()/180)","v":1268.1174814937638},{"$f":"6371*SIN((ASIN(((6371+E66)/6371)*SIN(E69*PI()/180))*180/PI()-E69)*PI()/180)/SIN(E69*PI()/180)","v":1218.9948902651022},{"$f":"6371*SIN((ASIN(((6371+F66)/6371)*SIN(F69*PI()/180))*180/PI()-F69)*PI()/180)/SIN(F69*PI()/180)","v":704.99999999999977},{"$f":"6371*SIN((ASIN(((6371+G66)/6371)*SIN(G69*PI()/180))*180/PI()-G69)*PI()/180)/SIN(G69*PI()/180)","v":1166.7585937581823}]
[null,"EESS antenna gain","dBi",55.5,55,45,45]
[null,"Size of EESS FOV on Earth's surface","km²",82,82,154,759]
[null,"EESS interference criterion in the reference bandwidth (ITU-R RS.2017-0)","dBW",-166,-166,-159,-159]
[null,"Apportionment factor","dB",12,12,12,12]
[]
[null,"LPR system:"]
[null,"Conducted Tx power of LPR","dBm",-8,-8,-8,-8]
[null,"Out-of-band unwanted emissions attenuation (if EESS victim is located in an adjacent band)","dB",0,0,20,20]
[null,"Tx e.i.r.p. of LPR","dBm",{"$f":"D77-D78+D84","v":24},{"$f":"E77-E78+E84","v":24},{"$f":"F77-F78+F84","v":4},{"$f":"G77-G78+G84","v":4}]
[null,"Bandwidth of LPR Tx signal","GHz",1.6,1.6,1.6,1.6]
[null,"Tx e.i.r.p. spectral density of LPR","dBm/MHz",{"$f":"D79-10*LOG(D80*1000)","v":-8.041199826559243},{"$f":"E79-10*LOG(E80*1000)","v":-8.041199826559243},{"$f":"F79-10*LOG(F80*1000)","v":-28.041199826559243},{"$f":"G79-10*LOG(G80*1000)","v":-28.041199826559243}]
[null,"Tx e.i.r.p. spectral density of LPR","dBW/MHz",{"$f":"D81-30","v":-38.041199826559243},{"$f":"E81-30","v":-38.041199826559243},{"$f":"F81-30","v":-58.041199826559243},{"$f":"G81-30","v":-58.041199826559243}]
[null,"Mitigation technique (e.g. activity factor, adaptive power control)","dB",0,0,0,0]
[null,"Gain of the LPR antenna in direction of main radiation","dBi",32,32,32,32]
[null,"Tx power spectral density of LPR without mitigation","dBW/MHz",{"$f":"D82-D84","v":-70.04119982655925},{"$f":"E82-E84","v":-70.04119982655925},{"$f":"F82-F84","v":-90.04119982655925},{"$f":"G82-G84","v":-90.04119982655925}]
[null,"Tx power spectral density of LPR with mitigation","dBW/MHz",{"$f":"D82+D83-D84","v":-70.04119982655925},{"$f":"E82+E83-E84","v":-70.04119982655925},{"$f":"F82+F83-F84","v":-90.04119982655925},{"$f":"G82+G83-G84","v":-90.04119982655925}]
[]
[null,"Direct interference component:"]
[null,"Max. gain of the LPR antenna backlobe","dBi",0,0,0,0]
[null,"Direct e.i.r.p. spectral density component sent to the EESS","dBW/MHz",{"$f":"D86+D89","v":-70.04119982655925},{"$f":"E86+E89","v":-70.04119982655925},{"$f":"F86+F89","v":-90.04119982655925},{"$f":"G86+G89","v":-90.04119982655925}]
[]
[null,"Scattered/reflected interference component:"]
[null,"Additional losses for the scattered component","dB",-10,-10,-10,-10]
[null,"Average dielectric reflection attenuation at sand slope","dB",-20,-20,-20,-20]
[null,"Scattered/reflected e.i.r.p. spectral density component sent to the EESS","dBW/MHz",{"$f":"D82+D83+D93+D94","v":-68.04119982655925},{"$f":"E82+E83+E93+E94","v":-68.04119982655925},{"$f":"F82+F83+F93+F94","v":-88.04119982655925},{"$f":"G82+G83+G93+G94","v":-88.04119982655925}]
[]
[null,"Free space loss between LPR and EESS","dB",{"$f":"20*LOG10(4*PI()*D70*1000/D64)","v":196.03103128498418},{"$f":"20*LOG10(4*PI()*E70*1000/E64)","v":195.68787919808398},{"$f":"20*LOG10(4*PI()*F70*1000/F64)","v":192.93339074282497},{"$f":"20*LOG10(4*PI()*G70*1000/G64)","v":197.30922857027994}]
[null,"Direct e.i.r.p. spectral density component at the EESS antenna","dBW/MHz",{"$f":"D90-D97","v":-266.07223111154343},{"$f":"E90-E97","v":-265.72907902464323},{"$f":"F90-F97","v":-282.97459056938419},{"$f":"G90-G97","v":-287.35042839683922}]
[null,"Scattered/reflected e.i.r.p. spectral density component at the EESS antenna","dBW/MHz",{"$f":"D95-D97","v":-264.07223111154343},{"$f":"E95-E97","v":-263.72907902464323},{"$f":"F95-F97","v":-280.97459056938419},{"$f":"G95-G97","v":-285.35042839683922}]
[null,"Total e.i.r.p. spectral density at the EESS antenna (without consideration of atmospheric loss)","dBW/MHz",{"$f":"10*LOG10(10^(D98/10)+10^(D99/10))","v":-261.94780508360009},{"$f":"10*LOG10(10^(E98/10)+10^(E99/10))","v":-261.60465299669983},{"$f":"10*LOG10(10^(F98/10)+10^(F99/10))","v":-278.85016454144079},{"$f":"10*LOG10(10^(G98/10)+10^(G99/10))","v":-283.22600236889582}]
[null,"Atmospheric loss (according to contribution SE24(20)063_rev1)","dB",3.2,3.2,2,3.8]
[null,"Polarisation mismatch loss","dB",3,3,3,3]
[null,"Indoor-outdoor attenuation (according to clause 2.3 in the Report)","dB",{"$f":"VLOOKUP(D68,'Indoor outdoor attenuation'!data_1,9)","v":22.316233894617302},{"$f":"VLOOKUP(E68,'Indoor outdoor attenuation'!data_1,9)","v":22.313188791708029},{"$f":"VLOOKUP(F68,'Indoor outdoor attenuation'!data_1,9)","v":26.615627756397593},{"$f":"VLOOKUP(G68,'Indoor outdoor attenuation'!data_1,9)","v":22.416233894617296}]
[null,"Power spectral density at the EESS receiver in a 1 MHz bandwidth","dBW/MHz",{"$f":"D100+D71-D101-D102","v":-212.64780508360008},{"$f":"E100+E71-E101-E102","v":-212.80465299669982},{"$f":"F100+F71-F101-F102","v":-238.85016454144079},{"$f":"G100+G71-G101-G102","v":-245.02600236889583}]
[null,"Corresponding power at the EESS receiver in the reference bandwidth for a single LPR","dBW",{"$f":"D104+10*LOG10(D65)","v":-189.63750512696026},{"$f":"E104+10*LOG10(E65)","v":-189.79435304006},{"$f":"F104+10*LOG10(F65)","v":-211.8604644980806},{"$f":"G104+10*LOG10(G65)","v":-218.03630232553564}]
[null,"Uniform LPR device density (with uniform distribution over Europe)","1/km²",{"$f":"'Market Size'!H19","v":3.8011973771738096E-3},{"$f":"'Market Size'!H19","v":3.8011973771738096E-3},{"$f":"'Market Size'!H19","v":3.8011973771738096E-3},{"$f":"'Market Size'!H19","v":3.8011973771738096E-3}]
[null,"Aggregate LPR device density (uniform distribution weighted with factor 75; acc. to annex 9 in the Report)","1/km²",{"$f":"D106*75","v":0.28508980328803574},{"$f":"E106*75","v":0.28508980328803574},{"$f":"F106*75","v":0.28508980328803574},{"$f":"G106*75","v":0.28508980328803574}]
[null,"Number of aggregate LPR devices in the IFOV and active in the reference BW of the satellite",null,{"$f":"ROUNDUP(D107*D72,0)","v":24},{"$f":"ROUNDUP(E107*E72,0)","v":24},{"$f":"ROUNDUP(F107*F72,0)","v":44},{"$f":"ROUNDUP(G107*G72,0)","v":217}]
[null,"Percentage of LPRs operated indoors","%",90,90,90,90]
[null,"Resulting total number of outdoor interferers in EESS FOV on Earth's surface",null,{"$f":"ROUNDUP((D109/100)*D108*10^-(D103/10)+((1-D109/100)*D108),0)","v":3},{"$f":"ROUNDUP((E109/100)*E108*10^-(E103/10)+((1-E109/100)*E108),0)","v":3},{"$f":"ROUNDUP((F109/100)*F108*10^-(F103/10)+((1-F109/100)*F108),0)","v":5},{"$f":"ROUNDUP((G109/100)*G108*10^-(G103/10)+((1-G109/100)*G108),0)","v":23}]
[null,"Corresponding received power at the EESS in the reference bandwidth within the EESS's FOV","dBW",{"$f":"D105+10*LOG10(D110)","v":-184.86629257976364},{"$f":"E105+10*LOG10(E110)","v":-185.02314049286338},{"$f":"F105+10*LOG10(F110)","v":-204.87076445472042},{"$f":"G105+10*LOG10(G110)","v":-204.41902396535971}]
[null,"Margin with reference to ITU-R RS.2017-0 ","dB",{"$f":"D73-D74-D111","v":6.8662925797636376},{"$f":"E73-E74-E111","v":7.0231404928633765},{"$f":"F73-F74-F111","v":33.870764454720415},{"$f":"G73-G74-G111","v":33.419023965359713}]

{"sheet":"EESS 167-182GHz","index":3,"n_rows":112,"n_cols":14,"rows_kept":112,"cut":false,"hidden":false,"merged":[[2,3,2,5],[2,6,2,13],[58,3,58,5],[58,6,58,13]]}
[null,"Compatibility analysis between LPR in the frequency band 167-182 GHz and EESS"]
[]
[null,"Single-entry study",null,"Band of EESS: 164-167 GHz",null,null,"Band of EESS: 174,8-191,8 GHz"]
[null,"Victim EESS system",null,"Sensor P1","Sensor P2 (nadir)","Sensor P2 (outer)","MHS (nadir)","MHS (outer)","MWI","MWS (nadir)","MWS (outer)","ICI","AWS (nadir)","AWS (outer)"]
[null,"Sensor type",null,"Conical scan","Nadir scan","Nadir scan","Nadir scan","Nadir scan","Conical scan","Nadir scan","Nadir scan","Conical scan","Nadir scan","Nadir scan"]
[null,"EESS:","Units"]
[null,"Assumed centre frequency of EESS","GHz",165.5,165.5,165.5,178.4,178.4,178.4,178.4,178.4,178.4,178.4,178.4]
[null,"Wavelength of EESS","m",{"$f":"2.99792458/D7/10","v":1.8114347915407854E-3},1.8114347915407854E-3,1.8114347915407854E-3,1.6804509977578475E-3,1.6804509977578475E-3,1.6804509977578475E-3,1.6804509977578475E-3,1.6804509977578475E-3,1.6804509977578475E-3,1.6804509977578475E-3,1.6804509977578475E-3]
[null,"Reference bandwidth","MHz",200,200,200,200,200,200,200,200,200,200,200]
[null,"Orbit altitude","km²",828,824,824,822,822,830,830,830,830,600,600]
[null,"Angle of incidence at Earth's surface (from zenith)","deg",55.5,0,64,0,59,53.3,0,58.5,53.3,0,55.7]
[null,"Elevation angle at ground","deg",{"$f":"90-D11","v":34.5},90,26,90,31,36.700000000000003,90,31.5,36.700000000000003,90,34.299999999999997]
[null,"Off-nadir angle","deg",{"$f":"(ASIN(SIN(D11*PI()/180)/(1+D10/6371)))*180/PI()+0.00000001","v":46.830967821220632},1E-8,52.736615269680954,1E-8,49.394790432078054,45.182994227157891,1E-8,48.969771809919081,45.182994227157891,1E-8,49.024959080746484]
[null,"Slant path distance","km",{"$f":"6371*SIN((ASIN(((6371+D10)/6371)*SIN(D13*PI()/180))*180/PI()-D13)*PI()/180)/SIN(D13*PI()/180)","v":1316.6433515587985},824.00000000000045,1563.5654760504558,822.00000000000023,1400.207928002734,1268.1174814937638,829.99999999999943,1398.3092834001552,1268.1174814937638,600.00000000000011,980.87077854286042]
[null,"EESS antenna gain","dBi",54,43.9,43.9,44.8,44.8,56.9,43,43,52,50,50]
[null,"Size of EESS FOV on Earth's surface","km²",113,254,2083,201,1103,61,315,1762,164,28,141]
[null,"EESS interference criterion in the reference bandwidth (ITU-R RS.2017-0)","dBW",-163,-163,-163,-163,-163,-163,-163,-163,-163,-163,-163]
[null,"Apportionment factor","dB",12,12,12,12,12,12,12,12,12,12,12]
[]
[null,"LPR system:"]
[null,"Conducted Tx  power of LPR","dBm",-8,-8,-8,-8,-8,-8,-8,-8,-8,-8,-8]
[null,"Out-of-band unwanted emissions attenuation (if EESS victim is located in an adjacent band)","dB",20,20,20,0,0,0,0,0,0,0,0]
[null,"Tx  e.i.r.p. of LPR","dBm",{"$f":"D21-D22+D28","v":4},4,4,24,24,24,24,24,24,24,24]
[null,"Bandwidth of LPR Tx signal","GHz",1,1,1,1,1,1,1,1,1,1,1]
[null,"Tx  e.i.r.p. spectral density of LPR","dBm/MHz",{"$f":"D23-10*LOG(D24*1000)","v":-26},-26,-26,-6,-6,-6,-6,-6,-6,-6,-6]
[null,"Tx  e.i.r.p. spectral density of LPR","dBW/MHz",{"$f":"D25-30","v":-56},-56,-56,-36,-36,-36,-36,-36,-36,-36,-36]
[null,"Mitigation technique (e.g. activity factor, adaptive power control)","dB",0,0,0,0,0,0,0,0,0,0,0]
[null,"Gain of the LPR antenna in direction of main radiation","dBi",32,32,32,32,32,32,32,32,32,32,32]
[null,"Tx  power spectral density of LPR without mitigation","dBW/MHz",{"$f":"D26-D28","v":-88},-88,-88,-68,-68,-68,-68,-68,-68,-68,-68]
[null,"Tx  power spectral density of LPR with mitigation","dBW/MHz",{"$f":"D26+D27-D28","v":-88},-88,-88,-68,-68,-68,-68,-68,-68,-68,-68]
[]
[null,"Direct interference component:"]
[null,"Max. gain of the LPR antenna backlobe","dBi",0,0,0,0,0,0,0,0,0,0,0]
[null,"Direct e.i.r.p. spectral density component sent to the EESS","dBW/MHz",{"$f":"D30+D33","v":-88},-88,-88,-68,-68,-68,-68,-68,-68,-68,-68]
[]
[null,"Scattered/reflected interference component:"]
[null,"Additional losses for the scattered component","dB",-10,-10,-10,-10,-10,-10,-10,-10,-10,-10,-10]
[null,"Dielectric reflection attenuation (e.g. water with εr=8 for f>100GHz)","dB",-6.42,-6.42,-6.42,-6.42,-6.42,-6.42,-6.42,-6.42,-6.42,-6.42,-6.42]
[null,"Scattered/reflected e.i.r.p. spectral density component sent to the EESS","dBW/MHz",{"$f":"D26+D27+D37+D38","v":-72.42},-72.42,-72.42,-52.42,-52.42,-52.42,-52.42,-52.42,-52.42,-52.42,-52.42]
[]
[null,"Free space loss between LPR and EESS","dB",{"$f":"20*LOG10(4*PI()*D14*1000/D8)","v":199.21310619396533},195.14228741806045,200.70606463464196,195.77311657348648,200.3995308688082,199.53887001285864,195.85724207020692,200.38774504169734,199.53887001285864,193.03870523035835,197.30791615290838]
[null,"Direct e.i.r.p. spectral density component at the EESS antenna","dBW/MHz",{"$f":"D34-D41","v":-287.21310619396536},-283.14228741806045,-288.70606463464196,-263.7731165734865,-268.3995308688082,-267.53887001285864,-263.85724207020689,-268.38774504169737,-267.53887001285864,-261.03870523035835,-265.30791615290838]
[null,"Scattered/reflected e.i.r.p. spectral density component at the EESS antenna","dBW/MHz",{"$f":"D39-D41","v":-271.63310619396532},-267.56228741806046,-273.12606463464198,-248.19311657348646,-252.81953086880822,-251.95887001285865,-248.27724207020691,-252.80774504169733,-251.95887001285865,-245.45870523035836,-249.72791615290839]
[null,"Total e.i.r.p. spectral density at the EESS antenna (without consideration of atmospheric loss)","dBW/MHz",{"$f":"10*LOG10(10^(D42/10)+10^(D43/10))","v":-271.51457187324246},-267.44375309733761,-273.00753031391912,-248.07458225276361,-252.70099654808541,-251.84033569213582,-248.15870774948405,-252.68921072097453,-251.84033569213582,-245.3401709096355,-249.60938183218556]
[null,"Atmospheric loss (according to contribution SE24(20)063_rev1)","dB",5.7,3.2,7.4,8.3000000000000007,16,13.8,8.3000000000000007,15.8,13.8,8.3000000000000007,14.7]
[null,"Polarisation mismatch loss","dB",3,3,3,3,3,3,3,3,3,3,3]
[null,"Indoor-outdoor attenuation (according to clause 2.3 in the Report)","dB",0,0,0,0,0,0,0,0,0,0,0]
[null,"Power spectral density at the EESS receiver in a 1 MHz bandwidth","dBW/MHz",{"$f":"D44+D15-D45-D46-D47","v":-226.21457187324245},-229.74375309733759,-239.50753031391912,-214.57458225276361,-226.9009965480854,-211.74033569213583,-216.45870774948406,-228.48921072097454,-216.64033569213584,-206.64017090963551,-217.30938183218555]
[null,"Corresponding power at the EESS receiver in the reference bandwidth for a single LPR","dBW",{"$f":"D48+10*LOG10(D9)","v":-203.20427191660264},-206.73345314069778,-216.49723035727931,-191.56428229612379,-203.89069659144559,-188.73003573549602,-193.44840779284425,-205.47891076433473,-193.63003573549602,-183.6298709529957,-194.29908187554574]
[null,"Number of interferers in EESS FOV on Earth's surface",null,1,1,1,1,1,1,1,1,1,1,1]
[null,"Corresponding received power at the EESS in the reference bandwidth within the EESS's FOV","dBW",{"$f":"D49+10*LOG10(D50)","v":-203.20427191660264},-206.73345314069778,-216.49723035727931,-191.56428229612379,-203.89069659144559,-188.73003573549602,-193.44840779284425,-205.47891076433473,-193.63003573549602,-183.6298709529957,-194.29908187554574]
[null,"Margin with reference to ITU-R RS.2017-0 ","dB",{"$f":"D17-D18-D51","v":28.204271916602636},31.733453140697776,41.497230357279307,16.564282296123793,28.89069659144559,13.730035735496017,18.44840779284425,30.478910764334728,18.630035735496023,8.6298709529957023,19.299081875545738]
[]
[]
[]
[]
[]
[]
[null,"Aggregate interference study",null,"Band of EESS: 164-167 GHz",null,null,"Band of EESS: 174,8-191,8 GHz"]
[null,"Victim EESS system",null,"Sensor P1","Sensor P2 (nadir)","Sensor P2 (outer)","MHS (nadir)","MHS (outer)","MWI","MWS (nadir)","MWS (outer)","ICI","AWS (nadir)","AWS (outer)"]
[null,"Sensor type",null,"Conical scan","Nadir scan","Nadir scan","Nadir scan","Nadir scan","Conical scan","Nadir scan","Nadir scan","Conical scan","Nadir scan","Nadir scan"]
[null,"EESS:","Units"]
[null,"Assumed centre frequency of EESS","GHz",165.5,165.5,165.5,178.4,178.4,178.4,178.4,178.4,178.4,178.4,178.4]
[null,"Wavelength of EESS","m",{"$f":"2.99792458/D63/10","v":1.8114347915407854E-3},1.8114347915407854E-3,1.8114347915407854E-3,1.6804509977578475E-3,1.6804509977578475E-3,1.6804509977578475E-3,1.6804509977578475E-3,1.6804509977578475E-3,1.6804509977578475E-3,1.6804509977578475E-3,1.6804509977578475E-3]
[null,"Reference bandwidth","MHz",200,200,200,200,200,200,200,200,200,200,200]
[null,"Orbit altitude","km²",828,824,824,822,822,830,830,830,830,600,600]
[null,"Angle of incidence at Earth's surface (from zenith)","deg",55.5,0,64,0,59,53.3,0,58.5,53.3,0,55.7]
[null,"Elevation angle at ground","deg",{"$f":"90-D67","v":34.5},90,26,90,31,36.700000000000003,90,31.5,36.700000000000003,90,34.299999999999997]
[null,"Off-nadir angle","deg",{"$f":"(ASIN(SIN(D67*PI()/180)/(1+D66/6371)))*180/PI()+0.00000001","v":46.830967821220632},1E-8,52.736615269680954,1E-8,49.394790432078054,45.182994227157891,1E-8,48.969771809919081,45.182994227157891,1E-8,49.024959080746484]
[null,"Slant path distance","km",{"$f":"6371*SIN((ASIN(((6371+D66)/6371)*SIN(D69*PI()/180))*180/PI()-D69)*PI()/180)/SIN(D69*PI()/180)","v":1316.6433515587985},824.00000000000045,1563.5654760504558,822.00000000000023,1400.207928002734,1268.1174814937638,829.99999999999943,1398.3092834001552,1268.1174814937638,600.00000000000011,980.87077854286042]
[null,"EESS antenna gain","dBi",54,43.9,43.9,44.8,44.8,56.9,43,43,52,50,50]
[null,"Size of EESS FOV on Earth's surface","km²",113,254,2083,201,1103,61,315,1762,164,28,141]
[null,"EESS interference criterion in the reference bandwidth (ITU-R RS.2017-0)","dBW",-163,-163,-163,-163,-163,-163,-163,-163,-163,-163,-163]
[null,"Apportionment factor","dB",12,12,12,12,12,12,12,12,12,12,12]
[]
[null,"LPR system:"]
[null,"Conducted Tx  power of LPR","dBm",-8,-8,-8,-8,-8,-8,-8,-8,-8,-8,-8]
[null,"Out-of-band unwanted emissions attenuation (if EESS victim is located in an adjacent band)","dB",20,20,20,0,0,0,0,0,0,0,0]
[null,"Tx  e.i.r.p. of LPR","dBm",{"$f":"D77-D78+D84","v":4},4,4,24,24,24,24,24,24,24,24]
[null,"Bandwidth of LPR Tx signal","GHz",1,1,1,1,1,1,1,1,1,1,1]
[null,"Tx  e.i.r.p. spectral density of LPR","dBm/MHz",{"$f":"D79-10*LOG(D80*1000)","v":-26},-26,-26,-6,-6,-6,-6,-6,-6,-6,-6]
[null,"Tx  e.i.r.p. spectral density of LPR","dBW/MHz",{"$f":"D81-30","v":-56},-56,-56,-36,-36,-36,-36,-36,-36,-36,-36]
[null,"Mitigation technique (e.g. activity factor, adaptive power control)","dB",0,0,0,0,0,0,0,0,0,0,0]
[null,"Gain of the LPR antenna in direction of main radiation","dBi",32,32,32,32,32,32,32,32,32,32,32]
[null,"Tx  power spectral density of LPR without mitigation","dBW/MHz",{"$f":"D82-D84","v":-88},-88,-88,-68,-68,-68,-68,-68,-68,-68,-68]
[null,"Tx  power spectral density of LPR with mitigation","dBW/MHz",{"$f":"D82+D83-D84","v":-88},-88,-88,-68,-68,-68,-68,-68,-68,-68,-68]
[]
[null,"Direct interference component:"]
[null,"Max. gain of the LPR antenna backlobe","dBi",0,0,0,0,0,0,0,0,0,0,0]
[null,"Direct e.i.r.p. spectral density component sent to the EESS","dBW/MHz",{"$f":"D86+D89","v":-88},-88,-88,-68,-68,-68,-68,-68,-68,-68,-68]
[]
[null,"Scattered/reflected interference component:"]
[null,"Additional losses for the scattered component","dB",-10,-10,-10,-10,-10,-10,-10,-10,-10,-10,-10]
[null,"Average dielectric reflection attenuation at sand slope","dB",-20,-20,-20,-20,-20,-20,-20,-20,-20,-20,-20]
[null,"Scattered/reflected e.i.r.p. spectral density component sent to the EESS","dBW/MHz",{"$f":"D82+D83+D93+D94","v":-86},-86,-86,-66,-66,-66,-66,-66,-66,-66,-66]
[]
[null,"Free space loss between LPR and EESS","dB",{"$f":"20*LOG10(4*PI()*D70*1000/D64)","v":199.21310619396533},195.14228741806045,200.70606463464196,195.77311657348648,200.3995308688082,199.53887001285864,195.85724207020692,200.38774504169734,199.53887001285864,193.03870523035835,197.30791615290838]
[null,"Direct e.i.r.p. spectral density component at the EESS antenna","dBW/MHz",{"$f":"D90-D97","v":-287.21310619396536},-283.14228741806045,-288.70606463464196,-263.7731165734865,-268.3995308688082,-267.53887001285864,-263.85724207020689,-268.38774504169737,-267.53887001285864,-261.03870523035835,-265.30791615290838]
[null,"Scattered/reflected e.i.r.p. spectral density component at the EESS antenna","dBW/MHz",{"$f":"D95-D97","v":-285.21310619396536},-281.14228741806045,-286.70606463464196,-261.7731165734865,-266.3995308688082,-265.53887001285864,-261.85724207020689,-266.38774504169737,-265.53887001285864,-259.03870523035835,-263.30791615290838]
[null,"Total e.i.r.p. spectral density at the EESS antenna (without consideration of atmospheric loss)","dBW/MHz",{"$f":"10*LOG10(10^(D98/10)+10^(D99/10))","v":-283.08868016602196},-279.0178613901171,-284.58163860669856,-259.6486905455431,-264.27510484086486,-263.41444398491529,-259.73281604226355,-264.26331901375397,-263.41444398491529,-256.914279202415,-261.18349012496503]
[null,"Atmospheric loss (according to contribution SE24(20)063_rev1)","dB",5.7,3.2,7.4,8.3000000000000007,16,13.8,8.3000000000000007,15.8,13.8,8.3000000000000007,14.7]
[null,"Polarisation mismatch loss","dB",3,3,3,3,3,3,3,3,3,3,3]
[null,"Indoor-outdoor attenuation (according to clause 2.3 in the Report)","dB",{"$f":"VLOOKUP(D68,'Indoor outdoor attenuation'!data_1,9)","v":22.416233894617296},{"$f":"VLOOKUP(E68,'Indoor outdoor attenuation'!data_1,9)","v":26.615627756397593},{"$f":"VLOOKUP(F68,'Indoor outdoor attenuation'!data_1,9)","v":22.924971431983643},{"$f":"VLOOKUP(G68,'Indoor outdoor attenuation'!data_1,9)","v":26.615627756397593},{"$f":"VLOOKUP(H68,'Indoor outdoor attenuation'!data_1,9)","v":22.522123788591671},{"$f":"VLOOKUP(I68,'Indoor outdoor attenuation'!data_1,9)","v":22.316233894617302},{"$f":"VLOOKUP(J68,'Indoor outdoor attenuation'!data_1,9)","v":26.615627756397593},{"$f":"VLOOKUP(K68,'Indoor outdoor attenuation'!data_1,9)","v":22.522123788591671},{"$f":"VLOOKUP(L68,'Indoor outdoor attenuation'!data_1,9)","v":22.316233894617302},{"$f":"VLOOKUP(M68,'Indoor outdoor attenuation'!data_1,9)","v":26.615627756397593},{"$f":"VLOOKUP(N68,'Indoor outdoor attenuation'!data_1,9)","v":22.416233894617296}]
[null,"Power spectral density at the EESS receiver in a 1 MHz bandwidth","dBW/MHz",{"$f":"D100+D71-D101-D102","v":-237.78868016602195},-241.31786139011709,-251.08163860669856,-226.1486905455431,-238.47510484086484,-223.3144439849153,-228.03281604226356,-240.06331901375398,-228.21444398491531,-218.21427920241501,-228.88349012496502]
[null,"Corresponding power at the EESS receiver in the reference bandwidth for a single LPR","dBW",{"$f":"D104+10*LOG10(D65)","v":-214.77838020938214},-218.30756143347728,-228.07133865005875,-203.13839058890329,-215.46480488422503,-200.30414402827549,-205.02251608562375,-217.05301905711417,-205.20414402827549,-195.2039792457752,-205.87319016832521]
[null,"Uniform LPR device density (with uniform distribution over Europe)","1/km²",{"$f":"'Market Size'!$H20","v":2.2807184263042859E-3},{"$f":"'Market Size'!$H20","v":2.2807184263042859E-3},{"$f":"'Market Size'!$H20","v":2.2807184263042859E-3},{"$f":"'Market Size'!$H20","v":2.2807184263042859E-3},{"$f":"'Market Size'!$H20","v":2.2807184263042859E-3},{"$f":"'Market Size'!$H20","v":2.2807184263042859E-3},{"$f":"'Market Size'!$H20","v":2.2807184263042859E-3},{"$f":"'Market Size'!$H20","v":2.2807184263042859E-3},{"$f":"'Market Size'!$H20","v":2.2807184263042859E-3},{"$f":"'Market Size'!$H20","v":2.2807184263042859E-3},{"$f":"'Market Size'!$H20","v":2.2807184263042859E-3}]
[null,"Aggregate LPR device density (uniform distribution weighted with factor 75; acc. to annex 9 in the Report)","1/km²",{"$f":"D106*75","v":0.17105388197282145},0.17105388197282145,0.17105388197282145,0.17105388197282145,0.17105388197282145,0.17105388197282145,0.17105388197282145,0.17105388197282145,0.17105388197282145,0.17105388197282145,0.17105388197282145]
[null,"Number of aggregate LPR devices in the IFOV and active in the reference BW of the satellite",null,{"$f":"ROUNDUP(D107*D72,0)","v":20},44,357,35,189,11,54,302,29,5,25]
[null,"Percentage of LPRs operated indoors","%",90,90,90,90,90,90,90,90,90,90,90]
[null,"Resulting total number of outdoor interferers in EESS FOV on Earth's surface",null,{"$f":"ROUNDUP((D109/100)*D108*10^-(D103/10)+((1-D109/100)*D108),0)","v":3},5,38,4,20,2,6,32,4,1,3]
[null,"Corresponding received power at the EESS in the reference bandwidth within the EESS's FOV","dBW",{"$f":"D105+10*LOG10(D110)","v":-210.00716766218551},-211.31786139011709,-212.27350268389065,-197.11779067562367,-202.45450492758522,-197.29384407163568,-197.24100358178731,-202.00151927391511,-199.18354411499587,-195.2039792457752,-201.10197762112858]
[null,"Margin with reference to ITU-R RS.2017-0 ","dB",{"$f":"D73-D74-D111","v":35.007167662185509},36.317861390117088,37.273502683890655,22.117790675623667,27.454504927585219,22.293844071635675,22.241003581787311,27.001519273915108,24.183544114995868,20.203979245775201,26.101977621128583]

{"sheet":"EESS 231,5-250GHz","index":4,"n_rows":112,"n_cols":8,"rows_kept":112,"cut":false,"hidden":false,"merged":[[2,3,2,4],[2,5,2,7],[58,3,58,4],[58,5,58,7]]}
[null,"Compatibility analysis between LPR in the frequency band 231,5-250 GHz and EESS"]
[]
[null,"Single-entry study",null,"Band of EESS: 226-231,5 GHz",null,"Band of EESS: 239-248 GHz"]
[null,"Victim EESS system",null,"AWS (Nadir)","AWS (outer)","ICI","AWS (Nadir)","AWS (outer)"]
[null,"Sensor type",null,"Nadir scan","Nadir scan","Conical Scan","Nadir Scan","Nadir Scan"]
[null,"EESS:","Units"]
[null,"Assumed centre frequency of EESS","GHz",228.75,228.75,243.5,243.5,243.5]
[null,"Wavelength of EESS","m",{"$f":"2.99792458/D7/10","v":1.3105681224043716E-3},1.3105681224043716E-3,1.2311805256673511E-3,1.2311805256673511E-3,1.2311805256673511E-3]
[null,"Reference bandwidth","MHz",200,200,200,200,200]
[null,"Orbit altitude","km²",600,600,830,600,600]
[null,"Angle of incidence at Earth's surface (from zenith)","deg",0,55.7,53.3,0,55.7]
[null,"Elevation angle at ground","deg",{"$f":"90-D11","v":90},34.299999999999997,36.700000000000003,90,34.299999999999997]
[null,"Off-nadir angle","deg",{"$f":"(ASIN(SIN(D11*PI()/180)/(1+D10/6371)))*180/PI()+0.00000001","v":1E-8},{"$f":"(ASIN(SIN(E11*PI()/180)/(1+E10/6371)))*180/PI()+0.00000001","v":49.024959080746484},{"$f":"(ASIN(SIN(F11*PI()/180)/(1+F10/6371)))*180/PI()+0.00000001","v":45.182994227157891},{"$f":"(ASIN(SIN(G11*PI()/180)/(1+G10/6371)))*180/PI()+0.00000001","v":1E-8},{"$f":"(ASIN(SIN(H11*PI()/180)/(1+H10/6371)))*180/PI()+0.00000001","v":49.024959080746484}]
[null,"Slant path distance","km",{"$f":"6371*SIN((ASIN(((6371+D10)/6371)*SIN(D13*PI()/180))*180/PI()-D13)*PI()/180)/SIN(D13*PI()/180)","v":600.00000000000011},{"$f":"6371*SIN((ASIN(((6371+E10)/6371)*SIN(E13*PI()/180))*180/PI()-E13)*PI()/180)/SIN(E13*PI()/180)","v":980.87077854286042},{"$f":"6371*SIN((ASIN(((6371+F10)/6371)*SIN(F13*PI()/180))*180/PI()-F13)*PI()/180)/SIN(F13*PI()/180)","v":1268.1174814937638},{"$f":"6371*SIN((ASIN(((6371+G10)/6371)*SIN(G13*PI()/180))*180/PI()-G13)*PI()/180)/SIN(G13*PI()/180)","v":600.00000000000011},{"$f":"6371*SIN((ASIN(((6371+H10)/6371)*SIN(H13*PI()/180))*180/PI()-H13)*PI()/180)/SIN(H13*PI()/180)","v":980.87077854286042}]
[null,"EESS antenna gain","dBi",50,50,52,50,50]
[null,"Size of EESS FOV on Earth's surface","km²",28,141,164,28,141]
[null,"EESS interference criterion in the reference bandwidth (ITU-R RS.2017-0)","dBW",-160,-160,-160,-160,-160]
[null,"Apportionment factor","dB",12,12,12,12,12]
[]
[null,"LPR system:"]
[null,"Conducted Tx  power of LPR","dBm",-8,-8,-8,-8,-8]
[null,"Out-of-band unwanted emissions attenuation (if EESS victim is located in an adjacent band)","dB",20,20,0,0,0]
[null,"Tx  e.i.r.p. of LPR","dBm",{"$f":"D21-D22+D28","v":4},4,24,24,24]
[null,"Bandwidth of LPR Tx signal","GHz",1,1,1,1,1]
[null,"Tx  e.i.r.p. spectral density of LPR","dBm/MHz",{"$f":"D23-10*LOG(D24*1000)","v":-26},-26,-6,-6,-6]
[null,"Tx  e.i.r.p. spectral density of LPR","dBW/MHz",{"$f":"D25-30","v":-56},-56,-36,-36,-36]
[null,"Mitigation technique (e.g. activity factor, adaptive power control)","dB",0,0,0,0,0]
[null,"Gain of the LPR antenna in direction of main radiation","dBi",32,32,32,32,32]
[null,"Tx  power spectral density of LPR without mitigation","dBW/MHz",{"$f":"D26-D28","v":-88},-88,-68,-68,-68]
[null,"Tx  power spectral density of LPR with mitigation","dBW/MHz",{"$f":"D26+D27-D28","v":-88},-88,-68,-68,-68]
[]
[null,"Direct interference component:"]
[null,"Max. gain of the LPR antenna backlobe","dBi",-1,-1,-1,-1,-1]
[null,"Direct e.i.r.p. spectral density component sent to the EESS","dBW/MHz",{"$f":"D30+D33","v":-89},-89,-69,-69,-69]
[]
[null,"Scattered/reflected interference component:"]
[null,"Additional losses for the scattered component","dB",-10,-10,-10,-10,-10]
[null,"Dielectric reflection attenuation (e.g. water with εr=8 for f>100GHz)","dB",-6.42,-6.42,-6.42,-6.42,-6.42]
[null,"Scattered/reflected e.i.r.p. spectral density component sent to the EESS","dBW/MHz",{"$f":"D26+D27+D37+D38","v":-72.42},-72.42,-52.42,-52.42,-52.42]
[]
[null,"Free space loss between LPR and EESS","dB",{"$f":"20*LOG10(4*PI()*D14*1000/D8)","v":195.19803028432597},199.467241206876,202.24095232306962,195.7407875405693,200.00999846311936]
[null,"Direct e.i.r.p. spectral density component at the EESS antenna","dBW/MHz",{"$f":"D34-D41","v":-284.19803028432597},-288.467241206876,-271.24095232306962,-264.74078754056927,-269.00999846311936]
[null,"Scattered/reflected e.i.r.p. spectral density component at the EESS antenna","dBW/MHz",{"$f":"D39-D41","v":-267.61803028432598},-271.88724120687601,-254.66095232306964,-248.16078754056929,-252.42999846311938]
[null,"Total e.i.r.p. spectral density at the EESS antenna (without consideration of atmospheric loss)","dBW/MHz",{"$f":"10*LOG10(10^(D42/10)+10^(D43/10))","v":-267.52361227107212},-271.79282319362216,-254.56653430981575,-248.0663695273154,-252.33558044986552]
[null,"Atmospheric loss (according to contribution SE24(20)063_rev1)","dB",4.8,8.5,8.8000000000000007,5.3,9.3000000000000007]
[null,"Polarisation mismatch loss","dB",3,3,3,3,3]
[null,"Indoor-outdoor attenuation (according to clause 2.3 in the Report)","dB",0,0,0,0,0]
[null,"Power spectral density at the EESS receiver in a 1 MHz bandwidth","dBW/MHz",{"$f":"D44+D15-D45-D46-D47","v":-225.32361227107214},{"$f":"E44+E15-E45-E46-E47","v":-233.29282319362216},{"$f":"F44+F15-F45-F46-F47","v":-214.36653430981576},{"$f":"G44+G15-G45-G46-G47","v":-206.36636952731541},{"$f":"H44+H15-H45-H46-H47","v":-214.63558044986553}]
[null,"Corresponding power at the EESS receiver in the reference bandwidth for a single LPR","dBW",{"$f":"D48+10*LOG10(D9)","v":-202.31331231443232},-210.28252323698234,-191.35623435317595,-183.3560695706756,-191.62528049322572]
[null,"Number of interferers in EESS FOV on Earth's surface",null,1,1,1,1,1]
[null,"Corresponding received power at the EESS in the reference bandwidth within the EESS's FOV","dBW",{"$f":"D49+10*LOG10(D50)","v":-202.31331231443232},{"$f":"E49+10*LOG10(E50)","v":-210.28252323698234},{"$f":"F49+10*LOG10(F50)","v":-191.35623435317595},{"$f":"G49+10*LOG10(G50)","v":-183.3560695706756},{"$f":"H49+10*LOG10(H50)","v":-191.62528049322572}]
[null,"Margin with reference to ITU-R RS.2017-0 ","dB",{"$f":"D17-D18-D51","v":30.313312314432324},{"$f":"E17-E18-E51","v":38.282523236982342},{"$f":"F17-F18-F51","v":19.35623435317595},{"$f":"G17-G18-G51","v":11.356069570675601},{"$f":"H17-H18-H51","v":19.625280493225716}]
[]
[]
[]
[]
[]
[]
[null,"Aggregate interference study",null,"Band of EESS: 226-231,5 GHz",null,"Band of EESS: 239-248 GHz"]
[null,"Victim EESS system",null,"AWS (Nadir)","AWS (outer)","ICI","AWS (Nadir)","AWS (outer)"]
[null,"Sensor type",null,"Nadir scan","Nadir scan","Conical Scan","Nadir Scan","Nadir Scan"]
[null,"EESS:","Units"]
[null,"Assumed centre frequency of EESS","GHz",228.75,228.75,243.5,243.5,243.5]
[null,"Wavelength of EESS","m",{"$f":"2.99792458/D63/10","v":1.3105681224043716E-3},1.3105681224043716E-3,1.2311805256673511E-3,1.2311805256673511E-3,1.2311805256673511E-3]
[null,"Reference bandwidth","MHz",200,200,200,200,200]
[null,"Orbit altitude","km²",600,600,830,600,600]
[null,"Angle of incidence at Earth's surface (from zenith)","deg",0,55.7,53.3,0,55.7]
[null,"Elevation angle at ground","deg",{"$f":"90-D67","v":90},34.299999999999997,36.700000000000003,90,34.299999999999997]
[null,"Off-nadir angle","deg",{"$f":"(ASIN(SIN(D67*PI()/180)/(1+D66/6371)))*180/PI()+0.00000001","v":1E-8},{"$f":"(ASIN(SIN(E67*PI()/180)/(1+E66/6371)))*180/PI()+0.00000001","v":49.024959080746484},{"$f":"(ASIN(SIN(F67*PI()/180)/(1+F66/6371)))*180/PI()+0.00000001","v":45.182994227157891},{"$f":"(ASIN(SIN(G67*PI()/180)/(1+G66/6371)))*180/PI()+0.00000001","v":1E-8},{"$f":"(ASIN(SIN(H67*PI()/180)/(1+H66/6371)))*180/PI()+0.00000001","v":49.024959080746484}]
[null,"Slant path distance","km",{"$f":"6371*SIN((ASIN(((6371+D66)/6371)*SIN(D69*PI()/180))*180/PI()-D69)*PI()/180)/SIN(D69*PI()/180)","v":600.00000000000011},{"$f":"6371*SIN((ASIN(((6371+E66)/6371)*SIN(E69*PI()/180))*180/PI()-E69)*PI()/180)/SIN(E69*PI()/180)","v":980.87077854286042},{"$f":"6371*SIN((ASIN(((6371+F66)/6371)*SIN(F69*PI()/180))*180/PI()-F69)*PI()/180)/SIN(F69*PI()/180)","v":1268.1174814937638},{"$f":"6371*SIN((ASIN(((6371+G66)/6371)*SIN(G69*PI()/180))*180/PI()-G69)*PI()/180)/SIN(G69*PI()/180)","v":600.00000000000011},{"$f":"6371*SIN((ASIN(((6371+H66)/6371)*SIN(H69*PI()/180))*180/PI()-H69)*PI()/180)/SIN(H69*PI()/180)","v":980.87077854286042}]
[null,"EESS antenna gain","dBi",50,50,52,50,50]
[null,"Size of EESS FOV on Earth's surface","km²",28,141,164,28,141]
[null,"EESS interference criterion in the reference bandwidth (ITU-R RS.2017-0)","dBW",-160,-160,-160,-160,-160]
[null,"Apportionment factor","dB",12,12,12,12,12]
[]
[null,"LPR system:"]
[null,"Conducted Tx  power of LPR","dBm",-8,-8,-8,-8,-8]
[null,"Out-of-band unwanted emissions attenuation (if EESS victim is located in an adjacent band)","dB",20,20,0,0,0]
[null,"Tx  e.i.r.p. of LPR","dBm",{"$f":"D77-D78+D84","v":4},4,24,24,24]
[null,"Bandwidth of LPR Tx signal","GHz",1,1,1,1,1]
[null,"Tx  e.i.r.p. spectral density of LPR","dBm/MHz",{"$f":"D79-10*LOG(D80*1000)","v":-26},-26,-6,-6,-6]
[null,"Tx  e.i.r.p. spectral density of LPR","dBW/MHz",{"$f":"D81-30","v":-56},-56,-36,-36,-36]
[null,"Mitigation technique (e.g. activity factor, adaptive power control)","dB",0,0,0,0,0]
[null,"Gain of the LPR antenna in direction of main radiation","dBi",32,32,32,32,32]
[null,"Tx  power spectral density of LPR without mitigation","dBW/MHz",{"$f":"D82-D84","v":-88},-88,-68,-68,-68]
[null,"Tx  power spectral density of LPR with mitigation","dBW/MHz",{"$f":"D82+D83-D84","v":-88},-88,-68,-68,-68]
[]
[null,"Direct interference component:"]
[null,"Max. gain of the LPR antenna backlobe","dBi",0,0,0,0,0]
[null,"Direct e.i.r.p. spectral density component sent to the EESS","dBW/MHz",{"$f":"D86+D89","v":-88},-88,-68,-68,-68]
[]
[null,"Scattered/reflected interference component:"]
[null,"Additional losses for the scattered component","dB",-10,-10,-10,-10,-10]
[null,"Average dielectric reflection attenuation at sand slope","dB",-20,-20,-25,-25,-25]
[null,"Scattered/reflected e.i.r.p. spectral density component sent to the EESS","dBW/MHz",{"$f":"D82+D83+D93+D94","v":-86},{"$f":"E82+E83+E93+E94","v":-86},{"$f":"F82+F83+F93+F94","v":-71},{"$f":"G82+G83+G93+G94","v":-71},{"$f":"H82+H83+H93+H94","v":-71}]
[]
[null,"Free space loss between LPR and EESS","dB",{"$f":"20*LOG10(4*PI()*D70*1000/D64)","v":195.19803028432597},{"$f":"20*LOG10(4*PI()*E70*1000/E64)","v":199.467241206876},{"$f":"20*LOG10(4*PI()*F70*1000/F64)","v":202.24095232306962},{"$f":"20*LOG10(4*PI()*G70*1000/G64)","v":195.7407875405693},{"$f":"20*LOG10(4*PI()*H70*1000/H64)","v":200.00999846311936}]
[null,"Direct e.i.r.p. spectral density component at the EESS antenna","dBW/MHz",{"$f":"D90-D97","v":-283.19803028432597},{"$f":"E90-E97","v":-287.467241206876},{"$f":"F90-F97","v":-270.24095232306962},{"$f":"G90-G97","v":-263.74078754056927},{"$f":"H90-H97","v":-268.00999846311936}]
[null,"Scattered/reflected e.i.r.p. spectral density component at the EESS antenna","dBW/MHz",{"$f":"D95-D97","v":-281.19803028432597},-285.467241206876,-273.24095232306962,-266.74078754056927,-271.00999846311936]
[null,"Total e.i.r.p. spectral density at the EESS antenna (without consideration of atmospheric loss)","dBW/MHz",{"$f":"10*LOG10(10^(D98/10)+10^(D99/10))","v":-279.07360425638257},-283.34281517893265,-268.47660369870476,-261.97643891620442,-266.2456498387545]
[null,"Atmospheric loss (according to contribution SE24(20)WI71#9-3)","dB",4.8,8.5,8.8000000000000007,5.3,9.3000000000000007]
[null,"Polarisation mismatch loss","dB",3,3,3,3,3]
[null,"Indoor-outdoor attenuation (according to clause 2.3 in the Report)","dB",{"$f":"VLOOKUP(D68,'Indoor outdoor attenuation'!data_1,9)","v":26.615627756397593},{"$f":"VLOOKUP(E68,'Indoor outdoor attenuation'!data_1,9)","v":22.416233894617296},{"$f":"VLOOKUP(F68,'Indoor outdoor attenuation'!data_1,9)","v":22.316233894617302},{"$f":"VLOOKUP(G68,'Indoor outdoor attenuation'!data_1,9)","v":26.615627756397593},{"$f":"VLOOKUP(H68,'Indoor outdoor attenuation'!data_1,9)","v":22.416233894617296}]
[null,"Power spectral density at the EESS receiver in a 1 MHz bandwidth","dBW/MHz",{"$f":"D100+D71-D101-D102","v":-236.87360425638258},{"$f":"E100+E71-E101-E102","v":-244.84281517893265},{"$f":"F100+F71-F101-F102","v":-228.27660369870478},{"$f":"G100+G71-G101-G102","v":-220.27643891620443},{"$f":"H100+H71-H101-H102","v":-228.54564983875451}]
[null,"Corresponding power at the EESS receiver in the reference bandwidth for a single LPR","dBW",{"$f":"D104+10*LOG10(D65)","v":-213.86330429974277},{"$f":"E104+10*LOG10(E65)","v":-221.83251522229284},{"$f":"F104+10*LOG10(F65)","v":-205.26630374206496},{"$f":"G104+10*LOG10(G65)","v":-197.26613895956461},{"$f":"H104+10*LOG10(H65)","v":-205.5353498821147}]
[null,"Uniform LPR device density (with uniform distribution over Europe)","1/km²",{"$f":"'Market Size'!$H21","v":1.520478950869524E-3},{"$f":"'Market Size'!$H21","v":1.520478950869524E-3},{"$f":"'Market Size'!$H21","v":1.520478950869524E-3},{"$f":"'Market Size'!$H21","v":1.520478950869524E-3},{"$f":"'Market Size'!$H21","v":1.520478950869524E-3}]
[null,"Aggregate LPR device density (uniform distribution weighted with factor 75; acc. to annex 9 in the Report)","1/km²",{"$f":"D106*75","v":0.1140359213152143},{"$f":"E106*75","v":0.1140359213152143},{"$f":"F106*75","v":0.1140359213152143},{"$f":"G106*75","v":0.1140359213152143},{"$f":"H106*75","v":0.1140359213152143}]
[null,"Number of aggregate LPR devices in the IFOV and active in the reference BW of the satellite",null,{"$f":"ROUNDUP(D107*D72,0)","v":4},{"$f":"ROUNDUP(E107*E72,0)","v":17},{"$f":"ROUNDUP(F107*F72,0)","v":19},{"$f":"ROUNDUP(G107*G72,0)","v":4},{"$f":"ROUNDUP(H107*H72,0)","v":17}]
[null,"Percentage of LPRs operated indoors","%",90,90,90,90,90]
[null,"Resulting total number of outdoor interferers in EESS FOV on Earth's surface",null,{"$f":"ROUNDUP((D109/100)*D108*10^-(D103/10)+((1-D109/100)*D108),0)","v":1},{"$f":"ROUNDUP((E109/100)*E108*10^-(E103/10)+((1-E109/100)*E108),0)","v":2},{"$f":"ROUNDUP((F109/100)*F108*10^-(F103/10)+((1-F109/100)*F108),0)","v":3},{"$f":"ROUNDUP((G109/100)*G108*10^-(G103/10)+((1-G109/100)*G108),0)","v":1},{"$f":"ROUNDUP((H109/100)*H108*10^-(H103/10)+((1-H109/100)*H108),0)","v":2}]
[null,"Corresponding received power at the EESS in the reference bandwidth within the EESS's FOV","dBW",{"$f":"D105+10*LOG10(D110)","v":-213.86330429974277},{"$f":"E105+10*LOG10(E110)","v":-218.82221526565303},{"$f":"F105+10*LOG10(F110)","v":-200.49509119486834},{"$f":"G105+10*LOG10(G110)","v":-197.26613895956461},{"$f":"H105+10*LOG10(H110)","v":-202.52504992547489}]
[null,"Margin with reference to ITU-R RS.2017-0 ","dB",{"$f":"D73-D74-D111","v":41.863304299742765},{"$f":"E73-E74-E111","v":46.822215265653028},{"$f":"F73-F74-F111","v":28.495091194868337},{"$f":"G73-G74-G111","v":25.266138959564614},{"$f":"H73-H74-H111","v":30.525049925474889}]

{"sheet":"RAS 116-148,5GHz","index":5,"n_rows":50,"n_cols":7,"rows_kept":50,"cut":false,"hidden":false,"merged":[[4,3,4,4],[4,5,4,6]]}
[null,"Compatibility analysis between LPR in the frequency band 116 to 148,5 GHz and RAS systems"]
[]
[]
[]
[null,"Victim RAS system",null,"Band of RAS system: 76-116 GHz",null,"Band of RAS system: 123-158,5 GHz"]
[null,"Sensor type",null,"Continuum observation","Spectral-line observation","Continuum observation","Spectral-line observation"]
[null,"RAS system:","Units"]
[null,"Assumed centre frequency of RAS system","GHz",96,96,135.75,135.75]
[null,"Wavelength of RAS system","m",{"$f":"2.99792458/D8/10","v":3.1228381041666668E-3},3.1228381041666668E-3,2.2084158968692447E-3,2.2084158968692447E-3]
[null,"Bandwidth (ITU-R RA.769-2)","MHz",8000,1,8000,1]
[null,"Antenna gain in the direction of interferer (ITU-R RA.769-2)","dBi",0,0,0,0]
[null,"Feeder (insertion) loss","dB",0,0,0,0]
[null,"Threshold Interference level at receiver input (ITU-R RA.769-2)","dBW",-184.5,-209,-189.5,-209]
[null,"Threshold Interference level at receiver input","dBm",{"$f":"D13+30","v":-154.5},{"$f":"E13+30","v":-179},-159.5,-179]
[]
[null,"LPR system:"]
[null,"Conducted Tx  power of LPR","dBm",-8,-8,-8,-8]
[null,"Out-of-band unwanted emissions attenuation (if RAS victim is located in an adjacent band)","dB",20,20,0,0]
[null,"Tx  power e.i.r.p. of LPR","dBm",{"$f":"D17-D18+D25","v":4},{"$f":"E17-E18+E25","v":4},{"$f":"F17-F18+F25","v":24},{"$f":"G17-G18+G25","v":24}]
[null,"Bandwidth of LPR Tx signal","GHz",1.6,1.6,1.6,1.6]
[null,"Mitigation technique (e.g. activity factor, adaptive power control)","dB",0,0,0,0]
[null,"Tx  e.i.r.p. spectral density of LPR","dBm/MHz",{"$f":"D19-10*LOG(D20*1000)","v":-28.041199826559243},-28.041199826559243,-8.041199826559243,-8.041199826559243]
[null,"Tx  e.i.r.p. spectral density of LPR with mitigation ","dBm/MHz",{"$f":"D19+D21-10*LOG(D20*1000)","v":-28.041199826559243},-28.041199826559243,-8.041199826559243,-8.041199826559243]
[null,"Tx  e.i.r.p. of LPR with mitigation ","dBm",{"$f":"D19+D21","v":4},{"$f":"E19+E21","v":4},{"$f":"F19+F21","v":24},{"$f":"G19+G21","v":24}]
[null,"Gain of the LPR antenna in direction of main radiation","dBi",32,32,32,32]
[]
[null,"Side-lobe interference component:"]
[null,"Antenna side-lobe gain >60° offset angle","dBi",0,0,0,0]
[null,"Direct  e.i.r.p. component sent to the RAS","dBm",{"$f":"D24-D25+D28","v":-28},{"$f":"E24-E25+E28","v":-28},{"$f":"F24-F25+F28","v":-8},{"$f":"G24-G25+G28","v":-8}]
[]
[null,"Reflected interference component:"]
[null,"Sidelobe suppression (first sidelobe, offset angle 20-30° (24° nominal)","dB",-28,-28,-28,-28]
[null,"Reflection loss on sand surface (angle of incidence 33°)","dB",18,18,18,18]
[null,"Reflected  e.i.r.p. component sent to the RAS","dBm",{"$f":"D24+D32-D33","v":-42},{"$f":"E24+E32-E33","v":-42},{"$f":"F24+F32-F33","v":-22},{"$f":"G24+G32-G33","v":-22}]
[]
[null,"Total  e.i.r.p. towards RAS","dBm",{"$f":"10*LOG10(10^(D29/10)+10^(D34/10))","v":-27.830457107204669},-27.830457107204669,-7.83045710720467,-7.83045710720467]
[null,"BWCF","dB",{"$f":"IF(D20*1000<=D10, 0, 10*LOG10(D10/D20/1000))","v":0},{"$f":"IF(E20*1000<=E10, 0, 10*LOG10(E10/E20/1000))","v":-32.041199826559243},{"$f":"IF(F20*1000<=F10, 0, 10*LOG10(F10/F20/1000))","v":0},{"$f":"IF(G20*1000<=G10, 0, 10*LOG10(G10/G20/1000))","v":-32.041199826559243}]
[]
[]
[null,"Separation distance calculation:"]
[null,"Minimum coupling loss (MCL)","dB",{"$f":"D36-(D14-D11+D12)+D37","v":126.66954289279533},{"$f":"E36-(E14-E11+E12)+E37","v":119.12834306623608},{"$f":"F36-(F14-F11+F12)+F37","v":151.66954289279533},{"$f":"G36-(G14-G11+G12)+G37","v":139.12834306623608}]
[null,"Separation distance with FSL model","km",{"$f":"10^((D41-32.44-20*LOG10(D8*1000))/20)","v":0.53605075446924622},{"$f":"10^((E41-32.44-20*LOG10(E8*1000))/20)","v":0.22498104013015002},{"$f":"10^((F41-32.44-20*LOG10(F8*1000))/20)","v":6.7412014632202588},{"$f":"10^((G41-32.44-20*LOG10(G8*1000))/20)","v":1.5910261401469161}]
[null,"Specific attenuation due to atmospheric gases (acc. to ITU-R  P.835-6 winter high latitude model)","dB/km",0.06,0.06,0.1,0.1]
[null,"Separation distance adjusted for attenuation due to atmospheric gases","km",0.53407703487120251,0.22461124459594617,6.2714836632434725,1.5625443312688236]
[null,"Balance check (should be close to zero)","dB",{"$f":"D41-20*LOG10(D44)-D44*D43-32.44-20*LOG10(D8*1000)","v":-4.4672339782891868E-6},{"$f":"E41-20*LOG10(E44)-E44*E43-32.44-20*LOG10(E8*1000)","v":8.1184419879321013E-4},{"$f":"F41-20*LOG10(F44)-F44*F43-32.44-20*LOG10(F8*1000)","v":1.9185520952191837E-4},{"$f":"G41-20*LOG10(G44)-G44*G43-32.44-20*LOG10(G8*1000)","v":6.4491489968077076E-4}]
[null,null,null,"Note 2",null,"Note 1"]
[]
[null,"Note 1: A power spectral density of -8dBm/MHz in the whole RAS bandwidth of 8GHz would result in a separation distance of 13km. Therefore, a separation distance of at least 13km should be considered in order to protect RAS."]
[]
[null,"Note 2: A power spectral density of -8dBm/MHz in the whole RAS bandwidth of 8GHz would result in a separation distance of 1.2km. Therefore, a separation distance of at least 1.2km should be considered in order to protect RAS."]

{"sheet":"RAS 167-182GHz","index":6,"n_rows":50,"n_cols":7,"rows_kept":50,"cut":false,"hidden":false,"merged":[[4,5,4,6],[4,3,4,4]]}
[null,"Compatibility analysis between LPR in the frequency band 167 to 182 GHz and RAS systems"]
[]
[]
[]
[null,"Victim RAS system",null,"Band of RAS system: 164-174,5 GHz",null,"Band of RAS system: 182-185 GHz"]
[null,"Sensor type",null,"Continuum observation","Spectral-line observation","Continuum observation","Spectral-line observation"]
[null,"RAS system:","Units"]
[null,"Assumed centre frequency of RAS system","GHz",170.75,170.75,183.5,183.5]
[null,"Wavelength of RAS system","m",{"$f":"2.99792458/D8/10","v":1.75573913909224E-3},1.75573913909224E-3,{"$f":"2.99792458/F8/10","v":1.6337463651226157E-3},1.6337463651226157E-3]
[null,"Bandwidth (ITU-R RA.769-2)","MHz",8000,1,8000,1]
[null,"Antenna gain in the direction of interferer (ITU-R RA.769-2)","dBi",0,0,0,0]
[null,"Feeder (insertion) loss","dB",0,0,0,0]
[null,"Threshold Interference level at receiver input (ITU-R RA.769-2)","dBW",-189.1,-209,-182.4,-209]
[null,"Threshold Interference level at receiver input","dBm",{"$f":"D13+30","v":-159.1},-179,{"$f":"F13+30","v":-152.4},-179]
[]
[null,"LPR system:"]
[null,"Conducted Tx  power of LPR","dBm",-8,-8,-8,-8]
[null,"Out-of-band unwanted emissions attenuation (if RAS victim is located in an adjacent band)","dB",0,0,20,20]
[null,"Tx  power e.i.r.p. of LPR","dBm",{"$f":"D17-D18+D25","v":24},{"$f":"E17-E18+E25","v":24},{"$f":"F17-F18+F25","v":4},{"$f":"G17-G18+G25","v":4}]
[null,"Bandwidth of LPR Tx signal","GHz",1,1,1,1]
[null,"Mitigation technique (e.g. activity factor, adaptive power control)","dB",0,0,0,0]
[null,"Tx  e.i.r.p. spectral density of LPR","dBm/MHz",{"$f":"D19-10*LOG(D20*1000)","v":-6},-6,{"$f":"F19-10*LOG(F20*1000)","v":-26},-26]
[null,"Tx  e.i.r.p. spectral density of LPR with mitigation ","dBm/MHz",{"$f":"D19+D21-10*LOG(D20*1000)","v":-6},-6,{"$f":"F19+F21-10*LOG(F20*1000)","v":-26},-26]
[null,"Tx  e.i.r.p. of LPR with mitigation ","dBm",{"$f":"D19+D21","v":24},{"$f":"E19+E21","v":24},{"$f":"F19+F21","v":4},{"$f":"G19+G21","v":4}]
[null,"Gain of the LPR antenna in direction of main radiation","dBi",32,32,32,32]
[]
[null,"Side-lobe interference component:"]
[null,"Antenna side-lobe gain >60° offset angle","dBi",-1,-1,-1,-1]
[null,"Direct  e.i.r.p. component sent to the RAS","dBm",{"$f":"D24-D25+D28","v":-9},{"$f":"E24-E25+E28","v":-9},{"$f":"F24-F25+F28","v":-29},{"$f":"G24-G25+G28","v":-29}]
[]
[null,"Reflected interference component:"]
[null,"Sidelobe suppression (first sidelobe, offset angle 20-30° (24° nominal)","dB",-29,-29,-29,-29]
[null,"Reflection loss on sand surface (angle of incidence 33°)","dB",23,23,23,23]
[null,"Reflected  e.i.r.p. component sent to the RAS","dBm",{"$f":"D24+D32-D33","v":-28},{"$f":"E24+E32-E33","v":-28},{"$f":"F24+F32-F33","v":-48},{"$f":"G24+G32-G33","v":-48}]
[]
[null,"Total  e.i.r.p. towards RAS","dBm",{"$f":"10*LOG10(10^(D29/10)+10^(D34/10))","v":-8.9456668577995444},-8.9456668577995444,{"$f":"10*LOG10(10^(F29/10)+10^(F34/10))","v":-28.945666857799544},-28.945666857799544]
[null,"BWCF","dB",{"$f":"IF(D20*1000<=D10, 0, 10*LOG10(D10/D20/1000))","v":0},{"$f":"IF(E20*1000<=E10, 0, 10*LOG10(E10/E20/1000))","v":-30},{"$f":"IF(F20*1000<=F10, 0, 10*LOG10(F10/F20/1000))","v":0},{"$f":"IF(G20*1000<=G10, 0, 10*LOG10(G10/G20/1000))","v":-30}]
[]
[]
[null,"Separation distance calculation:"]
[null,"Minimum coupling loss (MCL)","dB",{"$f":"D36-(D14-D11+D12)+D37","v":150.15433314220044},{"$f":"E36-(E14-E11+E12)+E37","v":140.05433314220045},{"$f":"F36-(F14-F11+F12)+F37","v":123.45433314220045},{"$f":"G36-(G14-G11+G12)+G37","v":120.05433314220045}]
[null,"Separation distance with FSL model","km",{"$f":"10^((D41-32.44-20*LOG10(D8*1000))/20)","v":4.501486424616691},{"$f":"10^((E41-32.44-20*LOG10(E8*1000))/20)","v":1.4072003833382829},{"$f":"10^((F41-32.44-20*LOG10(F8*1000))/20)","v":0.19367813234827255},{"$f":"10^((G41-32.44-20*LOG10(G8*1000))/20)","v":0.13094248798638206}]
[null,"Specific attenuation due to atmospheric gases (acc. to ITU-R  P.835-6 winter high latitude model)","dB/km",0.21,0.21,3.55,3.55]
[null,"Separation distance adjusted for attenuation due to atmospheric gases","km",4.0787736698486867,1.3616159393620051,0.17994566547003182,0.12444793931425996]
[null,"Balance check (should be close to zero)","dB",{"$f":"D41-20*LOG10(D44)-D44*D43-32.44-20*LOG10(D8*1000)","v":-1.5717365698719732E-5},{"$f":"E41-20*LOG10(E44)-E44*E43-32.44-20*LOG10(E8*1000)","v":8.7013610283293019E-5},{"$f":"F41-20*LOG10(F44)-F44*F43-32.44-20*LOG10(F8*1000)","v":-2.3138628165497721E-5},{"$f":"G41-20*LOG10(G44)-G44*G43-32.44-20*LOG10(G8*1000)","v":6.7392107808927904E-5}]
[null,null,null,"Note 1",null,"Note 2"]
[]
[null,"Note 1: A power spectral density of -6dBm/MHz in the whole RAS bandwidth of 8GHz would result in a separation distance of 10km. Therefore, a separation distance of at least 10km should be considered in order to protect RAS."]
[]
[null,"Note 2: A power spectral density of -6dBm/MHz in the whole RAS bandwidth of 8GHz would result in a separation distance of 0.5km. Therefore, a separation distance of at least 0.5km should be considered in order to protect RAS."]

{"sheet":"RAS 231,5-250GHz","index":7,"n_rows":52,"n_cols":9,"rows_kept":52,"cut":false,"hidden":false,"merged":[[4,3,4,4],[4,5,4,6],[4,7,4,8]]}
[null,"Compatibility analysis between LPR in the frequency band 231,5 to 250 GHz and RAS systems"]
[]
[]
[]
[null,"Victim RAS system",null,"Band of RAS system: 190-231,5 GHz",null,"Band of RAS system: 235-238 GHz",null,"Band of RAS system: 241-275 GHz"]
[null,"Sensor type",null,"Continuum observation","Spectral-line observation","Continuum observation","Spectral-line observation","Continuum observation","Spectral-line observation"]
[null,"RAS system:","Units"]
[null,"Assumed centre frequency of RAS system","GHz",210.75,210.75,236.5,236.5,245.5,245.5]
[null,"Wavelength of RAS system","m",{"$f":"2.99792458/D8/10","v":1.4225027663107947E-3},1.4225027663107947E-3,1.2676213868921776E-3,1.2676213868921776E-3,1.2211505417515276E-3,1.2211505417515276E-3]
[null,"Bandwidth (ITU-R RA.769-2)","MHz",8000,1,8000,1,8000,1]
[null,"Antenna gain in the direction of interferer (ITU-R RA.769-2)","dBi",0,0,0,0,0,0]
[null,"Feeder (insertion) loss","dB",0,0,0,0,0,0]
[null,"Threshold Interference level at receiver input (ITU-R RA.769-2)","dBW",-187.8,-207,-187.8,-207,-186.8,-207]
[null,"Threshold Interference level at receiver input","dBm",{"$f":"D13+30","v":-157.80000000000001},-177,-157.80000000000001,-177,-156.80000000000001,-177]
[]
[null,"LPR system:"]
[null,"Conducted Tx  power of LPR","dBm",-8,-8,-8,-8,-8,-8]
[null,"Out-of-band unwanted emissions attenuation (if RAS victim is located in an adjacent band)","dB",20,20,0,0,0,0]
[null,"Tx  power e.i.r.p. of LPR","dBm",{"$f":"D17-D18+D25","v":4},4,24,24,24,24]
[null,"Bandwidth of LPR Tx signal","GHz",1,1,1,1,1,1]
[null,"Mitigation technique (e.g. activity factor, adaptive power control)","dB",0,0,0,0,0,0]
[null,"Tx  e.i.r.p. spectral density of LPR","dBm/MHz",{"$f":"D19-10*LOG(D20*1000)","v":-26},-26,-6,-6,-6,-6]
[null,"Tx  e.i.r.p. spectral density of LPR with mitigation ","dBm/MHz",{"$f":"D19+D21-10*LOG(D20*1000)","v":-26},-26,-6,-6,-6,-6]
[null,"Tx  e.i.r.p. of LPR with mitigation ","dBm",{"$f":"D19+D21","v":4},4,24,24,24,24]
[null,"Gain of the LPR antenna in direction of main radiation","dBi",32,32,32,32,32,32]
[]
[null,"Side-lobe interference component:"]
[null,"Antenna side-lobe gain >60° offset angle","dBi",-1,-1,-1,-1,-1,-1]
[null,"Direct  e.i.r.p. component sent to the RAS","dBm",{"$f":"D24-D25+D28","v":-29},-29,-9,-9,-9,-9]
[]
[null,"Reflected interference component:"]
[null,"Sidelobe suppression (first sidelobe, offset angle 20-30° (24° nominal)","dB",-29,-29,-29,-29,-29,-29]
[null,"Reflection loss on sand surface (angle of incidence 33°)","dB",25,25,25,25,25,25]
[null,"Reflected  e.i.r.p. component sent to the RAS","dBm",{"$f":"D24+D32-D33","v":-50},-50,-30,-30,-30,-30]
[]
[null,"Total  e.i.r.p. towards RAS","dBm",{"$f":"10*LOG10(10^(D29/10)+10^(D34/10))","v":-28.965639052482718},-28.965639052482718,-8.9656390524827163,-8.9656390524827163,-8.9656390524827163,-8.9656390524827163]
[null,"BWCF","dB",{"$f":"IF(D20*1000<=D10, 0, 10*LOG10(D10/D20/1000))","v":0},-30,0,-30,0,-30]
[]
[]
[null,"Separation distance calculation:"]
[null,"Minimum coupling loss (MCL)","dB",{"$f":"D36-(D14-D11+D12)+D37","v":128.8343609475173},118.03436094751729,148.8343609475173,138.03436094751729,147.8343609475173,138.03436094751729]
[null,"Separation distance with FSL model","km",{"$f":"10^((D41-32.44-20*LOG10(D8*1000))/20)","v":0.31329283600179564},9.0354640873305456E-2,2.7918167098257261,0.80516873420926516,2.3969918142527926,0.77565134680444436]
[null,"Specific attenuation due to atmospheric gases (acc. to ITU-R  P.835-6 winter high latitude model)","dB/km",0.25,0.25,0.27,0.27,0.28999999999999998,0.28999999999999998]
[null,"Separation distance adjusted for attenuation due to atmospheric gases","km",0.31050580011968054,9.0119202834053613E-2,2.5769130521543921,0.78573231264137167,2.225358637338974,0.75630213065279439]
[null,"Balance check (should be close to zero)","dB",{"$f":"D41-20*LOG10(D44)-D44*D43-32.44-20*LOG10(D8*1000)","v":-1.1509034806067575E-5},1.3265212822943795E-4,-2.3782651609849381E-5,9.8050805817706532E-5,-2.3217917600959481E-5,9.6922621310113755E-5]
[null,null,null,"Note 2",null,"Note 1",null,"Note 3"]
[]
[null,"Note 1: A power spectral density of -6dBm/MHz in the whole RAS bandwidth of 8GHz would result in a separation distance of 6.4km. Therefore, a separation distance of at least 6.4km should be considered in order to protect RAS."]
[]
[null,"Note 2: A power spectral density of -6dBm/MHz in the whole RAS bandwidth of 8GHz would result in a separation distance of 0.9km. Therefore, a separation distance of at least 0.9km should be considered in order to protect RAS."]
[]
[null,"Note 3: A power spectral density of -6dBm/MHz in the whole RAS bandwidth of 8GHz would result in a separation distance of 5.6km. Therefore, a separation distance of at least 5.6km should be considered in order to protect RAS."]

{"sheet":"FS 116-148,5GHz","index":8,"n_rows":111,"n_cols":9,"rows_kept":111,"cut":false,"hidden":false,"merged":[]}
[null,"Compatibility analysis between LPR in the frequency band 116 to 148,5 GHz and Fixed Service (FS) systems"]
[]
[null,"Scenario 1: Light pole connected to a building by means of an FS link – FS Rx on building. See Report figure 38."]
[]
[null,"Victim Fixed Service (FS) system",null,"Band of FS system: 111,8-114,25 GHz","Band of FS system: 111,8-114,25 GHz","Band of FS system: 130-134 GHz","Band of FS system: 130-134 GHz","Band of FS system: 141-148,5 GHz","Band of FS system: 141-148,5 GHz"]
[null,"Sensor type",null,"Point-to-point (PP)","Point-to-point (PP)","Point-to-point (PP)","Point-to-point (PP)","Point-to-point (PP)","Point-to-point (PP)"]
[null,"FS system:","Units"]
[null,"Assumed centre frequency of FS system","GHz",113.02500000000001,113.02500000000001,132,132,144.75,144.75]
[null,"Wavelength of FS system","m",{"$f":"2.99792458/D8/10","v":2.6524437779252377E-3},2.6524437779252377E-3,2.2711549848484845E-3,2.2711549848484845E-3,2.0711050639032813E-3,2.0711050639032813E-3]
[null,"Receiver noise bandwidth (ITU-R-F.758-6)","MHz",1000,1000,1000,1000,1000,1000]
[null,"Receiver noise figure (ITU-R-F.758-6)","dB",12,12,14,14,14,14]
[null,"Misalignment of antenna main beam towards LPR (see figure 38 in the Report)","°",0.19,0.19,0.19,0.19,0.19,0.19]
[null,"Misalignment of antenna main beam towards reflection point on sand surface (see figure 38 in the Report)","°",0.67,0.67,0.67,0.67,0.67,0.67]
[null,"Antenna gain in the direction of interferer for the side-lobe interference component (ITU-R-F.758-6)","dBi",43,43,43,43,43,43]
[null,"Antenna gain in the direction of interferer for the reflected interference component (ITU-R-F.758-6)","dBi",40,40,40,40,40,40]
[null,"Feeder (insertion) loss (ITU-R-F.758-6)","dB",0,0,0,0,0,0]
[null,"I/N criterion (ITU-R F.758-6 )","dB",-20,5,-20,5,-20,5]
[null,"Receiver noise power density typical (ITU-R-F.758-6)","dBW/MHz",-132,-132,-130,-130,-130,-130]
[null,"Nominal long-term interference power density threshold (ITU-R-F.758-6)","dBW/MHz",{"$f":"D18+D17","v":-152},-127,-150,-125,-150,-125]
[null,"Interference threshold at receiver input within IF bandwidth","dBm",{"$f":"D19+10*LOG10(D10)+30","v":-92},-67,-90,-65,-90,-65]
[null,"(Receiver noise power density calculated over NF)","dBW/MHz",{"$f":"-113.83+D11-30","v":-131.82999999999998},-131.82999999999998,-129.82999999999998,-129.82999999999998,-129.82999999999998,-129.82999999999998]
[]
[null,"LPR system:"]
[null,"Conducted Tx  power of LPR","dBm",-8,5,-8,5,-8,5]
[null,"Out-of-band unwanted emissions attenuation (if FS victim is located in an adjacent band)","dB",20,20,0,0,0,0]
[null,"Tx  e.i.r.p. of LPR","dBm",{"$f":"D24-D25+D32","v":4},{"$f":"E24-E25+E32","v":17},24,37,24,37]
[null,"Bandwidth of LPR Tx signal ","GHz",1.6,1.6,1.6,1.6,1.6,1.6]
[null,"Mitigation technique (e.g. activity factor, adaptive power control)","dB",0,0,0,0,0,0]
[null,"Tx  e.i.r.p. spectral density of LPR","dBm/MHz",{"$f":"D26-10*LOG(D27*1000)","v":-28.041199826559243},-15.041199826559243,-8.041199826559243,4.958800173440757,-8.041199826559243,4.958800173440757]
[null,"Tx  e.i.r.p. spectral density of LPR with mitigation ","dBm/MHz",{"$f":"D26+D28-10*LOG(D27*1000)","v":-28.041199826559243},-15.041199826559243,-8.041199826559243,4.958800173440757,-8.041199826559243,4.958800173440757]
[null,"Tx  e.i.r.p. of LPR with mitigation","dBm",{"$f":"D26+D28","v":4},17,24,37,24,37]
[null,"Gain of the LPR antenna in direction of main radiation","dBi",32,32,32,32,32,32]
[]
[null,"Side-lobe interference component:"]
[null,"Antenna side-lobe gain >60° offset angle (offset angle ξ in figure 38 in the Report )","dBi",0,0,0,0,0,0]
[null,"Direct  e.i.r.p. component sent to FS system","dBm",{"$f":"D31-D32+D35","v":-28},-15,-8,5,-8,5]
[null,"Direct  e.i.r.p. component at FS receiver","dBm",{"$f":"D36+D14-D16","v":15},28,35,48,35,48]
[]
[null,"Reflected interference component:"]
[null,"Offset angle of reflected interference component (angle ζ in figure 38 in the Report)","°",19.71,19.71,19.71,19.71,19.71,19.71]
[null,"Antenna gain at angle ζ (see figure 38 in the Report)","dBi",4,4,3,3,2,2]
[null,"Reflection loss on sand surface (angle of incidence 52,71°)","dB",9,9,9,9,9,9]
[null,"Reflected  e.i.r.p. component sent to FS system","dBm",{"$f":"D31-D32+D41-D42","v":-33},-20,-14,-1,-15,-2]
[null,"Reflected e.i.r.p. component at FS receiver","dBm",{"$f":"D43+D15-D16","v":7},20,26,39,25,38]
[]
[null,"Total  e.i.r.p. at FS receiver","dBm",{"$f":"10*LOG10(10^(D37/10)+10^(D44/10))","v":15.638920341433797},28.638920341433796,35.514969420252307,48.514969420252299,35.413926851582254,48.413926851582254]
[null,"BWCF ","dB",{"$f":"IF(D27*1000<=D10, 0, 10*LOG10(D10/D27/1000))","v":-2.0411998265592479},0,{"$f":"IF(F27*1000<=F10, 0, 10*LOG10(F10/F27/1000))","v":-2.0411998265592479},0,{"$f":"IF(H27*1000<=H10, 0, 10*LOG10(H10/H27/1000))","v":-2.0411998265592479},0]
[]
[null,"Separation distance calculation:"]
[null,"Minimum coupling loss (MCL)","dB",{"$f":"D46-D20+D47","v":105.59772051487455},95.638920341433789,123.47376959369305,113.5149694202523,123.37272702502301,113.41392685158226]
[null,"Separation distance with FSL model","km",{"$f":"10^((D50-32.44-20*LOG10(D8*1000))/20)","v":4.0244960923024466E-2},1.2787083506613464E-2,0.26984510756227664,8.5738235175570818E-2,0.243230357902287,7.7281896329551542E-2]
[null,"Specific attenuation due to atmospheric gases (ITU-R P.676-11 figure 5)","dB/km",0.4,0.4,0.8,0.8,1,1]
[null,"Separation distance adjusted for attenuation due to atmospheric gases","km",4.016684721082131E-2,1.2779006920459163E-2,0.26336050351924134,8.5067362007103131E-2,0.23667681399394397,7.6602600812612165E-2]
[null,"Balance check (should be close to zero)","dB",{"$f":"D50-20*LOG10(D53)-D53*D52-32.44-20*LOG10(D8*1000)","v":8.0857613674822915E-4},3.7631792291392685E-4,5.896895391401813E-4,1.7760120672960511E-4,5.6447456375963156E-4,8.2501670902956903E-5]
[null,null,null,"Long term interference criterion","Peak power objective","Long term interference criterion","Peak power objective","Long term interference criterion","Peak power objective"]
[]
[]
[]
[null,"Scenario 2: Light pole connected to a building by means of an FS link – FS Rx at light pole. See Report figure 39."]
[]
[null,"Victim Fixed Service (FS) system",null,"Band of FS system: 111,8-114,25 GHz","Band of FS system: 111,8-114,25 GHz","Band of FS system: 130-134 GHz","Band of FS system: 130-134 GHz","Band of FS system: 141-148,5 GHz","Band of FS system: 141-148,5 GHz"]
[null,"Sensor type",null,"Point-to-point (PP)","Point-to-point (PP)","Point-to-point (PP)","Point-to-point (PP)","Point-to-point (PP)","Point-to-point (PP)"]
[null,"FS system:","Units"]
[null,"Assumed centre frequency of FS system","GHz",113.02500000000001,113.02500000000001,132,132,144.75,144.75]
[null,"Wavelength of FS system","m",{"$f":"2.99792458/D64/10","v":2.6524437779252377E-3},2.6524437779252377E-3,2.2711549848484845E-3,2.2711549848484845E-3,2.0711050639032813E-3,2.0711050639032813E-3]
[null,"Receiver noise bandwidth (ITU-R-F.758-6)","MHz",1000,1000,1000,1000,1000,1000]
[null,"Receiver noise figure (ITU-R-F.758-6)","dB",12,12,14,14,14,14]
[null,"Misalignment of antenna main beam towards LPR (angle α in figure 39 in the Report)","°",3.62,3.62,3.62,3.62,3.62,3.62]
[null,"Misalignment of antenna main beam towards reflection point on sand surface (angle α+β in figure 39 in the Report)","°",4.29,4.29,4.29,4.29,4.29,4.29]
[null,"Antenna gain in the direction of interferer for the side-lobe interference component (ITU-R-F.758-6)","dBi",22,22,22,22,22,22]
[null,"Antenna gain in the direction of interferer for the reflected interference component (ITU-R-F.758-6)","dBi",19,19,19,19,19,19]
[null,"Feeder (insertion) loss (ITU-R-F.758-6)","dB",0,0,0,0,0,0]
[null,"I/N criterion (ITU-R F.758-6 )","dB",-20,5,-20,5,-20,5]
[null,"Receiver noise power density typical (ITU-R-F.758-6)","dBW/MHz",-132,-132,-130,-130,-130,-130]
[null,"Nominal long-term interference power density threshold (ITU-R-F.758-6)","dBW/MHz",{"$f":"D74+D73","v":-152},-127,-150,-125,-150,-125]
[null,"Interference threshold at receiver input within IF bandwidth","dBm",{"$f":"D75+10*LOG10(D66)+30","v":-92},-67,-90,-65,-90,-65]
[null,"(Receiver noise power density calculated over NF)","dBW/MHz",{"$f":"-113.83+D67-30","v":-131.82999999999998},-131.82999999999998,-129.82999999999998,-129.82999999999998,-129.82999999999998,-129.82999999999998]
[]
[null,"LPR system:"]
[null,"Conducted Tx  power of LPR","dBm",-8,5,-8,5,-8,5]
[null,"Out-of-band unwanted emissions attenuation (if FS victim is located in an adjacent band)","dB",20,20,0,0,0,0]
[null,"Tx  e.i.r.p. of LPR","dBm",{"$f":"D80-D81+D88","v":4},{"$f":"E80-E81+E88","v":17},{"$f":"F80-F81+F88","v":24},{"$f":"G80-G81+G88","v":37},{"$f":"H80-H81+H88","v":24},{"$f":"I80-I81+I88","v":37}]
[null,"Bandwidth of LPR Tx signal ","GHz",1.6,1.6,1.6,1.6,1.6,1.6]
[null,"Mitigation technique (e.g. activity factor, adaptive power control)","dB",0,0,0,0,0,0]
[null,"Tx  e.i.r.p. spectral density of LPR","dBm/MHz",{"$f":"D82-10*LOG(D83*1000)","v":-28.041199826559243},-15.041199826559243,-8.041199826559243,4.958800173440757,-8.041199826559243,4.958800173440757]
[null,"Tx  e.i.r.p. spectral density of LPR with mitigation ","dBm/MHz",{"$f":"D82+D84-10*LOG(D83*1000)","v":-28.041199826559243},-15.041199826559243,-8.041199826559243,4.958800173440757,-8.041199826559243,4.958800173440757]
[null,"Tx  e.i.r.p. of LPR with mitigation","dBm",{"$f":"D82+D84","v":4},17,24,37,24,37]
[null,"Gain of the LPR antenna in direction of main radiation","dBi",32,32,32,32,32,32]
[]
[null,"Side-lobe interference component:"]
[null,"Antenna side-lobe gain >60° offset angle (offset angle 90°, see figure 39 in the Report )","dBi",0,0,0,0,0,0]
[null,"Direct  e.i.r.p. component sent to FS system","dBm",{"$f":"D87-D88+D91","v":-28},{"$f":"E87-E88+E91","v":-15},{"$f":"F87-F88+F91","v":-8},{"$f":"G87-G88+G91","v":5},{"$f":"H87-H88+H91","v":-8},{"$f":"I87-I88+I91","v":5}]
[null,"Direct  e.i.r.p. component at FS receiver","dBm",{"$f":"D92+D70-D72","v":-6},7,14,27,14,27]
[]
[null,"Reflected interference component:"]
[null,"Offset angle of reflected interference component (angle ζ in figure 39 in the Report)","°",23.33,23.33,23.33,23.33,23.33,23.33]
[null,"Antenna gain at angle ζ (see figure 39 in the Report)","dBi",4,4,3,3,2,2]
[null,"Reflection loss on sand surface (angle of incidence 56,33°)","dB",8,8,8,8,8,8]
[null,"Reflected  e.i.r.p. component sent to FS system","dBm",{"$f":"D87-D88+D97-D98","v":-32},-19,-13,0,-14,-1]
[null,"Reflected e.i.r.p. component at FS receiver","dBm",{"$f":"D99+D71-D72","v":-13},0,6,19,5,18]
[]
[null,"Total  e.i.r.p. at FS receiver","dBm",{"$f":"10*LOG10(10^(D93/10)+10^(D100/10))","v":-5.2099025034743356},7.7900974965256653,14.638920341433796,27.638920341433799,14.514969420252301,27.514969420252307]
[null,"BWCF ","dB",{"$f":"IF(D66*1000<=D83, 0, 10*LOG10(D66/D83/1000))","v":-2.0411998265592479},0,{"$f":"IF(F66*1000<=F83, 0, 10*LOG10(F66/F83/1000))","v":-2.0411998265592479},0,{"$f":"IF(H66*1000<=H83, 0, 10*LOG10(H66/H83/1000))","v":-2.0411998265592479},0]
[]
[null,"Separation distance calculation:"]
[null,"Minimum coupling loss (MCL)","dB",{"$f":"D102-D76+D103","v":84.748897669966411},74.790097496525661,102.59772051487454,92.638920341433803,102.47376959369305,92.514969420252299]
[null,"Separation distance with FSL model","km",{"$f":"10^((D106-32.44-20*LOG10(D64*1000))/20)","v":3.6498109331292686E-3},{"$f":"10^((E106-32.44-20*LOG10(E64*1000))/20)","v":1.1596591502359818E-3},{"$f":"10^((F106-32.44-20*LOG10(F64*1000))/20)","v":2.4395633179111562E-2},{"$f":"10^((G106-32.44-20*LOG10(G64*1000))/20)","v":7.7512560952579324E-3},{"$f":"10^((H106-32.44-20*LOG10(H64*1000))/20)","v":2.1931579340290011E-2},{"$f":"10^((I106-32.44-20*LOG10(I64*1000))/20)","v":6.9683490808352382E-3}]
[null,"Specific attenuation due to atmospheric gases (ITU-R P.676-11 figure 5)","dB/km",0.4,0.4,0.8,0.8,1,1]
[null,"Separation distance adjusted for attenuation due to atmospheric gases","km",3.6488494502091603E-3,1.1594864861048755E-3,2.433875321469145E-2,7.7453561096931184E-3,2.1874397875598202E-2,6.9626020857477865E-3]
[null,"Balance check (should be close to zero)","dB",{"$f":"D106-20*LOG10(D109)-D109*D108-32.44-20*LOG10(D64*1000)","v":8.2891704421683698E-4},{"$f":"E106-20*LOG10(E109)-E109*E108-32.44-20*LOG10(E64*1000)","v":8.2956237848463843E-4},{"$f":"F106-20*LOG10(F109)-F109*F108-32.44-20*LOG10(F64*1000)","v":8.0434526643102799E-4},{"$f":"G106-20*LOG10(G109)-G109*G108-32.44-20*LOG10(G64*1000)","v":4.1762856386640124E-4},{"$f":"H106-20*LOG10(H109)-H109*H108-32.44-20*LOG10(H64*1000)","v":8.0160231047443631E-4},{"$f":"I106-20*LOG10(I109)-I109*I108-32.44-20*LOG10(I64*1000)","v":2.0385299905001375E-4}]
[null,null,null,"Long term interference criterion","Peak power objective","Long term interference criterion","Peak power objective","Long term interference criterion","Peak power objective"]

{"sheet":"FS 167-182GHz","index":9,"n_rows":111,"n_cols":5,"rows_kept":111,"cut":false,"hidden":false,"merged":[]}
[null,"Compatibility analysis between LPR in the frequency band 167 to 182 GHz and Fixed Service (FS) systems"]
[]
[null,"Scenario 1: Light pole connected to a building by means of an FS link – FS Rx on building. See Report figure 38."]
[]
[null,"Victim Fixed Service (FS) system",null,"Band of FS system: 167-174,8 GHz","Band of FS system: 167-174,8 GHz"]
[null,"Sensor type",null,"Point-to-point (PP)","Point-to-point (PP)"]
[null,"FS system:","Units"]
[null,"Assumed centre frequency of FS system","GHz",170.9,170.9]
[null,"Wavelength of FS system","m",{"$f":"2.99792458/D8/10","v":1.7541981158572264E-3},{"$f":"2.99792458/E8/10","v":1.7541981158572264E-3}]
[null,"Receiver noise bandwidth (ITU-R-F.758-6)","MHz",1000,1000]
[null,"Receiver noise figure (ITU-R-F.758-6)","dB",14,14]
[null,"Misalignment of antenna main beam towards LPR (see figure 38 in the Report)","°",0.19,0.19]
[null,"Misalignment of antenna main beam towards reflection point on sand surface (see figure 38 in the Report)","°",0.67,0.67]
[null,"Antenna gain in the direction of interferer for the side-lobe interference component (ITU-R-F.758-6)","dBi",43,43]
[null,"Antenna gain in the direction of interferer for the reflected interference component (ITU-R-F.758-6)","dBi",40,40]
[null,"Feeder (insertion) loss (ITU-R-F.758-6)","dB",0,0]
[null,"I/N criterion (ITU-R F.758-6 )","dB",-20,5]
[null,"Receiver noise power density typical (ITU-R-F.758-6)","dBW/MHz",-130,-130]
[null,"Nominal long-term interference power density threshold (ITU-R-F.758-6)","dBW/MHz",{"$f":"D18+D17","v":-150},{"$f":"E18+E17","v":-125}]
[null,"Interference threshold at receiver input within IF bandwidth","dBm",{"$f":"D19+10*LOG10(D10)+30","v":-90},{"$f":"E19+10*LOG10(E10)+30","v":-65}]
[null,"(Receiver noise power density calculated over NF)","dBW/MHz",{"$f":"-113.83+D11-30","v":-129.82999999999998},{"$f":"-113.83+E11-30","v":-129.82999999999998}]
[]
[null,"LPR system:"]
[null,"Conducted Tx  power of LPR","dBm",-8,5]
[null,"Out-of-band unwanted emissions attenuation (if FS victim is located in an adjacent band)","dB",0,0]
[null,"Tx  e.i.r.p. of LPR","dBm",{"$f":"D24-D25+D32","v":24},{"$f":"E24-E25+E32","v":37}]
[null,"Bandwidth of LPR Tx signal ","GHz",1,1]
[null,"Mitigation technique (e.g. activity factor, adaptive power control)","dB",0,0]
[null,"Tx  e.i.r.p. spectral density of LPR","dBm/MHz",{"$f":"D26-10*LOG(D27*1000)","v":-6},{"$f":"E26-10*LOG(E27*1000)","v":7}]
[null,"Tx  e.i.r.p. spectral density of LPR with mitigation ","dBm/MHz",{"$f":"D26+D28-10*LOG(D27*1000)","v":-6},{"$f":"E26+E28-10*LOG(E27*1000)","v":7}]
[null,"Tx  e.i.r.p. of LPR with mitigation","dBm",{"$f":"D26+D28","v":24},{"$f":"E26+E28","v":37}]
[null,"Gain of the LPR antenna in direction of main radiation","dBi",32,32]
[]
[null,"Side-lobe interference component:"]
[null,"Antenna side-lobe gain >60° offset angle (offset angle ξ in figure 38 in the Report )","dBi",0,0]
[null,"Direct  e.i.r.p. component sent to FS system","dBm",{"$f":"D31-D32+D35","v":-8},5]
[null,"Direct  e.i.r.p. component at FS receiver","dBm",{"$f":"D36+D14-D16","v":35},{"$f":"E36+E14-E16","v":48}]
[]
[null,"Reflected interference component:"]
[null,"Offset angle of reflected interference component (angle ζ in figure 38 in the Report)","°",19.71,19.71]
[null,"Antenna gain at angle ζ (see figure 38 in the Report)","dBi",2,2]
[null,"Reflection loss on sand surface (angle of incidence 52,71°)","dB",12.5,12.5]
[null,"Reflected  e.i.r.p. component sent to FS system","dBm",{"$f":"D31-D32+D41-D42","v":-18.5},{"$f":"E31-E32+E41-E42","v":-5.5}]
[null,"Reflected e.i.r.p. component at FS receiver","dBm",{"$f":"D43+D15-D16","v":21.5},{"$f":"E43+E15-E16","v":34.5}]
[]
[null,"Total  e.i.r.p. towards FS","dBm",{"$f":"10*LOG10(10^(D37/10)+10^(D44/10))","v":35.189784410477344},{"$f":"10*LOG10(10^(E37/10)+10^(E44/10))","v":48.189784410477344}]
[null,"BWCF ","dB",{"$f":"IF(D27*1000<=D10, 0, 10*LOG10(D10/D27/1000))","v":0},0]
[]
[null,"Separation distance calculation:"]
[null,"Minimum coupling loss (MCL)","dB",{"$f":"D46-D20+D47","v":125.18978441047734},{"$f":"E46-E20+E47","v":113.18978441047734}]
[null,"Separation distance with FSL model","km",{"$f":"10^((D50-32.44-20*LOG10(D8*1000))/20)","v":0.25394938054814731},6.3789200328915441E-2]
[null,"Specific attenuation due to atmospheric gases (ITU-R P.676-11 figure 5)","dB/km",2,2]
[null,"Separation distance adjusted for attenuation due to atmospheric gases","km",0.24027914560812619,6.2866600146792254E-2]
[null,"Balance check (should be close to zero)","dB",{"$f":"D50-20*LOG10(D53)-D53*D52-32.44-20*LOG10(D8*1000)","v":6.3284834908472476E-5},{"$f":"E50-20*LOG10(E53)-E53*E52-32.44-20*LOG10(E8*1000)","v":8.1047277117818339E-4}]
[null,null,null,"Long term interference criterion","Peak power objective"]
[]
[]
[]
[null,"Scenario 2: Light pole connected to a building by means of an FS link – FS Rx at light pole. See Report figure 39."]
[]
[null,"Victim Fixed Service (FS) system",null,"Band of FS system: 167-174,8 GHz","Band of FS system: 167-174,8 GHz"]
[null,"Sensor type",null,"Point-to-point (PP)","Point-to-point (PP)"]
[null,"FS system:","Units"]
[null,"Assumed centre frequency of FS system","GHz",170.9,170.9]
[null,"Wavelength of FS system","m",{"$f":"2.99792458/D64/10","v":1.7541981158572264E-3},{"$f":"2.99792458/E64/10","v":1.7541981158572264E-3}]
[null,"Receiver noise bandwidth (ITU-R-F.758-6)","MHz",1000,1000]
[null,"Receiver noise figure (ITU-R-F.758-6)","dB",14,14]
[null,"Misalignment of antenna main beam towards LPR (angle α in figure 39 in the Report)","°",3.62,3.62]
[null,"Misalignment of antenna main beam towards reflection point on sand surface (angle α+β in figure 39 in the Report)","°",4.29,4.29]
[null,"Antenna gain in the direction of interferer for the side-lobe interference component (ITU-R-F.758-6)","dBi",22,22]
[null,"Antenna gain in the direction of interferer for the reflected interference component (ITU-R-F.758-6)","dBi",19,19]
[null,"Feeder (insertion) loss (ITU-R-F.758-6)","dB",0,0]
[null,"I/N criterion (ITU-R F.758-6 )","dB",-20,5]
[null,"Receiver noise power density typical (ITU-R-F.758-6)","dBW/MHz",-130,-130]
[null,"Nominal long-term interference power density threshold (ITU-R-F.758-6)","dBW/MHz",{"$f":"D74+D73","v":-150},{"$f":"E74+E73","v":-125}]
[null,"Interference threshold at receiver input within IF bandwidth","dBm",{"$f":"D75+10*LOG10(D66)+30","v":-90},{"$f":"E75+10*LOG10(E66)+30","v":-65}]
[null,"(Receiver noise power density calculated over NF)","dBW/MHz",{"$f":"-113.83+D67-30","v":-129.82999999999998},{"$f":"-113.83+E67-30","v":-129.82999999999998}]
[]
[null,"LPR system:"]
[null,"Conducted Tx  power of LPR","dBm",-8,5]
[null,"Out-of-band unwanted emissions attenuation (if FS victim is located in an adjacent band)","dB",0,0]
[null,"Tx  e.i.r.p. of LPR","dBm",{"$f":"D80-D81+D88","v":24},{"$f":"E80-E81+E88","v":37}]
[null,"Bandwidth of LPR Tx signal ","GHz",1,1]
[null,"Mitigation technique (e.g. activity factor, adaptive power control)","dB",0,0]
[null,"Tx  e.i.r.p. spectral density of LPR","dBm/MHz",{"$f":"D82-10*LOG(D83*1000)","v":-6},{"$f":"E82-10*LOG(E83*1000)","v":7}]
[null,"Tx  e.i.r.p. spectral density of LPR with mitigation ","dBm/MHz",{"$f":"D82+D84-10*LOG(D83*1000)","v":-6},{"$f":"E82+E84-10*LOG(E83*1000)","v":7}]
[null,"Tx  e.i.r.p. of LPR with mitigation","dBm",{"$f":"D82+D84","v":24},{"$f":"E82+E84","v":37}]
[null,"Gain of the LPR antenna in direction of main radiation","dBi",32,32]
[]
[null,"Side-lobe interference component:"]
[null,"Antenna side-lobe gain >60° offset angle (offset angle 90°, see figure 39 in the Report )","dBi",0,0]
[null,"Direct  e.i.r.p. component sent to FS system","dBm",{"$f":"D87-D88+D91","v":-8},{"$f":"E87-E88+E91","v":5}]
[null,"Direct  e.i.r.p. component at FS receiver","dBm",{"$f":"D92+D70-D72","v":14},{"$f":"E92+E70-E72","v":27}]
[]
[null,"Reflected interference component:"]
[null,"Offset angle of reflected interference component (angle ζ in figure 39 in the Report)","°",23.33,23.33]
[null,"Antenna gain at angle ζ (see figure 39 in the Report)","dBi",2,2]
[null,"Reflection loss on sand surface (angle of incidence 56,33°)","dB",12.5,12.5]
[null,"Reflected  e.i.r.p. component sent to FS system","dBm",{"$f":"D87-D88+D97-D98","v":-18.5},{"$f":"E87-E88+E97-E98","v":-5.5}]
[null,"Reflected e.i.r.p. component at FS receiver","dBm",{"$f":"D99+D71-D72","v":0.5},{"$f":"E99+E71-E72","v":13.5}]
[]
[null,"Total  e.i.r.p. at FS receiver","dBm",{"$f":"10*LOG10(10^(D93/10)+10^(D100/10))","v":14.189784410477344},{"$f":"10*LOG10(10^(E93/10)+10^(E100/10))","v":27.189784410477348}]
[null,"BWCF ","dB",{"$f":"IF(D66*1000<=D83, 0, 10*LOG10(D66/D83/1000))","v":0},0]
[]
[null,"Separation distance calculation:"]
[null,"Minimum coupling loss (MCL)","dB",{"$f":"D102-D76+D103","v":104.18978441047734},{"$f":"E102-E76+E103","v":92.189784410477344}]
[null,"Separation distance with FSL model","km",{"$f":"10^((D106-32.44-20*LOG10(D64*1000))/20)","v":2.2633262365201978E-2},{"$f":"10^((E106-32.44-20*LOG10(E64*1000))/20)","v":5.6852184635947248E-3}]
[null,"Specific attenuation due to atmospheric gases (ITU-R P.676-11 figure 5)","dB/km",2,2]
[null,"Separation distance adjusted for attenuation due to atmospheric gases","km",2.2518687337128054E-2,5.6772383541055281E-3]
[null,"Balance check (should be close to zero)","dB",{"$f":"D106-20*LOG10(D109)-D109*D108-32.44-20*LOG10(D64*1000)","v":-9.5563770651097002E-4},{"$f":"E106-20*LOG10(E109)-E109*E108-32.44-20*LOG10(E64*1000)","v":8.4611737659656683E-4}]
[null,null,null,"Long term interference criterion","Peak power objective"]

{"sheet":"Amateur 116-148,5GHz","index":10,"n_rows":47,"n_cols":11,"rows_kept":47,"cut":false,"hidden":false,"merged":[[4,7,4,10],[4,3,4,6]]}
[null,"Compatibility analysis between LPR in the frequency band 116 to 148,5 GHz and Amateur systems"]
[]
[]
[]
[null,"Victim Amateur system",null,"Band of amateur system: 122,25-123 GHz",null,null,null,"Band of amateur system: 134-141 GHz"]
[null,"Sensor type",null,"Morse on-off keying","Analogue voice","Data, digital voice and multimedia","Earth-moon-earth (EME) systems","Morse on-off keying","Analogue voice","Data, digital voice and multimedia","Earth-moon-earth (EME) systems"]
[null,"Amateur system:","Units"]
[null,"Assumed centre frequency of Amateur system","GHz",122.625,122.625,122.625,122.625,137.5,137.5,137.5,137.5]
[null,"Wavelength of Amateur system","m",{"$f":"2.99792458/D8/10","v":2.4447906870540262E-3},2.4447906870540262E-3,2.4447906870540262E-3,2.4447906870540262E-3,2.1803087854545453E-3,2.1803087854545453E-3,2.1803087854545453E-3,2.1803087854545453E-3]
[null,"Receiver IF bandwidth (ITU-R M.1732-2)","MHz",5.0000000000000001E-4,2.7000000000000001E-3,2.7000000000000001E-3,2.3999999999999998E-3,5.0000000000000001E-4,2.7000000000000001E-3,2.7000000000000001E-3,2.3999999999999998E-3]
[null,"Receiver noise figure (ITU-R M.1732-2)","dB",3,3,3,3,3,3,3,3]
[null,"Antenna gain in the direction of interferer (ITU-R M.1732-2)","dBi",32,32,32,32,32,32,32,32]
[null,"Feeder (insertion) loss (ITU-R M.1732-2)","dB",2,2,2,3,2,2,2,3]
[null,"I/N criterion (ITU-R M.1808)","dB",-10,-10,-10,-10,-10,-10,-10,-10]
[null,"Receiver noise power density","dBW/MHz",{"$f":"-113.83+D11-30","v":-140.82999999999998},-140.82999999999998,-140.82999999999998,-140.82999999999998,-140.82999999999998,-140.82999999999998,-140.82999999999998,-140.82999999999998]
[null,"Interference power density threshold","dBW/MHz",{"$f":"D15+D14","v":-150.82999999999998},-150.82999999999998,-150.82999999999998,-150.82999999999998,-150.82999999999998,-150.82999999999998,-150.82999999999998,-150.82999999999998]
[null,"Interference threshold at receiver input within IF bandwidth","dBm",{"$f":"D16+10*LOG10(D10)+30","v":-153.8402999566398},-146.51636235841011,-146.51636235841011,-147.02788758288392,-153.8402999566398,-146.51636235841011,-146.51636235841011,-147.02788758288392]
[]
[null,"LPR system:"]
[null,"Conducted Tx  power of LPR","dBm",-8,-8,-8,-8,-8,-8,-8,-8]
[null,"Out-of-band unwanted emissions attenuation (if Amateur victim is located in an adjacent band)","dB",0,0,0,0,0,0,0,0]
[null,"Tx  e.i.r.p. of LPR","dBm",{"$f":"D20-D21+D28","v":24},24,24,24,24,24,24,24]
[null,"Bandwidth of LPR Tx signal ","GHz",1.6,1.6,1.6,1.6,1.6,1.6,1.6,1.6]
[null,"Mitigation technique (e.g. activity factor, adaptive power control)","dB",0,0,0,0,0,0,0,0]
[null,"Tx  e.i.r.p. spectral density of LPR","dBm/MHz",{"$f":"D22-10*LOG(D23*1000)","v":-8.041199826559243},-8.041199826559243,-8.041199826559243,-8.041199826559243,-8.041199826559243,-8.041199826559243,-8.041199826559243,-8.041199826559243]
[null,"Tx  e.i.r.p. spectral density of LPR with mitigation ","dBm/MHz",{"$f":"D22+D24-10*LOG(D23*1000)","v":-8.041199826559243},-8.041199826559243,-8.041199826559243,-8.041199826559243,-8.041199826559243,-8.041199826559243,-8.041199826559243,-8.041199826559243]
[null,"Tx  e.i.r.p. of LPR with mitigation","dBm",{"$f":"D22+D24","v":24},24,24,24,24,24,24,24]
[null,"Gain of the LPR antenna in direction of main radiation","dBi",32,32,32,32,32,32,32,32]
[]
[null,"Side-lobe interference component:"]
[null,"Antenna side-lobe gain >60° offset angle","dBi",0,0,0,0,0,0,0,0]
[null,"Direct  e.i.r.p. component sent to Amateur system","dBm",{"$f":"D27-D28+D31","v":-8},-8,-8,-8,-8,-8,-8,-8]
[]
[null,"Reflected interference component:"]
[null,"Sidelobe suppression (first sidelobe, offset angle 20-30° (24° nominal)","dB",-28,-28,-28,-28,-28,-28,-28,-28]
[null,"Reflection loss on sand surface (angle of incidence 33°)","dB",18,18,18,18,18,18,18,18]
[null,"Reflected  e.i.r.p. component sent to Amateur system","dBm",{"$f":"D27+D35-D36","v":-22},-22,-22,-22,-22,-22,-22,-22]
[]
[null,"Total  e.i.r.p. towards Amateur system","dBm",{"$f":"10*LOG10(10^(D32/10)+10^(D37/10))","v":-7.83045710720467},-7.83045710720467,-7.83045710720467,-7.83045710720467,-7.83045710720467,-7.83045710720467,-7.83045710720467,-7.83045710720467]
[null,"BWCF ","dB",{"$f":"IF(D23*1000<=D10, 0, 10*LOG10(D10/D23/1000))","v":-65.051499783199063},-57.727562184969372,-57.727562184969372,-58.239087409443187,-65.051499783199063,-57.727562184969372,-57.727562184969372,-58.239087409443187]
[]
[null,"Separation distance calculation:"]
[null,"Minimum coupling loss (MCL)","dB",{"$f":"D39-(D17-D12+D13)+D40","v":110.95834306623607},110.95834306623607,110.95834306623607,109.95834306623607,110.95834306623607,110.95834306623607,110.95834306623607,109.95834306623607]
[null,"Separation distance with FSL model","km",{"$f":"10^((D43-32.44-20*LOG10(D8*1000))/20)","v":6.8760358594319157E-2},6.8760358594319157E-2,6.8760358594319157E-2,6.1282734103599731E-2,6.1321737982751895E-2,6.1321737982751895E-2,6.1321737982751895E-2,5.4653056505119361E-2]
[null,"Specific attenuation due to atmospheric gases (ITU-R P.676-11 figure 5)","dB/km",0.4,0.4,0.4,0.4,0.8,0.8,0.8,0.8]
[null,"Separation distance adjusted for attenuation due to atmospheric gases","km",6.8537408571413383E-2,6.8537408571413522E-2,6.8537408571413522E-2,6.1104914620088414E-2,6.0972943334273041E-2,6.0972942985255241E-2,6.0972943334273041E-2,5.4375184790703662E-2]
[null,"Balance check (should be close to zero)","dB",{"$f":"D43-20*LOG10(D46)-D46*D45-32.44-20*LOG10(D8*1000)","v":7.9410414562630649E-4},7.9410414559788478E-4,7.9410414559788478E-4,7.9786042857676875E-4,7.6754553147395654E-4,7.6759552995042668E-4,7.6754553147395654E-4,7.7403731494030126E-4]

{"sheet":"Amateur 231,5-250GHz","index":11,"n_rows":47,"n_cols":7,"rows_kept":47,"cut":false,"hidden":false,"merged":[[4,3,4,6]]}
[null,"Compatibility analysis between LPR in the frequency band 231,5 to 250 GHz and Amateur systems"]
[]
[]
[]
[null,"Victim Amateur system",null,"Band of amateur system: 241-250 GHz"]
[null,"Sensor type",null,"Morse on-off keying","Analogue voice","Data, digital voice and multimedia","Earth-moon-earth (EME) systems"]
[null,"Amateur system:","Units"]
[null,"Assumed centre frequency of Amateur system","GHz",245.5,245.5,245.5,245.5]
[null,"Wavelength of Amateur system","m",{"$f":"2.99792458/D8/10","v":1.2211505417515276E-3},{"$f":"2.99792458/E8/10","v":1.2211505417515276E-3},{"$f":"2.99792458/F8/10","v":1.2211505417515276E-3},{"$f":"2.99792458/G8/10","v":1.2211505417515276E-3}]
[null,"Receiver IF bandwidth (ITU-R M.1732-2)","MHz",5.0000000000000001E-4,2.7000000000000001E-3,2.7000000000000001E-3,2.3999999999999998E-3]
[null,"Receiver noise figure (ITU-R M.1732-2)","dB",5,5,5,5]
[null,"Antenna gain in the direction of interferer (ITU-R M.1732-2)","dBi",32,32,32,32]
[null,"Feeder (insertion) loss (ITU-R M.1732-2)","dB",3,3,3,4]
[null,"I/N criterion (ITU-R M.1808)","dB",-10,-10,-10,-10]
[null,"Receiver noise power density","dBW/MHz",{"$f":"-113.83+D11-30","v":-138.82999999999998},{"$f":"-113.83+E11-30","v":-138.82999999999998},{"$f":"-113.83+F11-30","v":-138.82999999999998},{"$f":"-113.83+G11-30","v":-138.82999999999998}]
[null,"Interference power density threshold","dBW/MHz",{"$f":"D15+D14","v":-148.82999999999998},{"$f":"E15+E14","v":-148.82999999999998},{"$f":"F15+F14","v":-148.82999999999998},{"$f":"G15+G14","v":-148.82999999999998}]
[null,"Interference threshold at receiver input within IF bandwidth","dBm",{"$f":"D16+10*LOG10(D10)+30","v":-151.8402999566398},{"$f":"E16+10*LOG10(E10)+30","v":-144.51636235841011},{"$f":"F16+10*LOG10(F10)+30","v":-144.51636235841011},{"$f":"G16+10*LOG10(G10)+30","v":-145.02788758288392}]
[]
[null,"LPR system:"]
[null,"Conducted Tx  power of LPR","dBm",-8,-8,-8,-8]
[null,"Out-of-band unwanted emissions attenuation (if Amateur victim is located in an adjacent band)","dB",0,0,0,0]
[null,"Tx  e.i.r.p. of LPR","dBm",{"$f":"D20-D21+D28","v":24},{"$f":"E20-E21+E28","v":24},{"$f":"F20-F21+F28","v":24},{"$f":"G20-G21+G28","v":24}]
[null,"Bandwidth of LPR Tx signal ","GHz",1,1,1,1]
[null,"Mitigation technique (e.g. activity factor, adaptive power control)","dB",0,0,0,0]
[null,"Tx  e.i.r.p. spectral density of LPR","dBm/MHz",{"$f":"D22-10*LOG(D23*1000)","v":-6},{"$f":"E22-10*LOG(E23*1000)","v":-6},{"$f":"F22-10*LOG(F23*1000)","v":-6},{"$f":"G22-10*LOG(G23*1000)","v":-6}]
[null,"Tx  e.i.r.p. spectral density of LPR with mitigation ","dBm/MHz",{"$f":"D22+D24-10*LOG(D23*1000)","v":-6},{"$f":"E22+E24-10*LOG(E23*1000)","v":-6},{"$f":"F22+F24-10*LOG(F23*1000)","v":-6},{"$f":"G22+G24-10*LOG(G23*1000)","v":-6}]
[null,"Tx  e.i.r.p. of LPR with mitigation","dBm",{"$f":"D22+D24","v":24},{"$f":"E22+E24","v":24},{"$f":"F22+F24","v":24},{"$f":"G22+G24","v":24}]
[null,"Gain of the LPR antenna in direction of main radiation","dBi",32,32,32,32]
[]
[null,"Side-lobe interference component:"]
[null,"Antenna side-lobe gain >60° offset angle","dBi",-1,-1,-1,-1]
[null,"Direct  e.i.r.p. component sent to Amateur system","dBm",{"$f":"D27-D28+D31","v":-9},{"$f":"E27-E28+E31","v":-9},{"$f":"F27-F28+F31","v":-9},{"$f":"G27-G28+G31","v":-9}]
[]
[null,"Reflected interference component:"]
[null,"Sidelobe suppression (first sidelobe, offset angle 20-30° (24° nominal)","dB",-29,-29,-29,-29]
[null,"Reflection loss on sand surface (angle of incidence 33°)","dB",25,25,25,25]
[null,"Reflected  e.i.r.p. component sent to Amateur system","dBm",{"$f":"D27+D35-D36","v":-30},{"$f":"E27+E35-E36","v":-30},{"$f":"F27+F35-F36","v":-30},{"$f":"G27+G35-G36","v":-30}]
[]
[null,"Total  e.i.r.p. towards Amateur system","dBm",{"$f":"10*LOG10(10^(D32/10)+10^(D37/10))","v":-8.9656390524827163},{"$f":"10*LOG10(10^(E32/10)+10^(E37/10))","v":-8.9656390524827163},{"$f":"10*LOG10(10^(F32/10)+10^(F37/10))","v":-8.9656390524827163},{"$f":"10*LOG10(10^(G32/10)+10^(G37/10))","v":-8.9656390524827163}]
[null,"BWCF ","dB",{"$f":"IF(D23*1000<=D10, 0, 10*LOG10(D10/D23/1000))","v":-63.010299956639813},{"$f":"IF(E23*1000<=E10, 0, 10*LOG10(E10/E23/1000))","v":-55.686362358410129},{"$f":"IF(F23*1000<=F10, 0, 10*LOG10(F10/F23/1000))","v":-55.686362358410129},{"$f":"IF(G23*1000<=G10, 0, 10*LOG10(G10/G23/1000))","v":-56.197887582883936}]
[]
[null,"Separation distance calculation:"]
[null,"Minimum coupling loss (MCL)","dB",{"$f":"D39-(D17-D12+D13)+D40","v":108.86436094751727},{"$f":"E39-(E17-E12+E13)+E40","v":108.86436094751727},{"$f":"F39-(F17-F12+F13)+F40","v":108.86436094751727},{"$f":"G39-(G17-G12+G13)+G40","v":107.86436094751727}]
[null,"Separation distance with FSL model","km",{"$f":"10^((D43-32.44-20*LOG10(D8*1000))/20)","v":2.6987742076045425E-2},{"$f":"10^((E43-32.44-20*LOG10(E8*1000))/20)","v":2.6987742076045425E-2},{"$f":"10^((F43-32.44-20*LOG10(F8*1000))/20)","v":2.6987742076045425E-2},{"$f":"10^((G43-32.44-20*LOG10(G8*1000))/20)","v":2.405285044338704E-2}]
[null,"Specific attenuation due to atmospheric gases (ITU-R P.676-11 figure 5)","dB/km",3,3,3,3]
[null,"Separation distance adjusted for attenuation due to atmospheric gases","km",2.6739273646694525E-2,2.6739273646694595E-2,2.6739273646694595E-2,2.3855149397129856E-2]
[null,"Balance check (should be close to zero)","dB",{"$f":"D43-20*LOG10(D46)-D46*D45-32.44-20*LOG10(D8*1000)","v":1.2108167317137486E-4},{"$f":"E43-20*LOG10(E46)-E46*E45-32.44-20*LOG10(E8*1000)","v":1.2108167314295315E-4},{"$f":"F43-20*LOG10(F46)-F46*F45-32.44-20*LOG10(F8*1000)","v":1.2108167314295315E-4},{"$f":"G43-20*LOG10(G46)-G46*G45-32.44-20*LOG10(G8*1000)","v":1.2275514310999824E-4}]