{"text_format":"1","workbook":"xlsx","n_sheets":16,"sheets":["Market Size","EESS 116-130GHz","EESS 174,8-182GHz","EESS 185-190GHz","EESS 231,5-250GHz","RAS 116-130GHz","RAS 134-141GHz","RAS 174,8-182GHz","RAS 185-190GHz","RAS 231,5-250GHz","FS 116-130GHz","FS 134-141GHz","FS 174,8-182GHz","Amateur 116-130GHz","Amateur 134-141GHz","Amateur 231,5-250GHz"],"not_rendered":{"charts":0,"images":0,"macros":1,"external_links":0,"defined_names":0,"comments":0,"pivot_tables":0},"unopened":[],"bounds":{"document_bytes":16777216,"sheet_cells":100000,"rows_first":2000,"rows_last":500,"rows_between":2000,"halvings":0,"cell_chars":16384,"cell_head_chars":4096},"cells_cut":0,"cells_raw":0,"read":"whole","date_system":"1900"}

{"sheet":"Market Size","index":0,"n_rows":26,"n_cols":8,"rows_kept":26,"cut":false,"hidden":false,"merged":[[8,1,8,6],[10,1,10,6],[16,1,16,6],[9,1,9,6],[11,1,11,6],[13,1,13,6],[14,1,14,6],[15,1,15,6],[3,1,3,6],[4,1,4,6],[5,1,5,6],[6,1,6,6],[7,1,7,6],[24,1,24,6],[25,1,25,6],[12,1,12,6],[19,1,19,6],[20,1,20,6],[21,1,21,6],[22,1,22,6],[23,1,23,6],[18,1,18,6],[17,1,17,6]]}
[]
[]
[]
[]
[]
[null,"Accumulated number of idustry automation devices (open air) in the field 5 years after launch worldwide in all different frequency bands:",null,null,null,null,null,1000000]
[null,"Fraction of devices sold for the European market in all bands [%]:",null,null,null,null,null,40]
[null,"Fraction of devices sold in the band 116-130GHz  [%]:",null,null,null,null,null,40]
[null,"Fraction of devices sold in the band 134-141GHz  [%]:",null,null,null,null,null,20]
[null,"Fraction of devices sold in the band 174,8-182GHz  [%]:",null,null,null,null,null,20]
[null,"Fraction of devices sold in the band 185-190GHz  [%]:",null,null,null,null,null,10]
[null,"Fraction of devices sold in the band 231,5-250GHz  [%]:",null,null,null,null,null,10]
[]
[null,"Accumulated number of devices in the field after 5 years in Europe in the band 116-130GHz:",null,null,null,null,null,{"$f":"H6*H7/100*H8/100","v":160000}]
[null,"Accumulated number of devices in the field after 5 years in Europe in the band 134-141GHz:",null,null,null,null,null,{"$f":"H6*H7/100*H9/100","v":80000}]
[null,"Accumulated number of devices in the field after 5 years in Europe in the band 174,8-182GHz:",null,null,null,null,null,{"$f":"H6*H7/100*H10/100","v":80000}]
[null,"Accumulated number of devices in the field after 5 years in Europe in the band 185-190GHz:",null,null,null,null,null,{"$f":"H6*H7/100*H11/100","v":40000}]
[null,"Accumulated number of devices in the field after 5 years in Europe in the band 231,5-250GHz:",null,null,null,null,null,{"$f":"H6*H7/100*H12/100","v":40000}]
[]
[null,"Land area of Europe [km²]",null,null,null,null,null,10523000]
[]
[null,"Interferer density in Europe in the band 116-130GHz [devices/km²]",null,null,null,null,null,{"$f":"H14/H20","v":1.5204789508695239E-2}]
[null,"Interferer density in Europe in the band 134-141GHz [devices/km²]",null,null,null,null,null,{"$f":"H15/H20","v":7.6023947543476193E-3}]
[null,"Interferer density in Europe in the band 174,8-182GHz [devices/km²]",null,null,null,null,null,{"$f":"H16/H20","v":7.6023947543476193E-3}]
[null,"Interferer density in Europe in the band 185-190GHz [devices/km²]",null,null,null,null,null,{"$f":"H17/H20","v":3.8011973771738096E-3}]
[null,"Interferer density in Europe in the band 231,5-250GHz [devices/km²]",null,null,null,null,null,{"$f":"H18/H20","v":3.8011973771738096E-3}]

{"sheet":"EESS 116-130GHz","index":1,"n_rows":84,"n_cols":5,"rows_kept":84,"cut":false,"hidden":false,"merged":[[2,3,2,4],[45,3,45,4]]}
[null,"Compatibility analysis between radiodetermination systems for industry automation in the frequency band 116-130 GHz and EESS"]
[]
[null,"Single-entry study",null,"Band of EESS: 114,25-122,25 GHz"]
[null,"Victim EESS system",null,"MWI","Planned EUMETSAT radiometer (ECC Report 190)"]
[null,"Sensor type",null,"Conical scan","Conical scan"]
[null,"EESS:","Units"]
[null,"Assumed centre frequency of EESS","GHz",119.125,119.125]
[null,"Wavelength of EESS","m",{"$f":"2.99792458/D7/10","v":2.5166208436516262E-3},{"$f":"2.99792458/E7/10","v":2.5166208436516262E-3}]
[null,"Reference bandwidth","MHz",200,200]
[null,"Orbit altitude","km",830,800]
[null,"Angle of incidence at Earth's surface (from zenith)","deg",53.3,53]
[null,"Elevation angle at ground","deg",{"$f":"90-D11","v":36.700000000000003},{"$f":"90-E11","v":37}]
[null,"Off-nadir angle","deg",{"$f":"(ASIN(SIN(D11*PI()/180)/(1+D10/6371)))*180/PI()+0.00000001","v":45.182994227157891},{"$f":"(ASIN(SIN(E11*PI()/180)/(1+E10/6371)))*180/PI()+0.00000001","v":45.197449705097966}]
[null,"Slant path distance","km",{"$f":"6371*SIN((ASIN(((6371+D10)/6371)*SIN(D13*PI()/180))*180/PI()-D13)*PI()/180)/SIN(D13*PI()/180)","v":1268.1174814937638},{"$f":"6371*SIN((ASIN(((6371+E10)/6371)*SIN(E13*PI()/180))*180/PI()-E13)*PI()/180)/SIN(E13*PI()/180)","v":1218.9948902651022}]
[null,"EESS antenna gain","dBi",55.5,55]
[null,"Size of EESS FOV on Earth's surface","km²",82,82]
[null,"EESS interference criterion in the reference bandwidth (ITU-R RS.2017-0)","dBW",-166,-166]
[null,"Apportionment factor","dB",12,12]
[]
[null,"Radiodetermination system (interferer):"]
[null,"Conducted Tx power of interferer","dBm",-18,-18]
[null,"Out-of-band unwanted emissions attenuation (if EESS victim is located in an adjacent band)","dB",0,0]
[null,"Tx e.i.r.p. of interferer","dBm",{"$f":"D21-D22+D28","v":18},18]
[null,"Bandwidth of interferer Tx signal","GHz",14,14]
[null,"Tx e.i.r.p. spectral density of interferer","dBm/MHz",{"$f":"D23-10*LOG(D24*1000)","v":-23.461280356782382},-23.461280356782382]
[null,"Tx e.i.r.p. spectral density of interferer","dBW/MHz",{"$f":"D25-30","v":-53.461280356782382},-53.461280356782382]
[null,"Mitigation technique (e.g. activity factor, adaptive power control)","dB",0,0]
[null,"Gain of the interferer antenna in direction of main radiation","dBi",36,36]
[]
[null,"Free space loss between interferer and EESS","dB",{"$f":"20*LOG10(4*PI()*D14*1000/D8)","v":196.03103128498418},{"$f":"20*LOG10(4*PI()*E14*1000/E8)","v":195.68787919808398}]
[null,"Direct e.i.r.p. spectral density at the EESS antenna","dBW/MHz",{"$f":"D26-D30+D27","v":-249.49231164176655},{"$f":"E26-E30+E27","v":-249.14915955486634}]
[null,"Atmospheric loss (according to contribution SE24(20)063_rev1)","dB",3.2,3.2]
[null,"Polarisation mismatch loss","dB",3,3]
[null,"Indoor-outdoor attenuation (according to clause 2.3 in the Report)","dB",0,0]
[null,"Power spectral density at the EESS receiver in a 1 MHz bandwidth","dBW/MHz",{"$f":"D31+D15-D32-D33-D34","v":-200.19231164176654},{"$f":"E31+E15-E32-E33-E34","v":-200.34915955486633}]
[null,"Corresponding power at the EESS receiver in the reference bandwidth for a single interferer","dBW",{"$f":"D35+10*LOG10(D9)","v":-177.18201168512672},{"$f":"E35+10*LOG10(E9)","v":-177.33885959822652}]
[null,"Number of interferers in EESS FOV on Earth's surface",null,1,1]
[null,"Corresponding received power at the EESS in the reference bandwidth within the EESS's FOV","dBW",{"$f":"D36+10*LOG10(D37)","v":-177.18201168512672},{"$f":"E36+10*LOG10(E37)","v":-177.33885959822652}]
[null,"Margin to EESS interference criterion with apportionment","dB",{"$f":"D17-D18-D38","v":-0.81798831487327561},{"$f":"E17-E18-E38","v":-0.66114040177347988}]
[]
[]
[]
[]
[]
[]
[null,"Aggregate interference study",null,"Band of EESS: 114,25-122,25 GHz"]
[null,"Victim EESS system",null,"MWI","Planned EUMETSAT radiometer (ECC Report 190)"]
[null,"Sensor type",null,"Conical scan","Conical scan"]
[null,"EESS:","Units"]
[null,"Assumed centre frequency of EESS","GHz",119.125,119.125]
[null,"Wavelength of EESS","m",{"$f":"2.99792458/D50/10","v":2.5166208436516262E-3},{"$f":"2.99792458/E50/10","v":2.5166208436516262E-3}]
[null,"Reference bandwidth","MHz",200,200]
[null,"Orbit altitude","km",830,800]
[null,"Angle of incidence at Earth's surface (from zenith)","deg",53.3,53]
[null,"Elevation angle at ground","deg",{"$f":"90-D54","v":36.700000000000003},{"$f":"90-E54","v":37}]
[null,"Off-nadir angle","deg",{"$f":"(ASIN(SIN(D54*PI()/180)/(1+D53/6371)))*180/PI()+0.00000001","v":45.182994227157891},45.197449705097966]
[null,"Slant path distance","km",{"$f":"6371*SIN((ASIN(((6371+D53)/6371)*SIN(D56*PI()/180))*180/PI()-D56)*PI()/180)/SIN(D56*PI()/180)","v":1268.1174814937638},1218.9948902651022]
[null,"EESS antenna gain","dBi",55.5,55]
[null,"Size of EESS FOV on Earth's surface","km²",82,82]
[null,"EESS interference criterion in the reference bandwidth (ITU-R RS.2017-0)","dBW",-166,-166]
[null,"Apportionment factor","dB",12,12]
[]
[null,"Radiodetermination system (interferer):"]
[null,"Conducted Tx power of interferer","dBm",-18,-18]
[null,"Out-of-band unwanted emissions attenuation (if EESS victim is located in an adjacent band)","dB",0,0]
[null,"Tx e.i.r.p. of interferer","dBm",{"$f":"D64-D65+D71","v":-8},-8]
[null,"Bandwidth of interferer Tx signal","GHz",14,14]
[null,"Tx e.i.r.p. spectral density of interferer","dBm/MHz",{"$f":"D66-10*LOG(D67*1000)","v":-49.461280356782382},-49.461280356782382]
[null,"Tx e.i.r.p. spectral density of interferer","dBW/MHz",{"$f":"D68-30","v":-79.461280356782382},-79.461280356782382]
[null,"Mitigation technique (e.g. activity factor, adaptive power control)","dB",0,0]
[null,"Average gain of the interferer antenna in the direction of the victim EESS system","dBi",10,10]
[]
[null,"Free space loss between interferer and EESS","dB",{"$f":"20*LOG10(4*PI()*D57*1000/D51)","v":196.03103128498418},{"$f":"20*LOG10(4*PI()*E57*1000/E51)","v":195.68787919808398}]
[null,"Direct e.i.r.p. spectral density at the EESS antenna","dBW/MHz",{"$f":"D69-D73+D70","v":-275.49231164176655},{"$f":"E69-E73+E70","v":-275.14915955486634}]
[null,"Atmospheric loss (according to contribution SE24(20)063_rev1)","dB",3.2,3.2]
[null,"Polarisation mismatch loss","dB",3,3]
[null,"Indoor-outdoor attenuation (according to clause 2.3 in the Report)","dB",0,0]
[null,"Power spectral density at the EESS receiver in a 1 MHz bandwidth","dBW/MHz",{"$f":"D74+D58-D75-D76-D77","v":-226.19231164176654},{"$f":"E74+E58-E75-E76-E77","v":-226.34915955486633}]
[null,"Corresponding power at the EESS receiver in the reference bandwidth for a single interferer","dBW",{"$f":"D78+10*LOG10(D52)","v":-203.18201168512672},{"$f":"E78+10*LOG10(E52)","v":-203.33885959822652}]
[null,"Uniform RDI device density (with uniform distribution over Europe)","1/km²",{"$f":"'Market Size'!H22","v":1.5204789508695239E-2},{"$f":"'Market Size'!H22","v":1.5204789508695239E-2}]
[null,"Aggregate RDI device density (uniform distribution weighted with factor 75; acc. to annex 9 in the Report)","1/km²",{"$f":"D80*75","v":1.1403592131521429},{"$f":"E80*75","v":1.1403592131521429}]
[null,"Number of aggregate RDI devices in the IFOV and active in the reference BW of the satellite",null,{"$f":"ROUNDUP(D81*D59,0)","v":94},{"$f":"ROUNDUP(E81*E59,0)","v":94}]
[null,"Corresponding received power at the EESS in the reference bandwidth within the EESS's FOV","dBW",{"$f":"D79+10*LOG10(D82)","v":-183.45073314912975},{"$f":"E79+10*LOG10(E82)","v":-183.60758106222954}]
[null,"Margin to EESS interference criterion with apportionment","dB",{"$f":"D60-D61-D83","v":5.4507331491297464},{"$f":"E60-E61-E83","v":5.6075810622295421}]

{"sheet":"EESS 174,8-182GHz","index":2,"n_rows":84,"n_cols":11,"rows_kept":84,"cut":false,"hidden":false,"merged":[[2,3,2,10],[45,3,45,10]]}
[null,"Compatibility analysis between radiodetermination systems for industry automation in the frequency band 174,8-182 GHz and EESS"]
[]
[null,"Single-entry study",null,"Band of EESS: 174,8-191,8 GHz"]
[null,"Victim EESS system",null,"MHS (nadir)","MHS (outer)","MWI","MWS (nadir)","MWS (outer)","ICI","AWS (nadir)","AWS (outer)"]
[null,"Sensor type",null,"Nadir scan","Nadir scan","Conical scan","Nadir scan","Nadir scan","Conical scan","Nadir scan","Nadir scan"]
[null,"EESS:","Units"]
[null,"Assumed centre frequency of EESS","GHz",178.4,178.4,178.4,178.4,178.4,178.4,178.4,178.4]
[null,"Wavelength of EESS","m",{"$f":"2.99792458/D7/10","v":1.6804509977578475E-3},1.6804509977578475E-3,1.6804509977578475E-3,1.6804509977578475E-3,1.6804509977578475E-3,1.6804509977578475E-3,1.6804509977578475E-3,1.6804509977578475E-3]
[null,"Reference bandwidth","MHz",200,200,200,200,200,200,200,200]
[null,"Orbit altitude","km",822,822,830,830,830,830,600,600]
[null,"Angle of incidence at Earth's surface (from zenith)","deg",0,59,53.3,0,58.5,53.3,0,55.7]
[null,"Elevation angle at ground","deg",{"$f":"90-D11","v":90},31,36.700000000000003,90,31.5,36.700000000000003,90,34.299999999999997]
[null,"Off-nadir angle","deg",{"$f":"(ASIN(SIN(D11*PI()/180)/(1+D10/6371)))*180/PI()+0.00000001","v":1E-8},49.394790432078054,{"$f":"(ASIN(SIN(F11*PI()/180)/(1+F10/6371)))*180/PI()+0.00000001","v":45.182994227157891},1E-8,48.969771809919081,45.182994227157891,1E-8,49.024959080746484]
[null,"Slant path distance","km",{"$f":"6371*SIN((ASIN(((6371+D10)/6371)*SIN(D13*PI()/180))*180/PI()-D13)*PI()/180)/SIN(D13*PI()/180)","v":822.00000000000023},1400.207928002734,{"$f":"6371*SIN((ASIN(((6371+F10)/6371)*SIN(F13*PI()/180))*180/PI()-F13)*PI()/180)/SIN(F13*PI()/180)","v":1268.1174814937638},829.99999999999943,1398.3092834001552,1268.1174814937638,600.00000000000011,980.87077854286042]
[null,"EESS antenna gain","dBi",44.8,44.8,56.9,43,43,52,50,50]
[null,"Size of EESS FOV on Earth's surface","km²",201,1103,61,315,1762,164,28,141]
[null,"EESS interference criterion in the reference bandwidth (ITU-R RS.2017-0)","dBW",-163,-163,-163,-163,-163,-163,-163,-163]
[null,"Apportionment factor","dB",12,12,12,12,12,12,12,12]
[]
[null,"Radiodetermination system (interferer):"]
[null,"Conducted Tx power of interferer","dBm",-18,-18,-18,-18,-18,-18,-18,-18]
[null,"Out-of-band unwanted emissions attenuation (if EESS victim is located in an adjacent band)","dB",0,0,0,0,0,0,0,0]
[null,"Tx e.i.r.p. of interferer","dBm",{"$f":"D21-D22+D28","v":18},18,{"$f":"F21-F22+F28","v":18},18,{"$f":"H21-H22+H28","v":18},18,18,18]
[null,"Bandwidth of interferer Tx signal","GHz",1.5,1.5,1.5,1.5,1.5,1.5,1.5,1.5]
[null,"Tx e.i.r.p. spectral density of interferer","dBm/MHz",{"$f":"D23-10*LOG(D24*1000)","v":-13.760912590556813},-13.760912590556813,{"$f":"F23-10*LOG(F24*1000)","v":-13.760912590556813},-13.760912590556813,{"$f":"H23-10*LOG(H24*1000)","v":-13.760912590556813},-13.760912590556813,-13.760912590556813,-13.760912590556813]
[null,"Tx e.i.r.p. spectral density of interferer","dBW/MHz",{"$f":"D25-30","v":-43.760912590556813},-43.760912590556813,{"$f":"F25-30","v":-43.760912590556813},-43.760912590556813,{"$f":"H25-30","v":-43.760912590556813},-43.760912590556813,-43.760912590556813,-43.760912590556813]
[null,"Mitigation technique (e.g. activity factor, adaptive power control)","dB",0,0,0,0,0,0,0,0]
[null,"Gain of the interferer antenna in direction of main radiation","dBi",36,36,36,36,36,36,36,36]
[]
[null,"Free space loss between interferer and EESS","dB",{"$f":"20*LOG10(4*PI()*D14*1000/D8)","v":195.77311657348648},200.3995308688082,199.53887001285864,195.85724207020692,200.38774504169734,199.53887001285864,193.03870523035835,197.30791615290838]
[null,"Direct e.i.r.p. spectral density at the EESS antenna","dBW/MHz",{"$f":"D26-D30+D27","v":-239.53402916404329},-244.16044345936501,-243.29978260341545,-239.61815466076374,-244.14865763225416,-243.29978260341545,-236.79961782091516,-241.06882874346519]
[null,"Atmospheric loss (according to contribution SE24(20)063_rev1)","dB",8.3000000000000007,16,13.8,8.3000000000000007,15.8,13.8,8.3000000000000007,14.7]
[null,"Polarisation mismatch loss","dB",3,3,3,3,3,3,3,3]
[null,"Indoor-outdoor attenuation (according to clause 2.3 in the Report)","dB",0,0,0,0,0,0,0,0]
[null,"Power spectral density at the EESS receiver in a 1 MHz bandwidth","dBW/MHz",{"$f":"D31+D15-D32-D33-D34","v":-206.03402916404332},-218.360443459365,-203.19978260341546,-207.91815466076375,-219.94865763225417,-208.09978260341546,-198.09961782091517,-208.76882874346518]
[null,"Corresponding power at the EESS receiver in the reference bandwidth for a single interferer","dBW",{"$f":"D35+10*LOG10(D9)","v":-183.02372920740351},-195.35014350272519,-180.18948264677564,-184.90785470412393,-196.93835767561436,-185.08948264677565,-175.08931786427536,-185.75852878682537]
[null,"Number of interferers in EESS FOV on Earth's surface",null,1,1,1,1,1,1,1,1]
[null,"Corresponding received power at the EESS in the reference bandwidth within the EESS's FOV","dBW",{"$f":"D36+10*LOG10(D37)","v":-183.02372920740351},-195.35014350272519,-180.18948264677564,-184.90785470412393,-196.93835767561436,-185.08948264677565,-175.08931786427536,-185.75852878682537]
[null,"Margin to EESS interference criterion with apportionment","dB",{"$f":"D17-D18-D38","v":8.0237292074035054},20.350143502725189,5.1894826467756445,9.9078547041239347,21.938357675614355,10.08948264677565,8.9317864275358261E-2,10.758528786825366]
[]
[]
[]
[]
[]
[]
[null,"Aggregate interference study",null,"Band of EESS: 174,8-191,8 GHz"]
[null,"Victim EESS system",null,"MHS (nadir)","MHS (outer)","MWI","MWS (nadir)","MWS (outer)","ICI","AWS (nadir)","AWS (outer)"]
[null,"Sensor type",null,"Nadir scan","Nadir scan","Conical scan","Nadir scan","Nadir scan","Conical scan","Nadir scan","Nadir scan"]
[null,"EESS:","Units"]
[null,"Assumed centre frequency of EESS","GHz",178.4,178.4,178.4,178.4,178.4,178.4,178.4,178.4]
[null,"Wavelength of EESS","m",{"$f":"2.99792458/D50/10","v":1.6804509977578475E-3},1.6804509977578475E-3,1.6804509977578475E-3,1.6804509977578475E-3,1.6804509977578475E-3,1.6804509977578475E-3,1.6804509977578475E-3,1.6804509977578475E-3]
[null,"Reference bandwidth","MHz",200,200,200,200,200,200,200,200]
[null,"Orbit altitude","km",822,822,830,830,830,830,600,600]
[null,"Angle of incidence at Earth's surface (from zenith)","deg",0,59,53.3,0,58.5,53.3,0,55.7]
[null,"Elevation angle at ground","deg",{"$f":"90-D54","v":90},31,36.700000000000003,90,31.5,36.700000000000003,90,34.299999999999997]
[null,"Off-nadir angle","deg",{"$f":"(ASIN(SIN(D54*PI()/180)/(1+D53/6371)))*180/PI()+0.00000001","v":1E-8},49.394790432078054,45.182994227157891,1E-8,48.969771809919081,45.182994227157891,1E-8,49.024959080746484]
[null,"Slant path distance","km",{"$f":"6371*SIN((ASIN(((6371+D53)/6371)*SIN(D56*PI()/180))*180/PI()-D56)*PI()/180)/SIN(D56*PI()/180)","v":822.00000000000023},1400.207928002734,1268.1174814937638,829.99999999999943,1398.3092834001552,1268.1174814937638,600.00000000000011,980.87077854286042]
[null,"EESS antenna gain","dBi",44.8,44.8,56.9,43,43,52,50,50]
[null,"Size of EESS FOV on Earth's surface","km²",201,1103,61,315,1762,164,28,141]
[null,"EESS interference criterion in the reference bandwidth (ITU-R RS.2017-0)","dBW",-163,-163,-163,-163,-163,-163,-163,-163]
[null,"Apportionment factor","dB",12,12,12,12,12,12,12,12]
[]
[null,"Radiodetermination system (interferer):"]
[null,"Conducted Tx power of interferer","dBm",-18,-18,-18,-18,-18,-18,-18,-18]
[null,"Out-of-band unwanted emissions attenuation (if EESS victim is located in an adjacent band)","dB",0,0,0,0,0,0,0,0]
[null,"Tx e.i.r.p. of interferer","dBm",{"$f":"D64-D65+D71","v":-8},-8,-8,-8,-8,-8,-8,-8]
[null,"Bandwidth of interferer Tx signal","GHz",1.5,1.5,1.5,1.5,1.5,1.5,1.5,1.5]
[null,"Tx e.i.r.p. spectral density of interferer","dBm/MHz",{"$f":"D66-10*LOG(D67*1000)","v":-39.760912590556813},-39.760912590556813,-39.760912590556813,-39.760912590556813,-39.760912590556813,-39.760912590556813,-39.760912590556813,-39.760912590556813]
[null,"Tx e.i.r.p. spectral density of interferer","dBW/MHz",{"$f":"D68-30","v":-69.760912590556813},-69.760912590556813,-69.760912590556813,-69.760912590556813,-69.760912590556813,-69.760912590556813,-69.760912590556813,-69.760912590556813]
[null,"Mitigation technique (e.g. activity factor, adaptive power control)","dB",0,0,0,0,0,0,0,0]
[null,"Average gain of the interferer antenna in the direction of the victim EESS system","dBi",10,10,10,10,10,10,10,10]
[]
[null,"Free space loss between interferer and EESS","dB",{"$f":"20*LOG10(4*PI()*D57*1000/D51)","v":195.77311657348648},200.3995308688082,199.53887001285864,195.85724207020692,200.38774504169734,199.53887001285864,193.03870523035835,197.30791615290838]
[null,"Direct e.i.r.p. spectral density at the EESS antenna","dBW/MHz",{"$f":"D69-D73+D70","v":-265.53402916404332},-270.16044345936501,-269.29978260341545,-265.61815466076371,-270.14865763225419,-269.29978260341545,-262.79961782091516,-267.06882874346519]
[null,"Atmospheric loss (according to contribution SE24(20)063_rev1)","dB",8.3000000000000007,16,13.8,8.3000000000000007,15.8,13.8,8.3000000000000007,14.7]
[null,"Polarisation mismatch loss","dB",3,3,3,3,3,3,3,3]
[null,"Indoor-outdoor attenuation (according to clause 2.3 in the Report)","dB",0,0,0,0,0,0,0,0]
[null,"Power spectral density at the EESS receiver in a 1 MHz bandwidth","dBW/MHz",{"$f":"D74+D58-D75-D76-D77","v":-232.03402916404332},-244.360443459365,-229.19978260341546,-233.91815466076372,-245.9486576322542,-234.09978260341546,-224.09961782091517,-234.76882874346518]
[null,"Corresponding power at the EESS receiver in the reference bandwidth for a single interferer","dBW",{"$f":"D78+10*LOG10(D52)","v":-209.02372920740351},-221.35014350272519,-206.18948264677564,-210.90785470412391,-222.93835767561438,-211.08948264677565,-201.08931786427536,-211.75852878682537]
[null,"Uniform RDI device density (with uniform distribution over Europe)","1/km²",{"$f":"'Market Size'!H24","v":7.6023947543476193E-3},{"$f":"'Market Size'!H24","v":7.6023947543476193E-3},{"$f":"'Market Size'!H24","v":7.6023947543476193E-3},{"$f":"'Market Size'!H24","v":7.6023947543476193E-3},{"$f":"'Market Size'!H24","v":7.6023947543476193E-3},{"$f":"'Market Size'!H24","v":7.6023947543476193E-3},{"$f":"'Market Size'!H24","v":7.6023947543476193E-3},{"$f":"'Market Size'!H24","v":7.6023947543476193E-3}]
[null,"Aggregate RDI device density (uniform distribution weighted with factor 75; acc. to annex 9 in the Report)","1/km²",{"$f":"D80*75","v":0.57017960657607147},{"$f":"E80*75","v":0.57017960657607147},0.57017960657607147,0.57017960657607147,0.57017960657607147,0.57017960657607147,0.57017960657607147,{"$f":"K80*75","v":0.57017960657607147}]
[null,"Number of aggregate RDI devices in the IFOV and active in the reference BW of the satellite",null,{"$f":"ROUNDUP(D81*D59,0)","v":115},629,35,180,1005,94,16,81]
[null,"Corresponding received power at the EESS in the reference bandwidth within the EESS's FOV","dBW",{"$f":"D79+10*LOG10(D82)","v":-188.41675080386739},-193.36363704827249,-190.74880220327287,-188.35512965309084,-192.91669705804929,-191.35820411077867,-189.04811803771611,-192.67367859803886]
[null,"Margin to EESS interference criterion with apportionment","dB",{"$f":"D60-D61-D83","v":13.416750803867387},18.363637048272494,15.748802203272874,13.355129653090842,17.916697058049294,16.358204110778672,14.048118037716108,17.673678598038862]

{"sheet":"EESS 185-190GHz","index":3,"n_rows":84,"n_cols":11,"rows_kept":84,"cut":false,"hidden":false,"merged":[[45,3,45,10],[2,3,2,10]]}
[null,"Compatibility analysis between radiodetermination systems for industry automation in the frequency band 185-190 GHz and EESS"]
[]
[null,"Single-entry study",null,"Band of EESS: 174,8-191,8 GHz"]
[null,"Victim EESS system",null,"MHS (Nadir)","MHS (outer)","MWI","MWS (nadir)","MWS (outer)","ICI","AWS (Nadir)","AWS (outer)"]
[null,"Sensor type",null,"Nadir scan","Nadir scan","Conical scan","Nadir scan","Nadir scan","Conical scan","Nadir scan","Nadir scan"]
[null,"EESS:","Units"]
[null,"Assumed centre frequency of EESS","GHz",187.5,187.5,187.5,187.5,187.5,187.5,187.5,187.5]
[null,"Wavelength of EESS","m",{"$f":"2.99792458/D7/10","v":1.5988931093333333E-3},1.5988931093333333E-3,1.5988931093333333E-3,1.5988931093333333E-3,1.5988931093333333E-3,1.5988931093333333E-3,1.5988931093333333E-3,1.5988931093333333E-3]
[null,"Reference bandwidth","MHz",200,200,200,200,200,200,200,200]
[null,"Orbit altitude","km",822,822,830,830,830,830,600,600]
[null,"Angle of incidence at Earth's surface (from zenith)","deg",0,59,53.3,0,58.5,53.3,0,55.7]
[null,"Elevation angle at ground","deg",{"$f":"90-D11","v":90},31,36.700000000000003,90,31.5,36.700000000000003,{"$f":"90-J11","v":90},{"$f":"90-K11","v":34.299999999999997}]
[null,"Off-nadir angle","deg",{"$f":"(ASIN(SIN(D11*PI()/180)/(1+D10/6371)))*180/PI()+0.00000001","v":1E-8},49.394790432078054,45.182994227157891,1E-8,48.969771809919081,45.182994227157891,1E-8,49.024959080746484]
[null,"Slant path distance","km",{"$f":"6371*SIN((ASIN(((6371+D10)/6371)*SIN(D13*PI()/180))*180/PI()-D13)*PI()/180)/SIN(D13*PI()/180)","v":822.00000000000023},1400.207928002734,1268.1174814937638,829.99999999999943,1398.3092834001552,1268.1174814937638,600.00000000000011,980.87077854286042]
[null,"EESS antenna gain","dBi",44.8,44.8,56.9,43,43,52,50,50]
[null,"Size of EESS FOV on Earth's surface","km²",201,1103,61,315,1762,164,28,141]
[null,"EESS interference criterion in the reference bandwidth (ITU-R RS.2017-0)","dBW",-163,-163,-163,-163,-163,-163,-163,-163]
[null,"Apportionment factor","dB",12,12,12,12,12,12,12,12]
[]
[null,"Radiodetermination system (interferer):"]
[null,"Conducted Tx power of interferer","dBm",-18,-18,-18,-18,-18,-18,-18,-18]
[null,"Out-of-band unwanted emissions attenuation (if EESS victim is located in an adjacent band)","dB",0,0,0,0,0,0,0,0]
[null,"Tx e.i.r.p. of interferer","dBm",{"$f":"D21-D22+D28","v":18},18,18,18,18,18,18,18]
[null,"Bandwidth of interferer Tx signal","GHz",1.5,1.5,1.5,1.5,1.5,1.5,1.5,1.5]
[null,"Tx e.i.r.p. spectral density of interferer","dBm/MHz",{"$f":"D23-10*LOG(D24*1000)","v":-13.760912590556813},-13.760912590556813,-13.760912590556813,-13.760912590556813,-13.760912590556813,-13.760912590556813,-13.760912590556813,-13.760912590556813]
[null,"Tx e.i.r.p. spectral density of interferer","dBW/MHz",{"$f":"D25-30","v":-43.760912590556813},-43.760912590556813,-43.760912590556813,-43.760912590556813,-43.760912590556813,-43.760912590556813,-43.760912590556813,-43.760912590556813]
[null,"Mitigation technique (e.g. activity factor, adaptive power control)","dB",0,0,0,0,0,0,0,0]
[null,"Gain of the interferer antenna in direction of main radiation","dBi",36,36,36,36,36,36,36,36]
[]
[null,"Free space loss between interferer and EESS","dB",{"$f":"20*LOG10(4*PI()*D14*1000/D8)","v":196.20524501395914},200.83165930928087,199.97099845333128,196.28937051067962,200.81987348217001,199.97099845333128,193.47083367083101,197.74004459338101]
[null,"Direct e.i.r.p. spectral density at the EESS antenna","dBW/MHz",{"$f":"D26-D30+D27","v":-239.96615760451596},-244.59257189983768,-243.73191104388809,-240.05028310123643,-244.58078607272682,-243.73191104388809,-237.23174626138783,-241.50095718393783]
[null,"Atmospheric loss (according to contribution SE24(20)063_rev1)","dB",8.3000000000000007,16,13.8,8.3000000000000007,15.8,13.8,8.3000000000000007,14.7]
[null,"Polarisation mismatch loss","dB",3,3,3,3,3,3,3,3]
[null,"Indoor-outdoor attenuation (according to clause 2.3 in the Report)","dB",0,0,0,0,0,0,0,0]
[null,"Power spectral density at the EESS receiver in a 1 MHz bandwidth","dBW/MHz",{"$f":"D31+D15-D32-D33-D34","v":-206.46615760451596},-218.7925718998377,-203.6319110438881,-208.35028310123644,-220.38078607272683,-208.5319110438881,-198.53174626138784,-209.20095718393782]
[null,"Corresponding power at the EESS receiver in the reference bandwidth for a single interferer","dBW",{"$f":"D35+10*LOG10(D9)","v":-183.45585764787614},-195.78227194319788,-180.62161108724828,-185.33998314459663,-197.37048611608702,-185.52161108724829,-175.52144630474803,-186.190657227298]
[null,"Number of interferers in EESS FOV on Earth's surface",null,1,1,1,1,1,1,1,1]
[null,"Corresponding received power at the EESS in the reference bandwidth within the EESS's FOV","dBW",{"$f":"D36+10*LOG10(D37)","v":-183.45585764787614},-195.78227194319788,-180.62161108724828,-185.33998314459663,-197.37048611608702,-185.52161108724829,-175.52144630474803,-186.190657227298]
[null,"Margin to EESS interference criterion with apportionment","dB",{"$f":"D17-D18-D38","v":8.4558576478761438},20.782271943197884,5.621611087248283,10.33998314459663,22.370486116087022,10.521611087248289,0.52144630474802511,11.190657227298004]
[]
[]
[]
[]
[]
[]
[null,"Aggregate interference study",null,"Band of EESS: 174,8-191,8 GHz"]
[null,"Victim EESS system",null,"MHS (Nadir)","MHS (outer)","MWI","MWS (nadir)","MWS (outer)","ICI","AWS (Nadir)","AWS (outer)"]
[null,"Sensor type",null,"Nadir scan","Nadir scan","Conical scan","Nadir scan","Nadir scan","Conical scan","Nadir scan","Nadir scan"]
[null,"EESS:","Units"]
[null,"Assumed centre frequency of EESS","GHz",187.5,187.5,187.5,187.5,187.5,187.5,187.5,187.5]
[null,"Wavelength of EESS","m",{"$f":"2.99792458/D50/10","v":1.5988931093333333E-3},1.5988931093333333E-3,1.5988931093333333E-3,1.5988931093333333E-3,1.5988931093333333E-3,1.5988931093333333E-3,1.5988931093333333E-3,1.5988931093333333E-3]
[null,"Reference bandwidth","MHz",200,200,200,200,200,200,200,200]
[null,"Orbit altitude","km",822,822,830,830,830,830,600,600]
[null,"Angle of incidence at Earth's surface (from zenith)","deg",0,59,53.3,0,58.5,53.3,0,55.7]
[null,"Elevation angle at ground","deg",{"$f":"90-D54","v":90},31,36.700000000000003,90,31.5,36.700000000000003,{"$f":"90-J54","v":90},{"$f":"90-K54","v":34.299999999999997}]
[null,"Off-nadir angle","deg",{"$f":"(ASIN(SIN(D54*PI()/180)/(1+D53/6371)))*180/PI()+0.00000001","v":1E-8},49.394790432078054,45.182994227157891,1E-8,48.969771809919081,45.182994227157891,1E-8,49.024959080746484]
[null,"Slant path distance","km",{"$f":"6371*SIN((ASIN(((6371+D53)/6371)*SIN(D56*PI()/180))*180/PI()-D56)*PI()/180)/SIN(D56*PI()/180)","v":822.00000000000023},1400.207928002734,1268.1174814937638,829.99999999999943,1398.3092834001552,1268.1174814937638,600.00000000000011,980.87077854286042]
[null,"EESS antenna gain","dBi",44.8,44.8,56.9,43,43,52,50,50]
[null,"Size of EESS FOV on Earth's surface","km²",201,1103,61,315,1762,164,28,141]
[null,"EESS interference criterion in the reference bandwidth (ITU-R RS.2017-0)","dBW",-163,-163,-163,-163,-163,-163,-163,-163]
[null,"Apportionment factor","dB",12,12,12,12,12,12,12,12]
[]
[null,"Radiodetermination system (interferer):"]
[null,"Conducted Tx power of interferer","dBm",-18,-18,-18,-18,-18,-18,-18,-18]
[null,"Out-of-band unwanted emissions attenuation (if EESS victim is located in an adjacent band)","dB",0,0,0,0,0,0,0,0]
[null,"Tx e.i.r.p. of interferer","dBm",{"$f":"D64-D65+D71","v":-8},-8,-8,-8,-8,-8,-8,-8]
[null,"Bandwidth of interferer Tx signal","GHz",1.5,1.5,1.5,1.5,1.5,1.5,1.5,1.5]
[null,"Tx e.i.r.p. spectral density of interferer","dBm/MHz",{"$f":"D66-10*LOG(D67*1000)","v":-39.760912590556813},-39.760912590556813,-39.760912590556813,-39.760912590556813,-39.760912590556813,-39.760912590556813,-39.760912590556813,-39.760912590556813]
[null,"Tx e.i.r.p. spectral density of interferer","dBW/MHz",{"$f":"D68-30","v":-69.760912590556813},-69.760912590556813,-69.760912590556813,-69.760912590556813,-69.760912590556813,-69.760912590556813,-69.760912590556813,-69.760912590556813]
[null,"Mitigation technique (e.g. activity factor, adaptive power control)","dB",0,0,0,0,0,0,0,0]
[null,"Average gain of the interferer antenna in the direction of the victim EESS system","dBi",10,10,10,10,10,10,10,10]
[]
[null,"Free space loss between interferer and EESS","dB",{"$f":"20*LOG10(4*PI()*D57*1000/D51)","v":196.20524501395914},200.83165930928087,199.97099845333128,196.28937051067962,200.81987348217001,199.97099845333128,193.47083367083101,197.74004459338101]
[null,"Direct e.i.r.p. spectral density at the EESS antenna","dBW/MHz",{"$f":"D69-D73+D70","v":-265.96615760451596},-270.59257189983771,-269.73191104388809,-266.05028310123646,-270.58078607272682,-269.73191104388809,-263.2317462613878,-267.50095718393783]
[null,"Atmospheric loss (according to contribution SE24(20)063_rev1)","dB",8.3000000000000007,16,13.8,8.3000000000000007,15.8,13.8,8.3000000000000007,14.7]
[null,"Polarisation mismatch loss","dB",3,3,3,3,3,3,3,3]
[null,"Indoor-outdoor attenuation (according to clause 2.3 in the Report)","dB",0,0,0,0,0,0,0,0]
[null,"Power spectral density at the EESS receiver in a 1 MHz bandwidth","dBW/MHz",{"$f":"D74+D58-D75-D76-D77","v":-232.46615760451596},-244.7925718998377,-229.6319110438881,-234.35028310123647,-246.38078607272683,-234.5319110438881,-224.53174626138781,-235.20095718393782]
[null,"Corresponding power at the EESS receiver in the reference bandwidth for a single interferer","dBW",{"$f":"D78+10*LOG10(D52)","v":-209.45585764787614},-221.78227194319788,-206.62161108724828,-211.33998314459666,-223.37048611608702,-211.52161108724829,-201.521446304748,-212.190657227298]
[null,"Uniform RDI device density (with uniform distribution over Europe)","1/km²",{"$f":"'Market Size'!$H25","v":3.8011973771738096E-3},{"$f":"'Market Size'!$H25","v":3.8011973771738096E-3},{"$f":"'Market Size'!$H25","v":3.8011973771738096E-3},{"$f":"'Market Size'!$H25","v":3.8011973771738096E-3},{"$f":"'Market Size'!$H25","v":3.8011973771738096E-3},{"$f":"'Market Size'!$H25","v":3.8011973771738096E-3},{"$f":"'Market Size'!$H25","v":3.8011973771738096E-3},{"$f":"'Market Size'!$H25","v":3.8011973771738096E-3}]
[null,"Aggregate RDI device density (uniform distribution weighted with factor 75; acc. to annex 9 in the Report)","1/km²",{"$f":"D80*75","v":0.28508980328803574},{"$f":"E80*75","v":0.28508980328803574},0.28508980328803574,0.28508980328803574,0.28508980328803574,0.28508980328803574,0.28508980328803574,0.28508980328803574]
[null,"Number of aggregate RDI devices in the IFOV and active in the reference BW of the satellite",null,{"$f":"ROUNDUP(D81*D59,0)","v":58},315,18,90,503,47,8,41]
[null,"Corresponding received power at the EESS in the reference bandwidth within the EESS's FOV","dBW",{"$f":"D79+10*LOG10(D82)","v":-191.82157771224678},-196.79916640530189,-194.06888603621522,-191.79755805020341,-196.35480626552774,-194.80063250789112,-192.49054643482856,-196.06281866010065]
[null,"Margin to EESS interference criterion with apportionment","dB",{"$f":"D60-D61-D83","v":16.821577712246778},21.799166405301889,19.068886036215218,16.797558050203406,21.354806265527742,19.800632507891123,17.490546434828559,21.062818660100646]

{"sheet":"EESS 231,5-250GHz","index":4,"n_rows":84,"n_cols":8,"rows_kept":84,"cut":false,"hidden":false,"merged":[[45,3,45,4],[45,5,45,7],[2,9,2,10],[2,3,2,4],[2,5,2,7]]}
[null,"Compatibility analysis between radiodetermination systems for industry automation in the frequency band 231,5-250 GHz and EESS"]
[]
[null,"Single-entry study",null,"Band of EESS: 226-231,5 GHz",null,"Band of EESS: 239-248 GHz"]
[null,"Victim EESS system",null,"AWS (Nadir)","AWS (outer)","ICI","AWS (Nadir)","AWS (outer)"]
[null,"Sensor type",null,"Nadir scan","Nadir scan","Conical Scan","Nadir Scan","Nadir Scan"]
[null,"EESS:","Units"]
[null,"Assumed centre frequency of EESS","GHz",228.75,228.75,243.5,243.5,243.5]
[null,"Wavelength of EESS","m",{"$f":"2.99792458/D7/10","v":1.3105681224043716E-3},{"$f":"2.99792458/E7/10","v":1.3105681224043716E-3},{"$f":"2.99792458/F7/10","v":1.2311805256673511E-3},{"$f":"2.99792458/G7/10","v":1.2311805256673511E-3},{"$f":"2.99792458/H7/10","v":1.2311805256673511E-3}]
[null,"Reference bandwidth","MHz",200,200,200,200,200]
[null,"Orbit altitude","km",600,600,830,600,600]
[null,"Angle of incidence at Earth's surface (from zenith)","deg",0,55.7,53.3,0,55.7]
[null,"Elevation angle at ground","deg",{"$f":"90-D11","v":90},{"$f":"90-E11","v":34.299999999999997},{"$f":"90-F11","v":36.700000000000003},{"$f":"90-G11","v":90},{"$f":"90-H11","v":34.299999999999997}]
[null,"Off-nadir angle","deg",{"$f":"(ASIN(SIN(D11*PI()/180)/(1+D10/6371)))*180/PI()+0.00000001","v":1E-8},49.024959080746484,45.182994227157891,1E-8,49.024959080746484]
[null,"Slant path distance","km",{"$f":"6371*SIN((ASIN(((6371+D10)/6371)*SIN(D13*PI()/180))*180/PI()-D13)*PI()/180)/SIN(D13*PI()/180)","v":600.00000000000011},980.87077854286042,1268.1174814937638,600.00000000000011,980.87077854286042]
[null,"EESS antenna gain","dBi",50,50,52,50,50]
[null,"Size of EESS FOV on Earth's surface","km²",28,141,164,28,141]
[null,"EESS interference criterion in the reference bandwidth (ITU-R RS.2017-0)","dBW",-160,-160,-160,-160,-160]
[null,"Apportionment factor","dB",12,12,12,12,12]
[]
[null,"Radiodetermination system (interferer):"]
[null,"Conducted Tx power of interferer","dBm",-19.8,-19.8,-19.8,-19.8,-19.8]
[null,"Out-of-band unwanted emissions attenuation (if EESS victim is located in an adjacent band)","dB",20,20,0,0,0]
[null,"Tx e.i.r.p. of interferer","dBm",{"$f":"D21-D22+D28","v":-3.7999999999999972},{"$f":"E21-E22+E28","v":-3.7999999999999972},{"$f":"F21-F22+F28","v":16.2},{"$f":"G21-G22+G28","v":16.2},{"$f":"H21-H22+H28","v":16.2}]
[null,"Bandwidth of interferer Tx signal","GHz",15,15,15,15,15]
[null,"Tx e.i.r.p. spectral density of interferer","dBm/MHz",{"$f":"D23-10*LOG(D24*1000)","v":-45.560912590556811},{"$f":"E23-10*LOG(E24*1000)","v":-45.560912590556811},{"$f":"F23-10*LOG(F24*1000)","v":-25.560912590556814},{"$f":"G23-10*LOG(G24*1000)","v":-25.560912590556814},{"$f":"H23-10*LOG(H24*1000)","v":-25.560912590556814}]
[null,"Tx e.i.r.p. spectral density of interferer","dBW/MHz",{"$f":"D25-30","v":-75.560912590556811},{"$f":"E25-30","v":-75.560912590556811},{"$f":"F25-30","v":-55.560912590556811},{"$f":"G25-30","v":-55.560912590556811},{"$f":"H25-30","v":-55.560912590556811}]
[null,"Mitigation technique (e.g. activity factor, adaptive power control)","dB",0,0,0,0,0]
[null,"Gain of the interferer antenna in direction of main radiation","dBi",36,36,36,36,36]
[]
[null,"Free space loss between interferer and EESS","dB",{"$f":"20*LOG10(4*PI()*D14*1000/D8)","v":195.19803028432597},{"$f":"20*LOG10(4*PI()*E14*1000/E8)","v":199.467241206876},{"$f":"20*LOG10(4*PI()*F14*1000/F8)","v":202.24095232306962},{"$f":"20*LOG10(4*PI()*G14*1000/G8)","v":195.7407875405693},{"$f":"20*LOG10(4*PI()*H14*1000/H8)","v":200.00999846311936}]
[null,"Direct e.i.r.p. spectral density at the EESS antenna","dBW/MHz",{"$f":"D26-D30+D27","v":-270.75894287488279},{"$f":"E26-E30+E27","v":-275.02815379743282},{"$f":"F26-F30+F27","v":-257.80186491362645},{"$f":"G26-G30+G27","v":-251.3017001311261},{"$f":"H26-H30+H27","v":-255.57091105367618}]
[null,"Atmospheric loss (according to contribution SE24(20)WI71#9-3)","dB",4.8,8.5,8.8000000000000007,5.3,9.3000000000000007]
[null,"Polarisation mismatch loss","dB",3,3,3,3,3]
[null,"Indoor-outdoor attenuation (according to clause 2.3 in the Report)","dB",0,0,0,0,0]
[null,"Power spectral density at the EESS receiver in a 1 MHz bandwidth","dBW/MHz",{"$f":"D31+D15-D32-D33-D34","v":-228.5589428748828},{"$f":"E31+E15-E32-E33-E34","v":-236.52815379743282},{"$f":"F31+F15-F32-F33-F34","v":-217.60186491362646},{"$f":"G31+G15-G32-G33-G34","v":-209.60170013112611},{"$f":"H31+H15-H32-H33-H34","v":-217.8709110536762}]
[null,"Corresponding power at the EESS receiver in the reference bandwidth for a single interferer","dBW",{"$f":"D35+10*LOG10(D9)","v":-205.54864291824299},{"$f":"E35+10*LOG10(E9)","v":-213.51785384079301},{"$f":"F35+10*LOG10(F9)","v":-194.59156495698664},{"$f":"G35+10*LOG10(G9)","v":-186.5914001744863},{"$f":"H35+10*LOG10(H9)","v":-194.86061109703638}]
[null,"Number of interferers in EESS FOV on Earth's surface",null,1,1,1,1,1]
[null,"Corresponding received power at the EESS in the reference bandwidth within the EESS's FOV","dBW",{"$f":"D36+10*LOG10(D37)","v":-205.54864291824299},-213.51785384079301,{"$f":"F36+10*LOG10(F37)","v":-194.59156495698664},{"$f":"G36+10*LOG10(G37)","v":-186.5914001744863},-194.86061109703638]
[null,"Margin to EESS interference criterion with apportionment","dB",{"$f":"D17-D18-D38","v":33.54864291824299},41.517853840793009,{"$f":"F17-F18-F38","v":22.591564956986645},{"$f":"G17-G18-G38","v":14.591400174486296},22.860611097036383]
[]
[]
[]
[]
[]
[]
[null,"Aggregate interference study",null,"Band of EESS: 226-231,5 GHz",null,"Band of EESS: 239-248 GHz"]
[null,"Victim EESS system",null,"AWS (Nadir)","AWS (outer)","ICI","AWS (Nadir)","AWS (outer)"]
[null,"Sensor type",null,"Nadir scan","Nadir scan","Conical Scan","Nadir Scan","Nadir Scan"]
[null,"EESS:","Units"]
[null,"Assumed centre frequency of EESS","GHz",228.75,228.75,243.5,243.5,243.5]
[null,"Wavelength of EESS","m",{"$f":"2.99792458/D50/10","v":1.3105681224043716E-3},{"$f":"2.99792458/E50/10","v":1.3105681224043716E-3},{"$f":"2.99792458/F50/10","v":1.2311805256673511E-3},{"$f":"2.99792458/G50/10","v":1.2311805256673511E-3},{"$f":"2.99792458/H50/10","v":1.2311805256673511E-3}]
[null,"Reference bandwidth","MHz",200,200,200,200,200]
[null,"Orbit altitude","km",600,600,830,600,600]
[null,"Angle of incidence at Earth's surface (from zenith)","deg",0,55.7,53.3,0,55.7]
[null,"Elevation angle at ground","deg",{"$f":"90-D54","v":90},{"$f":"90-E54","v":34.299999999999997},{"$f":"90-F54","v":36.700000000000003},{"$f":"90-G54","v":90},{"$f":"90-H54","v":34.299999999999997}]
[null,"Off-nadir angle","deg",{"$f":"(ASIN(SIN(D54*PI()/180)/(1+D53/6371)))*180/PI()+0.00000001","v":1E-8},49.024959080746484,45.182994227157891,1E-8,49.024959080746484]
[null,"Slant path distance","km",{"$f":"6371*SIN((ASIN(((6371+D53)/6371)*SIN(D56*PI()/180))*180/PI()-D56)*PI()/180)/SIN(D56*PI()/180)","v":600.00000000000011},980.87077854286042,1268.1174814937638,600.00000000000011,980.87077854286042]
[null,"EESS antenna gain","dBi",50,50,52,50,50]
[null,"Size of EESS FOV on Earth's surface","km²",28,141,164,28,141]
[null,"EESS interference criterion in the reference bandwidth (ITU-R RS.2017-0)","dBW",-160,-160,-160,-160,-160]
[null,"Apportionment factor","dB",12,12,12,12,12]
[]
[null,"Radiodetermination system (interferer):"]
[null,"Conducted Tx power of interferer","dBm",-19.8,-19.8,-19.8,-19.8,-19.8]
[null,"Out-of-band unwanted emissions attenuation (if EESS victim is located in an adjacent band)","dB",20,20,0,0,0]
[null,"Tx e.i.r.p. of interferer","dBm",{"$f":"D64-D65+D71","v":-29.799999999999997},-29.799999999999997,{"$f":"F64-F65+F71","v":-9.8000000000000007},{"$f":"G64-G65+G71","v":-9.8000000000000007},{"$f":"H64-H65+H71","v":-9.8000000000000007}]
[null,"Bandwidth of interferer Tx signal","GHz",15,15,15,15,15]
[null,"Tx e.i.r.p. spectral density of interferer","dBm/MHz",{"$f":"D66-10*LOG(D67*1000)","v":-71.560912590556811},-71.560912590556811,{"$f":"F66-10*LOG(F67*1000)","v":-51.560912590556811},{"$f":"G66-10*LOG(G67*1000)","v":-51.560912590556811},{"$f":"H66-10*LOG(H67*1000)","v":-51.560912590556811}]
[null,"Tx e.i.r.p. spectral density of interferer","dBW/MHz",{"$f":"D68-30","v":-101.56091259055681},-101.56091259055681,{"$f":"F68-30","v":-81.560912590556811},{"$f":"G68-30","v":-81.560912590556811},{"$f":"H68-30","v":-81.560912590556811}]
[null,"Mitigation technique (e.g. activity factor, adaptive power control)","dB",0,0,0,0,0]
[null,"Average gain of the interferer antenna in the direction of the victim EESS system","dBi",10,10,10,10,10]
[]
[null,"Free space loss between interferer and EESS","dB",{"$f":"20*LOG10(4*PI()*D57*1000/D51)","v":195.19803028432597},199.467241206876,{"$f":"20*LOG10(4*PI()*F57*1000/F51)","v":202.24095232306962},{"$f":"20*LOG10(4*PI()*G57*1000/G51)","v":195.7407875405693},{"$f":"20*LOG10(4*PI()*H57*1000/H51)","v":200.00999846311936}]
[null,"Direct e.i.r.p. spectral density at the EESS antenna","dBW/MHz",{"$f":"D69-D73+D70","v":-296.75894287488279},-301.02815379743282,{"$f":"F69-F73+F70","v":-283.80186491362645},{"$f":"G69-G73+G70","v":-277.3017001311261},{"$f":"H69-H73+H70","v":-281.57091105367618}]
[null,"Atmospheric loss (according to contribution SE24(20)WI71#9-03)","dB",4.8,8.5,8.8000000000000007,5.3,9.3000000000000007]
[null,"Polarisation mismatch loss","dB",3,3,3,3,3]
[null,"Indoor-outdoor attenuation (according to clause 2.3 in the Report)","dB",0,0,0,0,0]
[null,"Power spectral density at the EESS receiver in a 1 MHz bandwidth","dBW/MHz",{"$f":"D74+D58-D75-D76-D77","v":-254.5589428748828},{"$f":"E74+E58-E75-E76-E77","v":-262.52815379743282},{"$f":"F74+F58-F75-F76-F77","v":-243.60186491362646},{"$f":"G74+G58-G75-G76-G77","v":-235.60170013112611},{"$f":"H74+H58-H75-H76-H77","v":-243.8709110536762}]
[null,"Corresponding power at the EESS receiver in the reference bandwidth for a single interferer","dBW",{"$f":"D78+10*LOG10(D52)","v":-231.54864291824299},-239.51785384079301,{"$f":"F78+10*LOG10(F52)","v":-220.59156495698664},{"$f":"G78+10*LOG10(G52)","v":-212.5914001744863},{"$f":"H78+10*LOG10(H52)","v":-220.86061109703638}]
[null,"Uniform RDI device density (with uniform distribution over Europe)","1/km²",{"$f":"'Market Size'!$H26","v":3.8011973771738096E-3},{"$f":"'Market Size'!$H26","v":3.8011973771738096E-3},{"$f":"'Market Size'!$H26","v":3.8011973771738096E-3},{"$f":"'Market Size'!$H26","v":3.8011973771738096E-3},{"$f":"'Market Size'!$H26","v":3.8011973771738096E-3}]
[null,"Aggregate RDI device density (uniform distribution weighted with factor 75; acc. to annex 9 in the Report)","1/km²",{"$f":"D80*75","v":0.28508980328803574},{"$f":"E80*75","v":0.28508980328803574},{"$f":"F80*75","v":0.28508980328803574},{"$f":"G80*75","v":0.28508980328803574},{"$f":"H80*75","v":0.28508980328803574}]
[null,"Number of aggregate RDI devices in the IFOV and active in the reference BW of the satellite",null,{"$f":"ROUNDUP(D81*D59,0)","v":8},{"$f":"ROUNDUP(E81*E59,0)","v":41},{"$f":"ROUNDUP(F81*F59,0)","v":47},{"$f":"ROUNDUP(G81*G59,0)","v":8},{"$f":"ROUNDUP(H81*H59,0)","v":41}]
[null,"Corresponding received power at the EESS in the reference bandwidth within the EESS's FOV","dBW",{"$f":"D79+10*LOG10(D82)","v":-222.51774304832355},{"$f":"E79+10*LOG10(E82)","v":-223.39001527359565},{"$f":"F79+10*LOG10(F82)","v":-203.87058637762948},{"$f":"G79+10*LOG10(G82)","v":-203.56050030456686},{"$f":"H79+10*LOG10(H82)","v":-204.73277252983902}]
[null,"Margin to EESS interference criterion with apportionment","dB",{"$f":"D60-D61-D83","v":50.517743048323553},{"$f":"E60-E61-E83","v":51.390015273595651},{"$f":"F60-F61-F83","v":31.870586377629479},{"$f":"G60-G61-G83","v":31.560500304566858},{"$f":"H60-H61-H83","v":32.732772529839025}]

{"sheet":"RAS 116-130GHz","index":5,"n_rows":37,"n_cols":5,"rows_kept":37,"cut":false,"hidden":false,"merged":[[4,3,4,4]]}
[null,"Compatibility analysis between radiodetermination systems for industry automation in the frequency band 116 to 130 GHz and RAS "]
[]
[]
[]
[null,"Victim RAS system",null,"Band of RAS system: 123-158,5 GHz"]
[null,"Sensor type",null,"Continuum observation","Spectral-line observation"]
[null,"RAS:","Units"]
[null,"Assumed centre frequency of RAS","GHz",126.5,126.5]
[null,"Wavelength of RAS","m",{"$f":"2.99792458/D8/10","v":2.3699008537549403E-3},2.3699008537549403E-3]
[null,"Bandwidth (ITU-R RA.769-2 )","MHz",8000,1]
[null,"Antenna gain in the direction of interferer (ITU-R RA.769-2 )","dBi",0,0]
[null,"Feeder (insertion) loss","dB",0,0]
[null,"Threshold Interference level at receiver input (ITU-R RA.769-2 )","dBW",-189.3,-209]
[null,"Threshold Interference level at receiver input","dBm",{"$f":"D13+30","v":-159.30000000000001},-179]
[]
[null,"Radiodetermination system (interferer):"]
[null,"Conducted Tx power of interferer","dBm",-18,-18]
[null,"Out-of-band unwanted emissions attenuation (if RAS victim is located in an adjacent band)","dB",0,0]
[null,"Tx e.i.r.p. of interferer","dBm",{"$f":"D17-D18+D25","v":18},{"$f":"E17-E18+E25","v":18}]
[null,"Bandwidth of interferer Tx signal","GHz",14,14]
[null,"Mitigation technique (e.g. activity factor, adaptive power control)","dB",0,0]
[null,"Tx e.i.r.p. spectral density of interferer","dBm/MHz",{"$f":"D19-10*LOG(D20*1000)","v":-23.461280356782382},-23.461280356782382]
[null,"Tx e.i.r.p. spectral density of interferer with mitigation ","dBm/MHz",{"$f":"D19+D21-10*LOG(D20*1000)","v":-23.461280356782382},-23.461280356782382]
[null,"Tx e.i.r.p. of interferer with mitigation ","dBm",{"$f":"D19+D21","v":18},{"$f":"E19+E21","v":18}]
[null,"Gain of interferer antenna in the direction of main radiation","dBi",36,36]
[]
[null,"Indoor-outdoor attenuation (according to clause 2.3 in the Report)","dB",0,0]
[null,"Total e.i.r.p. towards RAS","dBm",{"$f":"D24-D27","v":18},{"$f":"E24-E27","v":18}]
[null,"BWCF","dB",{"$f":"IF(D20*1000<=D10, 0, 10*LOG10(D10/D20/1000))","v":-2.4303804868629446},{"$f":"IF(E20*1000<=E10, 0, 10*LOG10(E10/E20/1000))","v":-41.461280356782382}]
[]
[]
[null,"Separation distance calculation:"]
[null,"Minimum coupling loss (MCL)","dB",{"$f":"D28-(D14-D11+D12)+D29","v":174.86961951313705},{"$f":"E28-(E14-E11+E12)+E29","v":155.53871964321763}]
[null,"Separation distance with FSL model","km",{"$f":"10^((D33-32.44-20*LOG10(D8*1000))/20)","v":104.56598917200962},{"$f":"10^((E33-32.44-20*LOG10(E8*1000))/20)","v":11.293939492059648}]
[null,"Specific attenuation due to atmospheric gases (acc. to ITU-R  P.835-6 winter high latitude model)","dB/km",0.11,0.11]
[null,"Separation distance adjusted for attenuation due to atmospheric gases","km",53.263191276450058,9.9560494257116332]
[null,"Balance check (should be close to zero)","dB",{"$f":"D33-20*LOG10(D36)-D36*D35-32.44-20*LOG10(D8*1000)","v":3.1428775054109792E-4},{"$f":"E33-20*LOG10(E36)-E36*E35-32.44-20*LOG10(E8*1000)","v":2.8171713495339645E-6}]

{"sheet":"RAS 134-141GHz","index":6,"n_rows":37,"n_cols":5,"rows_kept":37,"cut":false,"hidden":false,"merged":[[4,3,4,4]]}
[null,"Compatibility analysis between radiodetermination systems for industry automation in the frequency band 134 to 141 GHz and RAS "]
[]
[]
[]
[null,"Victim RAS system",null,"Band of RAS system: 123-158,5 GHz"]
[null,"Sensor type",null,"Continuum observation","Spectral-line observation"]
[null,"RAS:","Units"]
[null,"Assumed centre frequency of RAS","GHz",137.5,137.5]
[null,"Wavelength of RAS","m",{"$f":"2.99792458/D8/10","v":2.1803087854545453E-3},2.1803087854545453E-3]
[null,"Bandwidth (ITU-R RA.769-2 )","MHz",8000,1]
[null,"Antenna gain in the direction of interferer (ITU-R RA.769-2 )","dBi",0,0]
[null,"Feeder (insertion) loss","dB",0,0]
[null,"Threshold Interference level at receiver input (ITU-R RA.769-2 )","dBW",-189.5,-209]
[null,"Threshold Interference level at receiver input","dBm",{"$f":"D13+30","v":-159.5},-179]
[]
[null,"Radiodetermination system (interferer):"]
[null,"Conducted Tx power of interferer","dBm",-18,-18]
[null,"Out-of-band unwanted emissions attenuation (if RAS victim is located in an adjacent band)","dB",0,0]
[null,"Tx e.i.r.p. of interferer","dBm",{"$f":"D17-D18+D25","v":18},{"$f":"E17-E18+E25","v":18}]
[null,"Bandwidth of interferer Tx signal","GHz",7,7]
[null,"Mitigation technique (e.g. activity factor, adaptive power control)","dB",0,0]
[null,"Tx e.i.r.p. spectral density of interferer","dBm/MHz",{"$f":"D19-10*LOG(D20*1000)","v":-20.450980400142569},-20.450980400142569]
[null,"Tx e.i.r.p. spectral density of interferer with mitigation ","dBm/MHz",{"$f":"D19+D21-10*LOG(D20*1000)","v":-20.450980400142569},-20.450980400142569]
[null,"Tx e.i.r.p. of interferer with mitigation ","dBm",{"$f":"D19+D21","v":18},{"$f":"E19+E21","v":18}]
[null,"Gain of interferer antenna in the direction of main radiation","dBi",36,36]
[]
[null,"Indoor-outdoor attenuation (according to clause 2.3 in the Report)","dB",0,0]
[null,"Total e.i.r.p. towards RAS","dBm",{"$f":"D24-D27","v":18},{"$f":"E24-E27","v":18}]
[null,"BWCF","dB",{"$f":"IF(D20*1000<=D10, 0, 10*LOG10(D10/D20/1000))","v":0},{"$f":"IF(E20*1000<=E10, 0, 10*LOG10(E10/E20/1000))","v":-38.450980400142569}]
[]
[]
[null,"Separation distance calculation:"]
[null,"Minimum coupling loss (MCL)","dB",{"$f":"D28-(D14-D11+D12)+D29","v":177.5},{"$f":"E28-(E14-E11+E12)+E29","v":158.54901959985744}]
[null,"Separation distance with FSL model","km",{"$f":"10^((D33-32.44-20*LOG10(D8*1000))/20)","v":130.225880293476},{"$f":"10^((E33-32.44-20*LOG10(E8*1000))/20)","v":14.694279010108501}]
[null,"Specific attenuation due to atmospheric gases (acc. to ITU-R  P.835-6 winter high latitude model)","dB/km",0.1,0.1]
[null,"Separation distance adjusted for attenuation due to atmospheric gases","km",63.028834121903003,12.696031762414863]
[null,"Balance check (should be close to zero)","dB",{"$f":"D33-20*LOG10(D36)-D36*D35-32.44-20*LOG10(D8*1000)","v":2.7714803776746066E-4},{"$f":"E33-20*LOG10(E36)-E36*E35-32.44-20*LOG10(E8*1000)","v":2.4553225870249662E-6}]

{"sheet":"RAS 174,8-182GHz","index":7,"n_rows":42,"n_cols":7,"rows_kept":42,"cut":false,"hidden":false,"merged":[[4,3,4,4],[4,5,4,6]]}
[null,"Compatibility analysis between radiodetermination systems for industry automation in the frequency band 174,8 to 182 GHz and RAS "]
[]
[]
[]
[null,"Victim RAS system",null,"Band of RAS system: 164-174,5 GHz",null,"Band of RAS system: 182-185 GHz"]
[null,"Sensor type",null,"Continuum observation","Spectral-line observation","Continuum observation","Spectral-line observation"]
[null,"RAS:","Units"]
[null,"Assumed centre frequency of RAS","GHz",169.25,169.25,183.5,183.5]
[null,"Wavelength of RAS","m",{"$f":"2.99792458/D8/10","v":1.7712996041358935E-3},1.7712996041358935E-3,1.6337463651226157E-3,1.6337463651226157E-3]
[null,"Bandwidth (ITU-R RA.769-2 )","MHz",8000,1,8000,1]
[null,"Antenna gain in the direction of interferer (ITU-R RA.769-2 )","dBi",0,0,0,0]
[null,"Feeder (insertion) loss","dB",0,0,0,0]
[null,"Threshold Interference level at receiver input (ITU-R RA.769-2 )","dBW",-189.1,-209,-182.4,-209]
[null,"Threshold Interference level at receiver input","dBm",{"$f":"D13+30","v":-159.1},-179,-152.4,-179]
[]
[null,"Radiodetermination system (interferer):"]
[null,"Conducted Tx power of interferer","dBm",-18,-18,-18,-18]
[null,"Out-of-band unwanted emissions attenuation (if RAS victim is located in an adjacent band)","dB",20,20,20,20]
[null,"Tx e.i.r.p. of interferer","dBm",{"$f":"D17-D18+D25","v":-2},{"$f":"E17-E18+E25","v":-2},{"$f":"F17-F18+F25","v":-2},{"$f":"G17-G18+G25","v":-2}]
[null,"Bandwidth of interferer Tx signal","GHz",1.5,1.5,1.5,1.5]
[null,"Mitigation technique (e.g. activity factor, adaptive power control)","dB",0,0,0,0]
[null,"Tx e.i.r.p. spectral density of interferer","dBm/MHz",{"$f":"D19-10*LOG(D20*1000)","v":-33.760912590556813},-33.760912590556813,-33.760912590556813,-33.760912590556813]
[null,"Tx e.i.r.p. spectral density of interferer with mitigation ","dBm/MHz",{"$f":"D19+D21-10*LOG(D20*1000)","v":-33.760912590556813},-33.760912590556813,-33.760912590556813,-33.760912590556813]
[null,"Tx e.i.r.p. of interferer with mitigation ","dBm",{"$f":"D19+D21","v":-2},{"$f":"E19+E21","v":-2},{"$f":"F19+F21","v":-2},{"$f":"G19+G21","v":-2}]
[null,"Gain of interferer antenna in the direction of main radiation","dBi",36,36,36,36]
[]
[null,"Indoor-outdoor attenuation (according to clause 2.3 in the Report)","dB",0,0,0,0]
[null,"Total e.i.r.p. towards RAS","dBm",{"$f":"D24-D27","v":-2},{"$f":"E24-E27","v":-2},{"$f":"F24-F27","v":-2},{"$f":"G24-G27","v":-2}]
[null,"BWCF","dB",{"$f":"IF(D20*1000<=D10, 0, 10*LOG10(D10/D20/1000))","v":0},{"$f":"IF(E20*1000<=E10, 0, 10*LOG10(E10/E20/1000))","v":-31.760912590556813},{"$f":"IF(F20*1000<=F10, 0, 10*LOG10(F10/F20/1000))","v":0},{"$f":"IF(G20*1000<=G10, 0, 10*LOG10(G10/G20/1000))","v":-31.760912590556813}]
[]
[]
[null,"Separation distance calculation:"]
[null,"Minimum coupling loss (MCL)","dB",{"$f":"D28-(D14-D11+D12)+D29","v":157.1},{"$f":"E28-(E14-E11+E12)+E29","v":145.23908740944319},{"$f":"F28-(F14-F11+F12)+F29","v":150.4},{"$f":"G28-(G14-G11+G12)+G29","v":145.23908740944319}]
[null,"Separation distance with FSL model","km",{"$f":"10^((D33-32.44-20*LOG10(D8*1000))/20)","v":10.103487829189289},{"$f":"10^((E33-32.44-20*LOG10(E8*1000))/20)","v":2.5788476911872826},{"$f":"10^((F33-32.44-20*LOG10(F8*1000))/20)","v":4.3088753569472757},{"$f":"10^((G33-32.44-20*LOG10(G8*1000))/20)","v":2.3785829522258695}]
[null,"Specific attenuation due to atmospheric gases (acc. to ITU-R  P.835-6 winter high latitude model)","dB/km",0.21,0.21,3.55,3.55]
[null,"Separation distance adjusted for attenuation due to atmospheric gases","km",8.2720723983038038,2.4314301395287345,1.9455438291839584,1.3627304166174687]
[null,"Balance check (should be close to zero)","dB",{"$f":"D33-20*LOG10(D36)-D36*D35-32.44-20*LOG10(D8*1000)","v":4.7137939276353791E-6},{"$f":"E33-20*LOG10(E36)-E36*E35-32.44-20*LOG10(E8*1000)","v":6.7761652708497877E-4},{"$f":"F33-20*LOG10(F36)-F36*F35-32.44-20*LOG10(F8*1000)","v":-2.2234596389125727E-4},{"$f":"G33-20*LOG10(G36)-G36*G35-32.44-20*LOG10(G8*1000)","v":4.7406606407207619E-4}]
[null,null,null,"Note 1",null,"Note 2"]
[]
[null,"Note 1: A power spectral density of -13.8dBm/MHz in the whole available bandwidth of 7.2GHz would result in a separation distance of 15.3km. Therefore, a separation distance of at least 15.3km should be considered in order to protect RAS."]
[]
[null,"Note 1: A power spectral density of -13.8dBm/MHz in the whole available bandwidth of 7.2GHz would result in a separation distance of 2.9km. Therefore, a separation distance of at least 2.9km should be considered in order to protect RAS."]

{"sheet":"RAS 185-190GHz","index":8,"n_rows":42,"n_cols":7,"rows_kept":42,"cut":false,"hidden":false,"merged":[[4,3,4,4],[4,5,4,6]]}
[null,"Compatibility analysis between radiodetermination systems for industry automation in the frequency band 185 to 190 GHz and RAS "]
[]
[]
[]
[null,"Victim RAS system",null,"Band of RAS system: 182-185 GHz",null,"Band of RAS system: 190-231,5 GHz"]
[null,"Sensor type",null,"Continuum observation","Spectral-line observation","Continuum observation","Spectral-line observation"]
[null,"RAS:","Units"]
[null,"Assumed centre frequency of RAS","GHz",183.5,183.5,210.75,210.75]
[null,"Wavelength of RAS","m",{"$f":"2.99792458/D8/10","v":1.6337463651226157E-3},1.6337463651226157E-3,1.4225027663107947E-3,1.4225027663107947E-3]
[null,"Bandwidth (ITU-R RA.769-2 )","MHz",8000,1,8000,1]
[null,"Antenna gain in the direction of interferer (ITU-R RA.769-2 )","dBi",0,0,0,0]
[null,"Feeder (insertion) loss","dB",0,0,0,0]
[null,"Threshold Interference level at receiver input (ITU-R RA.769-2 )","dBW",-182.4,-209,-187.8,-207]
[null,"Threshold Interference level at receiver input","dBm",{"$f":"D13+30","v":-152.4},-179,-157.80000000000001,-177]
[]
[null,"Radiodetermination system (interferer):"]
[null,"Conducted Tx power of interferer","dBm",-18,-18,-18,-18]
[null,"Out-of-band unwanted emissions attenuation (if RAS victim is located in an adjacent band)","dB",20,20,20,20]
[null,"Tx e.i.r.p. of interferer","dBm",{"$f":"D17-D18+D25","v":-2},{"$f":"E17-E18+E25","v":-2},{"$f":"F17-F18+F25","v":-2},-2]
[null,"Bandwidth of interferer Tx signal","GHz",1.5,1.5,1.5,1.5]
[null,"Mitigation technique (e.g. activity factor, adaptive power control)","dB",0,0,0,0]
[null,"Tx e.i.r.p. spectral density of interferer","dBm/MHz",{"$f":"D19-10*LOG(D20*1000)","v":-33.760912590556813},-33.760912590556813,-33.760912590556813,-33.760912590556813]
[null,"Tx e.i.r.p. spectral density of interferer with mitigation ","dBm/MHz",{"$f":"D19+D21-10*LOG(D20*1000)","v":-33.760912590556813},-33.760912590556813,-33.760912590556813,-33.760912590556813]
[null,"Tx e.i.r.p. of interferer with mitigation ","dBm",{"$f":"D19+D21","v":-2},{"$f":"E19+E21","v":-2},{"$f":"F19+F21","v":-2},-2]
[null,"Gain of interferer antenna in the direction of main radiation","dBi",36,36,36,36]
[]
[null,"Indoor-outdoor attenuation (according to clause 2.3 in the Report)","dB",0,0,0,0]
[null,"Total e.i.r.p. towards RAS","dBm",{"$f":"D24-D27","v":-2},{"$f":"E24-E27","v":-2},{"$f":"F24-F27","v":-2},{"$f":"G24-G27","v":-2}]
[null,"BWCF","dB",{"$f":"IF(D20*1000<=D10, 0, 10*LOG10(D10/D20/1000))","v":0},{"$f":"IF(E20*1000<=E10, 0, 10*LOG10(E10/E20/1000))","v":-31.760912590556813},{"$f":"IF(F20*1000<=F10, 0, 10*LOG10(F10/F20/1000))","v":0},{"$f":"IF(G20*1000<=G10, 0, 10*LOG10(G10/G20/1000))","v":-31.760912590556813}]
[]
[]
[null,"Separation distance calculation:"]
[null,"Minimum coupling loss (MCL)","dB",{"$f":"D28-(D14-D11+D12)+D29","v":150.4},{"$f":"E28-(E14-E11+E12)+E29","v":145.23908740944319},{"$f":"F28-(F14-F11+F12)+F29","v":155.80000000000001},143.23908740944319]
[null,"Separation distance with FSL model","km",{"$f":"10^((D33-32.44-20*LOG10(D8*1000))/20)","v":4.3088753569472757},{"$f":"10^((E33-32.44-20*LOG10(E8*1000))/20)","v":2.3785829522258695},{"$f":"10^((F33-32.44-20*LOG10(F8*1000))/20)","v":6.9860616960034303},1.6450791086936503]
[null,"Specific attenuation due to atmospheric gases (acc. to ITU-R  P.835-6 winter high latitude model)","dB/km",3.55,3.55,0.25,0.25]
[null,"Separation distance adjusted for attenuation due to atmospheric gases","km",1.9455247674909177,1.3627747219782129,5.8957733414808375,1.5722905724691214]
[null,"Balance check (should be close to zero)","dB",{"$f":"D33-20*LOG10(D36)-D36*D35-32.44-20*LOG10(D8*1000)","v":-6.957551786967997E-5},{"$f":"E33-20*LOG10(E36)-E36*E35-32.44-20*LOG10(E8*1000)","v":3.4389262708600654E-5},{"$f":"F33-20*LOG10(F36)-F36*F35-32.44-20*LOG10(F8*1000)","v":-1.105823274656359E-4},6.8928065388718096E-6]
[null,null,null,"Note 2",null,"Note 1"]
[]
[null,"Note 1: A power spectral density of -13.8dBm/MHz in the whole available bandwidth of 5GHz would result in a separation distance of 9.6km. Therefore, a separation distance of at least 9.6km should be considered in order to protect RAS."]
[]
[null,"Note 2: A power spectral density of -13.8dBm/MHz in the whole available bandwidth of 5GHz would result in a separation distance of 2.7km. Therefore, a separation distance of at least 2.7km should be considered in order to protect RAS."]

{"sheet":"RAS 231,5-250GHz","index":9,"n_rows":37,"n_cols":9,"rows_kept":37,"cut":false,"hidden":false,"merged":[[4,3,4,4],[4,5,4,6],[4,7,4,8]]}
[null,"Compatibility analysis between radiodetermination systems for industry automation in the frequency band 231,5 to 250 GHz and RAS systems"]
[]
[]
[]
[null,"Victim RAS system",null,"Band of RAS system: 190-231,5 GHz",null,"Band of RAS system: 235-238 GHz",null,"Band of RAS system: 241-275 GHz"]
[null,"Sensor type",null,"Continuum observation","Spectral-line observation","Continuum observation","Spectral-line observation","Continuum observation","Spectral-line observation"]
[null,"RAS:","Units"]
[null,"Assumed centre frequency of RAS","GHz",210.75,210.75,236.5,236.5,245.5,245.5]
[null,"Wavelength of RAS","m",{"$f":"2.99792458/D8/10","v":1.4225027663107947E-3},1.4225027663107947E-3,1.2676213868921776E-3,1.2676213868921776E-3,{"$f":"2.99792458/H8/10","v":1.2211505417515276E-3},1.2211505417515276E-3]
[null,"Bandwidth (ITU-R RA.769-2 )","MHz",8000,1,8000,1,8000,1]
[null,"Antenna gain in the direction of interferer (ITU-R RA.769-2 )","dBi",0,0,0,0,0,0]
[null,"Feeder (insertion) loss","dB",0,0,0,0,0,0]
[null,"Threshold Interference level at receiver input (ITU-R RA.769-2 )","dBW",-187.8,-207,-187.8,-207,-186.8,-207]
[null,"Threshold Interference level at receiver input","dBm",{"$f":"D13+30","v":-157.80000000000001},-177,-157.80000000000001,-177,{"$f":"H13+30","v":-156.80000000000001},-177]
[]
[null,"Radiodetermination system (interferer):"]
[null,"Conducted Tx power of interferer","dBm",-19.8,-19.8,-19.8,-19.8,-19.8,-19.8]
[null,"Out-of-band unwanted emissions attenuation (if RAS victim is located in an adjacent band)","dB",20,20,0,0,0,0]
[null,"Tx e.i.r.p. of interferer","dBm",{"$f":"D17-D18+D25","v":-3.7999999999999972},-3.7999999999999972,16.2,16.2,16.2,16.2]
[null,"Bandwidth of interferer Tx signal","GHz",15,15,15,15,15,15]
[null,"Mitigation technique (e.g. activity factor, adaptive power control)","dB",0,0,0,0,0,0]
[null,"Tx e.i.r.p. spectral density of interferer","dBm/MHz",{"$f":"D19-10*LOG(D20*1000)","v":-45.560912590556811},-45.560912590556811,-25.560912590556814,-25.560912590556814,{"$f":"H19-10*LOG(H20*1000)","v":-25.560912590556814},-25.560912590556814]
[null,"Tx e.i.r.p. spectral density of interferer with mitigation ","dBm/MHz",{"$f":"D19+D21-10*LOG(D20*1000)","v":-45.560912590556811},-45.560912590556811,-25.560912590556814,-25.560912590556814,{"$f":"H19+H21-10*LOG(H20*1000)","v":-25.560912590556814},-25.560912590556814]
[null,"Tx e.i.r.p. of interferer with mitigation ","dBm",{"$f":"D19+D21","v":-3.7999999999999972},-3.7999999999999972,16.2,16.2,16.2,16.2]
[null,"Gain of interferer antenna in the direction of main radiation","dBi",36,36,36,36,36,36]
[]
[null,"Indoor-outdoor attenuation (according to clause 2.3 in the Report)","dB",0,0,0,0,0,0]
[null,"Total e.i.r.p. towards RAS","dBm",{"$f":"D24-D27","v":-3.7999999999999972},-3.7999999999999972,16.2,16.2,16.2,16.2]
[null,"BWCF","dB",{"$f":"IF(D20*1000<=D10, 0, 10*LOG10(D10/D20/1000))","v":-2.7300127206373763},-41.760912590556813,-2.7300127206373763,-41.760912590556813,-2.7300127206373763,-41.760912590556813]
[]
[]
[null,"Separation distance calculation:"]
[null,"Minimum coupling loss (MCL)","dB",{"$f":"D28-(D14-D11+D12)+D29","v":151.26998727936262},131.43908740944318,171.26998727936262,151.43908740944318,170.26998727936262,151.43908740944318]
[null,"Separation distance with FSL model","km",{"$f":"10^((D33-32.44-20*LOG10(D8*1000))/20)","v":4.1469784704006054},0.42285044033073138,36.95457558718509,3.7681069894165589,31.728377751273712,3.6299686476456849]
[null,"Specific attenuation due to atmospheric gases (acc. to ITU-R  P.835-6 winter high latitude model)","dB/km",0.25,0.25,0.27,0.27,0.28999999999999998,0.28999999999999998]
[null,"Separation distance adjusted for attenuation due to atmospheric gases","km",3.7253340188832982,0.41779629677184649,19.904312989208062,3.391120435832895,17.619114409205839,3.2560445580227184]
[null,"Balance check (should be close to zero)","dB",{"$f":"D33-20*LOG10(D36)-D36*D35-32.44-20*LOG10(D8*1000)","v":-2.2574332376734674E-6},-5.0546444185783912E-6,2.5602656485546049E-4,-2.2906067300709765E-6,-2.6734149352591885E-4,-2.2305930258426088E-6]

{"sheet":"FS 116-130GHz","index":10,"n_rows":87,"n_cols":7,"rows_kept":87,"cut":false,"hidden":false,"merged":[]}
[null,"Compatibility analysis between radiodetermination systems for industry automation in the frequency band 116 to 130 GHz and Fixed Service (FS) systems"]
[]
[null,"Scenario 1: Light pole connected to a building by means of an FS link – FS Rx on building (RDI main beam points exactly towards FS receiver). See Report figure 12."]
[]
[null,"Victim Fixed Service (FS) system",null,"Band of FS system: 111,8-114,25 GHz","Band of FS system: 111,8-114,25 GHz","Band of FS system: 130-134 GHz","Band of FS system: 130-134 GHz"]
[null,"Sensor type",null,"Point-to-point (PP)","Point-to-point (PP)","Point-to-point (PP)","Point-to-point (PP)"]
[null,"FS:","Units"]
[null,"Assumed centre frequency of FS system","GHz",113.02500000000001,113.02500000000001,132,132]
[null,"Wavelength of FS system","m",{"$f":"2.99792458/D8/10","v":2.6524437779252377E-3},{"$f":"2.99792458/E8/10","v":2.6524437779252377E-3},{"$f":"2.99792458/F8/10","v":2.2711549848484845E-3},{"$f":"2.99792458/G8/10","v":2.2711549848484845E-3}]
[null,"Receiver noise bandwidth (ITU-R-F.758-6)","MHz",1000,1000,1000,1000]
[null,"Receiver noise figure (ITU-R-F.758-6)","dB",12,12,14,14]
[null,"Misalignment of antenna main beam towards RDI (angle δ in figure 12 in the Report)","°",0.95,0.95,0.95,0.95]
[null,"Antenna gain in the direction of interferer (ITU-R-F.758-6)","dBi",37.5,37.5,37.5,37.5]
[null,"Feeder (insertion) loss (ITU-R-F.758-6)","dB",0,0,0,0]
[null,"I/N criterion (ITU-R F.758-6 )","dB",-20,5,-20,5]
[null,"Receiver noise power density typical (ITU-R-F.758-6)","dBW/MHz",-132,-132,-130,-130]
[null,"Nominal long-term interference power density threshold (ITU-R-F.758-6)","dBW/MHz",{"$f":"D16+D15","v":-152},{"$f":"E16+E15","v":-127},{"$f":"F16+F15","v":-150},{"$f":"G16+G15","v":-125}]
[null,"Interference threshold at receiver input within IF bandwidth","dBm",{"$f":"D17+10*LOG10(D10)+30","v":-92},{"$f":"E17+10*LOG10(E10)+30","v":-67},{"$f":"F17+10*LOG10(F10)+30","v":-90},{"$f":"G17+10*LOG10(G10)+30","v":-65}]
[null,"(Receiver noise power density calculated over NF)","dBW/MHz",{"$f":"-113.83+D11-30","v":-131.82999999999998},{"$f":"-113.83+E11-30","v":-131.82999999999998},{"$f":"-113.83+F11-30","v":-129.82999999999998},{"$f":"-113.83+G11-30","v":-129.82999999999998}]
[]
[null,"Radiodetermination system (interferer):"]
[null,"Conducted Tx power of interferer","dBm",-18,-5,-18,-5]
[null,"Out-of-band unwanted emissions attenuation (if FS victim is located in an adjacent band)","dB",20,20,20,20]
[null,"Tx e.i.r.p. of interferer","dBm",{"$f":"D22-D23+D30","v":-2},{"$f":"E22-E23+E30","v":11},{"$f":"F22-F23+F30","v":-2},{"$f":"G22-G23+G30","v":11}]
[null,"Bandwidth of interferer Tx signal ","GHz",14,14,14,14]
[null,"Mitigation technique (e.g. activity factor, adaptive power control)","dB",0,0,0,0]
[null,"Tx e.i.r.p. spectral density of interferer","dBm/MHz",{"$f":"D24-10*LOG(D25*1000)","v":-43.461280356782382},{"$f":"E24-10*LOG(E25*1000)","v":-30.461280356782382},{"$f":"F24-10*LOG(F25*1000)","v":-43.461280356782382},{"$f":"G24-10*LOG(G25*1000)","v":-30.461280356782382}]
[null,"Tx e.i.r.p. spectral density of interferer with mitigation ","dBm/MHz",{"$f":"D24+D26-10*LOG(D25*1000)","v":-43.461280356782382},{"$f":"E24+E26-10*LOG(E25*1000)","v":-30.461280356782382},{"$f":"F24+F26-10*LOG(F25*1000)","v":-43.461280356782382},{"$f":"G24+G26-10*LOG(G25*1000)","v":-30.461280356782382}]
[null,"Tx e.i.r.p. of interferer with mitigation","dBm",{"$f":"D24+D26","v":-2},{"$f":"E24+E26","v":11},{"$f":"F24+F26","v":-2},{"$f":"G24+G26","v":11}]
[null,"Gain of interferer antenna in direction of main radiation","dBi",36,36,36,36]
[]
[null,"Indoor-outdoor attenuation (according to clause 2.3 in the Report)","dB",0,0,0,0]
[null,"Total e.i.r.p. towards FS system","dBm",{"$f":"D29-D32","v":-2},{"$f":"E29-E32","v":11},{"$f":"F29-F32","v":-2},{"$f":"G29-G32","v":11}]
[null,"BWCF","dB",{"$f":"IF(D25*1000<=D10, 0, 10*LOG10(D10/D25/1000))","v":-11.46128035678238},0,{"$f":"IF(F25*1000<=F10, 0, 10*LOG10(F10/F25/1000))","v":-11.46128035678238},0]
[]
[]
[null,"Separation distance calculation:"]
[null,"Minimum coupling loss (MCL)","dB",{"$f":"D33-(D18-D13+D14)+D34","v":116.03871964321762},{"$f":"E33-(E18-E13+E14)+E34","v":115.5},{"$f":"F33-(F18-F13+F14)+F34","v":114.03871964321762},{"$f":"G33-(G18-G13+G14)+G34","v":113.5}]
[null,"Separation distance with FSL model","km",{"$f":"10^((D38-32.44-20*LOG10(D8*1000))/20)","v":0.13389410803625018},{"$f":"10^((E38-32.44-20*LOG10(E8*1000))/20)","v":0.12584196302789821},{"$f":"10^((F38-32.44-20*LOG10(F8*1000))/20)","v":9.1067214095431975E-2},{"$f":"10^((G38-32.44-20*LOG10(G8*1000))/20)","v":8.5590599596424108E-2}]
[null,"Specific attenuation due to atmospheric gases (ITU-R P.676-11 figure 5)","dB/km",0.4,0.4,0.8,0.8]
[null,"Separation distance adjusted for attenuation due to atmospheric gases","km",0.1330757288724847,0.12511863430442347,9.0312630928224114E-2,8.4923534940996151E-2]
[null,"Balance check (should be close to zero)","dB",{"$f":"D38-20*LOG10(D41)-D41*D40-32.44-20*LOG10(D8*1000)","v":2.1966807125295418E-5},{"$f":"E38-20*LOG10(E41)-E41*E40-32.44-20*LOG10(E8*1000)","v":2.2325587067939523E-5},{"$f":"F38-20*LOG10(F41)-F41*F40-32.44-20*LOG10(F8*1000)","v":2.1033489218780232E-5},{"$f":"G38-20*LOG10(G41)-G41*G40-32.44-20*LOG10(G8*1000)","v":2.128048703298191E-5}]
[null,null,null,"Long term interference criterion","Peak power objective","Long term interference criterion","Peak power objective"]
[]
[]
[]
[null,"Scenario 2: Light pole connected to a building by means of an FS link – FS Rx at light pole (RDI main beam points exactly towards FS receiver). See Report figure 13."]
[]
[null,"Victim Fixed Service (FS) system",null,"Band of FS system: 111,8-114,25 GHz","Band of FS system: 111,8-114,25 GHz","Band of FS system: 130-134 GHz","Band of FS system: 130-134 GHz"]
[null,"Sensor type",null,"Point-to-point (PP)","Point-to-point (PP)","Point-to-point (PP)","Point-to-point (PP)"]
[null,"FS:","Units"]
[null,"Assumed centre frequency of FS system","GHz",113.02500000000001,113.02500000000001,132,132]
[null,"Wavelength of FS system","m",{"$f":"2.99792458/D52/10","v":2.6524437779252377E-3},{"$f":"2.99792458/E52/10","v":2.6524437779252377E-3},{"$f":"2.99792458/F52/10","v":2.2711549848484845E-3},{"$f":"2.99792458/G52/10","v":2.2711549848484845E-3}]
[null,"Receiver noise bandwidth (ITU-R-F.758-6)","MHz",1000,1000,1000,1000]
[null,"Receiver noise figure (ITU-R-F.758-6)","dB",12,12,14,14]
[null,"Misalignment of antenna main beam towards RDI (angle α+β  in figure 13 in the Report)","°",4.57,4.57,4.57,4.57]
[null,"Antenna gain in the direction of interferer (ITU-R-F.758-6)","dBi",18,18,18,18]
[null,"Feeder (insertion) loss (ITU-R-F.758-6)","dB",0,0,0,0]
[null,"I/N criterion (ITU-R F.758-6 )","dB",-20,5,-20,5]
[null,"Receiver noise power density typical (ITU-R-F.758-6)","dBW/MHz",-132,-132,-130,-130]
[null,"Nominal long-term interference power density threshold (ITU-R-F.758-6)","dBW/MHz",{"$f":"D60+D59","v":-152},{"$f":"E60+E59","v":-127},{"$f":"F60+F59","v":-150},{"$f":"G60+G59","v":-125}]
[null,"Interference threshold at receiver input within IF bandwidth","dBm",{"$f":"D61+10*LOG10(D54)+30","v":-92},{"$f":"E61+10*LOG10(E54)+30","v":-67},{"$f":"F61+10*LOG10(F54)+30","v":-90},{"$f":"G61+10*LOG10(G54)+30","v":-65}]
[null,"(Receiver noise power density calculated over NF)","dBW/MHz",{"$f":"-113.83+D55-30","v":-131.82999999999998},{"$f":"-113.83+E55-30","v":-131.82999999999998},{"$f":"-113.83+F55-30","v":-129.82999999999998},{"$f":"-113.83+G55-30","v":-129.82999999999998}]
[]
[null,"Radiodetermination system (interferer):"]
[null,"Conducted Tx power of interferer","dBm",-18,-5,-18,-5]
[null,"Out-of-band unwanted emissions attenuation (if FS victim is located in an adjacent band)","dB",20,20,20,20]
[null,"Tx e.i.r.p. of interferer","dBm",{"$f":"D66-D67+D74","v":-2},{"$f":"E66-E67+E74","v":11},{"$f":"F66-F67+F74","v":-2},{"$f":"G66-G67+G74","v":11}]
[null,"Bandwidth of interferer Tx signal ","GHz",14,14,14,14]
[null,"Mitigation technique (e.g. activity factor, adaptive power control)","dB",0,0,0,0]
[null,"Tx e.i.r.p. spectral density of interferer","dBm/MHz",{"$f":"D68-10*LOG(D69*1000)","v":-43.461280356782382},{"$f":"E68-10*LOG(E69*1000)","v":-30.461280356782382},{"$f":"F68-10*LOG(F69*1000)","v":-43.461280356782382},{"$f":"G68-10*LOG(G69*1000)","v":-30.461280356782382}]
[null,"Tx e.i.r.p. spectral density of interferer with mitigation ","dBm/MHz",{"$f":"D68+D70-10*LOG(D69*1000)","v":-43.461280356782382},{"$f":"E68+E70-10*LOG(E69*1000)","v":-30.461280356782382},{"$f":"F68+F70-10*LOG(F69*1000)","v":-43.461280356782382},{"$f":"G68+G70-10*LOG(G69*1000)","v":-30.461280356782382}]
[null,"Tx e.i.r.p. of interferer with mitigation","dBm",{"$f":"D68+D70","v":-2},{"$f":"E68+E70","v":11},{"$f":"F68+F70","v":-2},{"$f":"G68+G70","v":11}]
[null,"Gain of interferer antenna in direction of main radiation","dBi",36,36,36,36]
[]
[null,"Indoor-outdoor attenuation (according to clause 2.3 in the Report)","dB",0,0,0,0]
[null,"Total e.i.r.p. towards FS system","dBm",{"$f":"D73-D76","v":-2},{"$f":"E73-E76","v":11},{"$f":"F73-F76","v":-2},{"$f":"G73-G76","v":11}]
[null,"BWCF","dB",{"$f":"IF(D69*1000<=D54, 0, 10*LOG10(D54/D69/1000))","v":-11.46128035678238},0,{"$f":"IF(F69*1000<=F54, 0, 10*LOG10(F54/F69/1000))","v":-11.46128035678238},0]
[]
[]
[null,"Separation distance calculation:"]
[null,"Minimum coupling loss (MCL)","dB",{"$f":"D77-(D62-D57+D58)+D78","v":96.538719643217618},{"$f":"E77-(E62-E57+E58)+E78","v":96},{"$f":"F77-(F62-F57+F58)+F78","v":94.538719643217618},{"$f":"G77-(G62-G57+G58)+G78","v":94}]
[null,"Separation distance with FSL model","km",{"$f":"10^((D82-32.44-20*LOG10(D52*1000))/20)","v":1.4182783271668838E-2},{"$f":"10^((E82-32.44-20*LOG10(E52*1000))/20)","v":1.3329856812092389E-2},{"$f":"10^((F82-32.44-20*LOG10(F52*1000))/20)","v":9.6463285772104019E-3},{"$f":"10^((G82-32.44-20*LOG10(G52*1000))/20)","v":9.0662161462669952E-3}]
[null,"Specific attenuation due to atmospheric gases (ITU-R P.676-11 figure 5)","dB/km",0.4,0.4,0.8,0.8]
[null,"Separation distance adjusted for attenuation due to atmospheric gases","km",1.4173488640804068E-2,1.3321643217511291E-2,9.6377420326336383E-3,9.0586290657085049E-3]
[null,"Balance check (should be close to zero)","dB",{"$f":"D82-20*LOG10(D85)-D85*D84-32.44-20*LOG10(D52*1000)","v":2.473394535229545E-5},{"$f":"E82-20*LOG10(E85)-E85*E84-32.44-20*LOG10(E52*1000)","v":2.5066011303920277E-5},{"$f":"F82-20*LOG10(F85)-F85*F84-32.44-20*LOG10(F52*1000)","v":2.4872792579344605E-5},{"$f":"G82-20*LOG10(G85)-G85*G84-32.44-20*LOG10(G52*1000)","v":2.4943484305595121E-5}]
[null,null,null,"Long term interference criterion","Peak power objective","Long term interference criterion","Peak power objective"]

{"sheet":"FS 134-141GHz","index":11,"n_rows":87,"n_cols":7,"rows_kept":87,"cut":false,"hidden":false,"merged":[]}
[null,"Compatibility analysis between radiodetermination systems for industry automation in the frequency band 134 to 141 GHz and Fixed Service (FS) systems"]
[]
[null,"Scenario 1: Light pole connected to a building by means of an FS link – FS Rx on building (RDI main beam points exactly towards FS receiver). See Report figure 12."]
[]
[null,"Victim Fixed Service (FS) system",null,"Band of FS system: 130-134 GHz","Band of FS system: 130-134 GHz","Band of FS system: 141-148,5 GHz","Band of FS system: 141-148,5 GHz"]
[null,"Sensor type",null,"Point-to-point (PP)","Point-to-point (PP)","Point-to-point (PP)","Point-to-point (PP)"]
[null,"FS:","Units"]
[null,"Assumed centre frequency of FS system","GHz",132,132,144.75,144.75]
[null,"Wavelength of FS system","m",{"$f":"2.99792458/D8/10","v":2.2711549848484845E-3},{"$f":"2.99792458/E8/10","v":2.2711549848484845E-3},{"$f":"2.99792458/F8/10","v":2.0711050639032813E-3},{"$f":"2.99792458/G8/10","v":2.0711050639032813E-3}]
[null,"Receiver noise bandwidth (ITU-R-F.758-6)","MHz",1000,1000,1000,1000]
[null,"Receiver noise figure (ITU-R-F.758-6)","dB",14,14,14,14]
[null,"Misalignment of antenna main beam towards RDI (angle δ in figure 12 in the Report)","°",0.95,0.95,0.95,0.95]
[null,"Antenna gain in the direction of interferer (ITU-R-F.758-6)","dBi",37.5,37.5,37.5,37.5]
[null,"Feeder (insertion) loss (ITU-R-F.758-6)","dB",0,0,0,0]
[null,"I/N criterion (ITU-R F.758-6 )","dB",-20,5,-20,5]
[null,"Receiver noise power density typical (ITU-R-F.758-6)","dBW/MHz",-130,-130,-130,-130]
[null,"Nominal long-term interference power density threshold (ITU-R-F.758-6)","dBW/MHz",{"$f":"D16+D15","v":-150},{"$f":"E16+E15","v":-125},{"$f":"F16+F15","v":-150},{"$f":"G16+G15","v":-125}]
[null,"Interference threshold at receiver input within IF bandwidth","dBm",{"$f":"D17+10*LOG10(D10)+30","v":-90},{"$f":"E17+10*LOG10(E10)+30","v":-65},{"$f":"F17+10*LOG10(F10)+30","v":-90},{"$f":"G17+10*LOG10(G10)+30","v":-65}]
[null,"(Receiver noise power density calculated over NF)","dBW/MHz",{"$f":"-113.83+D11-30","v":-129.82999999999998},{"$f":"-113.83+E11-30","v":-129.82999999999998},{"$f":"-113.83+F11-30","v":-129.82999999999998},{"$f":"-113.83+G11-30","v":-129.82999999999998}]
[]
[null,"Radiodetermination system (interferer):"]
[null,"Conducted Tx power of interferer","dBm",-18,-5,-18,-5]
[null,"Out-of-band unwanted emissions attenuation (if FS victim is located in an adjacent band)","dB",20,20,20,20]
[null,"Tx e.i.r.p. of interferer","dBm",{"$f":"D22-D23+D30","v":-2},{"$f":"E22-E23+E30","v":11},{"$f":"F22-F23+F30","v":-2},{"$f":"G22-G23+G30","v":11}]
[null,"Bandwidth of interferer Tx signal ","GHz",7,7,7,7]
[null,"Mitigation technique (e.g. activity factor, adaptive power control)","dB",0,0,0,0]
[null,"Tx e.i.r.p. spectral density of interferer","dBm/MHz",{"$f":"D24-10*LOG(D25*1000)","v":-40.450980400142569},{"$f":"E24-10*LOG(E25*1000)","v":-27.450980400142569},{"$f":"F24-10*LOG(F25*1000)","v":-40.450980400142569},{"$f":"G24-10*LOG(G25*1000)","v":-27.450980400142569}]
[null,"Tx e.i.r.p. spectral density of interferer with mitigation ","dBm/MHz",{"$f":"D24+D26-10*LOG(D25*1000)","v":-40.450980400142569},{"$f":"E24+E26-10*LOG(E25*1000)","v":-27.450980400142569},{"$f":"F24+F26-10*LOG(F25*1000)","v":-40.450980400142569},{"$f":"G24+G26-10*LOG(G25*1000)","v":-27.450980400142569}]
[null,"Tx e.i.r.p. of interferer with mitigation","dBm",{"$f":"D24+D26","v":-2},{"$f":"E24+E26","v":11},{"$f":"F24+F26","v":-2},{"$f":"G24+G26","v":11}]
[null,"Gain of interferer antenna in direction of main radiation","dBi",36,36,36,36]
[]
[null,"Indoor-outdoor attenuation (according to clause 2.3 in the Report)","dB",0,0,0,0]
[null,"Total e.i.r.p. towards FS system","dBm",{"$f":"D29-D32","v":-2},{"$f":"E29-E32","v":11},{"$f":"F29-F32","v":-2},{"$f":"G29-G32","v":11}]
[null,"BWCF","dB",{"$f":"IF(D25*1000<=D10, 0, 10*LOG10(D10/D25/1000))","v":-8.4509804001425675},0,{"$f":"IF(F25*1000<=F10, 0, 10*LOG10(F10/F25/1000))","v":-8.4509804001425675},0]
[]
[]
[null,"Separation distance calculation:"]
[null,"Minimum coupling loss (MCL)","dB",{"$f":"D33-(D18-D13+D14)+D34","v":117.04901959985743},{"$f":"E33-(E18-E13+E14)+E34","v":113.5},{"$f":"F33-(F18-F13+F14)+F34","v":117.04901959985743},{"$f":"G33-(G18-G13+G14)+G34","v":113.5}]
[null,"Separation distance with FSL model","km",{"$f":"10^((D38-32.44-20*LOG10(D8*1000))/20)","v":0.12878848926129419},{"$f":"10^((E38-32.44-20*LOG10(E8*1000))/20)","v":8.5590599596424108E-2},{"$f":"10^((F38-32.44-20*LOG10(F8*1000))/20)","v":0.11744442544035101},{"$f":"10^((G38-32.44-20*LOG10(G8*1000))/20)","v":7.8051531238189781E-2}]
[null,"Specific attenuation due to atmospheric gases (ITU-R P.676-11 figure 5)","dB/km",0.8,0.8,1,1]
[null,"Separation distance adjusted for attenuation due to atmospheric gases","km",0.12728715890836709,8.4923534940996165E-2,0.11588763341811396,7.7359281310430711E-2]
[null,"Balance check (should be close to zero)","dB",{"$f":"D38-20*LOG10(D41)-D41*D40-32.44-20*LOG10(D8*1000)","v":1.9388664100006281E-5},{"$f":"E38-20*LOG10(E41)-E41*E40-32.44-20*LOG10(E8*1000)","v":2.128048703298191E-5},{"$f":"F38-20*LOG10(F41)-F41*F40-32.44-20*LOG10(F8*1000)","v":1.8636938676763748E-5},{"$f":"G38-20*LOG10(G41)-G41*G40-32.44-20*LOG10(G8*1000)","v":2.0743193942962534E-5}]
[null,null,null,"Long term interference criterion","Peak power objective","Long term interference criterion","Peak power objective"]
[]
[]
[]
[null,"Scenario 2: Light pole connected to a building by means of an FS link – FS Rx at light pole (RDI main beam points exactly towards FS receiver). See Report figure 13."]
[]
[null,"Victim Fixed Service (FS) system",null,"Band of FS system: 130-134 GHz","Band of FS system: 130-134 GHz","Band of FS system: 141-148,5 GHz","Band of FS system: 141-148,5 GHz"]
[null,"Sensor type",null,"Point-to-point (PP)","Point-to-point (PP)","Point-to-point (PP)","Point-to-point (PP)"]
[null,"FS:","Units"]
[null,"Assumed centre frequency of FS system","GHz",132,132,144.75,144.75]
[null,"Wavelength of FS system","m",{"$f":"2.99792458/D52/10","v":2.2711549848484845E-3},{"$f":"2.99792458/E52/10","v":2.2711549848484845E-3},{"$f":"2.99792458/F52/10","v":2.0711050639032813E-3},{"$f":"2.99792458/G52/10","v":2.0711050639032813E-3}]
[null,"Receiver noise bandwidth (ITU-R-F.758-6)","MHz",1000,1000,1000,1000]
[null,"Receiver noise figure (ITU-R-F.758-6)","dB",14,14,14,14]
[null,"Misalignment of antenna main beam towards RDI (angle α+β  in figure 13 in the Report)","°",4.57,4.57,4.57,4.57]
[null,"Antenna gain in the direction of interferer (ITU-R-F.758-6)","dBi",18,18,18,18]
[null,"Feeder (insertion) loss (ITU-R-F.758-6)","dB",0,0,0,0]
[null,"I/N criterion (ITU-R F.758-6 )","dB",-20,5,-20,5]
[null,"Receiver noise power density typical (ITU-R-F.758-6)","dBW/MHz",-130,-130,-130,-130]
[null,"Nominal long-term interference power density threshold (ITU-R-F.758-6)","dBW/MHz",{"$f":"D60+D59","v":-150},{"$f":"E60+E59","v":-125},{"$f":"F60+F59","v":-150},{"$f":"G60+G59","v":-125}]
[null,"Interference threshold at receiver input within IF bandwidth","dBm",{"$f":"D61+10*LOG10(D54)+30","v":-90},{"$f":"E61+10*LOG10(E54)+30","v":-65},{"$f":"F61+10*LOG10(F54)+30","v":-90},{"$f":"G61+10*LOG10(G54)+30","v":-65}]
[null,"(Receiver noise power density calculated over NF)","dBW/MHz",{"$f":"-113.83+D55-30","v":-129.82999999999998},{"$f":"-113.83+E55-30","v":-129.82999999999998},{"$f":"-113.83+F55-30","v":-129.82999999999998},{"$f":"-113.83+G55-30","v":-129.82999999999998}]
[]
[null,"Radiodetermination system (interferer):"]
[null,"Conducted Tx power of interferer","dBm",-18,-5,-18,-5]
[null,"Out-of-band unwanted emissions attenuation (if FS victim is located in an adjacent band)","dB",20,20,20,20]
[null,"Tx e.i.r.p. of interferer","dBm",{"$f":"D66-D67+D74","v":-2},{"$f":"E66-E67+E74","v":11},{"$f":"F66-F67+F74","v":-2},{"$f":"G66-G67+G74","v":11}]
[null,"Bandwidth of interferer Tx signal ","GHz",7,7,7,7]
[null,"Mitigation technique (e.g. activity factor, adaptive power control)","dB",0,0,0,0]
[null,"Tx e.i.r.p. spectral density of interferer","dBm/MHz",{"$f":"D68-10*LOG(D69*1000)","v":-40.450980400142569},{"$f":"E68-10*LOG(E69*1000)","v":-27.450980400142569},{"$f":"F68-10*LOG(F69*1000)","v":-40.450980400142569},{"$f":"G68-10*LOG(G69*1000)","v":-27.450980400142569}]
[null,"Tx e.i.r.p. spectral density of interferer with mitigation ","dBm/MHz",{"$f":"D68+D70-10*LOG(D69*1000)","v":-40.450980400142569},{"$f":"E68+E70-10*LOG(E69*1000)","v":-27.450980400142569},{"$f":"F68+F70-10*LOG(F69*1000)","v":-40.450980400142569},{"$f":"G68+G70-10*LOG(G69*1000)","v":-27.450980400142569}]
[null,"Tx e.i.r.p. of interferer with mitigation","dBm",{"$f":"D68+D70","v":-2},{"$f":"E68+E70","v":11},{"$f":"F68+F70","v":-2},{"$f":"G68+G70","v":11}]
[null,"Gain of interferer antenna in direction of main radiation","dBi",36,36,36,36]
[]
[null,"Indoor-outdoor attenuation (according to clause 2.3 in the Report)","dB",0,0,0,0]
[null,"Total e.i.r.p. towards FS system","dBm",{"$f":"D73-D76","v":-2},{"$f":"E73-E76","v":11},{"$f":"F73-F76","v":-2},{"$f":"G73-G76","v":11}]
[null,"BWCF","dB",{"$f":"IF(D69*1000<=D54, 0, 10*LOG10(D54/D69/1000))","v":-8.4509804001425675},0,{"$f":"IF(F69*1000<=F54, 0, 10*LOG10(F54/F69/1000))","v":-8.4509804001425675},0]
[]
[]
[null,"Separation distance calculation:"]
[null,"Minimum coupling loss (MCL)","dB",{"$f":"D77-(D62-D57+D58)+D78","v":97.549019599857431},{"$f":"E77-(E62-E57+E58)+E78","v":94},{"$f":"F77-(F62-F57+F58)+F78","v":97.549019599857431},{"$f":"G77-(G62-G57+G58)+G78","v":94}]
[null,"Separation distance with FSL model","km",{"$f":"10^((D82-32.44-20*LOG10(D52*1000))/20)","v":1.3641968700998113E-2},{"$f":"10^((E82-32.44-20*LOG10(E52*1000))/20)","v":9.0662161462669952E-3},{"$f":"10^((F82-32.44-20*LOG10(F52*1000))/20)","v":1.2440344514899816E-2},{"$f":"10^((G82-32.44-20*LOG10(G52*1000))/20)","v":8.267637521984398E-3}]
[null,"Specific attenuation due to atmospheric gases (ITU-R P.676-11 figure 5)","dB/km",0.9,0.8,1,1]
[null,"Separation distance adjusted for attenuation due to atmospheric gases","km",1.3622687608930116E-2,9.0586290908227715E-3,1.2422529917959477E-2,8.2597555994990413E-3]
[null,"Balance check (should be close to zero)","dB",{"$f":"D82-20*LOG10(D85)-D85*D84-32.44-20*LOG10(D52*1000)","v":2.460421026739823E-5},{"$f":"E82-20*LOG10(E85)-E85*E84-32.44-20*LOG10(E52*1000)","v":2.4919383321275745E-5},{"$f":"F82-20*LOG10(F85)-F85*F84-32.44-20*LOG10(F52*1000)","v":2.4594799526767019E-5},{"$f":"G82-20*LOG10(G85)-G85*G84-32.44-20*LOG10(G52*1000)","v":2.4855715849980697E-5}]
[null,null,null,"Long term interference criterion","Peak power objective","Long term interference criterion","Peak power objective"]

{"sheet":"FS 174,8-182GHz","index":12,"n_rows":87,"n_cols":5,"rows_kept":87,"cut":false,"hidden":false,"merged":[]}
[null,"Compatibility analysis between radiodetermination systems for industry automation in the frequency band 174,8 to 182 GHz and Fixed Service (FS) systems"]
[]
[null,"Scenario 1: Light pole connected to a building by means of an FS link – FS Rx on building (RDI main beam points exactly towards FS receiver). See Report figure 12."]
[]
[null,"Victim Fixed Service (FS) system",null,"Band of FS system: 167-174,8 GHz","Band of FS system: 167-174,8 GHz"]
[null,"Sensor type",null,"Point-to-point (PP)","Point-to-point (PP)"]
[null,"FS:","Units"]
[null,"Assumed centre frequency of FS system","GHz",170.9,170.9]
[null,"Wavelength of FS system","m",{"$f":"2.99792458/D8/10","v":1.7541981158572264E-3},{"$f":"2.99792458/E8/10","v":1.7541981158572264E-3}]
[null,"Receiver noise bandwidth (ITU-R-F.758-6)","MHz",1000,1000]
[null,"Receiver noise figure (ITU-R-F.758-6)","dB",14,14]
[null,"Misalignment of antenna main beam towards RDI (angle δ in figure 12 in the Report)","°",0.95,0.95]
[null,"Antenna gain in the direction of interferer (ITU-R-F.758-6)","dBi",37.5,37.5]
[null,"Feeder (insertion) loss (ITU-R-F.758-6)","dB",0,0]
[null,"I/N criterion (ITU-R F.758-6 )","dB",-20,5]
[null,"Receiver noise power density typical (ITU-R-F.758-6)","dBW/MHz",-130,-130]
[null,"Nominal long-term interference power density threshold (ITU-R-F.758-6)","dBW/MHz",{"$f":"D16+D15","v":-150},{"$f":"E16+E15","v":-125}]
[null,"Interference threshold at receiver input within IF bandwidth","dBm",{"$f":"D17+10*LOG10(D10)+30","v":-90},{"$f":"E17+10*LOG10(E10)+30","v":-65}]
[null,"(Receiver noise power density calculated over NF)","dBW/MHz",{"$f":"-113.83+D11-30","v":-129.82999999999998},{"$f":"-113.83+E11-30","v":-129.82999999999998}]
[]
[null,"Radiodetermination system (interferer):"]
[null,"Conducted Tx power of interferer","dBm",-18,-5]
[null,"Out-of-band unwanted emissions attenuation (if FS victim is located in an adjacent band)","dB",20,20]
[null,"Tx e.i.r.p. of interferer","dBm",{"$f":"D22-D23+D30","v":-2},{"$f":"E22-E23+E30","v":11}]
[null,"Bandwidth of interferer Tx signal ","GHz",1.5,1.5]
[null,"Mitigation technique (e.g. activity factor, adaptive power control)","dB",0,0]
[null,"Tx e.i.r.p. spectral density of interferer","dBm/MHz",{"$f":"D24-10*LOG(D25*1000)","v":-33.760912590556813},{"$f":"E24-10*LOG(E25*1000)","v":-20.760912590556813}]
[null,"Tx e.i.r.p. spectral density of interferer with mitigation ","dBm/MHz",{"$f":"D24+D26-10*LOG(D25*1000)","v":-33.760912590556813},{"$f":"E24+E26-10*LOG(E25*1000)","v":-20.760912590556813}]
[null,"Tx e.i.r.p. of interferer with mitigation","dBm",{"$f":"D24+D26","v":-2},{"$f":"E24+E26","v":11}]
[null,"Gain of interferer antenna in direction of main radiation","dBi",36,36]
[]
[null,"Indoor-outdoor attenuation (according to clause 2.3 in the Report)","dB",0,0]
[null,"Total e.i.r.p. towards FS system","dBm",{"$f":"D29-D32","v":-2},{"$f":"E29-E32","v":11}]
[null,"BWCF","dB",{"$f":"IF(D25*1000<=D10, 0, 10*LOG10(D10/D25/1000))","v":-1.7609125905568126},0]
[]
[]
[null,"Separation distance calculation:"]
[null,"Minimum coupling loss (MCL)","dB",{"$f":"D33-(D18-D13+D14)+D34","v":123.73908740944319},{"$f":"E33-(E18-E13+E14)+E34","v":113.5}]
[null,"Separation distance with FSL model","km",{"$f":"10^((D38-32.44-20*LOG10(D8*1000))/20)","v":0.21488807120569803},{"$f":"10^((E38-32.44-20*LOG10(E8*1000))/20)","v":6.6108596528542798E-2}]
[null,"Specific attenuation due to atmospheric gases (ITU-R P.676-11 figure 5)","dB/km",2,2]
[null,"Separation distance adjusted for attenuation due to atmospheric gases","km",0.20496400734176992,6.5124527317395653E-2]
[null,"Balance check (should be close to zero)","dB",{"$f":"D38-20*LOG10(D41)-D41*D40-32.44-20*LOG10(D8*1000)","v":7.6606901063769328E-4},{"$f":"E38-20*LOG10(E41)-E41*E40-32.44-20*LOG10(E8*1000)","v":1.8007928758834169E-5}]
[null,null,null,"Long term interference criterion","Peak power objective"]
[]
[]
[]
[null,"Scenario 2: Light pole connected to a building by means of an FS link – FS Rx at light pole (RDI main beam points exactly towards FS receiver). See Report figure 13."]
[]
[null,"Victim Fixed Service (FS) system",null,"Band of FS system: 167-174,8 GHz","Band of FS system: 167-174,8 GHz"]
[null,"Sensor type",null,"Point-to-point (PP)","Point-to-point (PP)"]
[null,"FS:","Units"]
[null,"Assumed centre frequency of FS system","GHz",170.9,170.9]
[null,"Wavelength of FS system","m",{"$f":"2.99792458/D52/10","v":1.7541981158572264E-3},{"$f":"2.99792458/E52/10","v":1.7541981158572264E-3}]
[null,"Receiver noise bandwidth (ITU-R-F.758-6)","MHz",1000,1000]
[null,"Receiver noise figure (ITU-R-F.758-6)","dB",14,14]
[null,"Misalignment of antenna main beam towards RDI (angle α+β  in figure 13 in the Report)","°",4.57,4.57]
[null,"Antenna gain in the direction of interferer (ITU-R-F.758-6)","dBi",18,18]
[null,"Feeder (insertion) loss (ITU-R-F.758-6)","dB",0,0]
[null,"I/N criterion (ITU-R F.758-6 )","dB",-20,5]
[null,"Receiver noise power density typical (ITU-R-F.758-6)","dBW/MHz",-130,-130]
[null,"Nominal long-term interference power density threshold (ITU-R-F.758-6)","dBW/MHz",{"$f":"D60+D59","v":-150},{"$f":"E60+E59","v":-125}]
[null,"Interference threshold at receiver input within IF bandwidth","dBm",{"$f":"D61+10*LOG10(D54)+30","v":-90},{"$f":"E61+10*LOG10(E54)+30","v":-65}]
[null,"(Receiver noise power density calculated over NF)","dBW/MHz",{"$f":"-113.83+D55-30","v":-129.82999999999998},{"$f":"-113.83+E55-30","v":-129.82999999999998}]
[]
[null,"Radiodetermination system (interferer):"]
[null,"Conducted Tx power of interferer","dBm",-18,-5]
[null,"Out-of-band unwanted emissions attenuation (if FS victim is located in an adjacent band)","dB",20,20]
[null,"Tx e.i.r.p. of interferer","dBm",{"$f":"D66-D67+D74","v":-2},{"$f":"E66-E67+E74","v":11}]
[null,"Bandwidth of interferer Tx signal ","GHz",1.5,1.5]
[null,"Mitigation technique (e.g. activity factor, adaptive power control)","dB",0,0]
[null,"Tx e.i.r.p. spectral density of interferer","dBm/MHz",{"$f":"D68-10*LOG(D69*1000)","v":-33.760912590556813},{"$f":"E68-10*LOG(E69*1000)","v":-20.760912590556813}]
[null,"Tx e.i.r.p. spectral density of interferer with mitigation ","dBm/MHz",{"$f":"D68+D70-10*LOG(D69*1000)","v":-33.760912590556813},{"$f":"E68+E70-10*LOG(E69*1000)","v":-20.760912590556813}]
[null,"Tx e.i.r.p. of interferer with mitigation","dBm",{"$f":"D68+D70","v":-2},{"$f":"E68+E70","v":11}]
[null,"Gain of interferer antenna in direction of main radiation","dBi",36,36]
[]
[null,"Indoor-outdoor attenuation (according to clause 2.3 in the Report)","dB",0,0]
[null,"Total e.i.r.p. towards FS system","dBm",{"$f":"D73-D76","v":-2},{"$f":"E73-E76","v":11}]
[null,"BWCF","dB",{"$f":"IF(D69*1000<=D54, 0, 10*LOG10(D54/D69/1000))","v":-1.7609125905568126},0]
[]
[]
[null,"Separation distance calculation:"]
[null,"Minimum coupling loss (MCL)","dB",{"$f":"D77-(D62-D57+D58)+D78","v":104.23908740944319},{"$f":"E77-(E62-E57+E58)+E78","v":94}]
[null,"Separation distance with FSL model","km",{"$f":"10^((D82-32.44-20*LOG10(D52*1000))/20)","v":2.2762098992079802E-2},{"$f":"10^((E82-32.44-20*LOG10(E52*1000))/20)","v":7.0025777139101309E-3}]
[null,"Specific attenuation due to atmospheric gases (ITU-R P.676-11 figure 5)","dB/km",2,2]
[null,"Separation distance adjusted for attenuation due to atmospheric gases","km",2.2643719827806254E-2,6.9912942668555692E-3]
[null,"Balance check (should be close to zero)","dB",{"$f":"D82-20*LOG10(D85)-D85*D84-32.44-20*LOG10(D52*1000)","v":3.2615248812817299E-6},{"$f":"E82-20*LOG10(E85)-E85*E84-32.44-20*LOG10(E52*1000)","v":2.451360742838915E-5}]
[null,null,null,"Long term interference criterion","Peak power objective"]

{"sheet":"Amateur 116-130GHz","index":13,"n_rows":40,"n_cols":7,"rows_kept":40,"cut":false,"hidden":false,"merged":[[4,3,4,6]]}
[null,"Compatibility analysis between radiodetermination systems for industry automation in the frequency band 116 to 130 GHz and Amateur Systems"]
[]
[]
[]
[null,"Victim Amateur system",null,"Band of amateur system: 122,25-123 GHz"]
[null,"Sensor type",null,"Morse on-off keying","Analogue voice","Data, digital voice and multimedia","Earth-moon-earth (EME) systems"]
[null,"Amateur system:","Units"]
[null,"Assumed centre frequency of Amateur system","GHz",122.625,122.625,122.625,122.625]
[null,"Wavelength of Amateur system","m",{"$f":"2.99792458/D8/10","v":2.4447906870540262E-3},{"$f":"2.99792458/E8/10","v":2.4447906870540262E-3},{"$f":"2.99792458/F8/10","v":2.4447906870540262E-3},{"$f":"2.99792458/G8/10","v":2.4447906870540262E-3}]
[null,"Receiver IF bandwidth (ITU-R M.1732-2)","MHz",5.0000000000000001E-4,2.7000000000000001E-3,2.7000000000000001E-3,2.3999999999999998E-3]
[null,"Receiver noise figure (ITU-R M.1732-2)","dB",3,3,3,3]
[null,"Antenna gain in the direction of interferer (ITU-R M.1732-2)","dBi",32,32,32,32]
[null,"Feeder (insertion) loss (ITU-R M.1732-2)","dB",2,2,2,3]
[null,"I/N criterion (ITU-R M.1808)","dB",-10,-10,-10,-10]
[null,"Receiver noise power density","dBW/MHz",{"$f":"-113.83+D11-30","v":-140.82999999999998},{"$f":"-113.83+E11-30","v":-140.82999999999998},{"$f":"-113.83+F11-30","v":-140.82999999999998},{"$f":"-113.83+G11-30","v":-140.82999999999998}]
[null,"Interference power density threshold","dBW/MHz",{"$f":"D15+D14","v":-150.82999999999998},{"$f":"E15+E14","v":-150.82999999999998},{"$f":"F15+F14","v":-150.82999999999998},{"$f":"G15+G14","v":-150.82999999999998}]
[null,"Interference threshold at receiver input within IF bandwidth","dBm",{"$f":"D16+10*LOG10(D10)+30","v":-153.8402999566398},{"$f":"E16+10*LOG10(E10)+30","v":-146.51636235841011},{"$f":"F16+10*LOG10(F10)+30","v":-146.51636235841011},{"$f":"G16+10*LOG10(G10)+30","v":-147.02788758288392}]
[]
[null,"Radiodetermination system (interferer):"]
[null,"Conducted Tx power of interferer","dBm",-18,-18,-18,-18]
[null,"Out-of-band unwanted emissions attenuation (if Amateur victim is located in an adjacent band)","dB",0,0,0,0]
[null,"Tx e.i.r.p. of interferer","dBm",{"$f":"D20-D21+D28","v":18},{"$f":"E20-E21+E28","v":18},{"$f":"F20-F21+F28","v":18},{"$f":"G20-G21+G28","v":18}]
[null,"Bandwidth of interferer Tx signal ","GHz",14,14,14,14]
[null,"Mitigation technique (e.g. activity factor, adaptive power control)","dB",0,0,0,0]
[null,"Tx e.i.r.p. spectral density of interferer","dBm/MHz",{"$f":"D22-10*LOG(D23*1000)","v":-23.461280356782382},{"$f":"E22-10*LOG(E23*1000)","v":-23.461280356782382},{"$f":"F22-10*LOG(F23*1000)","v":-23.461280356782382},{"$f":"G22-10*LOG(G23*1000)","v":-23.461280356782382}]
[null,"Tx e.i.r.p. spectral density of interferer with mitigation ","dBm/MHz",{"$f":"D22+D24-10*LOG(D23*1000)","v":-23.461280356782382},{"$f":"E22+E24-10*LOG(E23*1000)","v":-23.461280356782382},{"$f":"F22+F24-10*LOG(F23*1000)","v":-23.461280356782382},{"$f":"G22+G24-10*LOG(G23*1000)","v":-23.461280356782382}]
[null,"Tx e.i.r.p. of interferer with mitigation","dBm",{"$f":"D22+D24","v":18},{"$f":"E22+E24","v":18},{"$f":"F22+F24","v":18},{"$f":"G22+G24","v":18}]
[null,"Gain of the interferer antenna in direction of main radiation","dBi",36,36,36,36]
[]
[null,"Indoor-outdoor attenuation (according to clause 2.3 in the Report)","dB",0,0,0,0]
[null,"Total e.i.r.p. towards Amateur system","dBm",{"$f":"D27-D30","v":18},{"$f":"E27-E30","v":18},{"$f":"F27-F30","v":18},{"$f":"G27-G30","v":18}]
[null,"BWCF","dB",{"$f":"IF(D23*1000<=D10, 0, 10*LOG10(D10/D23/1000))","v":-74.471580313422194},{"$f":"IF(E23*1000<=E10, 0, 10*LOG10(E10/E23/1000))","v":-67.147642715192504},{"$f":"IF(F23*1000<=F10, 0, 10*LOG10(F10/F23/1000))","v":-67.147642715192504},{"$f":"IF(G23*1000<=G10, 0, 10*LOG10(G10/G23/1000))","v":-67.659167939666318}]
[]
[]
[null,"Separation distance calculation:"]
[null,"Minimum coupling loss (MCL)","dB",{"$f":"D31-(D17-D12+D13)+D32","v":127.3687196432176},{"$f":"E31-(E17-E12+E13)+E32","v":127.3687196432176},{"$f":"F31-(F17-F12+F13)+F32","v":127.3687196432176},{"$f":"G31-(G17-G12+G13)+G32","v":126.3687196432176}]
[null,"Separation distance with FSL model","km",{"$f":"10^((D36-32.44-20*LOG10(D8*1000))/20)","v":0.45483823100884924},{"$f":"10^((E36-32.44-20*LOG10(E8*1000))/20)","v":0.45483823100884924},{"$f":"10^((F36-32.44-20*LOG10(F8*1000))/20)","v":0.45483823100884924},{"$f":"10^((G36-32.44-20*LOG10(G8*1000))/20)","v":0.40537500008573013}]
[null,"Specific attenuation due to atmospheric gases (ITU-R P.676-11 figure 5)","dB/km",0.4,0.4,0.4,0.4]
[null,"Separation distance adjusted for attenuation due to atmospheric gases","km",0.44559899857705643,0.44559899845119061,0.44559899845119061,0.39801176660287479]
[null,"Balance check (should be close to zero)","dB",{"$f":"D36-20*LOG10(D39)-D39*D38-32.44-20*LOG10(D8*1000)","v":1.5513043024384388E-5},{"$f":"E36-20*LOG10(E39)-E39*E38-32.44-20*LOG10(E8*1000)","v":1.551554680645495E-5},{"$f":"F36-20*LOG10(F39)-F39*F38-32.44-20*LOG10(F8*1000)","v":1.551554680645495E-5},{"$f":"G36-20*LOG10(G39)-G39*G38-32.44-20*LOG10(G8*1000)","v":1.6298641014600435E-5}]

{"sheet":"Amateur 134-141GHz","index":14,"n_rows":40,"n_cols":7,"rows_kept":40,"cut":false,"hidden":false,"merged":[[4,3,4,6]]}
[null,"Compatibility analysis between radiodetermination systems for industry automation in the frequency band 116 to 130 GHz and Amateur Systems"]
[]
[]
[]
[null,"Victim Amateur system",null,"Band of amateur system: 134-141 GHz"]
[null,"Sensor type",null,"Morse on-off keying","Analogue voice","Data, digital voice and multimedia","Earth-moon-earth (EME) systems"]
[null,"Amateur system:","Units"]
[null,"Assumed centre frequency of Amateur system","GHz",137.5,137.5,137.5,137.5]
[null,"Wavelength of Amateur system","m",{"$f":"2.99792458/D8/10","v":2.1803087854545453E-3},{"$f":"2.99792458/E8/10","v":2.1803087854545453E-3},{"$f":"2.99792458/F8/10","v":2.1803087854545453E-3},{"$f":"2.99792458/G8/10","v":2.1803087854545453E-3}]
[null,"Receiver IF bandwidth (ITU-R M.1732-2)","MHz",5.0000000000000001E-4,2.7000000000000001E-3,2.7000000000000001E-3,2.3999999999999998E-3]
[null,"Receiver noise figure (ITU-R M.1732-2)","dB",3,3,3,3]
[null,"Antenna gain in the direction of interferer (ITU-R M.1732-2)","dBi",32,32,32,32]
[null,"Feeder (insertion) loss (ITU-R M.1732-2)","dB",2,2,2,3]
[null,"I/N criterion (ITU-R M.1808)","dB",-10,-10,-10,-10]
[null,"Receiver noise power density","dBW/MHz",{"$f":"-113.83+D11-30","v":-140.82999999999998},{"$f":"-113.83+E11-30","v":-140.82999999999998},{"$f":"-113.83+F11-30","v":-140.82999999999998},{"$f":"-113.83+G11-30","v":-140.82999999999998}]
[null,"Interference power density threshold","dBW/MHz",{"$f":"D15+D14","v":-150.82999999999998},{"$f":"E15+E14","v":-150.82999999999998},{"$f":"F15+F14","v":-150.82999999999998},{"$f":"G15+G14","v":-150.82999999999998}]
[null,"Interference threshold at receiver input within IF bandwidth","dBm",{"$f":"D16+10*LOG10(D10)+30","v":-153.8402999566398},{"$f":"E16+10*LOG10(E10)+30","v":-146.51636235841011},{"$f":"F16+10*LOG10(F10)+30","v":-146.51636235841011},{"$f":"G16+10*LOG10(G10)+30","v":-147.02788758288392}]
[]
[null,"Radiodetermination system (interferer):"]
[null,"Conducted Tx power of interferer","dBm",-18,-18,-18,-18]
[null,"Out-of-band unwanted emissions attenuation (if Amateur victim is located in an adjacent band)","dB",0,0,0,0]
[null,"Tx e.i.r.p. of interferer","dBm",{"$f":"D20-D21+D28","v":18},{"$f":"E20-E21+E28","v":18},{"$f":"F20-F21+F28","v":18},{"$f":"G20-G21+G28","v":18}]
[null,"Bandwidth of interferer Tx signal ","GHz",7,7,7,7]
[null,"Mitigation technique (e.g. activity factor, adaptive power control)","dB",0,0,0,0]
[null,"Tx e.i.r.p. spectral density of interferer","dBm/MHz",{"$f":"D22-10*LOG(D23*1000)","v":-20.450980400142569},{"$f":"E22-10*LOG(E23*1000)","v":-20.450980400142569},{"$f":"F22-10*LOG(F23*1000)","v":-20.450980400142569},{"$f":"G22-10*LOG(G23*1000)","v":-20.450980400142569}]
[null,"Tx e.i.r.p. spectral density of interferer with mitigation ","dBm/MHz",{"$f":"D22+D24-10*LOG(D23*1000)","v":-20.450980400142569},{"$f":"E22+E24-10*LOG(E23*1000)","v":-20.450980400142569},{"$f":"F22+F24-10*LOG(F23*1000)","v":-20.450980400142569},{"$f":"G22+G24-10*LOG(G23*1000)","v":-20.450980400142569}]
[null,"Tx e.i.r.p. of interferer with mitigation","dBm",{"$f":"D22+D24","v":18},{"$f":"E22+E24","v":18},{"$f":"F22+F24","v":18},{"$f":"G22+G24","v":18}]
[null,"Gain of the interferer antenna in direction of main radiation","dBi",36,36,36,36]
[]
[null,"Indoor-outdoor attenuation (according to clause 2.3 in the Report)","dB",0,0,0,0]
[null,"Total e.i.r.p. towards Amateur system","dBm",{"$f":"D27-D30","v":18},{"$f":"E27-E30","v":18},{"$f":"F27-F30","v":18},{"$f":"G27-G30","v":18}]
[null,"BWCF","dB",{"$f":"IF(D23*1000<=D10, 0, 10*LOG10(D10/D23/1000))","v":-71.461280356782382},{"$f":"IF(E23*1000<=E10, 0, 10*LOG10(E10/E23/1000))","v":-64.137342758552691},{"$f":"IF(F23*1000<=F10, 0, 10*LOG10(F10/F23/1000))","v":-64.137342758552691},{"$f":"IF(G23*1000<=G10, 0, 10*LOG10(G10/G23/1000))","v":-64.648867983026506}]
[]
[]
[null,"Separation distance calculation:"]
[null,"Minimum coupling loss (MCL)","dB",{"$f":"D31-(D17-D12+D13)+D32","v":130.37901959985743},{"$f":"E31-(E17-E12+E13)+E32","v":130.37901959985743},{"$f":"F31-(F17-F12+F13)+F32","v":130.37901959985743},{"$f":"G31-(G17-G12+G13)+G32","v":129.37901959985743}]
[null,"Separation distance with FSL model","km",{"$f":"10^((D36-32.44-20*LOG10(D8*1000))/20)","v":0.57365169588537335},{"$f":"10^((E36-32.44-20*LOG10(E8*1000))/20)","v":0.57365169588537335},{"$f":"10^((F36-32.44-20*LOG10(F8*1000))/20)","v":0.57365169588537335},{"$f":"10^((G36-32.44-20*LOG10(G8*1000))/20)","v":0.51126761211985305}]
[null,"Specific attenuation due to atmospheric gases (ITU-R P.676-11 figure 5)","dB/km",0.8,0.8,0.8,0.8]
[null,"Separation distance adjusted for attenuation due to atmospheric gases","km",0.54553973213329032,0.54553973213328999,0.54553973213328999,0.48876199788518632]
[null,"Balance check (should be close to zero)","dB",{"$f":"D36-20*LOG10(D39)-D39*D38-32.44-20*LOG10(D8*1000)","v":6.1284016368290395E-6},{"$f":"E36-20*LOG10(E39)-E39*E38-32.44-20*LOG10(E8*1000)","v":6.1284016652507489E-6},{"$f":"F36-20*LOG10(F39)-F39*F38-32.44-20*LOG10(F8*1000)","v":6.1284016652507489E-6},{"$f":"G36-20*LOG10(G39)-G39*G38-32.44-20*LOG10(G8*1000)","v":7.4106514915683874E-6}]

{"sheet":"Amateur 231,5-250GHz","index":15,"n_rows":40,"n_cols":7,"rows_kept":40,"cut":false,"hidden":false,"merged":[[4,3,4,6]]}
[null,"Compatibility analysis between radiodetermination systems for industry automation in the frequency band 231,5 to 250 GHz and Amateur Systems"]
[]
[]
[]
[null,"Victim Amateur system",null,"Band of amateur system: 241-250 GHz"]
[null,"Sensor type",null,"Morse on-off keying","Analogue voice","Data, digital voice and multimedia","Earth-moon-earth (EME) systems"]
[null,"Amateur system:","Units"]
[null,"Assumed centre frequency of Amateur system","GHz",245.5,245.5,245.5,245.5]
[null,"Wavelength of Amateur system","m",{"$f":"2.99792458/D8/10","v":1.2211505417515276E-3},{"$f":"2.99792458/E8/10","v":1.2211505417515276E-3},{"$f":"2.99792458/F8/10","v":1.2211505417515276E-3},{"$f":"2.99792458/G8/10","v":1.2211505417515276E-3}]
[null,"Receiver IF bandwidth (ITU-R M.1732-2)","MHz",5.0000000000000001E-4,2.7000000000000001E-3,2.7000000000000001E-3,2.3999999999999998E-3]
[null,"Receiver noise figure (ITU-R M.1732-2)","dB",5,5,5,5]
[null,"Antenna gain in the direction of interferer (ITU-R M.1732-2)","dBi",32,32,32,32]
[null,"Feeder (insertion) loss (ITU-R M.1732-2)","dB",3,3,3,4]
[null,"I/N criterion (ITU-R M.1808)","dB",-10,-10,-10,-10]
[null,"Receiver noise power density","dBW/MHz",{"$f":"-113.83+D11-30","v":-138.82999999999998},{"$f":"-113.83+E11-30","v":-138.82999999999998},{"$f":"-113.83+F11-30","v":-138.82999999999998},{"$f":"-113.83+G11-30","v":-138.82999999999998}]
[null,"Interference power density threshold","dBW/MHz",{"$f":"D15+D14","v":-148.82999999999998},{"$f":"E15+E14","v":-148.82999999999998},{"$f":"F15+F14","v":-148.82999999999998},{"$f":"G15+G14","v":-148.82999999999998}]
[null,"Interference threshold at receiver input within IF bandwidth","dBm",{"$f":"D16+10*LOG10(D10)+30","v":-151.8402999566398},{"$f":"E16+10*LOG10(E10)+30","v":-144.51636235841011},{"$f":"F16+10*LOG10(F10)+30","v":-144.51636235841011},{"$f":"G16+10*LOG10(G10)+30","v":-145.02788758288392}]
[]
[null,"Radiodetermination system (interferer):"]
[null,"Conducted Tx power of interferer","dBm",-19.8,-19.8,-19.8,-19.8]
[null,"Out-of-band unwanted emissions attenuation (if Amateur victim is located in an adjacent band)","dB",0,0,0,0]
[null,"Tx e.i.r.p. of interferer","dBm",{"$f":"D20-D21+D28","v":16.2},{"$f":"E20-E21+E28","v":16.2},{"$f":"F20-F21+F28","v":16.2},{"$f":"G20-G21+G28","v":16.2}]
[null,"Bandwidth of interferer Tx signal ","GHz",15,15,15,15]
[null,"Mitigation technique (e.g. activity factor, adaptive power control)","dB",0,0,0,0]
[null,"Tx e.i.r.p. spectral density of interferer","dBm/MHz",{"$f":"D22-10*LOG(D23*1000)","v":-25.560912590556814},{"$f":"E22-10*LOG(E23*1000)","v":-25.560912590556814},{"$f":"F22-10*LOG(F23*1000)","v":-25.560912590556814},{"$f":"G22-10*LOG(G23*1000)","v":-25.560912590556814}]
[null,"Tx e.i.r.p. spectral density of interferer with mitigation ","dBm/MHz",{"$f":"D22+D24-10*LOG(D23*1000)","v":-25.560912590556814},{"$f":"E22+E24-10*LOG(E23*1000)","v":-25.560912590556814},{"$f":"F22+F24-10*LOG(F23*1000)","v":-25.560912590556814},{"$f":"G22+G24-10*LOG(G23*1000)","v":-25.560912590556814}]
[null,"Tx e.i.r.p. of interferer with mitigation","dBm",{"$f":"D22+D24","v":16.2},{"$f":"E22+E24","v":16.2},{"$f":"F22+F24","v":16.2},{"$f":"G22+G24","v":16.2}]
[null,"Gain of the interferer antenna in direction of main radiation","dBi",36,36,36,36]
[]
[null,"Indoor-outdoor attenuation (according to clause 2.3 in the Report)","dB",0,0,0,0]
[null,"Total e.i.r.p. towards Amateur system","dBm",{"$f":"D27-D30","v":16.2},{"$f":"E27-E30","v":16.2},{"$f":"F27-F30","v":16.2},{"$f":"G27-G30","v":16.2}]
[null,"BWCF","dB",{"$f":"IF(D23*1000<=D10, 0, 10*LOG10(D10/D23/1000))","v":-74.771212547196626},{"$f":"IF(E23*1000<=E10, 0, 10*LOG10(E10/E23/1000))","v":-67.447274948966935},{"$f":"IF(F23*1000<=F10, 0, 10*LOG10(F10/F23/1000))","v":-67.447274948966935},{"$f":"IF(G23*1000<=G10, 0, 10*LOG10(G10/G23/1000))","v":-67.95880017344075}]
[]
[]
[null,"Separation distance calculation:"]
[null,"Minimum coupling loss (MCL)","dB",{"$f":"D31-(D17-D12+D13)+D32","v":122.26908740944316},{"$f":"E31-(E17-E12+E13)+E32","v":122.26908740944316},{"$f":"F31-(F17-F12+F13)+F32","v":122.26908740944316},{"$f":"G31-(G17-G12+G13)+G32","v":121.26908740944316}]
[null,"Separation distance with FSL model","km",{"$f":"10^((D36-32.44-20*LOG10(D8*1000))/20)","v":0.12629986141375427},{"$f":"10^((E36-32.44-20*LOG10(E8*1000))/20)","v":0.12629986141375427},{"$f":"10^((F36-32.44-20*LOG10(F8*1000))/20)","v":0.12629986141375427},{"$f":"10^((G36-32.44-20*LOG10(G8*1000))/20)","v":0.11256486997117048}]
[null,"Specific attenuation due to atmospheric gases (ITU-R P.676-11 figure 5)","dB/km",3,3,3,3]
[null,"Separation distance adjusted for attenuation due to atmospheric gases","km",0.12112468388024759,0.12112518006826314,0.12112518006826314,0.10842741616094409]
[null,"Balance check (should be close to zero)","dB",{"$f":"D36-20*LOG10(D39)-D39*D38-32.44-20*LOG10(D8*1000)","v":3.0296464728962746E-5},{"$f":"E36-20*LOG10(E39)-E39*E38-32.44-20*LOG10(E8*1000)","v":-6.7738269819983543E-6},{"$f":"F36-20*LOG10(F39)-F39*F38-32.44-20*LOG10(F8*1000)","v":-6.7738269819983543E-6},{"$f":"G36-20*LOG10(G39)-G39*G38-32.44-20*LOG10(G8*1000)","v":-6.9403050417804479E-6}]