{"text_format":"1","workbook":"xlsx","n_sheets":38,"sheets":["Compute","All Admins","BandList","Country names","Admins analyzes","Ranges summary","Tot-GHz","Percentile","Combined","Italy","Portugal","Bulgaria","Switzerland","Hungary","Latvia","Ireland","Finland","Slovenia","Turkey","Mobitel EAD Bulgaria","Greece","UK","Sweden","Germany","Russia","Bosnia and Herzegovina","Slovak Republic","France","Telenor Bulgaria","Estonia","Magyar Telecom Hungary","Austria","Czech Republic","Croatia","Malta","Norway","Operators","Sheet4"],"not_rendered":{"charts":8,"images":0,"macros":1,"external_links":1,"defined_names":7,"comments":3,"pivot_tables":0},"unopened":[],"bounds":{"document_bytes":16777216,"sheet_cells":100000,"rows_first":2000,"rows_last":500,"rows_between":2000,"halvings":0,"cell_chars":16384,"cell_head_chars":4096},"cells_cut":0,"cells_raw":0,"read":"whole","date_system":"1900"}

{"sheet":"Compute","index":0,"n_rows":16,"n_cols":2,"rows_kept":16,"cut":false,"hidden":false,"merged":[]}
[]
[]
[]
[]
[]
[]
[]
[]
[]
[]
[]
[]
[]
[]
[]
[null,"Note: Press \"DELETE\" button if alert box appearing at start "]

{"sheet":"All Admins","index":1,"n_rows":691,"n_cols":55,"rows_kept":691,"cut":false,"hidden":false,"merged":[[1,25,1,28],[2,8,2,9],[2,10,2,11],[2,19,2,21],[2,22,2,24],[1,19,1,24],[1,4,1,7],[1,8,1,9],[1,10,1,14],[1,15,1,16],[1,18,3,18]]}
[1,{"$f":"A1+1","v":2},{"$f":"B1+1","v":3},4,5,6,7,8,9,10,11,12,13,14,15,16,17,18,19,20,21,22,23,24,25,26,27,28,29,30,31,32,33,34,35,36,37,38,39,40,41,{"$f":"AO1+1","v":42},43,44,45,46,47,48,49,50,51,52,53,54,55]
["Admin","short","Band index","Frequency band (MHz)","Licensing regime",null,null,null," Topo-logy",null,"Application",null,null,null,null,"Number of P-P links",null,"Number of CS","Channel/Frequency plan used (e.g. ERC/ECC Rec. ITU-R Rec.)","Link characteristics",null,null,null,null,null,"Future trends (e.g. in the next 5 years)"]
[null,null,null,null,null,null,null,null,"FWA",null,"Network Infrastruc-ture",null,null,null,null,null,null,null,null,"Capacity",null,null,"Hop length (km)"]
[null,null,null,null,"Link by link","Block","Light licensed","Licence exempt","P-P","P-MP","Mobile backhaul","Others","Broadcasting Infrastructure","No Information available on the application","Other (please indicate)","unidirectional","bidirectional (1 bidirectional link counts 1)","(applicable only for P-MP and mesh networks)",null,"LOW (<10 Mbit/s)","MEDIUM (10 to 100 Mbit/s)","HIGH (>100 Mbit/s)","MIN","Typical figure","MAX","Anticipated growth/reduction (+/-%)","Currently congested","Planned reallocation to other service/application","Other (please describe)\n(see Question 3 of the Questionnaire)"]
["Austria","AUT",1,"1350-1375 and 1492-1517","X",null,null,null,"X",null,null,"X",null,null,null,null,57,null,"T/R 13-01 Annex A","X","X",null,3,20,60]
["Bosnia and Herzegovina","BIH",1,"1350-1375 and 1492-1517","X",null,null,null,"X",null,null,null,"X",null,null,53,null,null,"T/R 13-01 Annex A","X",null,null,4,30,70]
["Estonia","EST",1,"1350-1375 and 1492-1517","x",null,null,null,"x",null,null,null,null,null,null,null,null,null,"T/R 13-01 Annex A"]
["Estonia","EST",1,"1350-1375 and 1492-1517","not in use"]
["Finland","FIN",1,"1350-1375 and 1492-1517",null,null,null,null,null,null,null,null,null,null,null,0,0,null,"(T/R 13-01 Annex A)  1)",null,null,null,null,null,null,null,null,"1)",null,"1) MFCN 1492-1517 MHz planned in the beginning of 2019"]
["Finland","FIN",1,"1350-1375 and 1492-1517",null,"x",null,null,null,"x",null,"x",null,null,null,null,null,16,"FWA: 1359-1371 MHz, national plan",null,"x",null,null,"N/A"]
["UK","G",1,"1350-1375 and 1492-1517","X",null,null,null,"X",null,null,"X","X",null,null,null,820,null,"T/R 13-01 Annex A","X",null,null,null,15]
["Netherlands","HOL",{"$f":"VLOOKUP(D12,[1]BandList!$A$2:$B$110,2,FALSE)","v":1},"1350-1375 and 1492-1517",null,null,null,null,null,null,null,null,null,null,null,null,null,null,"T/R 13-01 Annex A"]
["Croatia","HRV",1,"1350-1375 and 1492-1517","X",null,null,null,"X",null,null,null,null,null,"X",1,null,null,"National plan","X",null,null,9.33,9.33,9.33,-100,null,"X"]
["Ireland","IRL",1,"1350-1375 and 1492-1517","X",null,null,null,"X",null,null,null,null,"X",null,null,76,null,"T/R 13-01 Annex A",76,null,null,"No min. path length policy"]
["Latvia","LVA",1,"1350-1375 and 1492-1517","X",null,null,null,"X",null,null,"X",null,null,null,null,0,null,"T/R 13-01 Annex A",null,null,null,null,null,null,null,null,"X"]
["Norway","NOR",1,"1350-1375 and 1492-1517",null,"x",null,null,null,null,null,null,null,null,null,null,null,0,"T/R 13-01 Annex A",null,null,null,null,null,null,null,null,"x"]
["Norway","NOR",1,"1350-1375 and 1492-1517","x",null,null,null,null,null,null,null,null,"x",null,5,29,0,null,"x",null,null,1,18,55,null,null,"x"]
["Portugal","POR",1,"1350-1375 and 1492-1517","X",null,null,null,"X",null,null,null,null,null,null,null,92,null,"T/R 13-01 Annex A","X",null,null,5,"20",50,0]
["Switzerland","SUI",1,"1350-1375 and 1492-1517","x",null,null,null,"x",null,null,"x",null,null,null,null,2,null,"T/R 13-01 Annex A","x",null,null,null,null,null,-100,null,"MFCN"]
["Slovak Republic","SVK",1,"1350-1375 and 1492-1517",null,null,null,null,null,null,null,null,null,null,null,null,null,null,null,null,null,null,null,null,null,null,null,null,"SDL"]
["Slovenia","SVN",1,"1350-1375 and 1492-1517","X",null,null,null,"X",null,null,"X","X",null,null,83,12,null,"T/R 13-01 Annex A","X",null,null,0.6,18,82,null,null,"X","candidate band for mobile broadband"]
["Portugal","POR",2,"1350-1375 and 1492-1518","X",null,null,null,null,"X",null,null,null,null,null,null,null,9,"T/R 13-01 Annex A","X",null,null,5,"10",25,-100]
["Austria","AUT",3,"1375-1400 and 1427-1452","X",null,null,null,"X",null,null,"X",null,null,null,null,41,null,"T/R 13-01 Annex B","X","X",null,3,20,60]
["Bosnia and Herzegovina","BIH",3,"1375-1400 and 1427-1452","X",null,null,null,"X",null,null,null,"X",null,null,5,null,null,"T/R 13-01 Annex B","X",null,null,0.4,25,70]
["Estonia","EST",3,"1375-1400 and 1427-1452","x",null,null,null,"x",null,null,null,null,null,null,null,null,null,"T/R 13-01 Annex B"]
["Estonia","EST",3,"1375-1400 and 1427-1452","not in use"]
["France","F",3,"1375-1400 and 1427-1452","X",null,null,null,"X",null,null,"X",null,null,null,null,1827,null,"T/R 13-01 Annex B","X",null,null,0.08,20.5,152,null,null,null,"Due to the results of WRC-15, the future use of this band is currently under consideration."]
["France","F",3,"1375-1400 and 1427-1452","X",null,null,null,null,null,null,null,null,null,null,28,null,null,null,"X",null,null,null,7]
["Finland","FIN",3,"1375-1400 and 1427-1452",null,null,null,null,null,null,null,null,null,null,null,null,null,null,null,null,null,null,null,null,null,null,null,"2)",null,"2) MFCN 1427-1452 MHz planned in the beginning of 2019"]
["Hungary","HNG",3,"1375-1400 and 1427-1452","X",null,null,null,"X",null,null,null,null,null,null,null,0,null,"T/R 13-01 Annex B"]
["Netherlands","HOL",{"$f":"VLOOKUP(D31,[1]BandList!$A$2:$B$110,2,FALSE)","v":3},"1375-1400 and 1427-1452","x",null,null,null,"x",null,null,null,null,null,null,null,10,null,"T/R 13-01 Annex B","x",null,null,28,52,82,0]
["Croatia","HRV",3,"1375-1400 and 1427-1452","X",null,null,null,"X",null,null,null,null,null,"X",1,null,null,"National plan","X",null,null,9.33,9.33,9.33,-100,null,"X"]
["Ireland","IRL",3,"1375-1400 and 1427-1452","X",null,null,null,"X",null,null,null,"X",null,null,41,null,null,"T/R 13-01 Annex B",41,null,null,"No min. path length policy"]
["Latvia","LVA",3,"1375-1400 and 1427-1452","X",null,null,null,"X",null,null,"X",null,null,null,null,0,null,"T/R 13-01 Annex B",null,null,null,null,null,null,null,null,"X"]
["Norway","NOR",3,"1375-1400 and 1427-1452","x",null,null,null,null,null,null,null,null,"x",null,null,17,null,null,"x",null,null,1,19,66,null,null,"x"]
["Portugal","POR",3,"1375-1400 and 1427-1452","X",null,null,null,"X","X",null,null,null,null,null,null,null,null,"T/R 13-01 Annex B","X",null,null,null,null,null,"Planned","Planned","Planned","Planned"]
["Sweden","S",3,"1375-1400 and 1427-1452","X",null,null,null,null,null,null,"X",null,null,null,42,34,null,"T/R 13-01 Annex B","X",null,null,0.8,11.5,61.4,-100,null,"X"]
["Switzerland","SUI",3,"1375-1400 and 1427-1452","x",null,null,null,"x",null,null,"x",null,null,null,null,32,null,"T/R 13-01 Annex B","x /analog",null,null,null,null,null,-100,null,"MFCN"]
["Slovak Republic","SVK",3,"1375-1400 and 1427-1452",null,null,null,null,null,null,null,null,null,null,null,null,null,null,null,null,null,null,null,null,null,null,null,null,"SDL"]
["Slovenia","SVN",3,"1375-1400 and 1427-1452","X",null,null,null,"X",null,null,null,"X",null,null,25,0,null,"T/R 13-01 Annex B","X",null,null,2,15,33,null,null,"X","candidate band for mobile broadband"]
["Greece","GRC",4,"1437,5-1465,5 and 1486,5-1514,5",null,"X",null,null,null,"X",null,null,null,null,"rural networks",null,null,null,"National Plan",null,null,null,null,null,null,"reduction",null,null,"licenses expire at 2020"]
["Switzerland","SUI",5,"1440-1500","x",null,null,null,"x",null,null,"x",null,null,null,null,39,null,null,"analog",null,null,null,null,null,-100,null,"MFCN"]
["Latvia","LVA",6,"1492–1506","X",null,null,null,null,"X","X",null,null,null,null,null,null,19,"ITU-R F.701","X",null,null,1,5,10]
["Portugal","POR",7,"1517-1525","X",null,null,null,null,null,null,null,"X",null,null,347,null,null,"National plan (STL)","X",null,null,5,"15",30,5]
["Switzerland","SUI",8,"1518 - 1525","x",null,null,null,"x",null,null,null,"x",null,null,24,null,null,null,"x /analog",null,null,1.1000000000000001,16.7,36.6,0]
["Slovenia","SVN",9,"1518-1530","X",null,null,null,"X",null,null,null,"X",null,null,61,0,null,"national plan","X",null,null,1,10,46,"+10%",null,null,"500 kHz analog FM"]
["UK","G",10,"1672 - 1690",null,null,null,null,"X",null,null,"X",null,null,null,null,2,null,null,"X"]
["Greece","GRC",11,"1700-1709 and 1786-1800","X",null,null,null,null,null,null,null,"X",null,null,192,null,null,"National Plan","X","X",null,"0.7",17,90,"reduction",null,"reallocate the 1785-1800 MHz band for PMSE applications (2014/641/EC)"]
["UK","G",12,"1900-2690","X",null,null,null,null,null,"X","X",null,null,null,null,3,null,null,"X",null,null,null,8]
["Austria","AUT",13,"2025-2110 and 2200-2290","X",null,null,null,"X",null,null,"X","X",null,null,8,null,null,"T/R 13-01 Annex C",null,null,null,null,null,290]
["Bosnia and Herzegovina","BIH",13,"2025-2110 and 2200-2290","X",null,null,null,"X",null,null,null,"X",null,null,25,null,null,"T/R 13-01 Annex C","X","X",null,2,18,55]
["Czech Republic","CZE",13,"2025-2110 and 2200-2290",null,null,null,null,null,null,null,"ENG/OB",null,null,null,null,null,null,"T/R 13-01 Annex C","N/A","N/A","N/A"]
["Czech Republic","CZE",13,"2025-2110 and 2200-2290",null,null,null,null,null,null,null,"ENG/OB",null,null,null,null,null,null,null,"N/A","N/A","N/A"]
["Estonia","EST",13,"2025-2110 and 2200-2290","x",null,null,null,"x",null,null,null,"x",null,null,4,null,null,"T/R 13-01 Annex C","x","x",null,"SAP/SAB"]
["Finland","FIN",13,"2025-2110 and 2200-2290","x",null,null,null,"x",null,null,"x",null,null,null,"N/A",null,null,"ERC/REC 25-10",null,"x",null,null,"N/A",null,null,null,null,null,"temporary use "]
["Greece","GRC",13,"2025-2110 and 2200-2290","X",null,null,null,null,null,null,"X",null,null,null,null,41,null,"T/R 13-01 Annex C","X","X",null,"0.6",22,60,"reduction"]
["Hungary","HNG",13,"2025-2110 and 2200-2290","X",null,null,null,"X",null,null,null,null,null,null,null,0,null,"T/R 13-01 Annex C"]
["Netherlands","HOL",{"$f":"VLOOKUP(D58,[1]BandList!$A$2:$B$110,2,FALSE)","v":13},"2025-2110 and 2200-2290",null,null,null,null,null,null,null,null,null,null,null,null,null,null,"T/R 13-01 Annex C"]
["Ireland","IRL",13,"2025-2110 and 2200-2290","X",null,null,null,"X",null,null,null,null,"X",null,null,28,null,"T/R 13-01 Annex C",7,21,null,"25 km"]
["Latvia","LVA",13,"2025-2110 and 2200-2290","X",null,null,null,"X",null,null,null,null,"X",null,0,0,null,"T/R 13-01 Annex C",null,null,null,null,null,null,null,null,null,"No changes"]
["Malta","MLT",13,"2025-2110 and 2200-2290","X",null,null,null,"X",null,null,null,"X",null,null,7,null,null,"ERC Rec T/R 13-01",null,null,null,7.7,7.7,7.7]
["Malta","MLT",13,"2025-2110 and 2200-2290","X",null,null,null,"X",null,null,null,"X",null,null,4," ",null,"ERC Rec T/R 13-01",null,null,null,3,3.2,3.4]
["Norway","NOR",13,"2025-2110 and 2200-2290",null,"x","x",null,null,null,null,null,null,"x"]
["Portugal","POR",13,"2025-2110 and 2200-2290","X",null,null,null,"X",null,null,null,"X",null,"TCR, SAP/SAB",null,11,null,"T/R 13-01 Annex C","X",null,null,5,"30",190,0]
["Switzerland","SUI",13,"2025-2110 and 2200-2290",null,null,null,null,null,null,null,null,null,"x","No civil use, PMSE",null,null,null,"T/R 13-01 Annex C"]
["Croatia","HRV",14,"2085-2110","X",null,null,null,"X",null,null,null,"X",null,null,189,null,null,"National plan","ANALOG",null,null,0.09,9.5399999999999991,55.74,2]
["Russia","RUS",15,"2400-2483.5","X",null,null,"X","X","X",null,null,null,null,"X\nTelecom operators, industrial process communications",null,8922,4108,null,"X","X","X",0.05,20,70,null,null,null,"Increase of use in P-P FWA networks (TDD). Increase of use in P-MP FWA networks (TDD)of small telecom operators' networks.\n"]
["Austria","AUT",16,"3400-3600","X",null,null,null,null,"X",null,"X",null,null,null,null,null,355,"ERC/REC 14-03","X","X",null,3,15,30]
["Bosnia and Herzegovina","BIH",16,"3400-3600","X",null,null,null,"X",null,null,null,"X",null,null,10,1,null,"ERC/REC 14-03",null,"X","X",2,35,140,null,null,"X"]
["Czech Republic","CZE",16,"3400-3600","X",null,null,null,null,"X",null,null,null,null,null,null,null,236,"see the EFIS","N/A","N/A","N/A"]
["Germany","D",16,"3400-3600",null,"x",null,null,null,"x",null,null,null,null,null,null,null,840,"ERC/REC 14-03",null,"x","x",null,null,null,null,null,"x"]
["Estonia","EST",16,"3400-3600",null,"x",null,null,null,"x",null,"x",null,null,null,null,null,"no info","ERC/REC 14-03"]
["France","F",16,"3400-3600","X",null,null,null,"X",null,"X",null,null,null,null,84,null,null,"ERC/REC 14-03",null,null,null,null,null,null,null,null,"X"]
["Finland","FIN",16,"3400-3600",null,"x",null,null,null,"x",null,"x",null,null,null,null,null,250,"FWA: 3410-3590 MHz, national plan","x",null,null,null,"<8",null,-35,null,"3)",null,"3) MFCN 3400-3800 MHz planned in the beginning of 2019"]
["Greece","GRC",16,"3400-3600",null,"X",null,null,"X","X",null,null,null,null,null,"1 National Coverage License             (2x30 MHz)","1 National Coverage License             (2x30 MHz)","1 National Coverage License             (2x30 MHz)","ECC/DEC/(11)06",null,null,null,null,null,null,"growth",null,"potential future use of the band for 5G networks"]
["Hungary","HNG",16,"3400-3600",null,"X",null,null,"X","X",null,null,null,null,null,null,null,null,"ERC/REC 14-03",null,null,null,null,null,null,null,null,null,null,"Block assignment for MFCN; awarded 2016 summer - currently no usage"]
["Netherlands","HOL",{"$f":"VLOOKUP(D77,[1]BandList!$A$2:$B$110,2,FALSE)","v":16},"3400-3600","x",null,null,null,null,"x",null,null,null,null,null,null,null,13,"ERC/REC 14-03",null,"x","x",null,null,null,null,null,"x"]
["Croatia","HRV",16,"3400-3600",null,"X",null,null,null,"X",null,null,null,null,null,null,null,5,"ERC/REC 14-03",null,"X",null,null,null,null,null,null,"X"]
["Ireland","IRL",16,"3400-3600","X (FWALA licences issues on case by case basis)",null,null,null,null,"X",null,null,null,null,"Wireless broadband provision",null,null,268,"ERC/REC 14-03",null,null,null,"N/A",null,null,null,null,"X "]
["Latvia","LVA",16,"3400-3600","X",null,null,null,"X","X","X","X",null,null,null,0,0,31,"ERC/REC 14-03",null,"X",null,1,10,25,0.1]
["Malta","MLT",16,"3400-3600","X",null,null,null,"X",null,null,"X",null,null,"Telecomms infrastructure backhaul",null,1,null,"ERC Rec 14-03",null,null,null,9.1,9.1,9.1,-1]
["Norway","NOR",16,"3400-3600",null,"x",null,null,"x","x",null,null,null,null,null,null,null,null,"ERC/REC 14-03"]
["Portugal","POR",16,"3400-3600",null,"X",null,null,null,"X",null,null,null,null,"BWA (3.3 - 3.6GHz)",null,null,44,"ERC/REC 14-03","X","X",null,1,"10",20,-50]
["Russia","RUS",16,"3400-3600","X",null,null,null,"X","X",null,null,"X",null,"WiMAX","under 0.1%",200,4000,"For RRLs - National Plan","X","X",null,20,50,80,null,null,null,"Use in telecom operators' infrastructure, broadcasting infrastructure, and industrial process communications. The number of RRL station is expected to decrease because the frequency band 3400-3600 MHz has been identified for IMT. "]
["Sweden","S",16,"3400-3600",null,"X",null,null,null,null,null,null,null,null,null,null,"N/A",null,"ERC/REC 14-03"]
["Switzerland","SUI",16,"3400-3600","x",null,null,null,null,"x",null,"x",null,null,null,null,null,null,"ERC/REC 14-03",null,null,null,null,null,null,null,null,"MFCN","PMSE"]
["Slovak Republic","SVK",16,"3400-3600",null,"X",null,null,null,"X",null,null,null,null,null,null,null,450,"ERC/REC 14-03",null,"X"]
["Slovenia","SVN",16,"3400-3600",null,"X",null,null,null,"X",null,"X",null,"X",null,null,null,10,"ERC/REC 14-03",null,"X"]
["Turkey","TUR",16,"3400-3600",null,"x",null,null,null,"x",null,"x",null,null,null,null,null,1276,"ERC/REC 14-03"]
["UK","G",17,"3480 – 3500//3580 – 3600; 3605 – 3689//3925 – 4009\n\n\n",null,"X"]
["Bulgaria","BUL",18,"3600-3800","X",null,null,null,"X",null,null,"X",null,null,null,0,14,null,"ERC/REC 12-08, Annex B, Part 2",null,"X",null,13,51,73,null,null,null,"Reallocate to another suitable frequency band"]
["Croatia","HRV",18,"3600-3800","X",null,null,null,"X",null,null,null,null,null,"ENG/OB",null,7,null,"National plan",null,"X",null,null,null,null,-100,null,"X"]
["Austria","AUT",19,"3600-4200","X",null,null,null,"X",null,"X",null,null,null,null,null,34,null,"ERC/REC 12-08",null,"X",null,13,50,100]
["Bosnia and Herzegovina","BIH",19,"3600-4200","X",null,null,null,"X",null,null,null,"X",null,null,27,28,null,"ERC/REC 12-08",null,null,"X",9,60,99,"+50"]
["Czech Republic","CZE",19,"3600-4200","X",null,null,null,"X",null,null,null,null,null,null,null,209,null,"see the EFIS","N/A","N/A","N/A",null,"31.7km"]
["Czech Republic","CZE",19,"3600-4200",null,"X",null,null,null,"X",null,null,null,null,"auction in preparation",null,null,0,null,"N/A","N/A","N/A"]
["Germany","D",19,"3600-4200",null,"x",null,null,null,"x",null,null,null,null,null,null,null,110,"ERC/REC 12-08",null,"x","x",null,null,null,null,null,"x"]
["Germany","D",19,"3600-4200","x",null,null,null,"x",null,null,null,null,null,null,null,90,null,null,null,null,"x",20,42,65,"-"]
["Estonia","EST",19,"3600-4200",null,"x",null,null,null,"x",null,"x",null,null,null,null,null,"no info","ERC/REC 12-08"]
["Finland","FIN",19,"3600-4200","x",null,null,null,"x",null,null,null,"x",null,null,164,32,null,"ERC/REC 12-08",null,"x","x",20,">30",null,null,null,"3)",null,"3) MFCN 3400-3800 MHz planned in the beginning of 2019"]
["Hungary","HNG",19,"3600-4200",null,null,null,null,null,null,null,null,null,null,null,null,17,null,"ERC/REC 12-08",null,null,null,null,null,null,null,null,null,null,"3600-3800 MHz band: awarded 2016 summer; Block assignment for MFCN; currently no usage; 3800-4200 MHz: 17 bidirectional links"]
["Netherlands","HOL",{"$f":"VLOOKUP(D102,[1]BandList!$A$2:$B$110,2,FALSE)","v":19},"3600-4200","x",null,null,null,null,"x",null,null,null,null,null,null,null,73,"ERC/REC 12-08",null,"x","x",null,null,null,"+",null,"x"]
["Netherlands","HOL",{"$f":"VLOOKUP(D103,[1]BandList!$A$2:$B$110,2,FALSE)","v":19},"3600-4200",null,null,null,null,"x"]
["Ireland","IRL",19,"3600-4200","X (FWALA licences issues on case by case basis)",null,null,null,null,"X",null,null,null,null,"Wireless broadband provision",null,null,"268 (3400 - 3800 MHz)","ERC/REC 12-08",null,null,null,"N/A",null,null,null,null,"X "]
["Latvia","LVA",19,"3600-4200","X",null,null,null,"X","X","X","X",null,null,null,0,5,106,"ERC/REC 12-08",null,"X",null,1,10,25,0.1]
["Norway","NOR",19,"3600-4200",null,"x",null,null,null,"x",null,null,null,null,null,null,null,null,"ERC/REC 12-08"]
["Portugal","POR",19,"3600-4200",null,"X",null,null,null,"X",null,null,null,null,"FSS, VSAT (3.8-4.2 GHz)",null,null,"2zax","ERC/REC 12-08","X","X",null,1,"10",20,-100]
["Russia","RUS",19,"3600-4200","X",null,null,null,"X",null,"X","X","X",null,"X\nTelecom operators, industrial process communications",null,400,null,"For RRLs - ITU-R Rec.\nF.635\nF.382","X","X","X",20,50,80,null,null,null,"Increase of  use in long-distance multi-hop links in mobile backhaul, broadcasting and telecom operators' infrastructure, and for industrial process communications."]
["Sweden","S",19,"3600-4200",null,"X",null,null,null,null,null,null,null,null,null,null,"N/A",null,"ERC/REC 12-08",null,null,null,null,null,null,null,null,"?"]
["Switzerland","SUI",19,"3600-4200","x",null,null,null,null,"x",null,"x",null,null,null,null,null,null,"ERC/REC 12-08",null,null,null,null,null,null,null,null,"MFCN"]
["Slovak Republic","SVK",19,"3600-4200",null,"X",null,null,null,"X",null,null,null,null,null,null,null,668,"ERC/REC 12-08",null,"X"]
["UK","G",20,"3689-3875//4009-4195","x",null,null,null,"x",null,"X","X","X",null,null,null,65,null,"ERC/REC 12-08 Annex A Part 2",null,null,"X",null,37]
["Bulgaria","BUL",21,"3800-4200","X",null,null,null,"X",null,null,null,null,null,null,0,0,null,"ERC/REC 12-08, Annex B, Part 1","-","-","-","-","-","-"]
["Greece","GRC",21,"3800-4200","Χ",null,null,null,null,null,null,"X",null,null,null,null,144,null,"ERC/REC 12-08",null,"X","Χ",11,64,101,"reduction"]
["Croatia","HRV",21,"3800-4200","X",null,null,null,"X",null,null,null,"X",null,null,null,67,null,"ERC/REC 12-08",null,null,"X",20.27,60.33,91.57]
["Slovenia","SVN",21,"3800-4200","X",null,null,null,"X",null,null,null,"X",null,null,0,19,null,"ERC/REC 12-08",null,null,"X",27,57,69]
["Turkey","TUR",21,"3800-4200","x",null,null,null,null,null,null,null,null,null,null,null,172,null,"ERC/REC 12-08",null,null,null,"<1",33,72]
["Austria","AUT",22,"4400-5000","X",null,null,null,null,null,null,null,"X",null,"X",10,1,null,"national",null,"X",null,22,22,22]
["Czech Republic","CZE",22,"4400-5000",null,null,null,null,null,null,null,"SAP/SAB",null,null,null,null,null,null,null,"N/A","N/A","N/A"]
["Czech Republic","CZE",22,"4400-5000",null,null,null,null,null,null,null,"SAP/SAB",null,null,null,null,null,null,null,"N/A","N/A","N/A"]
["Estonia","EST",22,"4400-5000","x"]
["Latvia","LVA",22,"4400-5000",null,null,null,null,null,null,null,null,null,null,null,null,null,null,null,null,null,null,null,null,null,null,null,null,null,"Exclusive Military Band Within the Band 4400-5000 MHz"]
["Portugal","POR",22,"4400-5000",null,null,null,null,null,null,null,null,null,null,"Military"]
["Russia","RUS",22,"4400-5000","X",null,null,null,"X",null,null,"X",null,null,"X\nTelecom operators, industrial process communications",null,310,null," ITU-R Rec. F.1099\nF.746",null,null,"X",10,45,80,null,null,null,"Use in telecom operators' infrastructure and industrial process communications. \nThe increase of the total number of RRLs is expected to stop becuase the frequency band 4800-4990 MHz has been identified for IMT. "]
["Switzerland","SUI",22,"4400-5000",null,null,null,null,null,null,null,null,null,"x","No civil use"]
["Russia","RUS",23,"5150-5350","X",null,null,null,"X","X",null,null,null,null,"X\nTelecom operators, industrial process communications",null,1282,5419,null,"X","X","X",0.5,20,30,null,null,null,"Increase of  use in P-P FWA networks (TDD).\nIncrease of  use in P-MP FWA networks (TDD) in small telecom operators' networks."]
["Russia","RUS",24,"5650-5850","X",null,null,null,"X","X",null,null,null,null,"X\nTelecom operators, industrial process communications",null,2258,3802,"For RRLs - National Plan","X","X","X",0.05,20,32,null,null,null,"Increase of  use in P-P FWA networks (TDD).\nIncrease of  use in P-MP FWA networks (TDD) in small telecom operators' networks."]
["Greece","GRC",25,"5725-5795",null,null,"X",null,"X","X",null,null,null,null,null,null,null,25,"ECC/DEC/(06)04",null,null,null,null,null,null,"growth"]
["Austria","AUT",26,"5850-5925","X",null,null,null,"X",null,"X",null,null,null,null,null,13,null,"national",null,"X",null,4,42,68]
["Estonia","EST",26,"5850-5925",null,"x"]
["Estonia","EST",26,"5850-5925","not in use",null,null,null,null,"x"]
["Ireland","IRL",26,"5850-5925",null,null,"X (5725 - 5875 MHz)",null,null,"X",null,"X",null,null,null,null,null,"106 stations registered for use of the entire band 5725 - 5875 MHz",null,null,null,null,"N/A"]
["Latvia","LVA",26,"5850-5925",null,null,null,null,null,null,null,null,null,null,null,null,null,null,null,null,null,null,null,null,null,null,null,null,null,"Currently not in use by Fixed service"]
["Norway","NOR",26,"5850-5925",null,null,null,"x"]
["Portugal","POR",26,"5850-5925",null,null,null,"X",null,null,null,null,null,null,"ISM, SRD"]
["Russia","RUS",26,"5850-5925","X",null,null,null,"X","X",null,null,null,null,"X Telecom operators, industrial process communications",null,800,1150,"For RRLs - National Plan","X","X","X",1,10,40,null,null,null,"Increase of  use in P-P FWA networks (TDD).\nIncrease of  use in P-MP FWA networks (TDD) in small telecom operators' networks."]
["Switzerland","SUI",26,"5850-5925",null,null,null,"x","x","x",null,null,null,"x"]
["UK","G",27,"5925-6425","X",null,null,null,"X",null,"X","X","X",null,null,31,305,null,"ERC/REC 14-01 ",null,"X","X",null,40]
["Bulgaria","BUL",28,"5925-6425","X",null,null,null,"X",null,"X","X",null,null,null,0,232,null,"ERC/REC 14-01, Annex 1",null,null,"X",6,32,70,null,"X",null,"Currently congested for area of capital - Sofia"]
["Greece","GRC",28,"5925-6425","X",null,null,null,null,null,"X","X","X",null,null,7,324,null,"ERC/REC 14-01 ",null,"X","X",7,40,98,"growth"]
["Croatia","HRV",28,"5925-6425","X",null,null,null,"X",null,"X",null,"X",null,null,null,74,null,"ERC/REC 14-01",null,null,"X",10.7,33.72,70.930000000000007]
["Russia","RUS",28,"5925-6425","X",null,null,null,"X","X","X",null,null,null,"X\nTelecom operators, industrial process communications",null,4500,5300,"Для РРЛ- ITU-R Rec. F.383","X","X","X",1,10,50,null,null,null,"Increase of use in P-P FWA networks (TDD).\nIncrease of use in P-MP FWA networks (TDD) in small telecom operators' networks.\nModerate use in mobile backhaul (outside major populated areas), in telecom operators' infrastructure, and for industrial process communications.\n"]
["Slovenia","SVN",28,"5925-6425","X",null,null,null,"X",null,"X","X",null,null,null,0,12,null,"ERC/REC 14-01 ",null,"X","X",10,21,33]
["Austria","AUT",29,"5925-7125","X",null,null,null,"X",null,"X","X","X",null,null,null,313,null,"ERC/REC 14-01 and ERC/REC 14-02, ECC/REC(14)06",null,null,"X",5,45,70]
["Bosnia and Herzegovina","BIH",29,"5925-7125","X",null,null,null,"X",null,null,"X",null,null,null,5,216,null,"ERC/REC 14-01 and ERC/REC 14-02, ECC/REC(14)06",null,null,"X",2,58,140]
["Czech Republic","CZE",29,"5925-7125","X",null,null,null,"X",null,null,null,null,null,null,null,582,null,"see the EFIS","N/A","N/A","N/A",null,"31.5km"]
["Germany","D",29,"5925-7125","x",null,null,null,"x",null,null,null,null,null,null,null,3500,null,"ERC/REC 14-01 and ERC/REC 14-02, ECC/REC(14)06",null,"x","x",15,40,67,null,"x"]
["Estonia","EST",29,"5925-7125","x",null,null,null,"x",null,"x",null,null,null,null,5,null,null,"ERC/REC 14-01 and ERC/REC 14-02, ECC/REC(14)06",null,"x",null,null,80]
["France","F",29,"5925-7125","X",null,null,null,"X",null,"X","X",null,null,null,null,4171,null,"ERC/REC 14-01 and ERC/REC 14-02, ECC/REC(14)06",null,"X","X",2,29,109,null,"X"]
["Finland","FIN",29,"5925-7125","x",null,null,null,"x",null,"x","x","x",null,null,0,646,null,"ERC/REC 14-01 and ERC/REC 14-02, ECC/REC(14)06",null,"x","x",10,"19.7","63.1","+ 50","x",null,"upper 6 GHz congested in some areas"]
["Hungary","HNG",29,"5925-7125","X",null,null,null,"X",null,null,null,null,null,null,null,135,null,"ERC/REC 14-01 and ERC/REC 14-02",null,null,"X",null,60]
["Netherlands","HOL",{"$f":"VLOOKUP(D152,[1]BandList!$A$2:$B$110,2,FALSE)","v":29},"5925-7125","x",null,null,null,"x",null,"x","x",null,null,null,null,64,null,"ERC/REC 14-01 and ERC/REC 14-02, ECC/REC(14)06",null,null,"x",40,45,52,null,"x"]
["Italy",{"$f":"VLOOKUP(A153, '[1]Country names'!$A$5:$C$53,3,FALSE)","v":"I"},{"$f":"VLOOKUP(D153,[1]BandList!$A$2:$B$110,2,FALSE)","v":29},"5925-7125","X",null,null,null,"X",null,"X","X","X",null,null,null,1319,null,"ERC/REC 14-01 and ERC/REC 14-02, ECC/REC(14)06",0,591,728,6.3869999999999996,31.5,59.38,"+10/20"]
["Ireland","IRL",29,"5925-7125","X",null,null,null,"X",null,null,null,null,"X",null,null,208,null,"ERC/REC 14-01 and ERC/REC 14-02, ECC/REC(14)06",null,null,208,"25 km"]
["Latvia","LVA",29,"5925-7125","X",null,null,null,"X",null,"X","X","X",null,null,null,105,null,"ERC/REC 14-01 and ERC/REC 14-02",null,"X","X",20,30,51,0.1]
["Malta","MLT",29,"5925-7125","X",null,null,null,"X",null,null,"X",null,null,"Telecomms infrastructure backhaul",null,7,null,"ERC Rec 14-01 and ERC Rec 14-02,",null,null,null,19.7,20.6,21.5]
["Norway","NOR",29,"5925-7125","x","x",null,null,null,null,null,null,"x","x",null,0,1666,0,null,null,null,null,2,24,123,5]
["Portugal","POR",29,"5925-7125","X",null,null,null,"X",null,"X","X",null,null,"VSAT, SRD",null,6,null,"ERC/REC 14-01",null,"X","X",15,"30",70,5]
["Portugal","POR",30,"5925-7125","X",null,null,null,"X",null,"X","X",null,null,"VSAT, SRD",null,7,null,"ERC/REC 14-02",null,"X","X",15,"30",70,5]
["Portugal","POR",31,"5925-7125","X",null,null,null,"X",null,null,null,null,null,"VSAT, SRD",null,null,null,"ECC/REC(14)06","X",null,null,10,"20",70,"Planned","Planned","Planned","Planned"]
["Sweden","S",29,"5925-7125","X",null,null,null,null,null,null,null,"X",null,null,null,928,null,"ERC/REC 14-01 and ERC/REC 14-02, ECC/REC(14)06",null,null,"X",9.3000000000000007,42.2,85.95,50,null,null,"X"]
["Switzerland","SUI",29,"5925-7125","x",null,null,null,"x",null,"x","x","x",null,null,null,46,null,"ERC/REC 14-01 and ERC/REC 14-02, ECC/REC(14)06",null,null,"x",20.2,46.7,75.900000000000006,20]
["Slovak Republic","SVK",29,"5925-7125","X",null,null,null,"X",null,"X",null,null,null,null,null,null,70,"ERC/REC 14-01 and ERC/REC 14-02, ECC/REC(14)06",null,null,"X",8,25,54.6,5]
["Turkey","TUR",29,"5925-7125","x",null,null,null,"x",null,null,null,null,null,null,null,1387,null,"ERC/REC 14-01 and ERC/REC 14-02",null,null,null,"<1",35,96]
["Greece","GRC",33,"6425-7110","X",null,null,null,null,null,"X","X","X",null,null,9,367,null,"ERC/REC 14-02",null,null,"X",7,45,123,"growth"]
["Bulgaria","BUL",34,"6425-7125","X",null,null,null,"X",null,"X","X",null,null,null,0,228,null,"ERC/REC 14-02, Annex 1",null,null,"X",9,30,97,null,"X",null,"Currently congested for area of capital - Sofia"]
["Croatia","HRV",34,"6425-7125","X",null,null,null,"X",null,"X",null,"X",null,null,null,29,null,"ERC/REC 14-02",null,null,"X",16.12,40.5,71.33]
["Russia","RUS",34,"6425-7125","X",null,null,null,"X",null,"X","X",null,null,"X Telecom operators, industrial process communications",null,1050,null,"ITU-R Rec. F.384",null,null,"X",5,40,70,null,null,null,"Increase of use in long-distance multi-hop links in mobile backhaul, telecom operators' infrastructure, and for industrial process communications. "]
["Slovenia","SVN",34,"6425-7125","X",null,null,null,"X",null,null,"X",null,null,null,0,1,null,"ERC/REC 14-02",null,"X",null,39,39,39]
["UK","G",32,"6425-7125","X",null,null,null,"X",null,"X","X","X",null,null,23,519,null,"ERC/REC 14-02, ITU-R Rec. F.384",null,"X","X",null,34]
["Bulgaria","BUL",35,"7125-7425","X",null,null,null,"X",null,"X","X",null,null,null,0,73,null,"ITU-R F.385-8",null,"X","X",20,35,59,"+25 %"]
["Greece","GRC",35,"7125-7425","X",null,null,null,null,null,null,"X","X",null,null,10,16,null,"ITU-R REC F.385-10","X",null,null,0.5,16,56]
["Croatia","HRV",35,"7125-7425","X",null,null,null,"X",null,null,"X",null,null,null,null,14,null,"ECC REC (02)06","X","X",null,3.76,37.159999999999997,85.56]
["Slovenia","SVN",35,"7125-7425","X",null,null,null,"X",null,"X",null,"X",null,null,0,85,null,"ECC REC (02)06",null,null,"X",2,29,72]
["Turkey","TUR",35,"7125-7425","x",null,null,null,"x",null,null,null,null,null,null,null,2231,null,"ECC REC (02)06 Annex 2.1"]
["Austria","AUT",36,"7125-7750","X",null,null,null,"X",null,"X","X","X",null,null,null,530,null,"ECC REC (02)06",null,"X","X",1,40,78]
["Bosnia and Herzegovina","BIH",36,"7125-7750","X",null,null,null,"X",null,null,"X",null,null,null,12,144,null,"ECC REC (02)06",null,null,"X",4,30,53,"+5"]
["Czech Republic","CZE",36,"7125-7750","X",null,null,null,"X",null,null,null,null,null,null,null,446,null,"see the EFIS","N/A","N/A","N/A",null,"24.4km"]
["Germany","D",36,"7125-7750","x",null,null,null,"x",null,null,null,null,null,null,null,4430,null,"ECC REC (02)06",null,"x","x",15,28,90,null,"x"]
["Estonia","EST",36,"7125-7750","x",null,null,null,"x",null,"x",null,null,null,null,43,null,null,"ECC REC (02)06",null,"x",null,10,30,55]
["Finland","FIN",36,"7125-7750","x",null,null,null,"x",null,"x","x",null,null,null,0,363,null,"Modified ITU-R F.385",null,"x","x",10,"29.4","74.9",-25,null,null,null,"7125-7425 MHz subband for non-civil FS, 7427-7725 MHz subband for civil FS"]
["Hungary","HNG",36,"7125-7750","X",null,null,null,"X",null,null,"X",null,null,null,null,205,null,"ECC REC (02)06",null,"X",null,null,40]
["Netherlands","HOL",{"$f":"VLOOKUP(D183,[1]BandList!$A$2:$B$110,2,FALSE)","v":36},"7125-7750","x",null,null,null,"x",null,"x","x",null,null,null,null,101,null,"ECC REC (02)06","x","x","x",8,22,60,"+","x"]
["Italy",{"$f":"VLOOKUP(A184, '[1]Country names'!$A$5:$C$53,3,FALSE)","v":"I"},{"$f":"VLOOKUP(D184,[1]BandList!$A$2:$B$110,2,FALSE)","v":36},"7125-7750","X",null,null,null,"X",null,"X","X","X",null,null,null,3379,null,"ECC REC (02)06",4,2172,1203,4.593,31.25,57.98,"+10/20"]
["Ireland","IRL",36,"7125-7750","X",null,null,null,"X",null,null,null,null,"X",null,null,270,null,"ECC REC (02)06",12,31,227,"25 km"]
["Latvia","LVA",36,"7125-7750","X",null,null,null,"X",null,"X","X",null,null,null,null,110,null,"ECC REC (02)06",null,"X","X",10,35,55,0.2]
["Malta","MLT",36,"7125-7750","X",null,null,null,"X",null,"X","X","X",null,"Telecomms infrastructure backhaul",3,12,null,"ECC Rec (02)06",null,"X","X",1.6,13,25,0.13]
["Norway","NOR",36,"7125-7750","x",null,null,null,null,null,"x",null,null,"x",null,0,622,null,null,"x","x","x",3,32,106,5]
["Portugal","POR",36,"7125-7750","X",null,null,null,"X",null,null,"X",null,null,"FSS, Military (7.25-7.3 GHz)",null,4,null,"7 LOW: ITU-R F.385","X",null,null,15,"30",50,-100]
["Portugal","POR",37,"7125-7750","X",null,null,null,"X",null,"X",null,null,null,"FSS, Military (7.25-7.3 GHz)",null,286,null,"7 LOW: ECC REC (02)06","X","X","X",10,"25",40,10]
["Portugal","POR",38,"7125-7750","X",null,null,null,"X",null,null,"X",null,null,"FSS",null,4,null,"7 HIGH: ITU-R F.385","X",null,null,15,"30",50,-100]
["Portugal","POR",39,"7125-7750","X",null,null,null,"X",null,"X","X",null,null,"FSS",null,103,null,"7 HIGH: ECC REC (02)06","X","X","X",10,"25",40,10]
["Sweden","S",36,"7125-7750","X",null,null,null,null,null,"X","X","X",null,null,null,509,null,"ECC REC (02)06","X","X","X",4.2,27.7,70.5,25,"X"]
["Switzerland","SUI",36,"7125-7750","x",null,null,null,"x",null,"x","x","x",null,null,null,90,null,"ECC REC (02)06",null,"x","x",11.1,30.1,56.5,10]
["Slovak Republic","SVK",36,"7125-7750","X",null,null,null,"X",null,null,null,null,null,null,null,97,null,"ECC REC (02)06","X","X","X",13.2,25,59.3,30]
["Russia","RUS",40,"7250-7550","X",null,null,null,"X",null,"X","X","X",null,"X\nTelecom operators, industrial process communications",null,10890,null,"ITU-R Rec. F.385","X","X","X",1,35,65,null,null,null,"Increase of use, most of all in mobile backhaul (outside major populated areas) and in telecom operators' infrastructure and in industrial process communications."]
["Bulgaria","BUL",42,"7425-7725","X",null,null,null,"X",null,"X",null,null,null,null,0,404,null,"ITU-R F.385-8","X","X","X",18,30,98,"+25 %"]
["Greece","GRC",42,"7425-7725","X",null,null,null,null,null,"X","X",null,null,null,null,1057,null,"ECC REC (02)06","X","X","X",0.6,30,98,"stable"]
["Croatia","HRV",42,"7425-7725","X",null,null,null,"X",null,"X","X","X",null,null,null,181,null,"ECC REC (02)06",null,"X","X",7.08,32,88.87,20,"X"]
["Slovenia","SVN",42,"7425-7725","X",null,null,null,"X",null,"X","X","X",null,null,0,39,null,"ECC REC (02)06",null,"X","X",6,23,53,null,"X"]
["Turkey","TUR",43,"7425-7900","x",null,null,null,"x",null,null,null,null,null,null,null,3766,null,"ECC REC (02)06 Annex 2.2"]
["UK","G",41,"7425-7900","X",null,null,null,"X",null,"X","X","X",null,null,51,1097,null,"ITU-R REC. F.385-9 Annex 4","X","X","X",null,32]
["Bulgaria","BUL",44,"7725-7827,5","X",null,null,null,"X",null,"X",null,null,null,null,0,454,null,"ITU-R F.386-9 and national plan","X","X","X",7,22,58,"+10 %"]
["Bosnia and Herzegovina","BIH",46,"7750-7900","X",null,null,null,"X",null,"X","X",null,null,null,40,156,null,"ECC REC (02)06",null,null,"X",3,50,80,"+8"]
["Estonia","EST",46,"7750-7900","x",null,null,null,"x"]
["Hungary","HNG",46,"7750-7900","X",null,null,null,"X",null,null,null,"X",null,null,null,0,null,"ECC REC (02)06",null,"X",null,null,40]
["Ireland","IRL",46,"7750-7900","X",null,null,null,"X",null,null,null,null,"X",null,null,208,null,null,null,10,198,"25 km"]
["Latvia","LVA",46,"7750-7900","X",null,null,null,"X",null,"X","X",null,null,null,null,35,null,"ECC REC (02)06",null,"X","X",10,35,50,0.2]
["Norway","NOR",46,"7750-7900","x",null,null,null,null,null,null,null,null,"x",null,0,3,null,null,null,null,null,null,40]
["Portugal","POR",46,"7750-7900","X",null,null,null,"X",null,"X","X",null,null,null,null,141,null,"8 LOW: ECC REC (02)06",null,"X","X",10,"25",50,10]
["Switzerland","SUI",46,"7750-7900",null,null,null,null,null,null,null,null,null,"x","No civil use"]
["Slovak Republic","SVK",46,"7750-7900","X",null,null,null,"X",null,null,null,null,null,null,null,23,null,"ccir rec 385-6","X","X",null,11.45,25,55.2,40]
["Russia","RUS",47,"7900-8400","X",null,null,null,"X",null,"X","X","X",null,"X\nTelecom operators, industrial process communications",null,11540,null,"ITU-R Rec. F.386","X","X","X",1,35,65,null,null,null,"Increase of use, most of all in mobile backhaul (outside major populated areas) and in telecom operators' infrastructure and in industrial process communications."]
["Greece","GRC",45,"7725-8275","X",null,null,null,null,null,"X","X",null,null,null,null,1058,null,"ITU-R REC F.386-9",null,"X","X",5,43,102,"reduction"]
["Croatia","HRV",45,"7725-8275","X",null,null,null,"X",null,null,null,"X",null,null,null,137,null,"ECC REC (02)06",null,null,"X",21.14,52.3,91.57,2]
["Slovenia","SVN",45,"7725-8275","X",null,null,null,"X",null,null,null,"X",null,null,0,48,null,"ECC REC (02)06",null,null,"X",2,27,50]
["Estonia","EST",48,"7900-8500","x",null,null,null,"x",null,"x",null,null,null,null,22,null,null,"ECC REC (02)06",null,"x",null,7,28,47]
["France","F",48,"7900-8500","X",null,null,null,"X",null,"X","X","X",null,null,null,2331,null,"ECC REC (02)06","X","X","X",0.15,18,81]
["Finland","FIN",48,"7900-8500","x",null,null,null,null,null,"x","x",null,null,null,0,4,null,"ECC REC (02)06",null,null,"x",10,"15.4","17.1"]
["Finland","FIN",48,"7900-8500",null,"x",null,null,null,null,null,null,"x",null,null,"N/A","N/A",null,"video links, national plan",null,"x",null,null,"N/A"]
["Hungary","HNG",48,"7900-8500","X",null,null,null,"X",null,null,null,null,null,null,null,0,null,"ECC REC (02)06"]
["Netherlands","HOL",{"$f":"VLOOKUP(D222,[1]BandList!$A$2:$B$110,2,FALSE)","v":48},"7900-8500",null,null,null,null,null,null,null,null,null,null,null,null,null,null,"ECC REC (02)06"]
["Ireland","IRL",48,"7900-8500","X",null,null,null,"X",null,null,null,null,"X",null,null,12,null,"ECC REC (02)06",8,4,null,"25 km"]
["Latvia","LVA",48,"7900-8500","X",null,null,null,"X",null,"X","X",null,null,null,null,410,null,"ECC REC (02)06",null,"X","X",8,25,45,0.1]
["Malta","MLT",48,"7900-8500","X",null,null,null,"X",null,"X","X",null,null,"Telecomms infrastructure backhaul"," ",3,null,"ECC Rec (02)06",null,null,"X",2.9,15.6,28.3," "]
["Norway","NOR",48,"7900-8500",null,"x",null,null,"x",null,null,null,null,"x",null,0,1100,null,null,null,"x"]
["Portugal","POR",48,"7900-8500","X",null,null,null,"X",null,null,null,null,null,"FSS, EESS, Military (7.975-8.025 GHz)",null,null,null,"8 HIGH: ECC REC (02)06","X","X",null,null,null,null,"Planned","Planned","Planned","Planned"]
["Sweden","S",48,"7900-8500","X",null,null,null,null,null,"X","X","X",null,null,null,1823,null,"ECC REC (02)06",null,"X","X",5.4,24.8,79.599999999999994,25,"X"]
["Switzerland","SUI",48,"7900-8500",null,null,null,null,null,null,null,null,null,"x","No civil use",null,null,null,"ECC REC (02)06"]
["Turkey","TUR",48,"7900-8500","x",null,null,null,"x",null,null,null,null,null,null,null,1323,null,"ECC REC (02)06 Annex 2.3"]
["Greece","GRC",49,"8275-8500","X",null,null,null,null,null,"X","X",null,null,null,null,111,null,"ECC REC (02)06","X","X","X",9,35,79,"reduction"]
["Croatia","HRV",49,"8275-8500","X",null,null,null,"X",null,null,"X","X",null,null,null,10,null,"ECC REC (02)06",null,"X","X",22.07,44,64.66]
["Slovenia","SVN",49,"8275-8500","X",null,null,null,"X",null,"X",null,null,null,null,0,1,null,"ECC REC (02)06",null,null,"X",28,28,28]
["Austria","AUT",50,"10000-10680","X",null,null,null,"X",null,"X","X","X",null,null,null,133,null,"ERC/REC 12-05",null,"X",null,1,30,80]
["Bosnia and Herzegovina","BIH",50,"10000-10680","X",null,null,null,"X",null,null,null,"X",null,null,87,null,null,"ERC/REC 12-05","X","X",null,0.3,25,99,"+10"]
["Czech Republic","CZE",50,"10000-10680",null,null,null,"X",null,null,null,null,null,null,null,null,"N/A",null,"national plan for 10,301–10,42 GHz and 10,476–10,588 GHz","N/A","N/A","N/A"]
["Czech Republic","CZE",50,"10000-10680",null,null,null,null,null,null,null,"ENG/OB",null,null,null,null,null,null,"10,42–10,476 GHz and 10,588–10,644 GHz","N/A","N/A","N/A"]
["Czech Republic","CZE",50,"10000-10680","X",null,null,null,"X",null,null,null,null,null,null,1,null,null,"see the EFIS","N/A","N/A","N/A"]
["Estonia","EST",50,"10000-10680","not in use",null,null,null,null,null,null,null,null,null,null,null,null,null,"ERC/REC 12-05"]
["Finland","FIN",50,"10000-10680","x",null,null,null,"x",null,null,"x","x",null,null,3,0,null,"ERC/REC 12-05",null,null,null,"0.1","5.1","14.2"]
["Greece","GRC",50,"10000-10680","X",null,null,null,null,null,null,null,"X",null,null,74,null,null,"National Plan","X","X",null,3,14,40,"reduction"]
["Hungary","HNG",50,"10000-10680","X",null,null,null,"X",null,null,null,"X",null,null,58,null,null,"ERC/REC 12-05",null,"X",null,null,20]
["Netherlands","HOL",{"$f":"VLOOKUP(D243,[1]BandList!$A$2:$B$110,2,FALSE)","v":50},"10000-10680",null,null,null,null,null,null,null,null,null,null,null,null,null,null,"ERC/REC 12-05"]
["Ireland","IRL",50,"10000-10680","X (FWALA licences issues on case by case basis)",null,null,null,null,"X",null,null,null,null,"Wireless broadband provision",null,null,35,"ERC/REC 12-05",null,null,null,"N/A"]
["Latvia","LVA",50,"10000-10680","X",null,null,null,"X",null,null,"X",null,null,null,null,20,null,"ERC/REC 12-05","X","X",null,5,10,20,-0.2]
["Latvia","LVA",50,"10000-10680",null,"X",null,null,null,"X",null,"X",null,null,null,null,null,65,null,null,"X",null,1,5,15,0.1]
["Malta","MLT",50,"10000-10680","X",null,null,null,"X",null,null,null,"X",null,null,4,1,null,"ERC Rec 12-05",null,null,null,3,4.8,7.3," "]
["Norway","NOR",50,"10000-10680",null,"x",null,null,"x",null,null,null,null,"x",null,0,174,null,null,null,null,null,null,null,null,5]
["Portugal","POR",50,"10000-10680",null,null,null,null,null,null,null,null,null,null,"AM, SAP/SAB, SRD",null,null,null,"ERC/REC 12-05"]
["Russia","RUS",50,"10000-10680","X",null,null,null,"X","X",null,null,null,null,"X\nTelecom operators",null,230,600,"For RRLs - ITU-R Rec. \nF.747,\nfor FWA - ITU-R Rec. F.1568, СЕPТ/ERC/REC 12-05Е","X","X","X",1,25,45,null,null,null,"Use in existing telecom operators' communications networks."]
["Sweden","S",50,"10000-10680",null,"X",null,null,null,null,"X","X",null,null,null,null,"N/A",null,"ERC/REC 12-05"]
["Switzerland","SUI",50,"10000-10680","x",null,null,null,"x",null,null,"x","x",null,null,null,66,null,"ERC/REC 12-05",null,"x",null,6.6,20.399999999999999,42.5,30]
["Slovak Republic","SVK",50,"10000-10680","X","X",null,null,"X","X",null,"X",null,null,null,4,54,184,"ERC/REC 12-05","X","X",null,0.4,5,13.2,25]
["Slovenia","SVN",50,"10000-10680","X",null,null,null,"X",null,null,null,"X","X",null,3,0,null,"ERC/REC 12-05",null,null,"X",4,8,11]
["Slovenia","SVN",50,"10000-10680",null,"X",null,null,null,"X",null,null,null,null,"X",null,null,6,null,null,"X",null,null,null,null,null,null,null,"BWA/MMDS/block assignment for P-P"]
["UK","G",51,"10125 – 10205 GHz//10475 – 10555;  10205 – 10225//10555 – 10575",null,"X"]
["Bulgaria","BUL",52,"10150-10680","X",null,null,null,"X",null,null,null,"X",null,null,53,1,null,"ERC/REC 12-05, Annex A","X",null,null,0.2,7,42,"+10 %"]
["Turkey","TUR",53,"10500-10680",null,"x",null,null,"x",null,null,null,null,null,null,null,5229,null,"ITU-R F.747"]
["Bosnia and Herzegovina","BIH",54,"10700-11700","X",null,null,null,"X",null,null,"X","X",null,null,34,116,null,"ERC/REC 12-06",null,"X","X",0.6,25,65,"-5"]
["Czech Republic","CZE",54,"10700-11700","X",null,null,null,"X",null,null,null,null,null,null,null,1693,null,"see the EFIS","N/A","N/A","N/A",null,"13.4km"]
["Estonia","EST",54,"10700-11700","not in use",null,null,null,null,null,null,null,null,null,null,null,null,null,"ERC/REC 12-06"]
["France","F",54,"10700-11700","X",null,null,null,"X",null,"X",null,null,null,null,null,3276,null,"ERC/REC 12-06",null,"X","X",1.45,13,54,null,"X"]
["UK","G",54,"10700-11700","X",null,null,null,"X",null,null,"X",null,null,null,8,6,null,null,null,null,"X",null,46]
["Greece","GRC",54,"10700-11700","X",null,null,null,null,null,"X","X",null,null,null,null,934,null,"ERC/REC 12-06",null,null,"X",1.7,19,71,"growth"]
["Hungary",{"$f":"VLOOKUP(A265, 'Country names'!$A$5:$C$53,3,FALSE)","v":"HNG"},54,"10700-11700","X",null,null,null,"X",null,"X",null,null,null,null,null,341,null,"ERC/REC 12-06",null,null,"X",null,40]
["Netherlands","HOL",{"$f":"VLOOKUP(D266,[1]BandList!$A$2:$B$110,2,FALSE)","v":54},"10700-11700",null,null,null,null,null,null,null,null,null,null,null,null,null,null,"ERC/REC 12-06"]
["Croatia","HRV",54,"10700-11700","X",null,null,null,"X",null,"X","X","X",null,null,null,10,null,"ERC/REC 12-06",null,null,"X",7.49,21.84,29.87]
["Italy",{"$f":"VLOOKUP(A268, '[1]Country names'!$A$5:$C$53,3,FALSE)","v":"I"},{"$f":"VLOOKUP(D268,[1]BandList!$A$2:$B$110,2,FALSE)","v":54},"10700-11700","X",null,null,null,"X",null,"X","X","X",null,null,null,7436,null,"ERC/REC 12-06",0,2974,4462,1.462,21.75,32.83,"+10/20"]
["Ireland","IRL",54,"10700-11700","X",null,null,null,"X",null,null,null,null,"X",null,null,778,null,"ERC/REC 12-06",null,null,778,"10 km"]
["Latvia","LVA",54,"10700-11700","X",null,null,null,"X",null,"X","X","X",null,null,6,0,null,"ERC/REC 12-06",null,"X","X",10,15,30,5]
["Malta","MLT",54,"10700-11700","X"," ",null,null,"X",null,"X",null,"X",null,null,null,43,null,"ERC Rec 12-06",null,null,"X",1.5,6.5,21.5,null,null,null,"No change"]
["Norway","NOR",54,"10700-11700",null,"x",null,null,null,null,null,null,null,null,null,null,null,null,"ERC/REC 12-06",null,null,null,null,null,null,-100]
["Portugal","POR",54,"10700-11700","X",null,null,null,"X",null,"X","X","X",null,"FSS, VSAT, SNG, SIT, AES, Euteltracs",null,97,null,"ERC/REC 12-06",null,"X","X",5,"20",40,-10]
["Russia","RUS",54,"10700-11700","X",null,null,null,"X",null,"X","X","X",null,"X\nTelecom operators, industrial process communications","under 0.1%",1440,null,"ITU-R Rec. F.387","X","X","X",1,25,45,null,null,null,"Increase of use, most of all in mobile backhaul (outside major populated areas) and in telecom operators' infrastructure and in industrial process communications."]
["Switzerland","SUI",54,"10700-11700","x",null,null,null,"x",null,"x","x","x",null,null,null,103,null,"ERC/REC 12-06",null,null,"x",9.6,17.7,37.01,30]
["Slovak Republic","SVK",54,"10700-11700","X",null,null,null,"X",null,null,"X",null,null,null,null,187,null,"ERC/REC 12-06",null,"X","X",5,13,38.5,20]
["Slovenia","SVN",54,"10700-11700","X",null,null,null,"X",null,null,null,"X",null,null,0,10,null,"ERC/REC 12-06",null,null,"X",4,12,27]
["Bulgaria","BUL",55,"10755-11725","X",null,null,null,"X",null,"X","X",null,null,null,5,242,null,"ITU-R F.387-12",null,"X","X",3,16,46,"+25 %"]
["Bosnia and Herzegovina","BIH",56,"11700-12500",null,"X",null,null,null,"X",null,null,null,null,null,null,null,72]
["Estonia","EST",56,"11700-12500","not in use"]
["Hungary","HNG",56,"11700-12500",null,null,null,null,null,"X",null,null,"X",null,null,null,null,150,"National plan",null,null,"X",null,null,null,null,null,null,null,"Only 12.3-12.5 GHz band designated for local MVDS"]
["Latvia","LVA",56,"11700-12500",null,null,null,null,null,null,null,null,null,null,null,null,null,null,null,null,null,null,null,null,null,null,null,null,null,"Not allocated for Fixed service"]
["Malta","MLT",56,"11700-12500","X",null,null,null,"X",null,null,null,"X",null,null,2,null,null,null,null,null,null,5.4,14.2,23]
["Portugal","POR",56,"11700-12500",null,null,null,null,null,null,null,null,null,null,"RAD-S, SIT"]
["Slovenia","SVN",56,"11700-12500",null,"X",null,null,null,"X",null,null,null,null,"X",null,null,30,"national plan",null,"X",null,null,null,null,null,null,null,"MMDS, block of 200MHz"]
["Bulgaria","BUL",57,"11725-12500","X",null,null,null,"X",null,null,"X",null,null,null,3,0,null,"national plan","X","X",null,2,3,4,null,null,null,"Reallocate to another suitable frequency band"]
["Austria","AUT",58,"12750-13250","X",null,null,null,"X",null,"X","X","X",null,null,null,663,null,"ERC/REC 12-02",null,null,"X",3,25,52]
["Bosnia and Herzegovina","BIH",58,"12750-13250","X",null,null,null,"X",null,"X","X",null,null,null,null,120,null,"ERC/REC 12-02","X","X","X",1,23,57,"+10"]
["Bulgaria","BUL",58,"12750-13250","X",null,null,null,"X",null,"X","X",null,null,null,0,1135,null,"ERC/REC 12-02","X","X","X",2,15,59,"+25 %"]
["Czech Republic","CZE",58,"12750-13250","X",null,null,null,"X",null,null,null,null,null,null,null,968,null,"see the EFIS","N/A","N/A","N/A",null,"14.5km"]
["Germany","D",58,"12750-13250","x",null,null,null,"x",null,null,null,null,null,null,null,9370,null,"ERC/REC 12-02",null,null,"x",7.5,12,49,null,"x"]
["Estonia","EST",58,"12750-13250","x",null,null,null,"x",null,"x",null,null,null,null,null,null,null,"ERC/REC 12-02"]
["France","F",58,"12750-13250","X",null,null,null,"X",null,"X","X",null,null,null,null,9004,null,"ERC/REC 12-02","X","X","X",0.31,14.12,79.430000000000007,null,"X"]
["Finland","FIN",58,"12750-13250","x",null,null,null,"x",null,"x","x",null,null,null,0,1750,null,"ERC/REC 12-02",null,"x","x","0.24","14.4","34.9",-10]
["UK","G",58,"12750-13250","X",null,null,null,"X",null,"X","X","X",null,null,37,3271,null,"ERC/REC 12-02 Annex A","X","X","X",null,19]
["Greece","GRC",58,"12750-13250","X",null,null,null,null,null,"X","X",null,null,null,null,1408,null,"ERC/REC 12-02","X","X","X",1,17,58,"high growth"]
["Hungary","HNG",58,"12750-13250","X",null,null,null,"X",null,null,null,null,null,null,null,2806,null,"ERC/REC 12-02",null,null,"X",null,30,null,null,"X",null,null,"Currently congested in big cities"]
["Netherlands","HOL",{"$f":"VLOOKUP(D298,[1]BandList!$A$2:$B$110,2,FALSE)","v":58},"12750-13250","x",null,null,null,"x",null,"x","x",null,null,null,null,375,null,"ERC/REC 12-02",null,null,"x",1,14,47,"+","x"]
["Croatia","HRV",58,"12750-13250","X",null,null,null,"X",null,"X","X","X",null,null,null,437,null,"ERC/REC 12-02",null,"X","X",1.62,17.39,49.27,20,"X"]
["Italy",{"$f":"VLOOKUP(A300, '[1]Country names'!$A$5:$C$53,3,FALSE)","v":"I"},{"$f":"VLOOKUP(D300,[1]BandList!$A$2:$B$110,2,FALSE)","v":58},"12750-13250","X",null,null,null,"X",null,"X","X","X",null,null,null,10663,null,"ERC/REC 12-02",124,8106,2433,1.0129999999999999,18.75,32.700000000000003,"+10/20"]
["Ireland","IRL",58,"12750-13250","X",null,null,null,"X",null,null,null,null,"X",null,null,1362,null,"ERC/REC 12-02",42,603,717,"9 km",null,null,null,"X"]
["Latvia","LVA",58,"12750-13250","X",null,null,null,"X",null,"X","X",null,null,null,null,890,null,"ERC/REC 12-02",null,"X","X",2,20,52,0.1]
["Malta","MLT",58,"12750-13250","X",null,null,null,"X"," ",null,null,"X",null,null,4,null," ","ERC Rec 12-02",null,null,null,1.8,2.8,3.8]
["Norway","NOR",58,"12750-13250","x",null,null,null,null,null,null,null,null,null,null,0,337,null,"ERC/REC 12-02",null,null,null,1,18,46]
["Norway","NOR",58,"12750-13250",null,"x",null,null,null,null,null,null,null," x",null,0,1077,null,null,null,"x"]
["Portugal","POR",58,"12750-13250","X",null,null,null,"X",null,"X","X",null,null,"FSS",null,357,null,"ERC/REC 12-02","X","X","X",5,"15",40,5]
["Russia","RUS",58,"12750-13250","X",null,null,null,"X",null,"X","X","X",null,"X Telecom operators, industrial process communications","under 0.1%",23800,null,"ITU-R Rec. F.497","X","X","X",1,20,35,null,null,null,"Increase of use, most of all in mobile backhaul (outside major populated areas) and in telecom operators' infrastructure and in industrial process communications."]
["Sweden","S",58,"12750-13250","X",null,null,null,null,null,"X","X","X",null,null,null,1007,null,"ERC/REC 12-02","X","X","X",2.1,17.899999999999999,49.5,0,"X"]
["Switzerland","SUI",58,"12750-13250","x",null,null,null,"x",null,"x","x","x",null,null,null,510,null,"ERC/REC 12-02",null,"x",null,5.8,15.3,46.4,50]
["Slovak Republic","SVK",58,"12750-13250","X",null,null,null,"X",null,null,null,null,null,null,null,523,null,"ERC/REC 12-02","X","X","X",3,10,44,5]
["Slovenia","SVN",58,"12750-13250","X",null,null,null,"X",null,"X","X","X","X",null,0,326,null,"ERC/REC 12-02",null,"X","X",1,13,35,"+10%","X"]
["Estonia","EST",59,"14250-14500","not in use"]
["France","F",59,"14250-14500","X",null,null,null,"X",null,null,null,null,null,null,null,141,null,null,null,null,null,1.3,12,35,null,null,null,"Decrease of number of links - No new license delivered"]
["UK","G",59,"14250-14500","X",null,null,null,"X",null,"X","X","X",null,null,2,162,null,null,"X","X",null,null,22]
["Italy",{"$f":"VLOOKUP(A315, '[1]Country names'!$A$5:$C$53,3,FALSE)","v":"I"},{"$f":"VLOOKUP(D315,[1]BandList!$A$2:$B$110,2,FALSE)","v":59},"14250-14500","X",null,null,null,"X",null,null,null,"X",null,null,1089,null,null,"ch. Spacing 20 MHz, D.M. 07-10-1986",0,1089,0,5,null,25,"+10","Y","N"]
["Latvia","LVA",59,"14250-14500",null,null,null,null,null,null,null,null,null,null,null,null,null,null,null,null,null,null,null,null,null,null,null,null,null,"Not allocated for Fixed service, allocation for FSS (Earth to Space)"]
["Portugal","POR",59,"14250-14500",null,null,null,null,null,null,null,null,null,null,"FSS, VSAT, SNG, AES"]
["Russia","RUS",59,"14250-14500","X",null,null,null,"X",null,null,null,"X",null,"X\nTelecom operators, industrial process communications",null,30,null,"ITU-R Rec. F.636","X","X",null,1,15,30,null,null,null,"Used for industrial process communications until the frequency licenses expire. \nNo new networks are built."]
["Switzerland","SUI",59,"14250-14500",null,null,null,null,null,null,null,null,"x",null,"FSS SNG"]
["Austria","AUT",60,"14500-14620 and 15230-15350","X",null,null,null,"X",null,"X","X","X",null,null,null,752,null,"ERC/REC 12-07","X","X","X",1,15,44]
["Bosnia and Herzegovina","BIH",60,"14500-14620 and 15230-15350","X",null,null,null,"X",null,"X","X",null,null,null,null,290,null,"ERC/REC 12-07","X","X","X",0.4,15,48,"+3"]
["Czech Republic","CZE",60,"14500-14620 and 15230-15350","X",null,null,null,"X",null,null,null,null,null,null,null,289,null,"see the EFIS","N/A","N/A","N/A",null,"12.3km"]
["Germany","D",60,"14500-14620 and 15230-15350","x",null,null,null,"x",null,null,null,null,null,null,null,6200,null,"ERC/REC 12-07",null,"x","x",5,14,55,null,"x"]
["Estonia","EST",60,"14500-14620 and 15230-15350","x",null,null,null,"x",null,"x",null,null,null,null,360,null,null,"ERC/REC 12-07","x","x",null,2,20,32]
["Finland","FIN",60,"14500-14620 and 15230-15350","x",null,null,null,"x",null,"x","x",null,null,null,0,414,null,"ITU-R F.636","x","x",null,"0.4","13.8","32.2",-7]
["Hungary","HNG",60,"14500-14620 and 15230-15350","X",null,null,null,"X",null,null,null,null,null,null,null,114,null,"ERC/REC 12-07",null,"X",null,null,25,null,null,null,null,null,"Number of civil FS links decreased due to the extension of the subband used for military purposes"]
["Netherlands","HOL",{"$f":"VLOOKUP(D327,[1]BandList!$A$2:$B$110,2,FALSE)","v":60},"14500-14620 and 15230-15350","x",null,null,null,"x",null,"x","x",null,null,null,null,199,null,"ERC/REC 12-07","x","x","x",5,14,55,"+","x"]
["Croatia","HRV",60,"14500-14620 and 15230-15350","X",null,null,null,"X",null,null,null,"X",null,null,1,null,null,"ERC/REC 12-07","ANALOG",null,null,12.95,12.95,12.95,-100]
["Italy",{"$f":"VLOOKUP(A329, '[1]Country names'!$A$5:$C$53,3,FALSE)","v":"I"},{"$f":"VLOOKUP(D329,[1]BandList!$A$2:$B$110,2,FALSE)","v":60},"14500-14620 and 15230-15350","X",null,null,null,"X",null,"X","X","X",null,null,null,6256,null,"ERC/REC 12-07",154,5883,219,0.95099999999999996,13.333,22.52,"+10/20"]
["Ireland","IRL",60,"14500-14620 and 15230-15350","X",null,null,null,"X",null,null,null,null,"X",null,null,1752,null,"ERC/REC 12-07",201,7,1544,"9 km",null,null,null,"X"]
["Latvia","LVA",60,"14500-14620 and 15230-15350","X",null,null,null,"x",null,"X","X",null,null,null,null,44,null,"ERC/REC 12-07",null,"X","X",10,25,41,0.1]
["Norway","NOR",60,"14500-14620 and 15230-15350",null,"x",null,null,null,null,null,null,null,"x"]
["Portugal","POR",60,"14500-14620 and 15230-15350","X",null,null,null,"X",null,"X","X",null,null,null,null,189,null,"ERC/REC 12-07","X","X","X",5,"15",30,5]
["Sweden","S",60,"14500-14620 and 15230-15350","X",null,null,null,null,null,"X","X","X",null,null,null,3652,null,"National Channel Plan","X","X","X",0.3,14.9,74.900000000000006,0,"X"]
["Switzerland","SUI",60,"14500-14620 and 15230-15350","x",null,null,null,"x",null,"x","x","x",null,null,null,103,null,"ERC/REC 12-07",null,"x",null,7.6,15.3,29.2,-20]
["Slovak Republic","SVK",60,"14500-14620 and 15230-15350","X",null,null,null,"X",null,null,null,null,null,null,null,203,null,"ERC/REC 12-07","X","X",null,6,15,48,5]
["Turkey","TUR",60,"14500-14620 and 15230-15350","x",null,null,null,"x",null,null,null,null,null,null,null,87,null,"ITU-R F.636.3",null,null,null,1,7,16]
["Turkey","TUR",60,"14500-14620 and 15230-15350",null,"x",null,null,"x",null,null,null,null,null,null,null,6499,null,"ITU-R F.636.3"]
["UK","G",61,"14500-15350","X",null,null,null,"X",null,"X","X","X",null,null,1,2910,null,"ERC/REC 12-07","X","X","X",null,15]
["Greece","GRC",61,"14500-15350","X",null,null,null,null,null,"X","X",null,null,null,null,2867,null,"National Plan","X","X","X",0.2,14,57,"growth","heavily used"]
["Malta","MLT",61,"14500-15350","X",null,null,null,"X",null,"X","X",null,null,"Telecomms infrastructure backhaul"," ",23,null,"ITU-R F636-4",null,null,"X",1,9.1,20,0.17]
["Russia","RUS",61,"14500-15350","X",null,null,null,"X",null,"X","X","X",null,"X\nTelecom operators, industrial process communications","under 0.1%",23940,null,"ITU-R Rec. F.636","X","X","X",1,15,30,null,null,null,"Increase of use, most of all in mobile backhaul (outside major populated areas) and in telecom operators' infrastructure and in industrial process communications."]
["Slovenia","SVN",61,"14500-15350","X",null,null,null,"X",null,"X",null,null,null,null,0,83,null,"ERC/REC 12-07 (and ITU F.636)",null,null,"X",4,13,30,null,null,null,"NATO-NJFA frequency band"]
["Estonia","EST",63,"17300-17700","not in use"]
["UK","G",63,"17300-17700","X",null,null,null,"X",null,null,"X",null,null,null,0,1,null,null,null,null,"X",null,0.5]
["Netherlands","HOL",{"$f":"VLOOKUP(D346,[1]BandList!$A$2:$B$110,2,FALSE)","v":63},"17300-17700"]
["Latvia","LVA",63,"17300-17700",null,null,null,null,null,null,null,null,null,null,null,null,null,null,"ECC/DEC/(05)08",null,null,null,null,null,null,null,null,null,null,"Not allocated for Fixed service, allocation for FSS (application - HDFSS)"]
["Portugal","POR",63,"17300-17700",null,null,null,null,null,null,null,null,null,null,"FSS, HDFSS"]
["Switzerland","SUI",63,"17300-17700",null,null,null,null,null,null,null,null,"x",null,"FSS Feeder Link"]
["Austria","AUT",64,"17700-19700","X",null,null,null,"X",null,"X","X","X",null,null,null,1308,null,"ERC/REC 12-03",null,null,"X",1,10,19]
["Bosnia and Herzegovina","BIH",64,"17700-19700","X",null,null,null,"X",null,"X",null,null,null,null,null,808,null,"ERC/REC 12-03","X","X","X",0.3,10,34,"+10"]
["Bulgaria","BUL",64,"17700-19700","X",null,null,null,"X",null,"X","X",null,null,null,0,2798,null,"ERC/REC 12-03","X","X","X",0.2,10,36,"+50 %"]
["Czech Republic","CZE",64,"17700-19700","X",null,null,null,"X",null,null,null,null,null,null,null,4312,null,"see the EFIS","N/A","N/A","N/A",null,"11.2km"]
["Germany","D",64,"17700-19700","x",null,null,null,"x",null,null,null,null,null,null,null,20220,null,"ERC/REC 12-03",null,null,"x",4,9,38,"+"]
["Estonia","EST",64,"17700-19700","x",null,null,null,"x",null,"x",null,null,null,null,535,null,null,"ERC/REC 12-03","x","x",null,2,null,38]
["France","F",64,"17700-19700","X",null,null,null,"X",null,"X","X",null,null,null,null,9272,null,"ERC/REC 12-03","X","X","X",0.11,7.98,76]
["Finland","FIN",64,"17700-19700","x",null,null,null,"x",null,"x","x",null,null,null,0,2730,null,"ERC/DEC/(00)07; ERC/REC 12-03",null,"x","x","0.1","8.0","26.6","+15"]
["UK","G",64,"17700-19700","X",null,null,null,"X",null,"X","X","X",null,null,9,7629,null,"ERC/REC 12-03, ITU-R Rec. F.595","X","X","X",null,9]
["Greece","GRC",64,"17700-19700","X",null,null,null,null,null,"X","X",null,null,null,null,3026,null,"ERC/REC 12-03","X","X","X",0.1,8,40,"growth","heavily used"]
["Hungary","HNG",64,"17700-19700","X",null,null,null,"X",null,null,null,null,null,null,null,2159,null,"ERC/REC 12-03",null,null,"X",null,20,null,null,"X",null,null,"Currently congested in big cities"]
["Netherlands","HOL",{"$f":"VLOOKUP(D361,[1]BandList!$A$2:$B$110,2,FALSE)","v":64},"17700-19700","x",null,null,null,"x",null,"x","x",null,null,null,null,1810,null,"ERC/REC 12-03","x","x","x",1,5,18,"+"]
["Croatia","HRV",64,"17700-19700","X",null,null,null,"X",null,"X","X","X",null,null,null,720,null,"ERC/REC 12-03","X","X","X",0.53,9.67,24.64,20]
["Italy",{"$f":"VLOOKUP(A363, '[1]Country names'!$A$5:$C$53,3,FALSE)","v":"I"},{"$f":"VLOOKUP(D363,[1]BandList!$A$2:$B$110,2,FALSE)","v":64},"17700-19700","X",null,null,null,"X",null,"X","X","X",null,null,null,21374,null,"ERC/REC 12-03",257,12827,8290,0.27100000000000002,8.75,16.821999999999999,"+10/20"]
["Ireland","IRL",64,"17700-19700","X",null,null,null,"X",null,null,null,null,"X",null,null,1190,null,null,null,13,1177,"6 km for links ≤ 34 MBit/s.",null,null,null,"X"]
["Ireland","IRL",64,"17700-19700",null,null,null,null,null,null,null,null,null,null,null,null,null,null,null,null,null,null,"0 km for links > 34 Mbit/s. "]
["Latvia","LVA",64,"17700-19700","X",null,null,null,"X",null,"X","X",null,null,null,null,550,null,"ERC/REC 12-03",null,"X","X",2,18,27,0.1]
["Malta","MLT",64,"17700-19700","X"," ",null,null,"X",null,"X",null,null,null,null,null,79,null,"ERC Rec 12-03",null,null,"X",1,4,12,0.1]
["Norway","NOR",64,"17700-19700","x",null,null,null,null,null,null,null,null,null,null,0,225,null,"ERC/REC 12-03"]
["Norway","NOR",64,"17700-19700",null,"x",null,null,null,null,null,null,null,null,null,null,630,null,null,null,"x","x",1,11,38,10]
["Portugal","POR",64,"17700-19700","X",null,null,null,"X",null,"X","X",null,null,"FSS",null,251,null,"ITU-R F.595","X","X",null,3,"10",20,5]
["Portugal","POR",65,"17700-19700","X",null,null,null,"X",null,"X","X","X",null,"FSS",null,1628,null,"ERC/REC 12-03",null,"X","X",3,"10",20,20]
["Russia","RUS",64,"17700-19700","X",null,null,null,"X",null,"X","X","X",null,"X\nTelecom operators, industrial process communications","under 0.1%",41070,null,"ITU-R Rec. F.595","X","X","X",1,5,20,null,null,null,"Increase of use, most of all in mobile backhaul and in telecom operators' infrastructure and in industrial process communications."]
["Sweden","S",64,"17700-19700","X",null,null,null,null,null,"X","X","X",null,null,null,6047,null,"ERC/REC 12-03","X","X","X",0.2,10,43.5,0]
["Switzerland","SUI",64,"17700-19700","x",null,null,null,"x",null,"x","x","x",null,null,null,1149,null,"ERC/REC 12-03",null,"x","x",2.4,8.1999999999999993,26.1,200]
["Slovak Republic","SVK",64,"17700-19700","x",null,null,null,"x",null,null,null,null,null,null,null,2330,null,null,"x","x","x",4,15,38,10]
["Slovenia","SVN",64,"17700-19700","X",null,null,null,"X",null,"X","X","X","X",null,0,459,null,"ERC/REC 12-03",null,"X","X",0.2,8,39,"+10%","X"]
["Turkey","TUR",64,"17700-19700","x",null,null,null,"x",null,null,null,null,null,null,null,6002,null,"ERC/REC 12-03 Annex A"]
["Estonia","EST",66,"21200-22000","not in use"]
["Finland","FIN",66,"21200-22000","x",null,null,null,"x",null,null,"x",null,null,null,0,0,null,"ERC/REC 25-10"]
["UK","G",66,"21200-22000","X",null,null,null,"X",null,"X",null,null,null,null,null,220,null,null,"X","X",null,null,5]
["Hungary","HNG",66,"21200-22000","X",null,null,null,"X"]
["Latvia","LVA",66,"21200-22000","X",null,null,null,"X",null,null,null,"X",null,null,null,0,null,"ITU-R F.637 Annex 2",null,null,null,null,null,null,null,null,null,null,"Only the subband 21.2-21.4 GHz is planned for ENG/OB "]
["Portugal","POR",66,"21200-22000",null,null,null,null,null,null,null,null,null,null,"SRR"]
["Switzerland","SUI",66,"21200-22000",null,null,null,null,null,null,null,null,null,null,"PMSE",null,null,null,null,null,null,null,null,null,null,null,null,null,"?? equipment available"]
["Russia","RUS",67,"21200-23600","X",null,null,null,"X",null,"X","X",null,null,"X\nTelecom operators, industrial process communications",null,29200,null,"ITU-R Rec. F.637","X","X","X",1,3,15,null,null,null,"Increase of use, most of all in mobile backhaul and in telecom operators' infrastructure."]
["Austria","AUT",68,"22000-22600 and 23000-23600","X",null,null,null,"X",null,"X","X",null,null,null,null,2796,null,"T/R 13-02 Annexes A1, A2, A3","X","X","X",1,10,20]
["Bosnia and Herzegovina","BIH",68,"22000-22600 and 23000-23600","X",null,null,null,"X",null,"X",null,null,null,null,null,701,null,"T/R 13-02 Annexes A1, A2, A3","X","X","X",0.15,7,30,"+10"]
["Czech Republic","CZE",68,"22000-22600 and 23000-23600","X",null,null,null,"X",null,null,null,null,null,null,null,4244,null,"see the EFIS","N/A","N/A","N/A",null,"6km"]
["Czech Republic","CZE",68,"22000-22600 and 23000-23600",null,null,null,null,null,null,null,"ENG/OB",null,null,null,null,null,null,"22,592–22,704 GHz","N/A","N/A","N/A"]
["Germany","D",68,"22000-22600 and 23000-23600","x",null,null,null,"x",null,null,null,null,null,null,null,18650,null,"T/R 13-02 Annexes A1, A2, A3",null,"x","x",4,8,51]
["Estonia","EST",68,"22000-22600 and 23000-23600","x",null,null,null,"x",null,"x",null,null,null,null,550,null,null,"T/R 13-02 Annexes A1, A2, A3","x","x",null,0.5,null,21]
["France","F",68,"22000-22600 and 23000-23600","X",null,null,null,"X",null,null,null,null,null,null,null,12745,null,"T/R13-02","X","X","X",0.12,6.63,30.43,null,"X",null,"New regulation put in place in 2013 in order to offer more capacity to backhaul needs with higher bandwidth"]
["Finland","FIN",68,"22000-22600 and 23000-23600","x",null,null,null,"x",null,"x","x",null,null,null,0,1619,null,"T/R 13-02 Annexes A1, A2, A3","x","x","x","0.6","4.9","17.5","-15 *)",null,null,null,"*) decrease 28 MHz / increase 56 MHz"]
["Finland","FIN",68,"22000-22600 and 23000-23600",null,null,null,null,null,null,null,null,null,null,null,null,null,null,null,null,null,null,null,null,null,"+2 *)","x",null,"56 MHz channels congested in some areas"]
["Hungary","HNG",68,"22000-22600 and 23000-23600","X",null,null,null,"X",null,null,null,null,null,null,null,2209,null,"T/R 13-02 Annex A1",null,"X",null,null,10,null,null,null,null,null,"22-22.45/23-23.45 GHz subband for civil FS, the rest for non-civil FS"]
["Netherlands","HOL",{"$f":"VLOOKUP(D396,[1]BandList!$A$2:$B$110,2,FALSE)","v":68},"22000-22600 and 23000-23600","x",null,null,null,"x",null,"x","x",null,null,null,null,2792,null,"T/R 13-02 Annexes A1, A2, A3",null,"x","x",4,8,51,"+"]
["Croatia","HRV",68,"22000-22600 and 23000-23600","X",null,null,null,"X",null,"X","X","X",null,null,null,1373,null,"T/R 13-02 Annexes A1, A2, A3","X","X","X",0.14000000000000001,5.16,16.63,10]
["Italy",{"$f":"VLOOKUP(A398, '[1]Country names'!$A$5:$C$53,3,FALSE)","v":"I"},{"$f":"VLOOKUP(D398,[1]BandList!$A$2:$B$110,2,FALSE)","v":68},"22000-22600 and 23000-23600","X",null,null,null,"X",null,"X","X","X",null,null,null,15778,null,"T/R 13-02 Annexes A1, A2, A3",205,12719,2854,0.12,6.5,12.21,"+10/20"]
["Ireland","IRL",68,"22000-22600 and 23000-23600","X",null,null,null,"X",null,null,null,null,"X",null,null,1640,null,"T/R 13-02 Annexes A1, A2, A3",163,758,719,"3 km for links ≤ 34 MBit/s.",null,null,null,"X"]
["Ireland","IRL",68,"22000-22600 and 23000-23600",null,null,null,null,null,null,null,null,null,null,null,null,null,null,null,null,null,null,"0 km for links > 34 Mbit/s, or 34 Mbit/s in 14 MHz channel spacing. "]
["Latvia","LVA",68,"22000-22600 and 23000-23600","X",null,null,null,"X",null,"X","X",null,null,null,null,1380,null,"T/R 13-02 Annexes A1, A2, A3",null,"X","X",1,12,23,0.1]
["Malta","MLT",68,"22000-22600 and 23000-23600","X"," ",null,null,"X",null,"X",null,null,null,null,null,505,null,"ERC Rec T/R 13-02 ",null,null,"X",0.1,1.7,10,0.3]
["Norway","NOR",68,"22000-22600 and 23000-23600","x",null,null,null,null,null,null,null,null,null,null,null,57,null,"T/R 13-02 Annexes A1, A2, A3",null,"x","x",1,6,25,10]
["Norway","NOR",68,"22000-22600 and 23000-23600",null,"x",null,null,null,null,null,null,null,null,null,null,235,null,null,null,"x","x"]
["Portugal","POR",68,"22000-22600 and 23000-23600","X",null,null,null,"X",null,"X","X",null,null,"SRR",null,1047,null,"T/R 13-02 Annexes A1","X","X","X",1,"5",15,10]
["Sweden","S",68,"22000-22600 and 23000-23600","X",null,null,null,null,null,"X","X",null,null,null,null,1082,null,"T/R 13-02 Annexes A1, A2, A3","X","X","X",0.4,7.8,31.7,-25]
["Switzerland","SUI",68,"22000-22600 and 23000-23600","x",null,null,null,"x",null,"x","x","x",null,null,null,873,null,"T/R 13-02 Annexes A1, A2, A3",null,"x",null,1.6,7.2,20.6,50,"> High / Low problems in urban areas"]
["Slovak Republic","SVK",68,"22000-22600 and 23000-23600","X",null,null,null,"X",null,"X",null,null,null,null,null,1183,null,"T/R 13-02 Annexes A1, A2, A3","X","X","X",0.5,5,16,5]
["Slovenia","SVN",68,"22000-22600 and 23000-23600","X",null,null,null,"X",null,"X",null,null,null,null,0,661,null,"T/R 13-02 Annex A.1",null,"X","X",0.3,5,16,"+10%","X"]
["Turkey","TUR",68,"22000-22600 and 23000-23600","x",null,null,null,"x",null,null,null,null,null,null,null,129,null,"T/R 13-02 Annexes A1",null,null,null,"<1",6.5,11]
["Turkey","TUR",68,"22000-22600 and 23000-23600",null,"x",null,null,"x",null,null,null,null,null,null,null,22714]
["UK","G",69,"22000-23600","X",null,null,null,"X",null,"X","X","X",null,null,11,3797,null,"T/R 13-02 Annexes A","X","X","X",null,8]
["Greece","GRC",69,"22000-23600","X",null,null,null,null,null,"X","X",null,null,null,null,2086,null,"T/R 13-02 Annex A","X","X","X",0.1,4,15,"growth"]
["Bulgaria","BUL",70,"22008-23576","X",null,null,null,"X",null,"X","X",null,null,null,0,903,null,"T/R 13-02, Annex A","X","X","X",0.2,5,21,"+25 %"]
["Estonia","EST",71,"22600-23000","not in use"]
["France","F",71,"22600-23000","X",null,null,null,null,null,null,null,null,null,null,null,8,null,null,null,"X",null,null,8]
["Finland","FIN",71,"22600-23000","x",null,null,null,"x",null,null,"x",null,null,null,0,0,null,"ERC/REC 25-10"]
["Greece","GRC",71,"22600-23000",null,null,null,null,null,null,null,null,"X",null,null,null,null,null,"National Plan"]
["Hungary","HNG",71,"22600-23000","X",null,null,null,"X",null,null,null,"X",null,null,1,null,null,"T/R 13-02 Annexes A2 and A3",null,null,null,null,null,null,null,null,null,null,"National plan for analogue ENG/OB "]
["Latvia","LVA",71,"22600-23000","X",null,null,null,"X",null,null,null,"X",null,null,0,null,null,"T/R 13-02 Annex A2",null,"X","X",null,null,null,0.1]
["Portugal","POR",71,"22600-23000","X",null,null,null,"X",null,null,null,null,null,"SRR",null,null,null,"T/R 13-02 Annexes A2, A3",null,null,null,null,null,null,"No use at the moment.","No use at the moment.","No use at the moment.","No use at the moment."]
["Switzerland","SUI",71,"22600-23000","(x)",null,null,null,"(x)",null,null,"(x)",null,null,null,null,null,null,null,"(x)",null,null,null,null,null,null,null,null,"(planned narrowband link as a replacement for 1.4 GHz)"]
["Czech Republic","CZE",72,"24250-24500",null,null,null,null,null,null,null,"ENG/OB",null,null,null,null,null,null,"24,25–24,5 GHz","N/A","N/A","N/A"]
["Estonia","EST",72,"24250-24500","not in use"]
["Finland","FIN",72,"24250-24500",null,null,null,null,null,null,null,null,null,null,null,null,null,null,null,null,null,null,null,null,null,null,null,"4)",null,"4) Potential 5G candidate band under study"]
["Greece","GRC",72,"24250-24500",null,null,null,null,null,null,null,null,"X",null,null,null,null,null,"National Plan"]
["Hungary","HNG",72,"24250-24500","X",null,null,null,"X",null,null,null,"X",null,null,0,null,null,"T/R 13-02",null,null,null,null,null,null,null,null,null,null,"T/R 13-02 van beírva"]
["Latvia","LVA",72,"24250-24500","X",null,null,null,"X",null,null,null,"X",null,null,0,null,null,"T/R 13-02",null,"X","X",null,null,null,0.1]
["Norway","NOR",72,"24250-24500",null,null,null,"x"]
["Portugal","POR",72,"24250-24500",null,null,null,null,null,null,null,null,null,null,"SRR, SRD"]
["Switzerland","SUI",72,"24250-24500",null,null,null,null,null,null,null,null,null,null,"PMSE"]
["Latvia","LVA",74,"24500–24717/25557–25725","X",null,null,null,"X",null,"X",null,null,null,null,null,33,null,"T/R 13-02",null,"X","X",0.2,2,5,0.1]
["Austria","AUT",75,"24500-26500","X",null,null,null,"X","X","X","X",null,null,null,null,2083,null,"T/R 13-02 Annex B","X","X","X",1,6,24]
["Bosnia and Herzegovina","BIH",75,"24500-26500","X","X",null,null,"X","X","X","X",null,null,null,null,148,0,"T/R 13-02 Annex B","X","X","X",0.2,4,13]
["Bulgaria","BUL",75,"24500-26500","X","X",null,null,"X","X","X",null,null,null,null,0,469,1472,"T/R 13-02 Annex B for P-P and ECC/REC (00) 05 for P-MP","X","X","X",0.06,4,15,"+25 %"]
["Czech Republic","CZE",75,"24500-26500",null,"X",null,null,null,"X",null,null,null,null,null,null,null,89,"see the EFIS","N/A","N/A","N/A"]
["Czech Republic","CZE",75,"24500-26500","X",null,null,null,"X",null,null,null,null,null,null,null,3964,null,null,"N/A","N/A","N/A",null,"3.6km"]
["Germany","D",75,"24500-26500","x",null,null,null,"x",null,null,null,null,null,null,null,18620,null,"T/R 13-02 Annex B",null,"x","x",2,4,11,null,"x"]
["Germany","D",75,"24500-26500","x",null,null,null,null,"x",null,null,null,null,null,null,null,2600]
["Estonia","EST",75,"24500-26500","x",null,null,null,"x",null,"x",null,null,null,null,17,null,null,"T/R 13-02 Annex B",null,"x",null,0.5,3,8]
["France","F",75,"24500-26500","X",null,null,null,"X",null,"X",null,null,null,null,null,3984,null,"T/R 13-02 Annex B",null,"X","X",0.06,3.47,15.42,null,null,null,"New regulation put in place in 2013 in order to offer more capacity to backhaul needs with higher bandwidth"]
["Finland","FIN",75,"24500-26500","x",null,null,null,"x",null,null,null,"x",null,null,0,1,null,"T/R 13-02 Annex B",null,"x",null,null,"1.6",null,null,null,"4)",null,"4) Potential 5G candidate band under study"]
["UK","G",75,"24500-26500","X",null,null,null,"X",null,"X","X","X",null,null,0,2889,null,"T/R 13-02 Annex B","X","X","X",null,6]
["Greece","GRC",75,"24500-26500",null,"X",null,null,"X","X","X",null,null,null,null,"4 National Coverage Licenses                         (2x56 MHz, 2x56 MHz, 2x56 MHz,            2x112 MHz)","4 National Coverage Licenses                         (2x56 MHz, 2x56 MHz, 2x56 MHz,            2x112 MHz)","4 National Coverage Licenses                         (2x56 MHz, 2x56 MHz, 2x56 MHz,            2x112 MHz)","ERC/REC 13-02",null,null,null,null,null,null,"growth",null,"potential future use of the band for 5G networks"]
["Hungary","HNG",75,"24500-26500",null,"X",null,null,"X","X","X",null,null,null,null,null,"N/A","N/A","T/R 13-02 Annex B",null,null,"X",null,10,null,null,null,null,null,"Block assignment is applied, the exact number of CS and PP links is not known"]
["Netherlands","HOL",{"$f":"VLOOKUP(D446,[1]BandList!$A$2:$B$110,2,FALSE)","v":75},"24500-26500","x",null,null,null,"x",null,"x","x",null,null,null,null,599,null,"T/R 13-02 Annex B","x","x","x",1,16,80,"+","x"]
["Netherlands","HOL",{"$f":"VLOOKUP(D447,[1]BandList!$A$2:$B$110,2,FALSE)","v":75},"24500-26500","x",null,null,null,null,"x",null,null,null,null,null,null,null,55,null,null,null,null,null,null,null,"+"]
["Ireland","IRL",75,"24500-26500",null,"X",null,null,"X",null,null,null,null,null,null,null,"4444 sites registered nationwide for 26 GHz \"block licence\" link deployments. There are therefore a minimum of 2222 links, with potentially many more, depending upon the number of 26 GHz links deployed at each site.",null,null,"X","X","X","3 km for links ≤ 34 MBit/s."]
["Ireland","IRL",75,"24500-26500",null,null,null,null,null,null,null,null,null,null,null,null,null,null,null,null,null,null,"0 km for links > 34 Mbit/s, or 34 Mbit/s in 14 MHz channel spacing. "]
["Ireland","IRL",75,"24500-26500","X",null,null,null,"X",null,null,null,null,null,null,null,474,null,"T/R 13-02 Annex B",null,null,474,"3 km for links ≤ 34 MBit/s."]
["Ireland","IRL",75,"24500-26500",null,null,null,null,null,null,null,null,null,null,null,null,null,null,null,null,null,null,"0 km for links > 34 Mbit/s, or 34 Mbit/s in 14 MHz channel spacing. "]
["Ireland","IRL",75,"24500-26500","X (FWALA licences issues on case by case basis)",null,null,null,null,"X",null,null,null,null,"Wireless broadband provision",null,null,3,null,null,null,null,"N/A"]
["Norway","NOR",75,"24500-26500","x",null,null,null,null,null,null,null,null,null,null,0,18,null,"T/R 13-02 Annex B",null,"x","x",3,5,10]
["Norway","NOR",75,"24500-26500",null,"x",null,null,null,null,null,null,null,null,null,null,410]
["Portugal","POR",75,"24500-26500",null,"X",null,null,null,"X","X",null,null,null,"SRR, SRD, Military (25.25-25.492 GHz and 26.25-27.5 GHz)",null,null,null,"T/R 13-02 Annex B","X","X",null,null,"5",null,"No use at the moment.","No use at the moment.","No use at the moment.","No use at the moment."]
["Sweden","S",75,"24500-26500","X","X",null,null,null,null,null,null,null,null,null,null,3314,null,"T/R 13-02 Annex B","X","X","X",0,6.4,46.3,-25]
["Switzerland","SUI",75,"24500-26500","x",null,null,null,"x",null,"x","x","x",null,null,null,52,null,"T/R 13-02 Annex B",null,null,"x",0.9,3.9,7.9,200]
["Slovak Republic","SVK",75,"24500-26500","X","X",null,null,"X","X","X","X",null,null,null,null,1998,15,"T/R 13-02 Annex B","x","x","x",0.04,1.5,8,20]
["Slovenia","SVN",75,"24500-26500","X",null,null,null,"X",null,"X",null,null,null,null,0,204,null,"T/R 13-02 Annex B",null,"X","X",0.3,4,9,"+10%"]
["Turkey","TUR",75,"24500-26500","x",null,null,null,"x",null,null,null,null,null,null,null,383,null,"T/R 13-02 Annex B",null,null,null,"<1",3,9]
["Turkey","TUR",75,"24500-26500",null,"x",null,null,"x",null,null,null,null,null,null,null,12068]
["Latvia","LVA",76,"24773–25445/25781–26453","X",null,null,null,"X","X","X",null,null,null,null,null,null,43,"T/R 13-02",null,"X","X",0.2,2,5,0.1]
["Russia","RUS",73,"24250-29500","X",null,null,null,"X","X","X","X",null,null,"X\nTelecom operators",null,350,330,"For RRLs - ITU-R Rec. F.748","X","X","X",1,3,10,null,null,null,"Minor increase of use in mobile backhaul and in telecom operators' infrastructure."]
["Estonia","EST",77,"26500-27500","not in use"]
["Finland","FIN",77,"26500-27500",null,null,null,null,null,null,null,null,null,null,null,null,null,null,null,null,null,null,null,null,null,null,null,"4)",null,"4) Potential 5G candidate band under study"]
["Latvia","LVA",77,"26500-27500",null,null,null,null,null,null,null,null,null,null,null,null,null,null,null,null,null,null,null,null,null,null,null,null,null,"Exclusive Military Band Within the Band 26500-27500 MHz"]
["Portugal","POR",77,"26500-27500",null,null,null,null,null,null,null,null,null,null,"SRR, SRD, Military (26.25-27.5 GHz)"]
["Switzerland","SUI",77,"26500-27500",null,null,null,null,null,null,null,null,null,"x","No civil use"]
["Austria","AUT",78,"27500-29500","X",null,null,null,"X","X","X",null,null,null,null,null,1339,null,"T/R 13-02 Annex C",null,null,"X",1,2,4]
["Bosnia and Herzegovina","BIH",78,"27500-29500","X","X",null,null,"X","X","X","X",null,null,null,null,0,0,"T/R 13-02 Annex C"]
["Bulgaria","BUL",78,"27500-29500","X",null,null,null,"X",null,"X",null,null,null,null,0,946,null,"T/R 13-02 Annex C","X","X","X",7.0000000000000007E-2,2,10,"+50 %"]
["Czech Republic","CZE",78,"27500-29500",null,"X",null,null,null,"X",null,null,null,null,null,null,null,137,"see the EFIS","N/A","N/A","N/A"]
["Czech Republic","CZE",78,"27500-29500","X",null,null,null,null,"X",null,null,null,null,null,null,null,60,null,"N/A","N/A","N/A"]
["Germany","D",78,"27500-29500","x",null,null,null,"x",null,null,null,null,null,null,null,1900,null,"T/R 13-02 Annex C",null,"x","x",2,3,13,"+"]
["Germany","D",78,"27500-29500"," ","x",null,null,null,"x",null,null,null,null,null,null,null,80]
["Estonia","EST",78,"27500-29500","not in use",null,null,null,null,null,null,null,null,null,null,null,null,null,"T/R 13-02 Annex C"]
["Finland","FIN",78,"27500-29500","x",null,null,null,"x",null,"x","x","x",null,null,0,500,null,"T/R 13-02 Annex C",null,"x","x","0.1","1.3","17.3","+2"]
["UK","G",78,"27500-29500",null,"X"]
["Greece","GRC",78,"27500-29500",null,"X",null,null,"X","X",null,null,null,null,null,"7  Regional Coverage Licenses            ","7  Regional Coverage Licenses            ","7  Regional Coverage Licenses            ","ECC/DEC/(05)01, ECC/REC/(11)01",null,null,null,null,null,null,"growth"]
["Hungary","HNG",78,"27500-29500",null,null,null,null,null,null,null,null,null,null,null,null,null,null,"ECC/DEC/(05)01",null,null,null,null,null,null,null,null,null,null,"Only planned for PP, PMP"]
["Netherlands","HOL",{"$f":"VLOOKUP(D481,[1]BandList!$A$2:$B$110,2,FALSE)","v":78},"27500-29500","x",null,null,null,"x",null,null,null,null,null,null,null,191,null,"T/R 13-02 Annex C",null,null,"x",2,4,7,"+"]
["Croatia","HRV",78,"27500-29500","X",null,null,null,"X",null,"X",null,null,null,null,null,4,null,"T/R 13-02 Annex C",null,null,"X",0.46,1.02,1.77,500]
["Ireland","IRL",78,"27500-29500","X",null,null,null,"X",null,null,null,null,"X",null,null,197,null,"T/R 13-02 Annex C",null,45,153,"3 km for links ≤ 34 MBit/s."]
["Ireland","IRL",78,"27500-29500",null,null,null,null,null,null,null,null,null,null,null,null,null,null,null,null,null,null,"0 km for links > 34 Mbit/s, or 34 Mbit/s in 14 MHz channel spacing. "]
["Norway","NOR",78,"27500-29500","x",null,null,null,null,null,null,null,null,null,null,0,1,null,"T/R 13-02 Annex C",null,"x","x"]
["Norway","NOR",78,"27500-29500",null,"x"]
["Portugal","POR",78,"27500-29500",null,"X",null,null,null,"X",null,null,"X",null,"FSS, HDFSS",null,null,null,"T/R 13-02 Annex C",null,"X",null,null,"5",null,"No use at the moment.","No use at the moment.","No use at the moment.","No use at the moment."]
["Sweden","S",78,"27500-29500",null,"X",null,null,null,null,null,null,null,null,null,null,"N/A",null,"T/R 13-02 Annex C"]
["Switzerland","SUI",78,"27500-29500","x",null,null,null,"x",null,"x","x","x",null,null,null,540,null,"T/R 13-02 Annex C",null,"x","x",1.8,4.2,6.8,100]
["Slovak Republic","SVK",78,"27500-29500","x",null,null,null,"x","x",null,null,null,null,null,null,244,null,"ECC/DEC/(05)01","x","x","x",0.05,1.2,4.2,15]
["Latvia","LVA",79,"27828,5–28444,5/28948,5–29452,5","X",null,null,null,"X","X","X","X",null,null,null,null,7,86,"T/R 13-02 ",null,"X","X",0.1,1.5,5,0.1]
["Bosnia and Herzegovina","BIH",80,"31000-31300","X",null,null,null,"X",null,null,null,null,null,null,null,0,null,"ECC/REC/(02)02"]
["Bulgaria","BUL",80,"31000-31300","X",null,null,null,"X",null,null,null,null,null,null,0,0,null,"ECC/REC/(02)02","-","-","-","-","-","-"]
["Czech Republic","CZE",80,"31000-31300","X",null,null,null,"X",null,null,null,null,null,null,null,0,null,"see the EFIS","N/A","N/A","N/A"]
["Estonia","EST",80,"31000-31300","not in use",null,null,null,null,null,null,null,null,null,null,null,null,null,"ECC/REC/(02)02"]
["Finland","FIN",80,"31000-31300","x",null,null,null,"x",null,null,"x",null,null,null,0,0,null,"ECC/REC/(02)02"]
["Hungary","HNG",80,"31000-31300","X",null,null,null,"X",null,null,null,null,null,null,null,0,null,"ECC/REC/(02)02"]
["Netherlands","HOL",{"$f":"VLOOKUP(D498,[1]BandList!$A$2:$B$110,2,FALSE)","v":80},"31000-31300",null,null,null,null,null,null,null,null,null,null,null,null,null,null,"ECC/REC/(02)02"]
["Ireland","IRL",80,"31000-31300","X",null,null,null,null,null,null,null,null,null,null,null,0,null,"ECC/REC/(02)02"]
["Latvia","LVA",80,"31000-31300","X",null,null,null,"X","X","X",null,null,null,null,null,0,0,"ECC/REC/(02)02"]
["Portugal","POR",80,"31000-31300",null,null,null,null,null,null,null,null,null,null,null,null,null,null,"ECC/REC/(02)02",null,null,null,null,null,null,"Planned","Planned","Planned","Planned"]
["Switzerland","SUI",80,"31000-31300",null,null,null,null,null,null,null,null,null,null,null,null,null,null,"ECC/REC/(02)02",null,null,null,null,null,null,null,null,null,"?? equipment available"]
["UK","G",81,"31000-31800","X",null,null,null,"X",null,null,"X",null,null,null,null,450,null,"National Plan"]
["Austria","AUT",82,"31800-33400","X",null,null,null,"X",null,"X",null,null,null,null,null,566,null,"ERC/REC/(01)02",null,"X",null,1,3,5]
["Bosnia and Herzegovina","BIH",82,"31800-33400","X",null,null,null,"X",null,null,null,null,null,null,null,0,null,"ERC/REC/(01)02"]
["Bulgaria","BUL",82,"31800-33400","X",null,null,null,"X",null,null,null,null,null,null,0,0,null,"ERC/REC/(01)02","-","-","-","-","-","-"]
["Czech Republic","CZE",82,"31800-33400","X",null,null,null,"X",null,null,null,null,null,null,null,1374,null,"see the EFIS","N/A","N/A","N/A",null,"1.7km"]
["Germany","D",82,"31800-33400","x",null,null,null,"x",null,null,null,null,null,null,null,9110,null,"ERC/REC/(01)02",null,"x","x",1,2,7,"+"]
["Estonia","EST",82,"31800-33400","not in use",null,null,null,null,null,null,null,null,null,null,null,null,null,"ERC/REC/(01)02"]
["France","F",82,"31800-33400","X",null,null,null,"X",null,"X",null,null,null,null,null,530,null,"ERC/REC/(01)02",null,"X","X",0.28999999999999998,2.71,8]
["Finland","FIN",82,"31800-33400","x",null,null,null,"x",null,"x",null,null,null,null,0,111,null,"ERC/REC/(01)02",null,null,"x","0.1","1.1","7.5","+4",null,"4)",null,"4) Potential 5G candidate band under study"]
["UK","G",82,"31800-33400",null,"X"]
["Greece","GRC",82,"31800-33400","X",null,null,null,null,null,"X","X",null,null,null,null,28,null,"ERC/REC/(01)02",null,"X","X",0.4,2,5,"growth"]
["Hungary","HNG",82,"31800-33400",null,null,null,null,null,null,null,null,null,null,null,null,null,null,"ERC/REC/(01)02",null,null,null,null,null,null,null,null,null,null,"Only planned for PP, PMP"]
["Netherlands","HOL",{"$f":"VLOOKUP(D515,[1]BandList!$A$2:$B$110,2,FALSE)","v":82},"31800-33400","x",null,null,null,"x",null,null,null,null,null,null,null,1695,null,"ERC/REC/(01)02",null,"x","x",1,2,6,"+"]
["Norway","NOR",82,"31800-33400","x","x",null,null,null,null,null,null,null,null,null,null,null,null,"ERC/REC/(01)02",null,"x","x"]
["Portugal","POR",82,"31800-33400","X",null,null,null,"X","X",null,null,null,null,null,null,null,null,"ERC/REC/(01)02",null,null,null,null,null,null,"Planned","Planned","Planned","Planned"]
["Sweden","S",82,"31800-33400","X",null,null,null,null,null,null,null,null,null,null,null,2137,null,"ERC/REC/(01)02","X","X","X",0,2.2000000000000002,11.1,-25]
["Switzerland","SUI",82,"31800-33400","x",null,null,null,"x",null,"x","x","x",null,null,null,775,null,"ERC/REC/(01)02",null,null,"x",0.5,2.2999999999999998,5.7,100]
["Slovak Republic","SVK",82,"31800-33400","x",null,null,null,"x",null,null,null,null,null,null,null,397,null,"ERC/REC/(01)02",null,"x","x",0.13,1,5.0999999999999996,20]
["Latvia","LVA",83,"31815–32347/32627–33159","X",null,null,null,"X","X","X",null,null,null,null,null,224,null,"ERC/REC/(01)02",null,"X","X",0.1,1.5,5,0.1]
["Latvia","LVA",84,"32375–32571/33187–33383","X",null,null,null,"X",null,"X",null,null,null,null,null,0,null,"ERC/REC/(01)02",null,null,null,null,null,null,0.05]
["Estonia","EST",85,"36000-37000","not in use"]
["Latvia","LVA",85,"36000-37000",null,null,null,null,null,null,null,null,null,null,null,null,null,null,null,null,null,null,null,null,null,null,null,null,null,"Exclusive Military Band Within the Band 36000-37000 MHz"]
["Portugal","POR",85,"36000-37000",null,null,null,null,null,null,null,null,null,"X","Military"]
["Switzerland","SUI",85,"36000-37000",null,null,null,null,null,null,null,null,null,null,"No civil use"]
["Austria","AUT",86,"37000-39500","X",null,null,null,"X",null,"X","X",null,null,null,null,3642,null,"T/R 12-01","X","X","X",1,5,17]
["Bosnia and Herzegovina","BIH",86,"37000-39500","X",null,null,null,"X",null,"X",null,null,null,null,null,12,null,"T/R 12-01","X","X","X",0.2,1.5,5]
["Bulgaria","BUL",86,"37000-39500","X",null,null,null,"X",null,"X",null,null,null,null,0,1075,null,"T/R 12-01, Annex A","X","X","X",0.03,1,6,"+50 %"]
["Czech Republic","CZE",86,"37000-39500","X",null,null,null,"X",null,null,null,null,null,null,null,6123,null,"see the EFIS","N/A","N/A","N/A",null,"1.2km"]
["Germany","D",86,"37000-39500","x",null,null,null,"x",null,null,null,null,null,null,null,30750,null,"T/R 12-01",null,"x","x",1,2,13,"+"]
["Estonia","EST",86,"37000-39500","x",null,null,null,"x",null,"x",null,null,null,null,225,null,null,"T/R 12-01","x","x",null,0.05,null,12]
["France","F",86,"37000-39500","X",null,null,null,"X",null,"X",null,null,null,null,null,7079,null,"T/R 12-01","X","X","X",0.04,2.48,11.39,7.0000000000000007E-2,"X",null,"New regulation put in place in 2013 in order to offer more capacity to backhaul needs with higher bandwidth"]
["Finland","FIN",86,"37000-39500","x",null,null,null,"x",null,null,"x",null,null,null,0,18,null,"T/R 12-01",null,"x",null,"0.7","1.8","3.7",null,null,"4)",null,"4) Potential 5G candidate band under study"]
["UK","G",86,"37000-39500","X",null,null,null,"X",null,"X","X","X",null,null,1,6091,null,"T/R 12-01","X","X","X",null,3]
["Greece","GRC",86,"37000-39500","X",null,null,null,null,null,"X","X",null,null,null,null,1035,null,"T/R 12-01","X","X","X",0.02,1.6,6.8,"growth"]
["Hungary","HNG",86,"37000-39500","X",null,null,null,"X",null,"X",null,null,null,null,null,6356,null,"T/R 12-01",null,"X","X",null,5,null,null,"X",null,null,"37.926-38.220/39.186-39.480 GHz subband designated for non-civil FS, the rest for civil FS ; Currently congested in big cities"]
["Netherlands","HOL",{"$f":"VLOOKUP(D538,[1]BandList!$A$2:$B$110,2,FALSE)","v":86},"37000-39500","x",null,null,null,"x",null,"x","x",null,null,null,null,3322,null,"T/R 12-01",null,"x","x",1,2,9,"+"]
["Croatia","HRV",86,"37000-39500","X",null,null,null,"X",null,"X",null,null,null,null,null,455,null,"T/R 12-01",null,"X","X",0.05,1.56,7.55,10]
["Italy",{"$f":"VLOOKUP(A540, '[1]Country names'!$A$5:$C$53,3,FALSE)","v":"I"},{"$f":"VLOOKUP(D540,[1]BandList!$A$2:$B$110,2,FALSE)","v":86},"37000-39500","X",null,null,null,"X",null,"X","X","X",null,null,null,13585,null,"T/R 12-01",78,10976,2531,0.1,3.875,9.3000000000000007,"+10/20"]
["Ireland","IRL",86,"37000-39500","X",null,null,null,"X",null,null,null,null,"X",null,null,2095,null,"T/R 12-01",245,843,1007,"0 km"]
["Latvia","LVA",86,"37000-39500","X",null,null,null,"X",null,"X","X",null,null,null,null,195,null,"T/R 12-01",null,"X","X","0,3",2,6,0.2]
["Malta","MLT",86,"37000-39500","X",null,null,null,"X",null,"X",null,null,null,null,null,1,null,"ERC Rec T/R 12-01",null,null,null,1.7,1.7,1.7]
["Norway","NOR",86,"37000-39500","x",null,null,null,null,null,null,null,null,null,null,null,28,null,"T/R 12-01",null,"x","x"]
["Norway","NOR",86,"37000-39500",null,"x",null,null,null,null,null,null,null,null,null,null,null,null,null,null,"x","x"]
["Portugal","POR",86,"37000-39500","X",null,null,null,"X",null,"X","X",null,null,"FS",null,425,null,"T/R 12-01","X","X","X",0.1,"2",6,5]
["Russia","RUS",86,"37000-39500","X",null,null,null,"X",null,"X","X",null,null,"X\nTelecom operators, industrial process communications","under 0.1%",26520,null,"ITU-R Rec. F.749","X","X","X",1,2,5,null,null,null,"Increase of use, most of all in mobile backhaul and in telecom operators' infrastructure and in industrial process communications."]
["Sweden","S",86,"37000-39500","X",null,null,null,null,null,null,null,null,null,null,null,3542,null,"T/R 12-01","X","X","X",0,2,10,-25]
["Switzerland","SUI",86,"37000-39500","x",null,null,null,"x",null,"x","x","x",null,null,null,1036,null,"T/R 12-01",null,"x",null,0.3,2.7,7.9,50,"> High / Low problems in urban areas"]
["Slovak Republic","SVK",86,"37000-39500","x",null,null,null,"x",null,null,null,null,null,null,null,1775,null,"T/R 12-01","x","x","x",0.05,2,7,10]
["Slovenia","SVN",86,"37000-39500","X",null,null,null,"X",null,"X",null,null,null,null,0,504,null,"T/R 12-01",null,"X","X",0.1,2,6,"+10%","X"]
["Turkey","TUR",86,"37000-39500","x",null,null,null,"x",null,null,null,null,null,null,null,422,null,"T/R 12-01 Annex A",null,null,null,"<1",1.5,5]
["Turkey","TUR",86,"37000-39500",null,"x",null,null,"x",null,null,null,null,null,null,null,15870]
["Estonia","EST",87,"39500-40500","not in use"]
["Finland","FIN",87,"39500-40500",null,null,null,null,null,null,null,null,null,null,null,null,null,null,null,null,null,null,null,null,null,null,null,"4)",null,"4) Potential 5G candidate band under study"]
["Latvia","LVA",87,"39500-40500",null,null,null,null,null,null,null,null,null,null,null,null,null,null,"ERC/DEC/(00)02",null,null,null,null,null,null,null,null,null,null,"Currently not in use by Fixed service"]
["Portugal","POR",87,"39500-40500",null,null,null,null,null,null,null,null,null,null,"HDFSS"]
["Switzerland","SUI",87,"39500-40500",null,null,null,null,null,null,null,null,null,null,"FSS"]
["Austria","AUT",88,"40500-43500","X",null,null,null,"X",null,"X",null,null,null,null,null,53,null,"ECC/REC/(01)04",null,"X",null,1,3,5]
["Bosnia and Herzegovina","BIH",88,"40500-43500","X",null,null,null,"X",null,null,null,null,null,null,null,0,null,"ECC/REC/(01)04"]
["Czech Republic","CZE",88,"40500-43500","X",null,null,null,"X",null,null,null,null,null,null,null,54,null,"see the EFIS","N/A","N/A","N/A",null,"0.6km"]
["Germany","D",88,"40500-43500","x",null,null,null,"x",null,null,null,null,null,null,null,3020,null,"ECC/REC/(01)04",null,null,"x",null,null,null,"+"]
["Estonia","EST",88,"40500-43500","not in use",null,null,null,null,null,null,null,null,null,null,null,null,null,"ECC/REC/(01)04"]
["Finland","FIN",88,"40500-43500","x",null,null,null,"x",null,null,null,null,null,null,0,0,null,"ECC/REC/(01)04",null,null,null,null,null,null,null,null,"4)",null,"4) Potential 5G candidate band under study"]
["UK","G",88,"40500-43500",null,"X"]
["Greece","GRC",88,"40500-43500","X",null,null,null,null,null,null,null,null,null,null,null,null,null,"ECC/REC/(01)04",null,null,null,null,null,null,"growth","Allocation of the 41334-42000 paired with 42834-43500  for P-P links. Potential fututre block allocation of the rest of the band","Allocation of the 41334-42000 paired with 42834-43500  for P-P links. Potential fututre block allocation of the rest of the band","Allocation of the 41334-42000 paired with 42834-43500  for P-P links. Potential fututre block allocation of the rest of the band"]
["Hungary","HNG",88,"40500-43500",null,null,null,null,null,null,null,null,null,null,null,null,null,null,"ERC/DEC/(99)15",null,null,null,null,null,null,null,null,null,null,"Only planned for PP and MWS"]
["Netherlands","HOL",{"$f":"VLOOKUP(D568,[1]BandList!$A$2:$B$110,2,FALSE)","v":88},"40500-43500","x",null,null,null,"x",null,null,null,null,null,null,null,null,null,"ECC/REC/(01)04"]
["Italy",{"$f":"VLOOKUP(A569, '[1]Country names'!$A$5:$C$53,3,FALSE)","v":"I"},{"$f":"VLOOKUP(D569,[1]BandList!$A$2:$B$110,2,FALSE)","v":88},"40500-43500","X",null,null,null,"X",null,"X","X","X",null,null,null,1580,null,"ECC/REC/(01)04",0,1095,485,"0.080",2,3.9,"+10/20"]
["Ireland","IRL",88,"40500-43500","X",null,null,null,"X",null,null,null,null,"X",null,null,10,null,"ECC/REC/(01)04",null,null,10,"0 km"]
["Latvia","LVA",88,"40500-43500","X",null,null,null,"X","X","X",null,null,null,null,null,0,0,"ECC/REC/(01)04",null,"X","X",null,null,null,1]
["Norway","NOR",88,"40500-43500",null,"x",null,null,null,null,null,null,null,null,null,null,null,null,"ECC/REC/(01)04",null,"x","x"]
["Portugal","POR",88,"40500-43500","?","?",null,null,"X","X",null,null,null,null,"MWS, MVDS",null,null,null,"ECC/REC/(01)04",null,null,null,null,null,null,"Planned","Planned","Planned","Planned"]
["Russia","RUS",88,"40500-43500","X",null,null,null,"X","X",null,"X",null,null,"X\nTelecom operators, industrial process communications",null,160,16,"ITU-R Rec. F.2005",null,null,"X",0.1,3,6,null,null,null,"Use in existing telecom operators' communications networks."]
["Switzerland","SUI",88,"40500-43500","x",null,null,null,"x",null,"x","x",null,null,null,null,582,null,"ECC/REC/(01)04",null,null,"x",0.5,1.6,3.8,200]
["Slovak Republic","SVK",88,"40500-43500",null,null,null,null,null,null,null,null,null,null,null,null,null,null,"ECC/REC/(01)04",null,null,null,null,null,null,null,null,null,"operation "]
["Slovak Republic","SVK",88,"40500-43500",null,null,null,null,null,null,null,null,null,null,null,null,null,null,null,null,null,null,null,null,null,null,null,null,"expected"]
["Czech Republic","CZE",89,"47200-48500",null,null,null,null,null,null,null,"ENG/OB",null,null,null,null,null,null,"47.2 GHz- 50.2 GHz","N/A","N/A","N/A"]
["Estonia","EST",89,"47200-48500","not in use"]
["Finland","FIN",89,"47200-48500","x",null,null,null,"x",null,null,null,null,null,null,0,0,null,"ERC/REC 12-11",null,null,null,null,null,null,null,null,"4)",null,"4) Potential 5G candidate band under study"]
["Latvia","LVA",89,"47200-48500","X",null,null,null,"X",null,null,null,"X",null,null,0,null,null,"ERC/REC 25-10",null,"X",null,null,null,null,1]
["Portugal","POR",89,"47200-48500",null,null,null,null,null,null,null,null,null,null,"HDFSS (47.5-47.9 GHz)"]
["Switzerland","SUI",89,"47200-48500",null,null,null,null,null,null,null,null,null,null,"PMSE",null,null,null,null,null,null,null,null,null,null,null,null,null,"?? equipment available"]
["Bosnia and Herzegovina","BIH",90,"48500-50200","X",null,null,null,"X",null,null,null,null,null,null,null,0,null,"ERC/REC 12-10"]
["Czech Republic","CZE",90,"48500-50200",null,null,null,null,null,null,null,"ENG/OB",null,null,null,null,null,null,"47.2 GHz- 50.2 GHz","N/A","N/A","N/A"]
["Estonia","EST",90,"48500-50200","not in use",null,null,null,null,null,null,null,null,null,null,null,null,null,"ERC/REC 12-11"]
["Finland","FIN",90,"48500-50200","x",null,null,null,"x",null,null,null,null,null,null,0,0,null,"ERC/REC 12-11",null,null,null,null,null,null,null,null,"4)",null,"4) Potential 5G candidate band under study"]
["Hungary","HNG",90,"48500-50200","X",null,null,null,"X",null,null,null,null,null,null,null,0,null,"ERC/REC 12-10"]
["Netherlands","HOL",{"$f":"VLOOKUP(D589,[1]BandList!$A$2:$B$110,2,FALSE)","v":90},"48500-50200",null,null,null,null,null,null,null,null,null,null,null,null,null,null,"ERC/REC 12-11"]
["Latvia","LVA",90,"48500-50200","X",null,null,null,"X",null,"X","X",null,null,null,null,0,null,"ERC/REC 12-11"]
["Portugal","POR",90,"48500-50200","?","?",null,null,"X","X",null,null,null,null,"HDFSS (48.2-48.54 GHz and 49.44-50.2 GHz)",null,null,null,"ERC/REC 12-11",null,null,null,null,null,null,"Planned","Planned","Planned","Planned"]
["Switzerland","SUI",90,"48500-50200",null,null,null,null,null,null,null,null,null,null,null,null,null,null,"ERC/REC 12-11",null,null,null,null,null,null,null,null,null,"?? equipment available"]
["UK","G",91,"49200 - 50200","X",null,null,null,"X",null,"X",null,null,null,null,0,30,null,null,"X",null,null,null,2]
["Estonia","EST",92,"50400-51400","not in use, no any interest"]
["Finland","FIN",92,"50400-51400","x",null,null,null,"x",null,null,null,null,null,null,0,0,null,"no channel plan",null,null,null,null,null,null,null,null,"4)",null,"4) Potential 5G candidate band under study"]
["Latvia","LVA",92,"50400-51400",null,null,null,null,null,null,null,null,null,null,null,null,null,null,null,null,null,null,null,null,null,null,null,null,null,"Currently not in use by Fixed service"]
["Switzerland","SUI",92,"50400-51400",null,null,null,null,null,null,null,null,null,null,null,null,null,null,null,null,null,null,null,null,null,null,null,null,"?? equipment available"]
["Bosnia and Herzegovina","BIH",93,"51400-52600","X",null,null,null,"X",null,null,null,null,null,null,null,null,null,"ERC/REC 12-11"]
["Bulgaria","BUL",93,"51400-52600","X",null,null,null,"X",null,null,null,null,null,null,0,0,null,"ERC/REC 12-11","-","-","-","-","-","-"]
["Germany","D",93,"51400-52600","x",null,null,null,"x",null,null,null,null,null,null,null,0,null,"ERC/REC 12-11"]
["Estonia","EST",93,"51400-52600","not in use, no any interest",null,null,null,null,null,null,null,null,null,null,null,null,null,"ERC/REC 12-11"]
["Finland","FIN",93,"51400-52600","x",null,null,null,"x",null,null,null,null,null,null,0,0,null,"ERC/REC 12-11, planned",null,null,null,null,null,null,null,null,"4)",null,"4) Potential 5G candidate band under study"]
["UK","G",93,"51400-52600","X",null,null,null,"X",null,null,null,null,null,null,0,0,null,"ERC/REC 12-11"]
["Hungary","HNG",93,"51400-52600","X",null,null,null,"X",null,null,null,null,null,null,null,0,null,"ERC/REC 12-11"]
["Netherlands","HOL",{"$f":"VLOOKUP(D605,[1]BandList!$A$2:$B$110,2,FALSE)","v":93},"51400-52600",null,null,null,null,null,null,null,null,null,null,null,null,null,null,"ERC/REC 12-11"]
["Latvia","LVA",93,"51400-52600","X",null,null,null,"X",null,"X","X",null,null,null,null,0,null,"ERC/REC 12-11",null,"X","X",null,null,null,1]
["Portugal","POR",93,"51400-52600","?","?",null,null,"X","X",null,null,null,null,null,null,null,null,"ERC/REC 12-11",null,null,null,null,null,null,"Planned","Planned","Planned","Planned"]
["Switzerland","SUI",93,"51400-52600","x",null,null,null,"x",null,"x","x",null,null,null,null,299,null,"ERC/REC 12-11",null,"x",null,0.15,0.75,2.8,-80,null,null,"> not enough transmission capacity with existing equipment"]
["Bosnia and Herzegovina","BIH",94,"55780-57000","X",null,null,null,"X",null,null,null,null,null,null,null,0,null,"ERC/REC 12-12"]
["Bulgaria","BUL",94,"55780-57000","X",null,null,null,"X",null,null,null,null,null,null,0,0,null,"ERC/REC 12-12, Annex 2","-","-","-","-","-","-"]
["Estonia","EST",94,"55780-57000","not in use, no any interest",null,null,null,null,null,null,null,null,null,null,null,null,null,"ERC/REC 12-12"]
["Finland","FIN",94,"55780-57000","x",null,null,null,"x",null,null,null,null,null,null,0,0,null,"ERC/REC 12-12, planned"]
["UK","G",94,"55780-57000","X",null,null,null,"X",null,null,null,null,null,null,0,0,null,"ERC/REC 12-12"]
["Greece","GRC",94,"55780-57000","X",null,null,null,null,null,null,null,null,null,null,null,null,null,"ERC/REC 12-12"]
["Hungary","HNG",94,"55780-57000","X",null,null,null,"X",null,null,null,null,null,null,null,0,null,"ERC/REC 12-12"]
["Netherlands","HOL",{"$f":"VLOOKUP(D616,[1]BandList!$A$2:$B$110,2,FALSE)","v":94},"55780-57000",null,null,null,null,null,null,null,null,null,null,null,null,null,null,"ERC/REC 12-12"]
["Latvia","LVA",94,"55780-57000","X",null,null,null,"X",null,"X","X",null,null,null,null,0,null,"ERC/REC 12-12E",null,null,null,null,null,null,1]
["Portugal","POR",94,"55780-57000","?","?",null,null,"X","X",null,null,null,null,"EESS",null,null,null,"ERC/REC 12-12",null,null,null,null,null,null,"Planned","Planned","Planned","Planned"]
["Switzerland","SUI",94,"55780-57000","x",null,null,null,"x",null,"x","x",null,null,null,null,0,null,"ERC/REC 12-12",null,null,null,null,null,null,null,null,null,"?? equipment available"]
["Bosnia and Herzegovina","BIH",96,"57000-59000","X",null,null,null,"X",null,null,null,null,null,null,null,0,null,"ECC/REC/(09)01"]
["Bulgaria","BUL",96,"57000-59000","X",null,null,null,"X",null,null,null,null,null,null,0,0,null,"ECC/REC/(09)01","-","-","-","-","-","-"]
["Czech Republic","CZE",96,"57000-59000","X",null,null,null,"X",null,null,null,null,null,null,null,3,null,"see the EFIS","N/A","N/A","N/A"]
["Germany","D",96,"57000-59000",null,null,null,"x","x",null,null,null,null,null,null,null,null,null,"ECC/REC/(09)01"]
["Estonia","EST",96,"57000-59000","not in use, no any interest",null,null,null,null,null,null,null,null,null,null,null,null,null,"ECC/REC/(09)01"]
["Finland","FIN",96,"57000-59000",null,"x",null,null,"x",null,null,"x",null,null,null,null,4,null,"existing use ERC/REC 12-09",null,null,null,null,"N/A"]
["UK","G",96,"57000-59000",null,null,null,"X",null,null,null,null,null,null,null,null,null,null,"ECC/REC/(09)01"]
["Hungary","HNG",96,"57000-59000","X",null,null,null,"X",null,null,"X",null,null,null,null,2,null,"ECC/REC/(09)01",null,null,"X",null,3]
["Netherlands","HOL",{"$f":"VLOOKUP(D628,[1]BandList!$A$2:$B$110,2,FALSE)","v":96},"57000-59000",null,null,null,null,null,null,null,null,null,null,null,null,null,null,"ECC/REC/(09)01"]
["Latvia","LVA",96,"57000-59000","X",null,null,null,"X",null,"X",null,null,null,null,null,0,null,"ECC/REC/(09)01",null,null,null,null,null,null,1]
["Norway","NOR",96,"57000-59000",null,null,null,"x",null,null,null,null,null,null,null,null,null,null,"ECC/REC/(09)01"]
["Portugal","POR",96,"57000-59000","?","?",null,null,"X","X",null,null,null,null,"EESS, SRD",null,null,null,"ECC/REC/(09)01",null,null,null,null,null,null,"Planned","Planned","Planned","Planned"]
["Sweden","S",96,"57000-59000",null,null,null,"X",null,null,null,null,null,null,null,null,null,null,"ECC/REC/(09)01"]
["Switzerland","SUI",96,"57000-59000","x",null,null,null,"x",null,"x",null,null,null,null,null,109,null,"ECC/REC/(09)01","x",null,null,0.05,0.3,1,-100,null,null,"> not enough transmission capacity with existing equipment"]
["Greece","GRC",97,"57000-63000","X",null,null,null,null,null,null,null,null,null,null,null,null,null,"ECC/REC/(09)01"]
["Russia","RUS",98,"57200-58200","X",null,null,null,"X",null,"X",null,null,null,null,0,220,null,"ITU-R Rec. F.1497","X","X",null,0.1,1,2,null,null,null,"Minor increase of use in mobile backhaul."]
["Russia","RUS",99,"58250-63250",null,null,null,"X","X",null,null,null,null,null,null,null,null,null,"National Plan (59.5 GHz;\n62 GHz)",null,null,"X",0.1,1,2]
["Latvia","LVA",100,"59000-61000",null,null,null,null,null,null,null,null,null,null,null,null,null,null,"ECC/REC/(09)01",null,null,null,null,null,null,null,null,"X",null,"Exclusive Military Band Within the Band 59000-61000 MHz; planned reallocation"]
["Bulgaria","BUL",101,"59000-64000","X",null,null,null,"X",null,null,null,null,null,null,0,0,null,"ECC/REC/(09)01","-","-","-","-","-","-"]
["Germany","D",101,"59000-64000",null,null,null,"x","x",null,null,null,null,null,null,null,null,null,"ECC/REC/(09)01"]
["Estonia","EST",101,"59000-64000","not in use, no any interest",null,null,null,null,null,null,null,null,null,null,null,null,null,"ECC/REC/(09)01"]
["UK","G",101,"59000-64000",null,null,null,"X",null,null,null,null,null,null,null,null,null,null,"ECC/REC/(09)01"]
["Hungary","HNG",101,"59000-64000",null,null,"X",null,"X",null,null,null,null,null,null,null,0,null,"ECC/REC/(09)01"]
["Netherlands","HOL",{"$f":"VLOOKUP(D643,[1]BandList!$A$2:$B$110,2,FALSE)","v":101},"59000-64000",null,null,null,null,null,null,null,null,null,null,null,null,null,null,"ECC/REC/(09)01"]
["Norway","NOR",101,"59000-64000",null,null,null,"x",null,null,null,null,null,null,null,null,null,null,"ECC/REC/(09)01"]
["Portugal","POR",101,"59000-64000","?","?",null,null,"X","X",null,null,null,null,"SRD, ISM, Military (59-61 GHz)",null,null,null,"ECC/REC/(09)01",null,null,null,null,null,null,"Planned","Planned","Planned","Planned"]
["Sweden","S",101,"59000-64000",null,null,null,"X",null,null,null,null,null,null,null,null,null,null,"ECC/REC/(09)01"]
["Switzerland","SUI",101,"59000-64000",null,null,null,"x","x",null,null,null,null,null,null,null,null,null,"ECC/REC/(09)01"]
["Latvia","LVA",102,"61000-66000",null,null,null,null,null,null,null,null,null,null,null,null,null,null,null,null,null,null,null,null,null,null,null,"X"]
["Bosnia and Herzegovina","BIH",103,"64000-66000","X",null,null,null,"X",null,null,null,null,null,null,null,0,null,"ECC/REC/(05)02"]
["Bulgaria","BUL",103,"64000-66000","X",null,null,null,"X",null,null,null,null,null,null,0,0,null,"ECC/REC/(05)02","-","-","-","-","-","-"]
["Estonia","EST",103,"64000-66000","not in use, no any interest",null,null,null,null,null,null,null,null,null,null,null,null,null,"ECC/REC/(05)02"]
["Finland","FIN",103,"64000-66000","x",null,null,null,"x",null,null,null,null,null,null,0,0,null,"ECC/REC/(05)02"]
["UK","G",103,"64000-66000",null,null,"X",null,"X",null,null,null,null,null,null,0,0,null,"no channel plan in the UK"]
["Greece","GRC",103,"64000-66000","X",null,null,null,null,null,null,null,null,null,null,null,null,null,"ECC/REC/(05)02"]
["Hungary","HNG",103,"64000-66000",null,null,null,null,null,null,null,null,null,null,null,null,null,null,"ECC/REC/(05)02",null,null,null,null,null,null,null,null,null,null,"Only planned for PP"]
["Netherlands","HOL",{"$f":"VLOOKUP(D656,[1]BandList!$A$2:$B$110,2,FALSE)","v":103},"64000-66000",null,null,null,null,null,null,null,null,null,null,null,null,null,null,"ECC/REC/(05)02"]
["Norway","NOR",103,"64000-66000",null,null,null,"x",null,null,null,null,null,null,null,null,null,null,"ECC/REC/(05)02"]
["Portugal","POR",103,"64000-66000","?","?",null,null,"X","X",null,null,null,null,null,null,null,null,"ECC/REC/(05)02",null,null,null,null,null,null,"Planned","Planned","Planned","Planned"]
["Sweden","S",103,"64000-66000",null,null,null,"X",null,null,null,null,null,null,null,null,null,null,"ECC/REC/(05)02"]
["Switzerland","SUI",103,"64000-66000",null,null,null,"x","x",null,null,null,null,null,null,null,null,null,"ECC/REC/(05)02"]
["Austria","AUT",104,"71000-76000 and 81000-86000","X",null,null,null,"X",null,null,null,null,null,null,null,1269,null,"ECC/REC/(05)07",null,"X","X",1,3,6]
["Bosnia and Herzegovina","BIH",104,"71000-76000 and 81000-86000","X",null,null,null,"X",null,null,null,null,null,null,null,0,null,"ECC/REC/(05)07"]
["Bulgaria","BUL",104,"71000-76000 and 81000-86000","X",null,null,null,"X",null,"X",null,null,null,null,0,52,null,"ECC/REC/(05)07",null,null,"X",0.2,0.8,2,"+500 %"]
["Czech Republic","CZE",104,"71000-76000 and 81000-86000",null,null,"X",null,"X",null,null,null,null,null,null,null,1245,null,"see the EFIS","N/A","N/A","N/A"]
["Germany","D",104,"71000-76000 and 81000-86000","x",null,null,null,"x",null,null,null,null,null,null,null,510,null,"ECC/REC/(05)07",null,null,"x"]
["Estonia","EST",104,"71000-76000 and 81000-86000","not in use, no any interest",null,null,null,null,null,null,null,null,null,null,null,null,null,"ECC/REC/(05)07"]
["France","F",104,"71000-76000 and 81000-86000","X",null,null,null,"X",null,"X",null,null,null,null,null,537,null,"ECC/REC/(05)07",null,null,"X",0.1,1.94,7.2,0.5]
["Finland","FIN",104,"71000-76000 and 81000-86000","x",null,null,null,"x",null,null,"x",null,null,null,0,4,null,"ECC/REC/(05)07",null,null,"x","0.1","2.4","2.9",null,null,"4)",null,"4) Potential 5G candidate band under study"]
["Greece","GRC",104,"71000-76000 and 81000-86000","X",null,null,null,null,null,"X","X",null,null,null,null,191,null,"ECC/REC/(05)07",null,null,"X",0.02,1.3,4,"high growth"]
["Hungary","HNG",104,"71000-76000 and 81000-86000",null,null,"X",null,"X",null,null,null,null,null,null,null,562,null,"ECC/REC/(05)07",null,null,"X",null,1]
["Netherlands","HOL",{"$f":"VLOOKUP(D671,[1]BandList!$A$2:$B$110,2,FALSE)","v":104},"71000-76000 and 81000-86000","x",null,null,null,"x",null,"x","x",null,null,null,null,26,null,"ECC/REC/(05)07",null,null,"x",1,2,3,"+"]
["Croatia","HRV",104,"71000-76000 and 81000-86000",null,null,"X",null,"X",null,"X","X",null,null,null,null,17,null,"ECC/REC/(05)07",null,null,"X",0.36,2.37,8.8000000000000007,500]
["Italy",{"$f":"VLOOKUP(A673, '[1]Country names'!$A$5:$C$53,3,FALSE)","v":"I"},{"$f":"VLOOKUP(D673,[1]BandList!$A$2:$B$110,2,FALSE)","v":104},"71000-76000 and 81000-86000","X",null,null,null,"X",null,"X","X","X",null,null,null,8,null,"ECC/REC/(05)07",0,4,4,0.14399999999999999,0.5,1.4359999999999999,"+10/20"]
["Ireland","IRL",104,"71000-76000 and 81000-86000","X",null,null,null,"X",null,null,null,null,"X",null,null,355,null,"ECC/REC/(05)07",355,null,null,"0 km"]
["Norway","NOR",104,"71000-76000 and 81000-86000","x",null,null,null,null,null,null,null,null,null,null,null,6,null,"ECC/REC/(05)07",null,null,"x"]
["Portugal","POR",104,"71000-76000 and 81000-86000","?","?",null,null,"X","X",null,"X",null,null,"SRD, AM (75.5-76 GHz), Military (71-74 GHz and 81-84 GHz)",null,1,null,"ECC/REC/(05)07",null,null,"X",0.01,"0,3",1,1000]
["Sweden","S",104,"71000-76000 and 81000-86000","X",null,null,null,null,null,null,null,null,null,null,null,4,null,"ECC/REC/(05)07",null,null,"X",0,2,2.9,100]
["Switzerland","SUI",104,"71000-76000 and 81000-86000","x",null,null,null,"x",null,"x","x",null,null,null,null,333,null,"ECC/REC/(05)07",null,null,"x",0.1,0.8,4.9000000000000004,500]
["Slovenia","SVN",104,"71000-76000 and 81000-86000","X",null,null,null,"X",null,"X","X",null,null,null,0,5,null,"ECC/REC/(05)07",null,null,"X",0.5,2,3,"+10%"]
["Turkey","TUR",104,"71000-76000 and 81000-86000","x",null,null,null,"x",null,null,null,null,null,null,null,581,null,"ECC/REC/(05)07",null,null,null,"<1",1,4]
["Russia","RUS",105,"71000-76000/81000-86000",null,null,null,"X","X",null,"X","X",null,null,"X\nTelecom operators",0,"> 1000",null,"ITU-R Rec. F.2006",null,null,"X",0.1,0.5,1,null,null,null,"Increase of use, most of all in mobile backhaul and in telecom operators' infrastructure."]
["UK","G",106,"71125-73125 and 81125-83125","X",null,null,null,"X",null,"X","X",null,null,null,null,320,null,"ECC/REC/(05)07",null,null,"X",null,1.5]
["UK","G",107,"73375-75875 and 83375-85875",null,null,"X",null,"X",null,null,"X",null,null,"X",null,2400,null,"no channel plan in the UK",null,"X","X",null,4]
["Latvia","LVA",108,"74000-76000 and 84000-86000","X",null,null,null,"X",null,"X","X",null,null,null,null,14,null,"ECC/REC/(05)07",null,null,"X","0,1",1,3,5]
["Estonia","EST",109,"92000-95000","not in use, no any interest",null,null,null,null,null,null,null,null,null,null,null,null,null,"ECC/REC (14)01"]
["Finland","FIN",109,"92000-95000","x",null,null,null,"x",null,null,null,null,null,null,0,0,null,"ECC/REC (14)01"]
["Hungary","HNG",109,"92000-95000",null,null,null,null,null,null,null,null,null,null,null,null,null,null,"ECC/REC (14)01",null,null,null,null,null,null,null,null,null,null,"Only planned for PP"]
["Netherlands","HOL",{"$f":"VLOOKUP(D688,[1]BandList!$A$2:$B$110,2,FALSE)","v":109},"92000-95000",null,null,null,null,null,null,null,null,null,null,null,null,null,null,"ECC/REC (14)01"]
["Portugal","POR",109,"92000-95000","?","?",null,null,"X","X",null,null,null,null,null,null,null,null,"ECC/REC/(14)01",null,null,null,null,null,null,"Planned","Planned","Planned","Planned"]
["Russia","RUS",109,"92000-95000",null,null,null,"X","X",null,null,null,null,null,null,null,null,null,"ITU-R Rec. F.2004",null,null,"X",0.1,0.5,1]
["Switzerland","SUI",109,"92000-95000","x",null,null,null,"x",null,"x","x",null,null,null,null,0,null,"ECC/REC (14)01",null,null,"x",null,null,null,"?",null,null,"?? equipment available"]

{"sheet":"BandList","index":2,"n_rows":110,"n_cols":2,"rows_kept":110,"cut":false,"hidden":false,"merged":[]}
["Band range (MHz)","Index"]
["1350-1375 and 1492-1517",1]
["1350-1375 and 1492-1518",2]
["1375-1400 and 1427-1452",3]
["1437,5-1465,5 and 1486,5-1514,5",4]
["1440-1500",5]
["1492–1506",6]
["1517-1525",7]
["1518 - 1525",8]
["1518-1530",9]
["1672 - 1690",10]
["1700-1709 and 1786-1800",11]
["1900-2690",12]
["2025-2110 and 2200-2290",13]
["2085-2110",14]
["2400-2483.5",15]
["3400-3600",16]
["3480 – 3500//3580 – 3600; 3605 – 3689//3925 – 4009\n\n\n",17]
["3600-3800",18]
["3600-4200",19]
["3689-3875//4009-4195",20]
["3800-4200",21]
["4400-5000",22]
["5150-5350",23]
["5650-5850",24]
["5725-5795",25]
["5850-5925",26]
["5925 - 6425",27]
["5925-6425",28]
["5925-7125",29]
["5925-7126",30]
["5925-7127",31]
["6425 - 7125 ",32]
["6425-7110",33]
["6425-7125",34]
["7125-7425",35]
["7125-7750",36]
["7125-7751",37]
["7125-7752",38]
["7125-7753",39]
["7250-7550",40]
["7425 - 7900",41]
["7425-7725",42]
["7425-7900",43]
["7725-78275",44]
["7725-8275",45]
["7750-7900",46]
["7900-8400",47]
["7900-8500",48]
["8275-8500",49]
["10000-10680",50]
["10125 – 10205 GHz//10475 – 10555;  10205 – 10225//10555 – 10575",51]
["10150-10680",52]
["10500-10680",53]
["10700-11700",54]
["10755-11725",55]
["11700-12500",56]
["11725-12500",57]
["12750-13250",58]
["14250-14500",59]
["14500-14620 and 15230-15350",60]
["14500-15350",61]
["14923-15180",62]
["17300-17700",63]
["17700-19700",64]
["17700-19701",65]
["21200-22000",66]
["21200-23600",67]
["22000-22600 and 23000-23600",68]
["22000-23600",69]
["22008-23576",70]
["22600-23000",71]
["24250-24500",72]
["24250-29500",73]
["24500–24717/25557–25725",74]
["24500-26500",75]
["24773–25445/25781–26453",76]
["26500-27500",77]
["27500-29500",78]
["27828,5–28444,5/28948,5–29452,5",79]
["31000-31300",80]
["31000-31800",81]
["31800-33400",82]
["31815–32347/32627–33159",83]
["32375–32571/33187–33383",84]
["36000-37000",85]
["37000-39500",86]
["39500-40500",87]
["40500-43500",88]
["47200-48500",89]
["48500-50200",90]
["49200 - 50200",91]
["50400-51400",92]
["51400-52600",93]
["55780-57000",94]
["55780-57000",95]
["57000-59000",96]
["57000-63000",97]
["57200-58200",98]
["58250-63250",99]
["59000-61000",100]
["59000-64000",101]
["61000-66000",102]
["64000-66000",103]
["71000-76000 and 81000-86000",104]
["71000-76000/81000-86000",105]
["71125-73125 and 81125-83125",106]
["73375-75875 and 83375-85875",107]
["74000-76000 and 84000-86000",108]
["92000-95000",109]

{"sheet":"Country names","index":3,"n_rows":52,"n_cols":13,"rows_kept":52,"cut":false,"hidden":false,"merged":[[0,0,3,0],[0,1,3,1],[51,0,52,0],[51,1,52,1],[51,2,52,2]]}
["Member","Quest 2001","CEPT","EXCLUDE","Q. 2014 >50 GHz",null,null,null,"filtering as 2001","filtering as 2010"]
[null,null,"Country"]
[null,null,"Code"]
[null,null,null,null,null,null,null,null,null,null,null,null,"respondent to 2001 Quest"]
["Albania",null,"ALB",null,null,null,null,null,null,null,null,null,"respondent to 2010 Quest"]
["Andorra",null,"AND",null,null,null,null,null,null,null,null,null,"respondent to 2016 Quest < 50 GHz"]
["Austria",null,"AUT",null,null,null,null,null,null,null,null,null,"respondent to 2016 Quest > 50 GHz"]
["Azerbaijan",null,"AZE"]
["Belarus",null,"BLR"]
["Belgium",null,"BEL"]
["Bosnia and Herzegovina",null,"BIH",null,null,null,null,null,null,null,"Note : to exclude counting  of data from some country put \"E\" in corresponding row of column D"]
["Bulgaria",null,"BUL",null,null,null,null,null,"E","E"]
["Croatia",null,"HRV"]
["Cyprus",null,"CYP"]
["Czech Republic",null,"CZE"]
["Denmark",null,"DNK"]
["Estonia",null,"EST"]
["Finland",null,"FIN"]
["France",null,"F"]
["Georgia",null,"GEO"]
["Germany",null,"D"]
["Greece",null,"GRC",null,null,null,null,null,"E"]
["Hungary",null,"HNG"]
["Iceland",null,"ISL"]
["Ireland",null,"IRL"]
["Italy",null,"I"]
["Latvia",null,"LVA"]
["Liechtenstein",null,"LIE"]
["Lithuania",null,"LTU"]
["Luxembourg",null,"LUX"]
["The Former Yugoslav Republic of Macedonia (FYROM) ",null,"MKD"]
["Malta",null,"MLT",null,null,null,null,null,"E"]
["Moldova",null,"MDA"]
["Monaco",null,"MCO"]
["Montenegro",null,"MNE"]
["Netherlands",null,"HOL",null,null,null,null,null,"E"]
["Norway",null,"NOR",null,null,null,null,null,"E"]
["Poland",null,"POL"]
["Portugal",null,"POR"]
["Romania",null,"ROU"]
["Russia",null,"RUS",null,null,null,null,null,"E"]
["San Marino",null,"SMR"]
["Serbia",null,"SRB"]
["Slovak Republic",null,"SVK"]
["Slovenia",null,"SVN"]
["Spain",null,"E"]
["Sweden",null,"S"]
["Switzerland",null,"SUI"]
["Turkey",null,"TUR"]
["Ukraine",null,"UKR"]
["UK",null,"G"]
["Vatican",null,"CVA"]

{"sheet":"Admins analyzes","index":4,"n_rows":788,"n_cols":55,"rows_kept":788,"cut":false,"hidden":false,"merged":[[1,25,1,28],[2,19,2,21],[2,22,2,24],[1,4,1,7],[1,10,1,14],[1,15,1,16],[1,18,3,18],[2,8,2,9],[2,10,2,11],[1,8,1,9],[1,19,1,24]]}
[1,{"$f":"A1+1","v":2},{"$f":"B1+1","v":3},4,5,6,7,8,9,10,11,12,13,14,15,16,17,18,19,20,21,22,23,24,25,26,27,28,29,30,31,32,33,34,35,36,37,38,39,40,41,{"$f":"AO1+1","v":42},43,44,45,46,47,48,49,50,51,52,53,54,55]
["Admin","short","Band index","Frequency band (MHz)","Licensing regime",null,null,null," Topo-logy",null,"Application",null,null,null,null,"Number of P-P links",null,"Number of CS","Channel/Frequency plan used (e.g. ERC/ECC Rec. ITU-R Rec.)","Link characteristics",null,null,null,null,null,"Future trends (e.g. in the next 5 years)"]
[null,null,null,null,null,null,null,null,"FWA",null,"Network Infrastruc-ture",null,null,null,null,null,null,null,null,"Capacity",null,null,"Hop length (km)"]
[null,null,null,null,"Link by link","Block","Light licensed","Licence exempt","P-P","P-MP","Mobile backhaul","Others","Broadcasting Infrastructure","No Information available on the application","Other (please indicate)","unidirectional","bidirectional (1 bidirectional link counts 1)","(applicable only for P-MP and mesh networks)",null,"LOW (<10 Mbit/s)","MEDIUM (10 to 100 Mbit/s)","HIGH (>100 Mbit/s)","MIN","Typical figure","MAX","Anticipated growth/reduction (+/-%)","Currently congested","Planned reallocation to other service/application","Other (please describe)\n(see Question 3 of the Questionnaire)"]
["Austria","AUT",1,"1350-1375 and 1492-1517","X",null,null,null,"X",null,null,"X",null,null,null,null,57,null,"T/R 13-01 Annex A","X","X",null,3,20,60]
["Bosnia and Herzegovina","BIH",1,"1350-1375 and 1492-1517","X",null,null,null,"X",null,null,null,"X",null,null,53,null,null,"T/R 13-01 Annex A","X",null,null,4,30,70]
["Estonia","EST",1,"1350-1375 and 1492-1517","x",null,null,null,"x",null,null,null,null,null,null,null,null,null,"T/R 13-01 Annex A"]
["Estonia","EST",1,"1350-1375 and 1492-1517","not in use"]
["Finland","FIN",1,"1350-1375 and 1492-1517",null,null,null,null,null,null,null,null,null,null,null,0,0,null,"(T/R 13-01 Annex A)  1)",null,null,null,null,null,null,null,null,"1)",null,"1) MFCN 1492-1517 MHz planned in the beginning of 2019"]
["Finland","FIN",1,"1350-1375 and 1492-1517",null,"x",null,null,null,"x",null,"x",null,null,null,null,null,16,"FWA: 1359-1371 MHz, national plan",null,"x",null,null,"N/A"]
["UK","G",1,"1350-1375 and 1492-1517","X",null,null,null,"X",null,null,"X","X",null,null,null,820,null,"T/R 13-01 Annex A","X",null,null,null,15]
["Netherlands","HOL",{"$f":"VLOOKUP(D12,[1]BandList!$A$2:$B$110,2,FALSE)","v":1},"1350-1375 and 1492-1517",null,null,null,null,null,null,null,null,null,null,null,null,null,null,"T/R 13-01 Annex A"]
["Croatia","HRV",1,"1350-1375 and 1492-1517","X",null,null,null,"X",null,null,null,null,null,"X",1,null,null,"National plan","X",null,null,9.33,9.33,9.33,-100,null,"X"]
["Ireland","IRL",1,"1350-1375 and 1492-1517","X",null,null,null,"X",null,null,null,null,"X",null,null,76,null,"T/R 13-01 Annex A",76,null,null,"No min. path length policy"]
["Latvia","LVA",1,"1350-1375 and 1492-1517","X",null,null,null,"X",null,null,"X",null,null,null,null,0,null,"T/R 13-01 Annex A",null,null,null,null,null,null,null,null,"X"]
["Norway","NOR",1,"1350-1375 and 1492-1517",null,"x",null,null,null,null,null,null,null,null,null,null,null,0,"T/R 13-01 Annex A",null,null,null,null,null,null,null,null,"x"]
["Norway","NOR",1,"1350-1375 and 1492-1517","x",null,null,null,null,null,null,null,null,"x",null,5,29,0,null,"x",null,null,1,18,55,null,null,"x"]
["Portugal","POR",1,"1350-1375 and 1492-1517","X",null,null,null,"X",null,null,null,null,null,null,null,92,null,"T/R 13-01 Annex A","X",null,null,5,"20",50,0]
["Switzerland","SUI",1,"1350-1375 and 1492-1517","x",null,null,null,"x",null,null,"x",null,null,null,null,2,null,"T/R 13-01 Annex A","x",null,null,null,null,null,-100,null,"MFCN"]
["Slovak Republic","SVK",1,"1350-1375 and 1492-1517",null,null,null,null,null,null,null,null,null,null,null,null,null,null,null,null,null,null,null,null,null,null,null,null,"SDL"]
["Slovenia","SVN",1,"1350-1375 and 1492-1517","X",null,null,null,"X",null,null,"X","X",null,null,83,12,null,"T/R 13-01 Annex A","X",null,null,0.6,18,82,null,null,"X","candidate band for mobile broadband"]
[]
["Portugal","POR",2,"1350-1375 and 1492-1518","X",null,null,null,null,"X",null,null,null,null,null,null,null,9,"T/R 13-01 Annex A","X",null,null,5,"10",25,-100]
[]
["Austria","AUT",3,"1375-1400 and 1427-1452","X",null,null,null,"X",null,null,"X",null,null,null,null,41,null,"T/R 13-01 Annex B","X","X",null,3,20,60]
["Bosnia and Herzegovina","BIH",3,"1375-1400 and 1427-1452","X",null,null,null,"X",null,null,null,"X",null,null,5,null,null,"T/R 13-01 Annex B","X",null,null,0.4,25,70]
["Estonia","EST",3,"1375-1400 and 1427-1452","x",null,null,null,"x",null,null,null,null,null,null,null,null,null,"T/R 13-01 Annex B"]
["Estonia","EST",3,"1375-1400 and 1427-1452","not in use"]
["France","F",3,"1375-1400 and 1427-1452","X",null,null,null,"X",null,null,"X",null,null,null,null,1827,null,"T/R 13-01 Annex B","X",null,null,0.08,20.5,152,null,null,null,"Due to the results of WRC-15, the future use of this band is currently under consideration."]
["France","F",3,"1375-1400 and 1427-1452","X",null,null,null,null,null,null,null,null,null,null,28,null,null,null,"X",null,null,null,7]
["Finland","FIN",3,"1375-1400 and 1427-1452",null,null,null,null,null,null,null,null,null,null,null,null,null,null,null,null,null,null,null,null,null,null,null,"2)",null,"2) MFCN 1427-1452 MHz planned in the beginning of 2019"]
["Hungary","HNG",3,"1375-1400 and 1427-1452","X",null,null,null,"X",null,null,null,null,null,null,null,0,null,"T/R 13-01 Annex B"]
["Netherlands","HOL",{"$f":"VLOOKUP(D33,[1]BandList!$A$2:$B$110,2,FALSE)","v":3},"1375-1400 and 1427-1452","x",null,null,null,"x",null,null,null,null,null,null,null,10,null,"T/R 13-01 Annex B","x",null,null,28,52,82,0]
["Croatia","HRV",3,"1375-1400 and 1427-1452","X",null,null,null,"X",null,null,null,null,null,"X",1,null,null,"National plan","X",null,null,9.33,9.33,9.33,-100,null,"X"]
["Ireland","IRL",3,"1375-1400 and 1427-1452","X",null,null,null,"X",null,null,null,"X",null,null,41,null,null,"T/R 13-01 Annex B",41,null,null,"No min. path length policy"]
["Latvia","LVA",3,"1375-1400 and 1427-1452","X",null,null,null,"X",null,null,"X",null,null,null,null,0,null,"T/R 13-01 Annex B",null,null,null,null,null,null,null,null,"X"]
["Norway","NOR",3,"1375-1400 and 1427-1452","x",null,null,null,null,null,null,null,null,"x",null,null,17,null,null,"x",null,null,1,19,66,null,null,"x"]
["Portugal","POR",3,"1375-1400 and 1427-1452","X",null,null,null,"X","X",null,null,null,null,null,null,null,null,"T/R 13-01 Annex B","X",null,null,null,null,null,"Planned","Planned","Planned","Planned"]
["Sweden","S",3,"1375-1400 and 1427-1452","X",null,null,null,null,null,null,"X",null,null,null,42,34,null,"T/R 13-01 Annex B","X",null,null,0.8,11.5,61.4,-100,null,"X"]
["Switzerland","SUI",3,"1375-1400 and 1427-1452","x",null,null,null,"x",null,null,"x",null,null,null,null,32,null,"T/R 13-01 Annex B","x /analog",null,null,null,null,null,-100,null,"MFCN"]
["Slovak Republic","SVK",3,"1375-1400 and 1427-1452",null,null,null,null,null,null,null,null,null,null,null,null,null,null,null,null,null,null,null,null,null,null,null,null,"SDL"]
["Slovenia","SVN",3,"1375-1400 and 1427-1452","X",null,null,null,"X",null,null,null,"X",null,null,25,0,null,"T/R 13-01 Annex B","X",null,null,2,15,33,null,null,"X","candidate band for mobile broadband"]
[]
["Greece","GRC",4,"1437,5-1465,5 and 1486,5-1514,5",null,"X",null,null,null,"X",null,null,null,null,"rural networks",null,null,null,"National Plan",null,null,null,null,null,null,"reduction",null,null,"licenses expire at 2020"]
[]
["Switzerland","SUI",5,"1440-1500","x",null,null,null,"x",null,null,"x",null,null,null,null,39,null,null,"analog",null,null,null,null,null,-100,null,"MFCN"]
[]
["Latvia","LVA",6,"1492–1506","X",null,null,null,null,"X","X",null,null,null,null,null,null,19,"ITU-R F.701","X",null,null,1,5,10]
[]
["Portugal","POR",7,"1517-1525","X",null,null,null,null,null,null,null,"X",null,null,347,null,null,"National plan (STL)","X",null,null,5,"15",30,5]
[]
["Switzerland","SUI",8,"1518 - 1525","x",null,null,null,"x",null,null,null,"x",null,null,24,null,null,null,"x /analog",null,null,1.1000000000000001,16.7,36.6,0]
[]
["Slovenia","SVN",9,"1518-1530","X",null,null,null,"X",null,null,null,"X",null,null,61,0,null,"national plan","X",null,null,1,10,46,"+10%",null,null,"500 kHz analog FM"]
[]
["UK","G",10,"1672 - 1690",null,null,null,null,"X",null,null,"X",null,null,null,null,2,null,null,"X"]
[]
["Greece","GRC",11,"1700-1709 and 1786-1800","X",null,null,null,null,null,null,null,"X",null,null,192,null,null,"National Plan","X","X",null,"0.7",17,90,"reduction",null,"reallocate the 1785-1800 MHz band for PMSE applications (2014/641/EC)"]
[]
["UK","G",12,"1900-2690","X",null,null,null,null,null,"X","X",null,null,null,null,3,null,null,"X",null,null,null,8]
[]
["Austria","AUT",13,"2025-2110 and 2200-2290","X",null,null,null,"X",null,null,"X","X",null,null,8,null,null,"T/R 13-01 Annex C",null,null,null,null,null,290]
["Bosnia and Herzegovina","BIH",13,"2025-2110 and 2200-2290","X",null,null,null,"X",null,null,null,"X",null,null,25,null,null,"T/R 13-01 Annex C","X","X",null,2,18,55]
["Czech Republic","CZE",13,"2025-2110 and 2200-2290",null,null,null,null,null,null,null,"ENG/OB",null,null,null,null,null,null,"T/R 13-01 Annex C","N/A","N/A","N/A"]
["Czech Republic","CZE",13,"2025-2110 and 2200-2290",null,null,null,null,null,null,null,"ENG/OB",null,null,null,null,null,null,null,"N/A","N/A","N/A"]
["Estonia","EST",13,"2025-2110 and 2200-2290","x",null,null,null,"x",null,null,null,"x",null,null,4,null,null,"T/R 13-01 Annex C","x","x",null,"SAP/SAB"]
["Finland","FIN",13,"2025-2110 and 2200-2290","x",null,null,null,"x",null,null,"x",null,null,null,"N/A",null,null,"ERC/REC 25-10",null,"x",null,null,"N/A",null,null,null,null,null,"temporary use "]
["Greece","GRC",13,"2025-2110 and 2200-2290","X",null,null,null,null,null,null,"X",null,null,null,null,41,null,"T/R 13-01 Annex C","X","X",null,"0.6",22,60,"reduction"]
["Hungary","HNG",13,"2025-2110 and 2200-2290","X",null,null,null,"X",null,null,null,null,null,null,null,0,null,"T/R 13-01 Annex C"]
["Netherlands","HOL",{"$f":"VLOOKUP(D70,[1]BandList!$A$2:$B$110,2,FALSE)","v":13},"2025-2110 and 2200-2290",null,null,null,null,null,null,null,null,null,null,null,null,null,null,"T/R 13-01 Annex C"]
["Ireland","IRL",13,"2025-2110 and 2200-2290","X",null,null,null,"X",null,null,null,null,"X",null,null,28,null,"T/R 13-01 Annex C",7,21,null,"25 km"]
["Latvia","LVA",13,"2025-2110 and 2200-2290","X",null,null,null,"X",null,null,null,null,"X",null,0,0,null,"T/R 13-01 Annex C",null,null,null,null,null,null,null,null,null,"No changes"]
["Malta","MLT",13,"2025-2110 and 2200-2290","X",null,null,null,"X",null,null,null,"X",null,null,7,null,null,"ERC Rec T/R 13-01",null,null,null,7.7,7.7,7.7]
["Malta","MLT",13,"2025-2110 and 2200-2290","X",null,null,null,"X",null,null,null,"X",null,null,4," ",null,"ERC Rec T/R 13-01",null,null,null,3,3.2,3.4]
["Norway","NOR",13,"2025-2110 and 2200-2290",null,"x","x",null,null,null,null,null,null,"x"]
["Portugal","POR",13,"2025-2110 and 2200-2290","X",null,null,null,"X",null,null,null,"X",null,"TCR, SAP/SAB",null,11,null,"T/R 13-01 Annex C","X",null,null,5,"30",190,0]
["Switzerland","SUI",13,"2025-2110 and 2200-2290",null,null,null,null,null,null,null,null,null,"x","No civil use, PMSE",null,null,null,"T/R 13-01 Annex C"]
[]
["Croatia","HRV",14,"2085-2110","X",null,null,null,"X",null,null,null,"X",null,null,189,null,null,"National plan","ANALOG",null,null,0.09,9.5399999999999991,55.74,2]
[]
["Russia","RUS",15,"2400-2483.5","X",null,null,"X","X","X",null,null,null,null,"X\nTelecom operators, industrial process communications",null,8922,4108,null,"X","X","X",0.05,20,70,null,null,null,"Increase of use in P-P FWA networks (TDD). Increase of use in P-MP FWA networks (TDD)of small telecom operators' networks.\n"]
[]
["Austria","AUT",16,"3400-3600","X",null,null,null,null,"X",null,"X",null,null,null,null,null,355,"ERC/REC 14-03","X","X",null,3,15,30]
["Bosnia and Herzegovina","BIH",16,"3400-3600","X",null,null,null,"X",null,null,null,"X",null,null,10,1,null,"ERC/REC 14-03",null,"X","X",2,35,140,null,null,"X"]
["Czech Republic","CZE",16,"3400-3600","X",null,null,null,null,"X",null,null,null,null,null,null,null,236,"see the EFIS","N/A","N/A","N/A"]
["Germany","D",16,"3400-3600",null,"x",null,null,null,"x",null,null,null,null,null,null,null,840,"ERC/REC 14-03",null,"x","x",null,null,null,null,null,"x"]
["Estonia","EST",16,"3400-3600",null,"x",null,null,null,"x",null,"x",null,null,null,null,null,"no info","ERC/REC 14-03"]
["France","F",16,"3400-3600","X",null,null,null,"X",null,"X",null,null,null,null,84,null,null,"ERC/REC 14-03",null,null,null,null,null,null,null,null,"X"]
["Finland","FIN",16,"3400-3600",null,"x",null,null,null,"x",null,"x",null,null,null,null,null,250,"FWA: 3410-3590 MHz, national plan","x",null,null,null,"<8",null,-35,null,"3)",null,"3) MFCN 3400-3800 MHz planned in the beginning of 2019"]
["Greece","GRC",16,"3400-3600",null,"X",null,null,"X","X",null,null,null,null,null,"1 National Coverage License             (2x30 MHz)","1 National Coverage License             (2x30 MHz)","1 National Coverage License             (2x30 MHz)","ECC/DEC/(11)06",null,null,null,null,null,null,"growth",null,"potential future use of the band for 5G networks"]
["Hungary","HNG",16,"3400-3600",null,"X",null,null,"X","X",null,null,null,null,null,null,null,null,"ERC/REC 14-03",null,null,null,null,null,null,null,null,null,null,"Block assignment for MFCN; awarded 2016 summer - currently no usage"]
["Netherlands","HOL",{"$f":"VLOOKUP(D92,[1]BandList!$A$2:$B$110,2,FALSE)","v":16},"3400-3600","x",null,null,null,null,"x",null,null,null,null,null,null,null,13,"ERC/REC 14-03",null,"x","x",null,null,null,null,null,"x"]
["Croatia","HRV",16,"3400-3600",null,"X",null,null,null,"X",null,null,null,null,null,null,null,5,"ERC/REC 14-03",null,"X",null,null,null,null,null,null,"X"]
["Ireland","IRL",16,"3400-3600","X (FWALA licences issues on case by case basis)",null,null,null,null,"X",null,null,null,null,"Wireless broadband provision",null,null,268,"ERC/REC 14-03",null,null,null,"N/A",null,null,null,null,"X "]
["Latvia","LVA",16,"3400-3600","X",null,null,null,"X","X","X","X",null,null,null,0,0,31,"ERC/REC 14-03",null,"X",null,1,10,25,0.1]
["Malta","MLT",16,"3400-3600","X",null,null,null,"X",null,null,"X",null,null,"Telecomms infrastructure backhaul",null,1,null,"ERC Rec 14-03",null,null,null,9.1,9.1,9.1,-1]
["Norway","NOR",16,"3400-3600",null,"x",null,null,"x","x",null,null,null,null,null,null,null,null,"ERC/REC 14-03"]
["Portugal","POR",16,"3400-3600",null,"X",null,null,null,"X",null,null,null,null,"BWA (3.3 - 3.6GHz)",null,null,44,"ERC/REC 14-03","X","X",null,1,"10",20,-50]
["Russia","RUS",16,"3400-3600","X",null,null,null,"X","X",null,null,"X",null,"WiMAX","under 0.1%",200,4000,"For RRLs - National Plan","X","X",null,20,50,80,null,null,null,"Use in telecom operators' infrastructure, broadcasting infrastructure, and industrial process communications. The number of RRL station is expected to decrease because the frequency band 3400-3600 MHz has been identified for IMT. "]
["Sweden","S",16,"3400-3600",null,"X",null,null,null,null,null,null,null,null,null,null,"N/A",null,"ERC/REC 14-03"]
["Switzerland","SUI",16,"3400-3600","x",null,null,null,null,"x",null,"x",null,null,null,null,null,null,"ERC/REC 14-03",null,null,null,null,null,null,null,null,"MFCN","PMSE"]
["Slovak Republic","SVK",16,"3400-3600",null,"X",null,null,null,"X",null,null,null,null,null,null,null,450,"ERC/REC 14-03",null,"X"]
["Slovenia","SVN",16,"3400-3600",null,"X",null,null,null,"X",null,"X",null,"X",null,null,null,10,"ERC/REC 14-03",null,"X"]
["Turkey","TUR",16,"3400-3600",null,"x",null,null,null,"x",null,"x",null,null,null,null,null,1276,"ERC/REC 14-03"]
[]
["UK","G",17,"3480 – 3500//3580 – 3600; 3605 – 3689//3925 – 4009\n\n\n",null,"X"]
[]
["Bulgaria","BUL",18,"3600-3800","X",null,null,null,"X",null,null,"X",null,null,null,0,14,null,"ERC/REC 12-08, Annex B, Part 2",null,"X",null,13,51,73,null,null,null,"Reallocate to another suitable frequency band"]
["Croatia","HRV",18,"3600-3800","X",null,null,null,"X",null,null,null,null,null,"ENG/OB",null,7,null,"National plan",null,"X",null,null,null,null,-100,null,"X"]
[]
["Austria","AUT",19,"3600-4200","X",null,null,null,"X",null,"X",null,null,null,null,null,34,null,"ERC/REC 12-08",null,"X",null,13,50,100]
["Bosnia and Herzegovina","BIH",19,"3600-4200","X",null,null,null,"X",null,null,null,"X",null,null,27,28,null,"ERC/REC 12-08",null,null,"X",9,60,99,"+50"]
["Czech Republic","CZE",19,"3600-4200","X",null,null,null,"X",null,null,null,null,null,null,null,209,null,"see the EFIS","N/A","N/A","N/A",null,"31.7km"]
["Czech Republic","CZE",19,"3600-4200",null,"X",null,null,null,"X",null,null,null,null,"auction in preparation",null,null,0,null,"N/A","N/A","N/A"]
["Germany","D",19,"3600-4200",null,"x",null,null,null,"x",null,null,null,null,null,null,null,110,"ERC/REC 12-08",null,"x","x",null,null,null,null,null,"x"]
["Germany","D",19,"3600-4200","x",null,null,null,"x",null,null,null,null,null,null,null,90,null,null,null,null,"x",20,42,65,"-"]
["Estonia","EST",19,"3600-4200",null,"x",null,null,null,"x",null,"x",null,null,null,null,null,"no info","ERC/REC 12-08"]
["Finland","FIN",19,"3600-4200","x",null,null,null,"x",null,null,null,"x",null,null,164,32,null,"ERC/REC 12-08",null,"x","x",20,">30",null,null,null,"3)",null,"3) MFCN 3400-3800 MHz planned in the beginning of 2019"]
["Hungary","HNG",19,"3600-4200",null,null,null,null,null,null,null,null,null,null,null,null,17,null,"ERC/REC 12-08",null,null,null,null,null,null,null,null,null,null,"3600-3800 MHz band: awarded 2016 summer; Block assignment for MFCN; currently no usage; 3800-4200 MHz: 17 bidirectional links"]
["Netherlands","HOL",{"$f":"VLOOKUP(D120,[1]BandList!$A$2:$B$110,2,FALSE)","v":19},"3600-4200","x",null,null,null,null,"x",null,null,null,null,null,null,null,73,"ERC/REC 12-08",null,"x","x",null,null,null,"+",null,"x"]
["Netherlands","HOL",{"$f":"VLOOKUP(D121,[1]BandList!$A$2:$B$110,2,FALSE)","v":19},"3600-4200",null,null,null,null,"x"]
["Ireland","IRL",19,"3600-4200","X (FWALA licences issues on case by case basis)",null,null,null,null,"X",null,null,null,null,"Wireless broadband provision",null,null,"268 (3400 - 3800 MHz)","ERC/REC 12-08",null,null,null,"N/A",null,null,null,null,"X "]
["Latvia","LVA",19,"3600-4200","X",null,null,null,"X","X","X","X",null,null,null,0,5,106,"ERC/REC 12-08",null,"X",null,1,10,25,0.1]
["Norway","NOR",19,"3600-4200",null,"x",null,null,null,"x",null,null,null,null,null,null,null,null,"ERC/REC 12-08"]
["Portugal","POR",19,"3600-4200",null,"X",null,null,null,"X",null,null,null,null,"FSS, VSAT (3.8-4.2 GHz)",null,null,"2zax","ERC/REC 12-08","X","X",null,1,"10",20,-100]
["Russia","RUS",19,"3600-4200","X",null,null,null,"X",null,"X","X","X",null,"X\nTelecom operators, industrial process communications",null,400,null,"For RRLs - ITU-R Rec.\nF.635\nF.382","X","X","X",20,50,80,null,null,null,"Increase of  use in long-distance multi-hop links in mobile backhaul, broadcasting and telecom operators' infrastructure, and for industrial process communications."]
["Sweden","S",19,"3600-4200",null,"X",null,null,null,null,null,null,null,null,null,null,"N/A",null,"ERC/REC 12-08",null,null,null,null,null,null,null,null,"?"]
["Switzerland","SUI",19,"3600-4200","x",null,null,null,null,"x",null,"x",null,null,null,null,null,null,"ERC/REC 12-08",null,null,null,null,null,null,null,null,"MFCN"]
["Slovak Republic","SVK",19,"3600-4200",null,"X",null,null,null,"X",null,null,null,null,null,null,null,668,"ERC/REC 12-08",null,"X"]
[]
["UK","G",20,"3689-3875//4009-4195","x",null,null,null,"x",null,"X","X","X",null,null,null,65,null,"ERC/REC 12-08 Annex A Part 2",null,null,"X",null,37]
[]
["Bulgaria","BUL",21,"3800-4200","X",null,null,null,"X",null,null,null,null,null,null,0,0,null,"ERC/REC 12-08, Annex B, Part 1","-","-","-","-","-","-"]
["Greece","GRC",21,"3800-4200","Χ",null,null,null,null,null,null,"X",null,null,null,null,144,null,"ERC/REC 12-08",null,"X","Χ",11,64,101,"reduction"]
["Croatia","HRV",21,"3800-4200","X",null,null,null,"X",null,null,null,"X",null,null,null,67,null,"ERC/REC 12-08",null,null,"X",20.27,60.33,91.57]
["Slovenia","SVN",21,"3800-4200","X",null,null,null,"X",null,null,null,"X",null,null,0,19,null,"ERC/REC 12-08",null,null,"X",27,57,69]
["Turkey","TUR",21,"3800-4200","x",null,null,null,null,null,null,null,null,null,null,null,172,null,"ERC/REC 12-08",null,null,null,"<1",33,72]
[]
["Austria","AUT",22,"4400-5000","X",null,null,null,null,null,null,null,"X",null,"X",10,1,null,"national",null,"X",null,22,22,22]
["Czech Republic","CZE",22,"4400-5000",null,null,null,null,null,null,null,"SAP/SAB",null,null,null,null,null,null,null,"N/A","N/A","N/A"]
["Czech Republic","CZE",22,"4400-5000",null,null,null,null,null,null,null,"SAP/SAB",null,null,null,null,null,null,null,"N/A","N/A","N/A"]
["Estonia","EST",22,"4400-5000","x"]
["Latvia","LVA",22,"4400-5000",null,null,null,null,null,null,null,null,null,null,null,null,null,null,null,null,null,null,null,null,null,null,null,null,null,"Exclusive Military Band Within the Band 4400-5000 MHz"]
["Portugal","POR",22,"4400-5000",null,null,null,null,null,null,null,null,null,null,"Military"]
["Russia","RUS",22,"4400-5000","X",null,null,null,"X",null,null,"X",null,null,"X\nTelecom operators, industrial process communications",null,310,null," ITU-R Rec. F.1099\nF.746",null,null,"X",10,45,80,null,null,null,"Use in telecom operators' infrastructure and industrial process communications. \nThe increase of the total number of RRLs is expected to stop becuase the frequency band 4800-4990 MHz has been identified for IMT. "]
["Switzerland","SUI",22,"4400-5000",null,null,null,null,null,null,null,null,null,"x","No civil use"]
[]
["Russia","RUS",23,"5150-5350","X",null,null,null,"X","X",null,null,null,null,"X\nTelecom operators, industrial process communications",null,1282,5419,null,"X","X","X",0.5,20,30,null,null,null,"Increase of  use in P-P FWA networks (TDD).\nIncrease of  use in P-MP FWA networks (TDD) in small telecom operators' networks."]
[]
["Russia","RUS",24,"5650-5850","X",null,null,null,"X","X",null,null,null,null,"X\nTelecom operators, industrial process communications",null,2258,3802,"For RRLs - National Plan","X","X","X",0.05,20,32,null,null,null,"Increase of  use in P-P FWA networks (TDD).\nIncrease of  use in P-MP FWA networks (TDD) in small telecom operators' networks."]
[]
["Greece","GRC",25,"5725-5795",null,null,"X",null,"X","X",null,null,null,null,null,null,null,25,"ECC/DEC/(06)04",null,null,null,null,null,null,"growth"]
[]
["Austria","AUT",26,"5850-5925","X",null,null,null,"X",null,"X",null,null,null,null,null,13,null,"national",null,"X",null,4,42,68]
["Estonia","EST",26,"5850-5925",null,"x"]
["Estonia","EST",26,"5850-5925","not in use",null,null,null,null,"x"]
["Ireland","IRL",26,"5850-5925",null,null,"X (5725 - 5875 MHz)",null,null,"X",null,"X",null,null,null,null,null,"106 stations registered for use of the entire band 5725 - 5875 MHz",null,null,null,null,"N/A"]
["Latvia","LVA",26,"5850-5925",null,null,null,null,null,null,null,null,null,null,null,null,null,null,null,null,null,null,null,null,null,null,null,null,null,"Currently not in use by Fixed service"]
["Norway","NOR",26,"5850-5925",null,null,null,"x"]
["Portugal","POR",26,"5850-5925",null,null,null,"X",null,null,null,null,null,null,"ISM, SRD"]
["Russia","RUS",26,"5850-5925","X",null,null,null,"X","X",null,null,null,null,"X Telecom operators, industrial process communications",null,800,1150,"For RRLs - National Plan","X","X","X",1,10,40,null,null,null,"Increase of  use in P-P FWA networks (TDD).\nIncrease of  use in P-MP FWA networks (TDD) in small telecom operators' networks."]
["Switzerland","SUI",26,"5850-5925",null,null,null,"x","x","x",null,null,null,"x"]
[]
["UK","G",27,"5925-6425","X",null,null,null,"X",null,"X","X","X",null,null,31,305,null,"ERC/REC 14-01 ",null,"X","X",null,40]
["Bulgaria","BUL",28,"5925-6425","X",null,null,null,"X",null,"X","X",null,null,null,0,232,null,"ERC/REC 14-01, Annex 1",null,null,"X",6,32,70,null,"X",null,"Currently congested for area of capital - Sofia"]
["Greece","GRC",28,"5925-6425","X",null,null,null,null,null,"X","X","X",null,null,7,324,null,"ERC/REC 14-01 ",null,"X","X",7,40,98,"growth"]
["Croatia","HRV",28,"5925-6425","X",null,null,null,"X",null,"X",null,"X",null,null,null,74,null,"ERC/REC 14-01",null,null,"X",10.7,33.72,70.930000000000007]
["Russia","RUS",28,"5925-6425","X",null,null,null,"X","X","X",null,null,null,"X\nTelecom operators, industrial process communications",null,4500,5300,"Для РРЛ- ITU-R Rec. F.383","X","X","X",1,10,50,null,null,null,"Increase of use in P-P FWA networks (TDD).\nIncrease of use in P-MP FWA networks (TDD) in small telecom operators' networks.\nModerate use in mobile backhaul (outside major populated areas), in telecom operators' infrastructure, and for industrial process communications.\n"]
["Slovenia","SVN",28,"5925-6425","X",null,null,null,"X",null,"X","X",null,null,null,0,12,null,"ERC/REC 14-01 ",null,"X","X",10,21,33]
[]
["Austria","AUT",29,"5925-7125","X",null,null,null,"X",null,"X","X","X",null,null,null,313,null,"ERC/REC 14-01 and ERC/REC 14-02, ECC/REC(14)06",null,null,"X",5,45,70]
["Bosnia and Herzegovina","BIH",29,"5925-7125","X",null,null,null,"X",null,null,"X",null,null,null,5,216,null,"ERC/REC 14-01 and ERC/REC 14-02, ECC/REC(14)06",null,null,"X",2,58,140]
["Czech Republic","CZE",29,"5925-7125","X",null,null,null,"X",null,null,null,null,null,null,null,582,null,"see the EFIS","N/A","N/A","N/A",null,"31.5km"]
["Germany","D",29,"5925-7125","x",null,null,null,"x",null,null,null,null,null,null,null,3500,null,"ERC/REC 14-01 and ERC/REC 14-02, ECC/REC(14)06",null,"x","x",15,40,67,null,"x"]
["Estonia","EST",29,"5925-7125","x",null,null,null,"x",null,"x",null,null,null,null,5,null,null,"ERC/REC 14-01 and ERC/REC 14-02, ECC/REC(14)06",null,"x",null,null,80]
["France","F",29,"5925-7125","X",null,null,null,"X",null,"X","X",null,null,null,null,4171,null,"ERC/REC 14-01 and ERC/REC 14-02, ECC/REC(14)06",null,"X","X",2,29,109,null,"X"]
["Finland","FIN",29,"5925-7125","x",null,null,null,"x",null,"x","x","x",null,null,0,646,null,"ERC/REC 14-01 and ERC/REC 14-02, ECC/REC(14)06",null,"x","x",10,"19.7","63.1","+ 50","x",null,"upper 6 GHz congested in some areas"]
["Hungary","HNG",29,"5925-7125","X",null,null,null,"X",null,null,null,null,null,null,null,135,null,"ERC/REC 14-01 and ERC/REC 14-02",null,null,"X",null,60]
["Netherlands","HOL",{"$f":"VLOOKUP(D179,[1]BandList!$A$2:$B$110,2,FALSE)","v":29},"5925-7125","x",null,null,null,"x",null,"x","x",null,null,null,null,64,null,"ERC/REC 14-01 and ERC/REC 14-02, ECC/REC(14)06",null,null,"x",40,45,52,null,"x"]
["Italy",{"$f":"VLOOKUP(A180, '[1]Country names'!$A$5:$C$53,3,FALSE)","v":"I"},{"$f":"VLOOKUP(D180,[1]BandList!$A$2:$B$110,2,FALSE)","v":29},"5925-7125","X",null,null,null,"X",null,"X","X","X",null,null,null,1319,null,"ERC/REC 14-01 and ERC/REC 14-02, ECC/REC(14)06",0,591,728,6.3869999999999996,31.5,59.38,"+10/20"]
["Ireland","IRL",29,"5925-7125","X",null,null,null,"X",null,null,null,null,"X",null,null,208,null,"ERC/REC 14-01 and ERC/REC 14-02, ECC/REC(14)06",null,null,208,"25 km"]
["Latvia","LVA",29,"5925-7125","X",null,null,null,"X",null,"X","X","X",null,null,null,105,null,"ERC/REC 14-01 and ERC/REC 14-02",null,"X","X",20,30,51,0.1]
["Malta","MLT",29,"5925-7125","X",null,null,null,"X",null,null,"X",null,null,"Telecomms infrastructure backhaul",null,7,null,"ERC Rec 14-01 and ERC Rec 14-02,",null,null,null,19.7,20.6,21.5]
["Norway","NOR",29,"5925-7125","x","x",null,null,null,null,null,null,"x","x",null,0,1666,0,null,null,null,null,2,24,123,5]
["Portugal","POR",29,"5925-7125","X",null,null,null,"X",null,"X","X",null,null,"VSAT, SRD",null,6,null,"ERC/REC 14-01",null,"X","X",15,"30",70,5]
["Portugal","POR",30,"5925-7125","X",null,null,null,"X",null,"X","X",null,null,"VSAT, SRD",null,7,null,"ERC/REC 14-02",null,"X","X",15,"30",70,5]
["Portugal","POR",31,"5925-7125","X",null,null,null,"X",null,null,null,null,null,"VSAT, SRD",null,null,null,"ECC/REC(14)06","X",null,null,10,"20",70,"Planned","Planned","Planned","Planned"]
["Sweden","S",29,"5925-7125","X",null,null,null,null,null,null,null,"X",null,null,null,928,null,"ERC/REC 14-01 and ERC/REC 14-02, ECC/REC(14)06",null,null,"X",9.3000000000000007,42.2,85.95,50,null,null,"X"]
["Switzerland","SUI",29,"5925-7125","x",null,null,null,"x",null,"x","x","x",null,null,null,46,null,"ERC/REC 14-01 and ERC/REC 14-02, ECC/REC(14)06",null,null,"x",20.2,46.7,75.900000000000006,20]
["Slovak Republic","SVK",29,"5925-7125","X",null,null,null,"X",null,"X",null,null,null,null,null,null,70,"ERC/REC 14-01 and ERC/REC 14-02, ECC/REC(14)06",null,null,"X",8,25,54.6,5]
["Turkey","TUR",29,"5925-7125","x",null,null,null,"x",null,null,null,null,null,null,null,1387,null,"ERC/REC 14-01 and ERC/REC 14-02",null,null,null,"<1",35,96]
[]
["Greece","GRC",33,"6425-7110","X",null,null,null,null,null,"X","X","X",null,null,9,367,null,"ERC/REC 14-02",null,null,"X",7,45,123,"growth"]
[]
["Bulgaria","BUL",34,"6425-7125","X",null,null,null,"X",null,"X","X",null,null,null,0,228,null,"ERC/REC 14-02, Annex 1",null,null,"X",9,30,97,null,"X",null,"Currently congested for area of capital - Sofia"]
["Croatia","HRV",34,"6425-7125","X",null,null,null,"X",null,"X",null,"X",null,null,null,29,null,"ERC/REC 14-02",null,null,"X",16.12,40.5,71.33]
["Russia","RUS",34,"6425-7125","X",null,null,null,"X",null,"X","X",null,null,"X Telecom operators, industrial process communications",null,1050,null,"ITU-R Rec. F.384",null,null,"X",5,40,70,null,null,null,"Increase of use in long-distance multi-hop links in mobile backhaul, telecom operators' infrastructure, and for industrial process communications. "]
["Slovenia","SVN",34,"6425-7125","X",null,null,null,"X",null,null,"X",null,null,null,0,1,null,"ERC/REC 14-02",null,"X",null,39,39,39]
["UK","G",32,"6425-7125","X",null,null,null,"X",null,"X","X","X",null,null,23,519,null,"ERC/REC 14-02, ITU-R Rec. F.384",null,"X","X",null,34]
[]
["Bulgaria","BUL",35,"7125-7425","X",null,null,null,"X",null,"X","X",null,null,null,0,73,null,"ITU-R F.385-8",null,"X","X",20,35,59,"+25 %"]
["Greece","GRC",35,"7125-7425","X",null,null,null,null,null,null,"X","X",null,null,10,16,null,"ITU-R REC F.385-10","X",null,null,0.5,16,56]
["Croatia","HRV",35,"7125-7425","X",null,null,null,"X",null,null,"X",null,null,null,null,14,null,"ECC REC (02)06","X","X",null,3.76,37.159999999999997,85.56]
["Slovenia","SVN",35,"7125-7425","X",null,null,null,"X",null,"X",null,"X",null,null,0,85,null,"ECC REC (02)06",null,null,"X",2,29,72]
["Turkey","TUR",35,"7125-7425","x",null,null,null,"x",null,null,null,null,null,null,null,2231,null,"ECC REC (02)06 Annex 2.1"]
[]
["Austria","AUT",36,"7125-7750","X",null,null,null,"X",null,"X","X","X",null,null,null,530,null,"ECC REC (02)06",null,"X","X",1,40,78]
["Bosnia and Herzegovina","BIH",36,"7125-7750","X",null,null,null,"X",null,null,"X",null,null,null,12,144,null,"ECC REC (02)06",null,null,"X",4,30,53,"+5"]
["Czech Republic","CZE",36,"7125-7750","X",null,null,null,"X",null,null,null,null,null,null,null,446,null,"see the EFIS","N/A","N/A","N/A",null,"24.4km"]
["Germany","D",36,"7125-7750","x",null,null,null,"x",null,null,null,null,null,null,null,4430,null,"ECC REC (02)06",null,"x","x",15,28,90,null,"x"]
["Estonia","EST",36,"7125-7750","x",null,null,null,"x",null,"x",null,null,null,null,43,null,null,"ECC REC (02)06",null,"x",null,10,30,55]
["Finland","FIN",36,"7125-7750","x",null,null,null,"x",null,"x","x",null,null,null,0,363,null,"Modified ITU-R F.385",null,"x","x",10,"29.4","74.9",-25,null,null,null,"7125-7425 MHz subband for non-civil FS, 7427-7725 MHz subband for civil FS"]
["Hungary","HNG",36,"7125-7750","X",null,null,null,"X",null,null,"X",null,null,null,null,205,null,"ECC REC (02)06",null,"X",null,null,40]
["Netherlands","HOL",{"$f":"VLOOKUP(D214,[1]BandList!$A$2:$B$110,2,FALSE)","v":36},"7125-7750","x",null,null,null,"x",null,"x","x",null,null,null,null,101,null,"ECC REC (02)06","x","x","x",8,22,60,"+","x"]
["Italy",{"$f":"VLOOKUP(A215, '[1]Country names'!$A$5:$C$53,3,FALSE)","v":"I"},{"$f":"VLOOKUP(D215,[1]BandList!$A$2:$B$110,2,FALSE)","v":36},"7125-7750","X",null,null,null,"X",null,"X","X","X",null,null,null,3379,null,"ECC REC (02)06",4,2172,1203,4.593,31.25,57.98,"+10/20"]
["Ireland","IRL",36,"7125-7750","X",null,null,null,"X",null,null,null,null,"X",null,null,270,null,"ECC REC (02)06",12,31,227,"25 km"]
["Latvia","LVA",36,"7125-7750","X",null,null,null,"X",null,"X","X",null,null,null,null,110,null,"ECC REC (02)06",null,"X","X",10,35,55,0.2]
["Malta","MLT",36,"7125-7750","X",null,null,null,"X",null,"X","X","X",null,"Telecomms infrastructure backhaul",3,12,null,"ECC Rec (02)06",null,"X","X",1.6,13,25,0.13]
["Norway","NOR",36,"7125-7750","x",null,null,null,null,null,"x",null,null,"x",null,0,622,null,null,"x","x","x",3,32,106,5]
["Portugal","POR",36,"7125-7750","X",null,null,null,"X",null,null,"X",null,null,"FSS, Military (7.25-7.3 GHz)",null,4,null,"7 LOW: ITU-R F.385","X",null,null,15,"30",50,-100]
["Portugal","POR",37,"7125-7750","X",null,null,null,"X",null,"X",null,null,null,"FSS, Military (7.25-7.3 GHz)",null,286,null,"7 LOW: ECC REC (02)06","X","X","X",10,"25",40,10]
["Portugal","POR",38,"7125-7750","X",null,null,null,"X",null,null,"X",null,null,"FSS",null,4,null,"7 HIGH: ITU-R F.385","X",null,null,15,"30",50,-100]
["Portugal","POR",39,"7125-7750","X",null,null,null,"X",null,"X","X",null,null,"FSS",null,103,null,"7 HIGH: ECC REC (02)06","X","X","X",10,"25",40,10]
["Sweden","S",36,"7125-7750","X",null,null,null,null,null,"X","X","X",null,null,null,509,null,"ECC REC (02)06","X","X","X",4.2,27.7,70.5,25,"X"]
["Switzerland","SUI",36,"7125-7750","x",null,null,null,"x",null,"x","x","x",null,null,null,90,null,"ECC REC (02)06",null,"x","x",11.1,30.1,56.5,10]
["Slovak Republic","SVK",36,"7125-7750","X",null,null,null,"X",null,null,null,null,null,null,null,97,null,"ECC REC (02)06","X","X","X",13.2,25,59.3,30]
[]
["Russia","RUS",40,"7250-7550","X",null,null,null,"X",null,"X","X","X",null,"X\nTelecom operators, industrial process communications",null,10890,null,"ITU-R Rec. F.385","X","X","X",1,35,65,null,null,null,"Increase of use, most of all in mobile backhaul (outside major populated areas) and in telecom operators' infrastructure and in industrial process communications."]
[]
["Bulgaria","BUL",42,"7425-7725","X",null,null,null,"X",null,"X",null,null,null,null,0,404,null,"ITU-R F.385-8","X","X","X",18,30,98,"+25 %"]
["Greece","GRC",42,"7425-7725","X",null,null,null,null,null,"X","X",null,null,null,null,1057,null,"ECC REC (02)06","X","X","X",0.6,30,98,"stable"]
["Croatia","HRV",42,"7425-7725","X",null,null,null,"X",null,"X","X","X",null,null,null,181,null,"ECC REC (02)06",null,"X","X",7.08,32,88.87,20,"X"]
["Slovenia","SVN",42,"7425-7725","X",null,null,null,"X",null,"X","X","X",null,null,0,39,null,"ECC REC (02)06",null,"X","X",6,23,53,null,"X"]
[]
["Turkey","TUR",43,"7425-7900","x",null,null,null,"x",null,null,null,null,null,null,null,3766,null,"ECC REC (02)06 Annex 2.2"]
["UK","G",41,"7425-7900","X",null,null,null,"X",null,"X","X","X",null,null,51,1097,null,"ITU-R REC. F.385-9 Annex 4","X","X","X",null,32]
[]
["Bulgaria","BUL",44,"7725-7827,5","X",null,null,null,"X",null,"X",null,null,null,null,0,454,null,"ITU-R F.386-9 and national plan","X","X","X",7,22,58,"+10 %"]
[]
["Bosnia and Herzegovina","BIH",46,"7750-7900","X",null,null,null,"X",null,"X","X",null,null,null,40,156,null,"ECC REC (02)06",null,null,"X",3,50,80,"+8"]
["Estonia","EST",46,"7750-7900","x",null,null,null,"x"]
["Hungary","HNG",46,"7750-7900","X",null,null,null,"X",null,null,null,"X",null,null,null,0,null,"ECC REC (02)06",null,"X",null,null,40]
["Ireland","IRL",46,"7750-7900","X",null,null,null,"X",null,null,null,null,"X",null,null,208,null,null,null,10,198,"25 km"]
["Latvia","LVA",46,"7750-7900","X",null,null,null,"X",null,"X","X",null,null,null,null,35,null,"ECC REC (02)06",null,"X","X",10,35,50,0.2]
["Norway","NOR",46,"7750-7900","x",null,null,null,null,null,null,null,null,"x",null,0,3,null,null,null,null,null,null,40]
["Portugal","POR",46,"7750-7900","X",null,null,null,"X",null,"X","X",null,null,null,null,141,null,"8 LOW: ECC REC (02)06",null,"X","X",10,"25",50,10]
["Switzerland","SUI",46,"7750-7900",null,null,null,null,null,null,null,null,null,"x","No civil use"]
["Slovak Republic","SVK",46,"7750-7900","X",null,null,null,"X",null,null,null,null,null,null,null,23,null,"ccir rec 385-6","X","X",null,11.45,25,55.2,40]
[]
["Russia","RUS",47,"7900-8400","X",null,null,null,"X",null,"X","X","X",null,"X\nTelecom operators, industrial process communications",null,11540,null,"ITU-R Rec. F.386","X","X","X",1,35,65,null,null,null,"Increase of use, most of all in mobile backhaul (outside major populated areas) and in telecom operators' infrastructure and in industrial process communications."]
[]
["Greece","GRC",45,"7725-8275","X",null,null,null,null,null,"X","X",null,null,null,null,1058,null,"ITU-R REC F.386-9",null,"X","X",5,43,102,"reduction"]
["Croatia","HRV",45,"7725-8275","X",null,null,null,"X",null,null,null,"X",null,null,null,137,null,"ECC REC (02)06",null,null,"X",21.14,52.3,91.57,2]
["Slovenia","SVN",45,"7725-8275","X",null,null,null,"X",null,null,null,"X",null,null,0,48,null,"ECC REC (02)06",null,null,"X",2,27,50]
[]
["Estonia","EST",48,"7900-8500","x",null,null,null,"x",null,"x",null,null,null,null,22,null,null,"ECC REC (02)06",null,"x",null,7,28,47]
["France","F",48,"7900-8500","X",null,null,null,"X",null,"X","X","X",null,null,null,2331,null,"ECC REC (02)06","X","X","X",0.15,18,81]
["Finland","FIN",48,"7900-8500","x",null,null,null,null,null,"x","x",null,null,null,0,4,null,"ECC REC (02)06",null,null,"x",10,"15.4","17.1"]
["Finland","FIN",48,"7900-8500",null,"x",null,null,null,null,null,null,"x",null,null,"N/A","N/A",null,"video links, national plan",null,"x",null,null,"N/A"]
["Hungary","HNG",48,"7900-8500","X",null,null,null,"X",null,null,null,null,null,null,null,0,null,"ECC REC (02)06"]
["Netherlands","HOL",{"$f":"VLOOKUP(D261,[1]BandList!$A$2:$B$110,2,FALSE)","v":48},"7900-8500",null,null,null,null,null,null,null,null,null,null,null,null,null,null,"ECC REC (02)06"]
["Ireland","IRL",48,"7900-8500","X",null,null,null,"X",null,null,null,null,"X",null,null,12,null,"ECC REC (02)06",8,4,null,"25 km"]
["Latvia","LVA",48,"7900-8500","X",null,null,null,"X",null,"X","X",null,null,null,null,410,null,"ECC REC (02)06",null,"X","X",8,25,45,0.1]
["Malta","MLT",48,"7900-8500","X",null,null,null,"X",null,"X","X",null,null,"Telecomms infrastructure backhaul"," ",3,null,"ECC Rec (02)06",null,null,"X",2.9,15.6,28.3," "]
["Norway","NOR",48,"7900-8500",null,"x",null,null,"x",null,null,null,null,"x",null,0,1100,null,null,null,"x"]
["Portugal","POR",48,"7900-8500","X",null,null,null,"X",null,null,null,null,null,"FSS, EESS, Military (7.975-8.025 GHz)",null,null,null,"8 HIGH: ECC REC (02)06","X","X",null,null,null,null,"Planned","Planned","Planned","Planned"]
["Sweden","S",48,"7900-8500","X",null,null,null,null,null,"X","X","X",null,null,null,1823,null,"ECC REC (02)06",null,"X","X",5.4,24.8,79.599999999999994,25,"X"]
["Switzerland","SUI",48,"7900-8500",null,null,null,null,null,null,null,null,null,"x","No civil use",null,null,null,"ECC REC (02)06"]
["Turkey","TUR",48,"7900-8500","x",null,null,null,"x",null,null,null,null,null,null,null,1323,null,"ECC REC (02)06 Annex 2.3"]
[]
["Greece","GRC",49,"8275-8500","X",null,null,null,null,null,"X","X",null,null,null,null,111,null,"ECC REC (02)06","X","X","X",9,35,79,"reduction"]
["Croatia","HRV",49,"8275-8500","X",null,null,null,"X",null,null,"X","X",null,null,null,10,null,"ECC REC (02)06",null,"X","X",22.07,44,64.66]
["Slovenia","SVN",49,"8275-8500","X",null,null,null,"X",null,"X",null,null,null,null,0,1,null,"ECC REC (02)06",null,null,"X",28,28,28]
[]
["Austria","AUT",50,"10000-10680","X",null,null,null,"X",null,"X","X","X",null,null,null,133,null,"ERC/REC 12-05",null,"X",null,1,30,80]
["Bosnia and Herzegovina","BIH",50,"10000-10680","X",null,null,null,"X",null,null,null,"X",null,null,87,null,null,"ERC/REC 12-05","X","X",null,0.3,25,99,"+10"]
["Czech Republic","CZE",50,"10000-10680",null,null,null,"X",null,null,null,null,null,null,null,null,"N/A",null,"national plan for 10,301–10,42 GHz and 10,476–10,588 GHz","N/A","N/A","N/A"]
["Czech Republic","CZE",50,"10000-10680",null,null,null,null,null,null,null,"ENG/OB",null,null,null,null,null,null,"10,42–10,476 GHz and 10,588–10,644 GHz","N/A","N/A","N/A"]
["Czech Republic","CZE",50,"10000-10680","X",null,null,null,"X",null,null,null,null,null,null,1,null,null,"see the EFIS","N/A","N/A","N/A"]
["Estonia","EST",50,"10000-10680","not in use",null,null,null,null,null,null,null,null,null,null,null,null,null,"ERC/REC 12-05"]
["Finland","FIN",50,"10000-10680","x",null,null,null,"x",null,null,"x","x",null,null,3,0,null,"ERC/REC 12-05",null,null,null,"0.1","5.1","14.2"]
["Greece","GRC",50,"10000-10680","X",null,null,null,null,null,null,null,"X",null,null,74,null,null,"National Plan","X","X",null,3,14,40,"reduction"]
["Hungary","HNG",50,"10000-10680","X",null,null,null,"X",null,null,null,"X",null,null,58,null,null,"ERC/REC 12-05",null,"X",null,null,20]
["Netherlands","HOL",{"$f":"VLOOKUP(D284,[1]BandList!$A$2:$B$110,2,FALSE)","v":50},"10000-10680",null,null,null,null,null,null,null,null,null,null,null,null,null,null,"ERC/REC 12-05"]
["Ireland","IRL",50,"10000-10680","X (FWALA licences issues on case by case basis)",null,null,null,null,"X",null,null,null,null,"Wireless broadband provision",null,null,35,"ERC/REC 12-05",null,null,null,"N/A"]
["Latvia","LVA",50,"10000-10680","X",null,null,null,"X",null,null,"X",null,null,null,null,20,null,"ERC/REC 12-05","X","X",null,5,10,20,-0.2]
["Latvia","LVA",50,"10000-10680",null,"X",null,null,null,"X",null,"X",null,null,null,null,null,65,null,null,"X",null,1,5,15,0.1]
["Malta","MLT",50,"10000-10680","X",null,null,null,"X",null,null,null,"X",null,null,4,1,null,"ERC Rec 12-05",null,null,null,3,4.8,7.3," "]
["Norway","NOR",50,"10000-10680",null,"x",null,null,"x",null,null,null,null,"x",null,0,174,null,null,null,null,null,null,null,null,5]
["Portugal","POR",50,"10000-10680",null,null,null,null,null,null,null,null,null,null,"AM, SAP/SAB, SRD",null,null,null,"ERC/REC 12-05"]
["Russia","RUS",50,"10000-10680","X",null,null,null,"X","X",null,null,null,null,"X\nTelecom operators",null,230,600,"For RRLs - ITU-R Rec. \nF.747,\nfor FWA - ITU-R Rec. F.1568, СЕPТ/ERC/REC 12-05Е","X","X","X",1,25,45,null,null,null,"Use in existing telecom operators' communications networks."]
["Sweden","S",50,"10000-10680",null,"X",null,null,null,null,"X","X",null,null,null,null,"N/A",null,"ERC/REC 12-05"]
["Switzerland","SUI",50,"10000-10680","x",null,null,null,"x",null,null,"x","x",null,null,null,66,null,"ERC/REC 12-05",null,"x",null,6.6,20.399999999999999,42.5,30]
["Slovak Republic","SVK",50,"10000-10680","X","X",null,null,"X","X",null,"X",null,null,null,4,54,184,"ERC/REC 12-05","X","X",null,0.4,5,13.2,25]
["Slovenia","SVN",50,"10000-10680","X",null,null,null,"X",null,null,null,"X","X",null,3,0,null,"ERC/REC 12-05",null,null,"X",4,8,11]
["Slovenia","SVN",50,"10000-10680",null,"X",null,null,null,"X",null,null,null,null,"X",null,null,6,null,null,"X",null,null,null,null,null,null,null,"BWA/MMDS/block assignment for P-P"]
[]
["UK","G",51,"10125 – 10205 GHz//10475 – 10555;  10205 – 10225//10555 – 10575",null,"X"]
[]
["Bulgaria","BUL",52,"10150-10680","X",null,null,null,"X",null,null,null,"X",null,null,53,1,null,"ERC/REC 12-05, Annex A","X",null,null,0.2,7,42,"+10 %"]
[]
["Turkey","TUR",53,"10500-10680",null,"x",null,null,"x",null,null,null,null,null,null,null,5229,null,"ITU-R F.747"]
[]
["Bosnia and Herzegovina","BIH",54,"10700-11700","X",null,null,null,"X",null,null,"X","X",null,null,34,116,null,"ERC/REC 12-06",null,"X","X",0.6,25,65,"-5"]
["Czech Republic","CZE",54,"10700-11700","X",null,null,null,"X",null,null,null,null,null,null,null,1693,null,"see the EFIS","N/A","N/A","N/A",null,"13.4km"]
["Estonia","EST",54,"10700-11700","not in use",null,null,null,null,null,null,null,null,null,null,null,null,null,"ERC/REC 12-06"]
["France","F",54,"10700-11700","X",null,null,null,"X",null,"X",null,null,null,null,null,3276,null,"ERC/REC 12-06",null,"X","X",1.45,13,54,null,"X"]
["UK","G",54,"10700-11700","X",null,null,null,"X",null,null,"X",null,null,null,8,6,null,null,null,null,"X",null,46]
["Greece","GRC",54,"10700-11700","X",null,null,null,null,null,"X","X",null,null,null,null,934,null,"ERC/REC 12-06",null,null,"X",1.7,19,71,"growth"]
["Hungary",{"$f":"VLOOKUP(A310, 'Country names'!$A$5:$C$53,3,FALSE)","v":"HNG"},54,"10700-11700","X",null,null,null,"X",null,"X",null,null,null,null,null,341,null,"ERC/REC 12-06",null,null,"X",null,40]
["Netherlands","HOL",{"$f":"VLOOKUP(D311,[1]BandList!$A$2:$B$110,2,FALSE)","v":54},"10700-11700",null,null,null,null,null,null,null,null,null,null,null,null,null,null,"ERC/REC 12-06"]
["Croatia","HRV",54,"10700-11700","X",null,null,null,"X",null,"X","X","X",null,null,null,10,null,"ERC/REC 12-06",null,null,"X",7.49,21.84,29.87]
["Italy",{"$f":"VLOOKUP(A313, '[1]Country names'!$A$5:$C$53,3,FALSE)","v":"I"},{"$f":"VLOOKUP(D313,[1]BandList!$A$2:$B$110,2,FALSE)","v":54},"10700-11700","X",null,null,null,"X",null,"X","X","X",null,null,null,7436,null,"ERC/REC 12-06",0,2974,4462,1.462,21.75,32.83,"+10/20"]
["Ireland","IRL",54,"10700-11700","X",null,null,null,"X",null,null,null,null,"X",null,null,778,null,"ERC/REC 12-06",null,null,778,"10 km"]
["Latvia","LVA",54,"10700-11700","X",null,null,null,"X",null,"X","X","X",null,null,6,0,null,"ERC/REC 12-06",null,"X","X",10,15,30,5]
["Malta","MLT",54,"10700-11700","X"," ",null,null,"X",null,"X",null,"X",null,null,null,43,null,"ERC Rec 12-06",null,null,"X",1.5,6.5,21.5,null,null,null,"No change"]
["Norway","NOR",54,"10700-11700",null,"x",null,null,null,null,null,null,null,null,null,null,null,null,"ERC/REC 12-06",null,null,null,null,null,null,-100]
["Portugal","POR",54,"10700-11700","X",null,null,null,"X",null,"X","X","X",null,"FSS, VSAT, SNG, SIT, AES, Euteltracs",null,97,null,"ERC/REC 12-06",null,"X","X",5,"20",40,-10]
["Russia","RUS",54,"10700-11700","X",null,null,null,"X",null,"X","X","X",null,"X\nTelecom operators, industrial process communications","under 0.1%",1440,null,"ITU-R Rec. F.387","X","X","X",1,25,45,null,null,null,"Increase of use, most of all in mobile backhaul (outside major populated areas) and in telecom operators' infrastructure and in industrial process communications."]
["Switzerland","SUI",54,"10700-11700","x",null,null,null,"x",null,"x","x","x",null,null,null,103,null,"ERC/REC 12-06",null,null,"x",9.6,17.7,37.01,30]
["Slovak Republic","SVK",54,"10700-11700","X",null,null,null,"X",null,null,"X",null,null,null,null,187,null,"ERC/REC 12-06",null,"X","X",5,13,38.5,20]
["Slovenia","SVN",54,"10700-11700","X",null,null,null,"X",null,null,null,"X",null,null,0,10,null,"ERC/REC 12-06",null,null,"X",4,12,27]
[]
["Bulgaria","BUL",55,"10755-11725","X",null,null,null,"X",null,"X","X",null,null,null,5,242,null,"ITU-R F.387-12",null,"X","X",3,16,46,"+25 %"]
[]
["Bosnia and Herzegovina","BIH",56,"11700-12500",null,"X",null,null,null,"X",null,null,null,null,null,null,null,72]
["Estonia","EST",56,"11700-12500","not in use"]
["Hungary","HNG",56,"11700-12500",null,null,null,null,null,"X",null,null,"X",null,null,null,null,150,"National plan",null,null,"X",null,null,null,null,null,null,null,"Only 12.3-12.5 GHz band designated for local MVDS"]
["Latvia","LVA",56,"11700-12500",null,null,null,null,null,null,null,null,null,null,null,null,null,null,null,null,null,null,null,null,null,null,null,null,null,"Not allocated for Fixed service"]
["Malta","MLT",56,"11700-12500","X",null,null,null,"X",null,null,null,"X",null,null,2,null,null,null,null,null,null,5.4,14.2,23]
["Portugal","POR",56,"11700-12500",null,null,null,null,null,null,null,null,null,null,"RAD-S, SIT"]
["Slovenia","SVN",56,"11700-12500",null,"X",null,null,null,"X",null,null,null,null,"X",null,null,30,"national plan",null,"X",null,null,null,null,null,null,null,"MMDS, block of 200MHz"]
[]
["Bulgaria","BUL",57,"11725-12500","X",null,null,null,"X",null,null,"X",null,null,null,3,0,null,"national plan","X","X",null,2,3,4,null,null,null,"Reallocate to another suitable frequency band"]
[]
["Austria","AUT",58,"12750-13250","X",null,null,null,"X",null,"X","X","X",null,null,null,663,null,"ERC/REC 12-02",null,null,"X",3,25,52]
["Bosnia and Herzegovina","BIH",58,"12750-13250","X",null,null,null,"X",null,"X","X",null,null,null,null,120,null,"ERC/REC 12-02","X","X","X",1,23,57,"+10"]
["Bulgaria","BUL",58,"12750-13250","X",null,null,null,"X",null,"X","X",null,null,null,0,1135,null,"ERC/REC 12-02","X","X","X",2,15,59,"+25 %"]
["Czech Republic","CZE",58,"12750-13250","X",null,null,null,"X",null,null,null,null,null,null,null,968,null,"see the EFIS","N/A","N/A","N/A",null,"14.5km"]
["Germany","D",58,"12750-13250","x",null,null,null,"x",null,null,null,null,null,null,null,9370,null,"ERC/REC 12-02",null,null,"x",7.5,12,49,null,"x"]
["Estonia","EST",58,"12750-13250","x",null,null,null,"x",null,"x",null,null,null,null,null,null,null,"ERC/REC 12-02"]
["France","F",58,"12750-13250","X",null,null,null,"X",null,"X","X",null,null,null,null,9004,null,"ERC/REC 12-02","X","X","X",0.31,14.12,79.430000000000007,null,"X"]
["Finland","FIN",58,"12750-13250","x",null,null,null,"x",null,"x","x",null,null,null,0,1750,null,"ERC/REC 12-02",null,"x","x","0.24","14.4","34.9",-10]
["UK","G",58,"12750-13250","X",null,null,null,"X",null,"X","X","X",null,null,37,3271,null,"ERC/REC 12-02 Annex A","X","X","X",null,19]
["Greece","GRC",58,"12750-13250","X",null,null,null,null,null,"X","X",null,null,null,null,1408,null,"ERC/REC 12-02","X","X","X",1,17,58,"high growth"]
["Hungary","HNG",58,"12750-13250","X",null,null,null,"X",null,null,null,null,null,null,null,2806,null,"ERC/REC 12-02",null,null,"X",null,30,null,null,"X",null,null,"Currently congested in big cities"]
["Netherlands","HOL",{"$f":"VLOOKUP(D347,[1]BandList!$A$2:$B$110,2,FALSE)","v":58},"12750-13250","x",null,null,null,"x",null,"x","x",null,null,null,null,375,null,"ERC/REC 12-02",null,null,"x",1,14,47,"+","x"]
["Croatia","HRV",58,"12750-13250","X",null,null,null,"X",null,"X","X","X",null,null,null,437,null,"ERC/REC 12-02",null,"X","X",1.62,17.39,49.27,20,"X"]
["Italy",{"$f":"VLOOKUP(A349, '[1]Country names'!$A$5:$C$53,3,FALSE)","v":"I"},{"$f":"VLOOKUP(D349,[1]BandList!$A$2:$B$110,2,FALSE)","v":58},"12750-13250","X",null,null,null,"X",null,"X","X","X",null,null,null,10663,null,"ERC/REC 12-02",124,8106,2433,1.0129999999999999,18.75,32.700000000000003,"+10/20"]
["Ireland","IRL",58,"12750-13250","X",null,null,null,"X",null,null,null,null,"X",null,null,1362,null,"ERC/REC 12-02",42,603,717,"9 km",null,null,null,"X"]
["Latvia","LVA",58,"12750-13250","X",null,null,null,"X",null,"X","X",null,null,null,null,890,null,"ERC/REC 12-02",null,"X","X",2,20,52,0.1]
["Malta","MLT",58,"12750-13250","X",null,null,null,"X"," ",null,null,"X",null,null,4,null," ","ERC Rec 12-02",null,null,null,1.8,2.8,3.8]
["Norway","NOR",58,"12750-13250","x",null,null,null,null,null,null,null,null,null,null,0,337,null,"ERC/REC 12-02",null,null,null,1,18,46]
["Norway","NOR",58,"12750-13250",null,"x",null,null,null,null,null,null,null," x",null,0,1077,null,null,null,"x"]
["Portugal","POR",58,"12750-13250","X",null,null,null,"X",null,"X","X",null,null,"FSS",null,357,null,"ERC/REC 12-02","X","X","X",5,"15",40,5]
["Russia","RUS",58,"12750-13250","X",null,null,null,"X",null,"X","X","X",null,"X Telecom operators, industrial process communications","under 0.1%",23800,null,"ITU-R Rec. F.497","X","X","X",1,20,35,null,null,null,"Increase of use, most of all in mobile backhaul (outside major populated areas) and in telecom operators' infrastructure and in industrial process communications."]
["Sweden","S",58,"12750-13250","X",null,null,null,null,null,"X","X","X",null,null,null,1007,null,"ERC/REC 12-02","X","X","X",2.1,17.899999999999999,49.5,0,"X"]
["Switzerland","SUI",58,"12750-13250","x",null,null,null,"x",null,"x","x","x",null,null,null,510,null,"ERC/REC 12-02",null,"x",null,5.8,15.3,46.4,50]
["Slovak Republic","SVK",58,"12750-13250","X",null,null,null,"X",null,null,null,null,null,null,null,523,null,"ERC/REC 12-02","X","X","X",3,10,44,5]
["Slovenia","SVN",58,"12750-13250","X",null,null,null,"X",null,"X","X","X","X",null,0,326,null,"ERC/REC 12-02",null,"X","X",1,13,35,"+10%","X"]
[]
["Estonia","EST",59,"14250-14500","not in use"]
["France","F",59,"14250-14500","X",null,null,null,"X",null,null,null,null,null,null,null,141,null,null,null,null,null,1.3,12,35,null,null,null,"Decrease of number of links - No new license delivered"]
["UK","G",59,"14250-14500","X",null,null,null,"X",null,"X","X","X",null,null,2,162,null,null,"X","X",null,null,22]
["Italy",{"$f":"VLOOKUP(A365, '[1]Country names'!$A$5:$C$53,3,FALSE)","v":"I"},{"$f":"VLOOKUP(D365,[1]BandList!$A$2:$B$110,2,FALSE)","v":59},"14250-14500","X",null,null,null,"X",null,null,null,"X",null,null,1089,null,null,"ch. Spacing 20 MHz, D.M. 07-10-1986",0,1089,0,5,null,25,"+10","Y","N"]
["Latvia","LVA",59,"14250-14500",null,null,null,null,null,null,null,null,null,null,null,null,null,null,null,null,null,null,null,null,null,null,null,null,null,"Not allocated for Fixed service, allocation for FSS (Earth to Space)"]
["Portugal","POR",59,"14250-14500",null,null,null,null,null,null,null,null,null,null,"FSS, VSAT, SNG, AES"]
["Russia","RUS",59,"14250-14500","X",null,null,null,"X",null,null,null,"X",null,"X\nTelecom operators, industrial process communications",null,30,null,"ITU-R Rec. F.636","X","X",null,1,15,30,null,null,null,"Used for industrial process communications until the frequency licenses expire. \nNo new networks are built."]
["Switzerland","SUI",59,"14250-14500",null,null,null,null,null,null,null,null,"x",null,"FSS SNG"]
[]
["Austria","AUT",60,"14500-14620 and 15230-15350","X",null,null,null,"X",null,"X","X","X",null,null,null,752,null,"ERC/REC 12-07","X","X","X",1,15,44]
["Bosnia and Herzegovina","BIH",60,"14500-14620 and 15230-15350","X",null,null,null,"X",null,"X","X",null,null,null,null,290,null,"ERC/REC 12-07","X","X","X",0.4,15,48,"+3"]
["Czech Republic","CZE",60,"14500-14620 and 15230-15350","X",null,null,null,"X",null,null,null,null,null,null,null,289,null,"see the EFIS","N/A","N/A","N/A",null,"12.3km"]
["Germany","D",60,"14500-14620 and 15230-15350","x",null,null,null,"x",null,null,null,null,null,null,null,6200,null,"ERC/REC 12-07",null,"x","x",5,14,55,null,"x"]
["Estonia","EST",60,"14500-14620 and 15230-15350","x",null,null,null,"x",null,"x",null,null,null,null,360,null,null,"ERC/REC 12-07","x","x",null,2,20,32]
["Finland","FIN",60,"14500-14620 and 15230-15350","x",null,null,null,"x",null,"x","x",null,null,null,0,414,null,"ITU-R F.636","x","x",null,"0.4","13.8","32.2",-7]
["Hungary","HNG",60,"14500-14620 and 15230-15350","X",null,null,null,"X",null,null,null,null,null,null,null,114,null,"ERC/REC 12-07",null,"X",null,null,25,null,null,null,null,null,"Number of civil FS links decreased due to the extension of the subband used for military purposes"]
["Netherlands","HOL",{"$f":"VLOOKUP(D378,[1]BandList!$A$2:$B$110,2,FALSE)","v":60},"14500-14620 and 15230-15350","x",null,null,null,"x",null,"x","x",null,null,null,null,199,null,"ERC/REC 12-07","x","x","x",5,14,55,"+","x"]
["Croatia","HRV",60,"14500-14620 and 15230-15350","X",null,null,null,"X",null,null,null,"X",null,null,1,null,null,"ERC/REC 12-07","ANALOG",null,null,12.95,12.95,12.95,-100]
["Italy",{"$f":"VLOOKUP(A380, '[1]Country names'!$A$5:$C$53,3,FALSE)","v":"I"},{"$f":"VLOOKUP(D380,[1]BandList!$A$2:$B$110,2,FALSE)","v":60},"14500-14620 and 15230-15350","X",null,null,null,"X",null,"X","X","X",null,null,null,6256,null,"ERC/REC 12-07",154,5883,219,0.95099999999999996,13.333,22.52,"+10/20"]
["Ireland","IRL",60,"14500-14620 and 15230-15350","X",null,null,null,"X",null,null,null,null,"X",null,null,1752,null,"ERC/REC 12-07",201,7,1544,"9 km",null,null,null,"X"]
["Latvia","LVA",60,"14500-14620 and 15230-15350","X",null,null,null,"x",null,"X","X",null,null,null,null,44,null,"ERC/REC 12-07",null,"X","X",10,25,41,0.1]
["Norway","NOR",60,"14500-14620 and 15230-15350",null,"x",null,null,null,null,null,null,null,"x"]
["Portugal","POR",60,"14500-14620 and 15230-15350","X",null,null,null,"X",null,"X","X",null,null,null,null,189,null,"ERC/REC 12-07","X","X","X",5,"15",30,5]
["Sweden","S",60,"14500-14620 and 15230-15350","X",null,null,null,null,null,"X","X","X",null,null,null,3652,null,"National Channel Plan","X","X","X",0.3,14.9,74.900000000000006,0,"X"]
["Switzerland","SUI",60,"14500-14620 and 15230-15350","x",null,null,null,"x",null,"x","x","x",null,null,null,103,null,"ERC/REC 12-07",null,"x",null,7.6,15.3,29.2,-20]
["Slovak Republic","SVK",60,"14500-14620 and 15230-15350","X",null,null,null,"X",null,null,null,null,null,null,null,203,null,"ERC/REC 12-07","X","X",null,6,15,48,5]
["Turkey","TUR",60,"14500-14620 and 15230-15350","x",null,null,null,"x",null,null,null,null,null,null,null,87,null,"ITU-R F.636.3",null,null,null,1,7,16]
["Turkey","TUR",60,"14500-14620 and 15230-15350",null,"x",null,null,"x",null,null,null,null,null,null,null,6499,null,"ITU-R F.636.3"]
[]
["UK","G",61,"14500-15350","X",null,null,null,"X",null,"X","X","X",null,null,1,2910,null,"ERC/REC 12-07","X","X","X",null,15]
["Greece","GRC",61,"14500-15350","X",null,null,null,null,null,"X","X",null,null,null,null,2867,null,"National Plan","X","X","X",0.2,14,57,"growth","heavily used"]
["Malta","MLT",61,"14500-15350","X",null,null,null,"X",null,"X","X",null,null,"Telecomms infrastructure backhaul"," ",23,null,"ITU-R F636-4",null,null,"X",1,9.1,20,0.17]
["Russia","RUS",61,"14500-15350","X",null,null,null,"X",null,"X","X","X",null,"X\nTelecom operators, industrial process communications","under 0.1%",23940,null,"ITU-R Rec. F.636","X","X","X",1,15,30,null,null,null,"Increase of use, most of all in mobile backhaul (outside major populated areas) and in telecom operators' infrastructure and in industrial process communications."]
["Slovenia","SVN",61,"14500-15350","X",null,null,null,"X",null,"X",null,null,null,null,0,83,null,"ERC/REC 12-07 (and ITU F.636)",null,null,"X",4,13,30,null,null,null,"NATO-NJFA frequency band"]
[]
["Estonia","EST",63,"17300-17700","not in use"]
["UK","G",63,"17300-17700","X",null,null,null,"X",null,null,"X",null,null,null,0,1,null,null,null,null,"X",null,0.5]
["Netherlands","HOL",{"$f":"VLOOKUP(D399,[1]BandList!$A$2:$B$110,2,FALSE)","v":63},"17300-17700"]
["Latvia","LVA",63,"17300-17700",null,null,null,null,null,null,null,null,null,null,null,null,null,null,"ECC/DEC/(05)08",null,null,null,null,null,null,null,null,null,null,"Not allocated for Fixed service, allocation for FSS (application - HDFSS)"]
["Portugal","POR",63,"17300-17700",null,null,null,null,null,null,null,null,null,null,"FSS, HDFSS"]
["Switzerland","SUI",63,"17300-17700",null,null,null,null,null,null,null,null,"x",null,"FSS Feeder Link"]
[]
["Austria","AUT",64,"17700-19700","X",null,null,null,"X",null,"X","X","X",null,null,null,1308,null,"ERC/REC 12-03",null,null,"X",1,10,19]
["Bosnia and Herzegovina","BIH",64,"17700-19700","X",null,null,null,"X",null,"X",null,null,null,null,null,808,null,"ERC/REC 12-03","X","X","X",0.3,10,34,"+10"]
["Bulgaria","BUL",64,"17700-19700","X",null,null,null,"X",null,"X","X",null,null,null,0,2798,null,"ERC/REC 12-03","X","X","X",0.2,10,36,"+50 %"]
["Czech Republic","CZE",64,"17700-19700","X",null,null,null,"X",null,null,null,null,null,null,null,4312,null,"see the EFIS","N/A","N/A","N/A",null,"11.2km"]
["Germany","D",64,"17700-19700","x",null,null,null,"x",null,null,null,null,null,null,null,20220,null,"ERC/REC 12-03",null,null,"x",4,9,38,"+"]
["Estonia","EST",64,"17700-19700","x",null,null,null,"x",null,"x",null,null,null,null,535,null,null,"ERC/REC 12-03","x","x",null,2,null,38]
["France","F",64,"17700-19700","X",null,null,null,"X",null,"X","X",null,null,null,null,9272,null,"ERC/REC 12-03","X","X","X",0.11,7.98,76]
["Finland","FIN",64,"17700-19700","x",null,null,null,"x",null,"x","x",null,null,null,0,2730,null,"ERC/DEC/(00)07; ERC/REC 12-03",null,"x","x","0.1","8.0","26.6","+15"]
["UK","G",64,"17700-19700","X",null,null,null,"X",null,"X","X","X",null,null,9,7629,null,"ERC/REC 12-03, ITU-R Rec. F.595","X","X","X",null,9]
["Greece","GRC",64,"17700-19700","X",null,null,null,null,null,"X","X",null,null,null,null,3026,null,"ERC/REC 12-03","X","X","X",0.1,8,40,"growth","heavily used"]
["Hungary","HNG",64,"17700-19700","X",null,null,null,"X",null,null,null,null,null,null,null,2159,null,"ERC/REC 12-03",null,null,"X",null,20,null,null,"X",null,null,"Currently congested in big cities"]
["Netherlands","HOL",{"$f":"VLOOKUP(D415,[1]BandList!$A$2:$B$110,2,FALSE)","v":64},"17700-19700","x",null,null,null,"x",null,"x","x",null,null,null,null,1810,null,"ERC/REC 12-03","x","x","x",1,5,18,"+"]
["Croatia","HRV",64,"17700-19700","X",null,null,null,"X",null,"X","X","X",null,null,null,720,null,"ERC/REC 12-03","X","X","X",0.53,9.67,24.64,20]
["Italy",{"$f":"VLOOKUP(A417, '[1]Country names'!$A$5:$C$53,3,FALSE)","v":"I"},{"$f":"VLOOKUP(D417,[1]BandList!$A$2:$B$110,2,FALSE)","v":64},"17700-19700","X",null,null,null,"X",null,"X","X","X",null,null,null,21374,null,"ERC/REC 12-03",257,12827,8290,0.27100000000000002,8.75,16.821999999999999,"+10/20"]
["Ireland","IRL",64,"17700-19700","X",null,null,null,"X",null,null,null,null,"X",null,null,1190,null,null,null,13,1177,"6 km for links ≤ 34 MBit/s.",null,null,null,"X"]
["Ireland","IRL",64,"17700-19700",null,null,null,null,null,null,null,null,null,null,null,null,null,null,null,null,null,null,"0 km for links > 34 Mbit/s. "]
["Latvia","LVA",64,"17700-19700","X",null,null,null,"X",null,"X","X",null,null,null,null,550,null,"ERC/REC 12-03",null,"X","X",2,18,27,0.1]
["Malta","MLT",64,"17700-19700","X"," ",null,null,"X",null,"X",null,null,null,null,null,79,null,"ERC Rec 12-03",null,null,"X",1,4,12,0.1]
["Norway","NOR",64,"17700-19700","x",null,null,null,null,null,null,null,null,null,null,0,225,null,"ERC/REC 12-03"]
["Norway","NOR",64,"17700-19700",null,"x",null,null,null,null,null,null,null,null,null,null,630,null,null,null,"x","x",1,11,38,10]
["Portugal","POR",64,"17700-19700","X",null,null,null,"X",null,"X","X",null,null,"FSS",null,251,null,"ITU-R F.595","X","X",null,3,"10",20,5]
["Portugal","POR",65,"17700-19700","X",null,null,null,"X",null,"X","X","X",null,"FSS",null,1628,null,"ERC/REC 12-03",null,"X","X",3,"10",20,20]
["Russia","RUS",64,"17700-19700","X",null,null,null,"X",null,"X","X","X",null,"X\nTelecom operators, industrial process communications","under 0.1%",41070,null,"ITU-R Rec. F.595","X","X","X",1,5,20,null,null,null,"Increase of use, most of all in mobile backhaul and in telecom operators' infrastructure and in industrial process communications."]
["Sweden","S",64,"17700-19700","X",null,null,null,null,null,"X","X","X",null,null,null,6047,null,"ERC/REC 12-03","X","X","X",0.2,10,43.5,0]
["Switzerland","SUI",64,"17700-19700","x",null,null,null,"x",null,"x","x","x",null,null,null,1149,null,"ERC/REC 12-03",null,"x","x",2.4,8.1999999999999993,26.1,200]
["Slovak Republic","SVK",64,"17700-19700","x",null,null,null,"x",null,null,null,null,null,null,null,2330,null,null,"x","x","x",4,15,38,10]
["Slovenia","SVN",64,"17700-19700","X",null,null,null,"X",null,"X","X","X","X",null,0,459,null,"ERC/REC 12-03",null,"X","X",0.2,8,39,"+10%","X"]
["Turkey","TUR",64,"17700-19700","x",null,null,null,"x",null,null,null,null,null,null,null,6002,null,"ERC/REC 12-03 Annex A"]
[]
["Estonia","EST",66,"21200-22000","not in use"]
["Finland","FIN",66,"21200-22000","x",null,null,null,"x",null,null,"x",null,null,null,0,0,null,"ERC/REC 25-10"]
["UK","G",66,"21200-22000","X",null,null,null,"X",null,"X",null,null,null,null,null,220,null,null,"X","X",null,null,5]
["Hungary","HNG",66,"21200-22000","X",null,null,null,"X"]
["Latvia","LVA",66,"21200-22000","X",null,null,null,"X",null,null,null,"X",null,null,null,0,null,"ITU-R F.637 Annex 2",null,null,null,null,null,null,null,null,null,null,"Only the subband 21.2-21.4 GHz is planned for ENG/OB "]
["Portugal","POR",66,"21200-22000",null,null,null,null,null,null,null,null,null,null,"SRR"]
["Switzerland","SUI",66,"21200-22000",null,null,null,null,null,null,null,null,null,null,"PMSE",null,null,null,null,null,null,null,null,null,null,null,null,null,"?? equipment available"]
[]
["Russia","RUS",67,"21200-23600","X",null,null,null,"X",null,"X","X",null,null,"X\nTelecom operators, industrial process communications",null,29200,null,"ITU-R Rec. F.637","X","X","X",1,3,15,null,null,null,"Increase of use, most of all in mobile backhaul and in telecom operators' infrastructure."]
[]
["Austria","AUT",68,"22000-22600 and 23000-23600","X",null,null,null,"X",null,"X","X",null,null,null,null,2796,null,"T/R 13-02 Annexes A1, A2, A3","X","X","X",1,10,20]
["Bosnia and Herzegovina","BIH",68,"22000-22600 and 23000-23600","X",null,null,null,"X",null,"X",null,null,null,null,null,701,null,"T/R 13-02 Annexes A1, A2, A3","X","X","X",0.15,7,30,"+10"]
["Czech Republic","CZE",68,"22000-22600 and 23000-23600","X",null,null,null,"X",null,null,null,null,null,null,null,4244,null,"see the EFIS","N/A","N/A","N/A",null,"6km"]
["Czech Republic","CZE",68,"22000-22600 and 23000-23600",null,null,null,null,null,null,null,"ENG/OB",null,null,null,null,null,null,"22,592–22,704 GHz","N/A","N/A","N/A"]
["Germany","D",68,"22000-22600 and 23000-23600","x",null,null,null,"x",null,null,null,null,null,null,null,18650,null,"T/R 13-02 Annexes A1, A2, A3",null,"x","x",4,8,51]
["Estonia","EST",68,"22000-22600 and 23000-23600","x",null,null,null,"x",null,"x",null,null,null,null,550,null,null,"T/R 13-02 Annexes A1, A2, A3","x","x",null,0.5,null,21]
["France","F",68,"22000-22600 and 23000-23600","X",null,null,null,"X",null,null,null,null,null,null,null,12745,null,"T/R13-02","X","X","X",0.12,6.63,30.43,null,"X",null,"New regulation put in place in 2013 in order to offer more capacity to backhaul needs with higher bandwidth"]
["Finland","FIN",68,"22000-22600 and 23000-23600","x",null,null,null,"x",null,"x","x",null,null,null,0,1619,null,"T/R 13-02 Annexes A1, A2, A3","x","x","x","0.6","4.9","17.5","-15 *)",null,null,null,"*) decrease 28 MHz / increase 56 MHz"]
["Finland","FIN",68,"22000-22600 and 23000-23600",null,null,null,null,null,null,null,null,null,null,null,null,null,null,null,null,null,null,null,null,null,"+2 *)","x",null,"56 MHz channels congested in some areas"]
["Hungary","HNG",68,"22000-22600 and 23000-23600","X",null,null,null,"X",null,null,null,null,null,null,null,2209,null,"T/R 13-02 Annex A1",null,"X",null,null,10,null,null,null,null,null,"22-22.45/23-23.45 GHz subband for civil FS, the rest for non-civil FS"]
["Netherlands","HOL",{"$f":"VLOOKUP(D453,[1]BandList!$A$2:$B$110,2,FALSE)","v":68},"22000-22600 and 23000-23600","x",null,null,null,"x",null,"x","x",null,null,null,null,2792,null,"T/R 13-02 Annexes A1, A2, A3",null,"x","x",4,8,51,"+"]
["Croatia","HRV",68,"22000-22600 and 23000-23600","X",null,null,null,"X",null,"X","X","X",null,null,null,1373,null,"T/R 13-02 Annexes A1, A2, A3","X","X","X",0.14000000000000001,5.16,16.63,10]
["Italy",{"$f":"VLOOKUP(A455, '[1]Country names'!$A$5:$C$53,3,FALSE)","v":"I"},{"$f":"VLOOKUP(D455,[1]BandList!$A$2:$B$110,2,FALSE)","v":68},"22000-22600 and 23000-23600","X",null,null,null,"X",null,"X","X","X",null,null,null,15778,null,"T/R 13-02 Annexes A1, A2, A3",205,12719,2854,0.12,6.5,12.21,"+10/20"]
["Ireland","IRL",68,"22000-22600 and 23000-23600","X",null,null,null,"X",null,null,null,null,"X",null,null,1640,null,"T/R 13-02 Annexes A1, A2, A3",163,758,719,"3 km for links ≤ 34 MBit/s.",null,null,null,"X"]
["Ireland","IRL",68,"22000-22600 and 23000-23600",null,null,null,null,null,null,null,null,null,null,null,null,null,null,null,null,null,null,"0 km for links > 34 Mbit/s, or 34 Mbit/s in 14 MHz channel spacing. "]
["Latvia","LVA",68,"22000-22600 and 23000-23600","X",null,null,null,"X",null,"X","X",null,null,null,null,1380,null,"T/R 13-02 Annexes A1, A2, A3",null,"X","X",1,12,23,0.1]
["Malta","MLT",68,"22000-22600 and 23000-23600","X"," ",null,null,"X",null,"X",null,null,null,null,null,505,null,"ERC Rec T/R 13-02 ",null,null,"X",0.1,1.7,10,0.3]
["Norway","NOR",68,"22000-22600 and 23000-23600","x",null,null,null,null,null,null,null,null,null,null,null,57,null,"T/R 13-02 Annexes A1, A2, A3",null,"x","x",1,6,25,10]
["Norway","NOR",68,"22000-22600 and 23000-23600",null,"x",null,null,null,null,null,null,null,null,null,null,235,null,null,null,"x","x"]
["Portugal","POR",68,"22000-22600 and 23000-23600","X",null,null,null,"X",null,"X","X",null,null,"SRR",null,1047,null,"T/R 13-02 Annexes A1","X","X","X",1,"5",15,10]
["Sweden","S",68,"22000-22600 and 23000-23600","X",null,null,null,null,null,"X","X",null,null,null,null,1082,null,"T/R 13-02 Annexes A1, A2, A3","X","X","X",0.4,7.8,31.7,-25]
["Switzerland","SUI",68,"22000-22600 and 23000-23600","x",null,null,null,"x",null,"x","x","x",null,null,null,873,null,"T/R 13-02 Annexes A1, A2, A3",null,"x",null,1.6,7.2,20.6,50,"> High / Low problems in urban areas"]
["Slovak Republic","SVK",68,"22000-22600 and 23000-23600","X",null,null,null,"X",null,"X",null,null,null,null,null,1183,null,"T/R 13-02 Annexes A1, A2, A3","X","X","X",0.5,5,16,5]
["Slovenia","SVN",68,"22000-22600 and 23000-23600","X",null,null,null,"X",null,"X",null,null,null,null,0,661,null,"T/R 13-02 Annex A.1",null,"X","X",0.3,5,16,"+10%","X"]
["Turkey","TUR",68,"22000-22600 and 23000-23600","x",null,null,null,"x",null,null,null,null,null,null,null,129,null,"T/R 13-02 Annexes A1",null,null,null,"<1",6.5,11]
["Turkey","TUR",68,"22000-22600 and 23000-23600",null,"x",null,null,"x",null,null,null,null,null,null,null,22714]
[]
["UK","G",69,"22000-23600","X",null,null,null,"X",null,"X","X","X",null,null,11,3797,null,"T/R 13-02 Annexes A","X","X","X",null,8]
["Greece","GRC",69,"22000-23600","X",null,null,null,null,null,"X","X",null,null,null,null,2086,null,"T/R 13-02 Annex A","X","X","X",0.1,4,15,"growth"]
[]
["Bulgaria","BUL",70,"22008-23576","X",null,null,null,"X",null,"X","X",null,null,null,0,903,null,"T/R 13-02, Annex A","X","X","X",0.2,5,21,"+25 %"]
[]
["Estonia","EST",71,"22600-23000","not in use"]
["France","F",71,"22600-23000","X",null,null,null,null,null,null,null,null,null,null,null,8,null,null,null,"X",null,null,8]
["Finland","FIN",71,"22600-23000","x",null,null,null,"x",null,null,"x",null,null,null,0,0,null,"ERC/REC 25-10"]
["Greece","GRC",71,"22600-23000",null,null,null,null,null,null,null,null,"X",null,null,null,null,null,"National Plan"]
["Hungary","HNG",71,"22600-23000","X",null,null,null,"X",null,null,null,"X",null,null,1,null,null,"T/R 13-02 Annexes A2 and A3",null,null,null,null,null,null,null,null,null,null,"National plan for analogue ENG/OB "]
["Latvia","LVA",71,"22600-23000","X",null,null,null,"X",null,null,null,"X",null,null,0,null,null,"T/R 13-02 Annex A2",null,"X","X",null,null,null,0.1]
["Portugal","POR",71,"22600-23000","X",null,null,null,"X",null,null,null,null,null,"SRR",null,null,null,"T/R 13-02 Annexes A2, A3",null,null,null,null,null,null,"No use at the moment.","No use at the moment.","No use at the moment.","No use at the moment."]
["Switzerland","SUI",71,"22600-23000","(x)",null,null,null,"(x)",null,null,"(x)",null,null,null,null,null,null,null,"(x)",null,null,null,null,null,null,null,null,"(planned narrowband link as a replacement for 1.4 GHz)"]
[]
["Czech Republic","CZE",72,"24250-24500",null,null,null,null,null,null,null,"ENG/OB",null,null,null,null,null,null,"24,25–24,5 GHz","N/A","N/A","N/A"]
["Estonia","EST",72,"24250-24500","not in use"]
["Finland","FIN",72,"24250-24500",null,null,null,null,null,null,null,null,null,null,null,null,null,null,null,null,null,null,null,null,null,null,null,"4)",null,"4) Potential 5G candidate band under study"]
["Greece","GRC",72,"24250-24500",null,null,null,null,null,null,null,null,"X",null,null,null,null,null,"National Plan"]
["Hungary","HNG",72,"24250-24500","X",null,null,null,"X",null,null,null,"X",null,null,0,null,null,"T/R 13-02",null,null,null,null,null,null,null,null,null,null,"T/R 13-02 van beírva"]
["Latvia","LVA",72,"24250-24500","X",null,null,null,"X",null,null,null,"X",null,null,0,null,null,"T/R 13-02",null,"X","X",null,null,null,0.1]
["Norway","NOR",72,"24250-24500",null,null,null,"x"]
["Portugal","POR",72,"24250-24500",null,null,null,null,null,null,null,null,null,null,"SRR, SRD"]
["Switzerland","SUI",72,"24250-24500",null,null,null,null,null,null,null,null,null,null,"PMSE"]
[]
["Latvia","LVA",74,"24500–24717/25557–25725","X",null,null,null,"X",null,"X",null,null,null,null,null,33,null,"T/R 13-02",null,"X","X",0.2,2,5,0.1]
[]
["Austria","AUT",75,"24500-26500","X",null,null,null,"X","X","X","X",null,null,null,null,2083,null,"T/R 13-02 Annex B","X","X","X",1,6,24]
["Bosnia and Herzegovina","BIH",75,"24500-26500","X","X",null,null,"X","X","X","X",null,null,null,null,148,0,"T/R 13-02 Annex B","X","X","X",0.2,4,13]
["Bulgaria","BUL",75,"24500-26500","X","X",null,null,"X","X","X",null,null,null,null,0,469,1472,"T/R 13-02 Annex B for P-P and ECC/REC (00) 05 for P-MP","X","X","X",0.06,4,15,"+25 %"]
["Czech Republic","CZE",75,"24500-26500",null,"X",null,null,null,"X",null,null,null,null,null,null,null,89,"see the EFIS","N/A","N/A","N/A"]
["Czech Republic","CZE",75,"24500-26500","X",null,null,null,"X",null,null,null,null,null,null,null,3964,null,null,"N/A","N/A","N/A",null,"3.6km"]
["Germany","D",75,"24500-26500","x",null,null,null,"x",null,null,null,null,null,null,null,18620,null,"T/R 13-02 Annex B",null,"x","x",2,4,11,null,"x"]
["Germany","D",75,"24500-26500","x",null,null,null,null,"x",null,null,null,null,null,null,null,2600]
["Estonia","EST",75,"24500-26500","x",null,null,null,"x",null,"x",null,null,null,null,17,null,null,"T/R 13-02 Annex B",null,"x",null,0.5,3,8]
["France","F",75,"24500-26500","X",null,null,null,"X",null,"X",null,null,null,null,null,3984,null,"T/R 13-02 Annex B",null,"X","X",0.06,3.47,15.42,null,null,null,"New regulation put in place in 2013 in order to offer more capacity to backhaul needs with higher bandwidth"]
["Finland","FIN",75,"24500-26500","x",null,null,null,"x",null,null,null,"x",null,null,0,1,null,"T/R 13-02 Annex B",null,"x",null,null,"1.6",null,null,null,"4)",null,"4) Potential 5G candidate band under study"]
["UK","G",75,"24500-26500","X",null,null,null,"X",null,"X","X","X",null,null,0,2889,null,"T/R 13-02 Annex B","X","X","X",null,6]
["Greece","GRC",75,"24500-26500",null,"X",null,null,"X","X","X",null,null,null,null,"4 National Coverage Licenses                         (2x56 MHz, 2x56 MHz, 2x56 MHz,            2x112 MHz)","4 National Coverage Licenses                         (2x56 MHz, 2x56 MHz, 2x56 MHz,            2x112 MHz)","4 National Coverage Licenses                         (2x56 MHz, 2x56 MHz, 2x56 MHz,            2x112 MHz)","ERC/REC 13-02",null,null,null,null,null,null,"growth",null,"potential future use of the band for 5G networks"]
["Hungary","HNG",75,"24500-26500",null,"X",null,null,"X","X","X",null,null,null,null,null,"N/A","N/A","T/R 13-02 Annex B",null,null,"X",null,10,null,null,null,null,null,"Block assignment is applied, the exact number of CS and PP links is not known"]
["Netherlands","HOL",{"$f":"VLOOKUP(D509,[1]BandList!$A$2:$B$110,2,FALSE)","v":75},"24500-26500","x",null,null,null,"x",null,"x","x",null,null,null,null,599,null,"T/R 13-02 Annex B","x","x","x",1,16,80,"+","x"]
["Netherlands","HOL",{"$f":"VLOOKUP(D510,[1]BandList!$A$2:$B$110,2,FALSE)","v":75},"24500-26500","x",null,null,null,null,"x",null,null,null,null,null,null,null,55,null,null,null,null,null,null,null,"+"]
["Ireland","IRL",75,"24500-26500",null,"X",null,null,"X",null,null,null,null,null,null,null,"4444 sites registered nationwide for 26 GHz \"block licence\" link deployments. There are therefore a minimum of 2222 links, with potentially many more, depending upon the number of 26 GHz links deployed at each site.",null,null,"X","X","X","3 km for links ≤ 34 MBit/s."]
["Ireland","IRL",75,"24500-26500",null,null,null,null,null,null,null,null,null,null,null,null,null,null,null,null,null,null,"0 km for links > 34 Mbit/s, or 34 Mbit/s in 14 MHz channel spacing. "]
["Ireland","IRL",75,"24500-26500","X",null,null,null,"X",null,null,null,null,null,null,null,474,null,"T/R 13-02 Annex B",null,null,474,"3 km for links ≤ 34 MBit/s."]
["Ireland","IRL",75,"24500-26500",null,null,null,null,null,null,null,null,null,null,null,null,null,null,null,null,null,null,"0 km for links > 34 Mbit/s, or 34 Mbit/s in 14 MHz channel spacing. "]
["Ireland","IRL",75,"24500-26500","X (FWALA licences issues on case by case basis)",null,null,null,null,"X",null,null,null,null,"Wireless broadband provision",null,null,3,null,null,null,null,"N/A"]
["Norway","NOR",75,"24500-26500","x",null,null,null,null,null,null,null,null,null,null,0,18,null,"T/R 13-02 Annex B",null,"x","x",3,5,10]
["Norway","NOR",75,"24500-26500",null,"x",null,null,null,null,null,null,null,null,null,null,410]
["Portugal","POR",75,"24500-26500",null,"X",null,null,null,"X","X",null,null,null,"SRR, SRD, Military (25.25-25.492 GHz and 26.25-27.5 GHz)",null,null,null,"T/R 13-02 Annex B","X","X",null,null,"5",null,"No use at the moment.","No use at the moment.","No use at the moment.","No use at the moment."]
["Sweden","S",75,"24500-26500","X","X",null,null,null,null,null,null,null,null,null,null,3314,null,"T/R 13-02 Annex B","X","X","X",0,6.4,46.3,-25]
["Switzerland","SUI",75,"24500-26500","x",null,null,null,"x",null,"x","x","x",null,null,null,52,null,"T/R 13-02 Annex B",null,null,"x",0.9,3.9,7.9,200]
["Slovak Republic","SVK",75,"24500-26500","X","X",null,null,"X","X","X","X",null,null,null,null,1998,15,"T/R 13-02 Annex B","x","x","x",0.04,1.5,8,20]
["Slovenia","SVN",75,"24500-26500","X",null,null,null,"X",null,"X",null,null,null,null,0,204,null,"T/R 13-02 Annex B",null,"X","X",0.3,4,9,"+10%"]
["Turkey","TUR",75,"24500-26500","x",null,null,null,"x",null,null,null,null,null,null,null,383,null,"T/R 13-02 Annex B",null,null,null,"<1",3,9]
["Turkey","TUR",75,"24500-26500",null,"x",null,null,"x",null,null,null,null,null,null,null,12068]
[]
["Latvia","LVA",76,"24773–25445/25781–26453","X",null,null,null,"X","X","X",null,null,null,null,null,null,43,"T/R 13-02",null,"X","X",0.2,2,5,0.1]
[]
["Russia","RUS",73,"24250-29500","X",null,null,null,"X","X","X","X",null,null,"X\nTelecom operators",null,350,330,"For RRLs - ITU-R Rec. F.748","X","X","X",1,3,10,null,null,null,"Minor increase of use in mobile backhaul and in telecom operators' infrastructure."]
[]
["Estonia","EST",77,"26500-27500","not in use"]
["Finland","FIN",77,"26500-27500",null,null,null,null,null,null,null,null,null,null,null,null,null,null,null,null,null,null,null,null,null,null,null,"4)",null,"4) Potential 5G candidate band under study"]
["Latvia","LVA",77,"26500-27500",null,null,null,null,null,null,null,null,null,null,null,null,null,null,null,null,null,null,null,null,null,null,null,null,null,"Exclusive Military Band Within the Band 26500-27500 MHz"]
["Portugal","POR",77,"26500-27500",null,null,null,null,null,null,null,null,null,null,"SRR, SRD, Military (26.25-27.5 GHz)"]
["Switzerland","SUI",77,"26500-27500",null,null,null,null,null,null,null,null,null,"x","No civil use"]
[]
["Austria","AUT",78,"27500-29500","X",null,null,null,"X","X","X",null,null,null,null,null,1339,null,"T/R 13-02 Annex C",null,null,"X",1,2,4]
["Bosnia and Herzegovina","BIH",78,"27500-29500","X","X",null,null,"X","X","X","X",null,null,null,null,0,0,"T/R 13-02 Annex C"]
["Bulgaria","BUL",78,"27500-29500","X",null,null,null,"X",null,"X",null,null,null,null,0,946,null,"T/R 13-02 Annex C","X","X","X",7.0000000000000007E-2,2,10,"+50 %"]
["Czech Republic","CZE",78,"27500-29500",null,"X",null,null,null,"X",null,null,null,null,null,null,null,137,"see the EFIS","N/A","N/A","N/A"]
["Czech Republic","CZE",78,"27500-29500","X",null,null,null,null,"X",null,null,null,null,null,null,null,60,null,"N/A","N/A","N/A"]
["Germany","D",78,"27500-29500","x",null,null,null,"x",null,null,null,null,null,null,null,1900,null,"T/R 13-02 Annex C",null,"x","x",2,3,13,"+"]
["Germany","D",78,"27500-29500"," ","x",null,null,null,"x",null,null,null,null,null,null,null,80]
["Estonia","EST",78,"27500-29500","not in use",null,null,null,null,null,null,null,null,null,null,null,null,null,"T/R 13-02 Annex C"]
["Finland","FIN",78,"27500-29500","x",null,null,null,"x",null,"x","x","x",null,null,0,500,null,"T/R 13-02 Annex C",null,"x","x","0.1","1.3","17.3","+2"]
["UK","G",78,"27500-29500",null,"X"]
["Greece","GRC",78,"27500-29500",null,"X",null,null,"X","X",null,null,null,null,null,"7  Regional Coverage Licenses            ","7  Regional Coverage Licenses            ","7  Regional Coverage Licenses            ","ECC/DEC/(05)01, ECC/REC/(11)01",null,null,null,null,null,null,"growth"]
["Hungary","HNG",78,"27500-29500",null,null,null,null,null,null,null,null,null,null,null,null,null,null,"ECC/DEC/(05)01",null,null,null,null,null,null,null,null,null,null,"Only planned for PP, PMP"]
["Netherlands","HOL",{"$f":"VLOOKUP(D548,[1]BandList!$A$2:$B$110,2,FALSE)","v":78},"27500-29500","x",null,null,null,"x",null,null,null,null,null,null,null,191,null,"T/R 13-02 Annex C",null,null,"x",2,4,7,"+"]
["Croatia","HRV",78,"27500-29500","X",null,null,null,"X",null,"X",null,null,null,null,null,4,null,"T/R 13-02 Annex C",null,null,"X",0.46,1.02,1.77,500]
["Ireland","IRL",78,"27500-29500","X",null,null,null,"X",null,null,null,null,"X",null,null,197,null,"T/R 13-02 Annex C",null,45,153,"3 km for links ≤ 34 MBit/s."]
["Ireland","IRL",78,"27500-29500",null,null,null,null,null,null,null,null,null,null,null,null,null,null,null,null,null,null,"0 km for links > 34 Mbit/s, or 34 Mbit/s in 14 MHz channel spacing. "]
["Norway","NOR",78,"27500-29500","x",null,null,null,null,null,null,null,null,null,null,0,1,null,"T/R 13-02 Annex C",null,"x","x"]
["Norway","NOR",78,"27500-29500",null,"x"]
["Portugal","POR",78,"27500-29500",null,"X",null,null,null,"X",null,null,"X",null,"FSS, HDFSS",null,null,null,"T/R 13-02 Annex C",null,"X",null,null,"5",null,"No use at the moment.","No use at the moment.","No use at the moment.","No use at the moment."]
["Sweden","S",78,"27500-29500",null,"X",null,null,null,null,null,null,null,null,null,null,"N/A",null,"T/R 13-02 Annex C"]
["Switzerland","SUI",78,"27500-29500","x",null,null,null,"x",null,"x","x","x",null,null,null,540,null,"T/R 13-02 Annex C",null,"x","x",1.8,4.2,6.8,100]
["Slovak Republic","SVK",78,"27500-29500","x",null,null,null,"x","x",null,null,null,null,null,null,244,null,"ECC/DEC/(05)01","x","x","x",0.05,1.2,4.2,15]
[]
["Latvia","LVA",79,"27828,5–28444,5/28948,5–29452,5","X",null,null,null,"X","X","X","X",null,null,null,null,7,86,"T/R 13-02 ",null,"X","X",0.1,1.5,5,0.1]
[]
["Bosnia and Herzegovina","BIH",80,"31000-31300","X",null,null,null,"X",null,null,null,null,null,null,null,0,null,"ECC/REC/(02)02"]
["Bulgaria","BUL",80,"31000-31300","X",null,null,null,"X",null,null,null,null,null,null,0,0,null,"ECC/REC/(02)02","-","-","-","-","-","-"]
["Czech Republic","CZE",80,"31000-31300","X",null,null,null,"X",null,null,null,null,null,null,null,0,null,"see the EFIS","N/A","N/A","N/A"]
["Estonia","EST",80,"31000-31300","not in use",null,null,null,null,null,null,null,null,null,null,null,null,null,"ECC/REC/(02)02"]
["Finland","FIN",80,"31000-31300","x",null,null,null,"x",null,null,"x",null,null,null,0,0,null,"ECC/REC/(02)02"]
["Hungary","HNG",80,"31000-31300","X",null,null,null,"X",null,null,null,null,null,null,null,0,null,"ECC/REC/(02)02"]
["Netherlands","HOL",{"$f":"VLOOKUP(D567,[1]BandList!$A$2:$B$110,2,FALSE)","v":80},"31000-31300",null,null,null,null,null,null,null,null,null,null,null,null,null,null,"ECC/REC/(02)02"]
["Ireland","IRL",80,"31000-31300","X",null,null,null,null,null,null,null,null,null,null,null,0,null,"ECC/REC/(02)02"]
["Latvia","LVA",80,"31000-31300","X",null,null,null,"X","X","X",null,null,null,null,null,0,0,"ECC/REC/(02)02"]
["Portugal","POR",80,"31000-31300",null,null,null,null,null,null,null,null,null,null,null,null,null,null,"ECC/REC/(02)02",null,null,null,null,null,null,"Planned","Planned","Planned","Planned"]
["Switzerland","SUI",80,"31000-31300",null,null,null,null,null,null,null,null,null,null,null,null,null,null,"ECC/REC/(02)02",null,null,null,null,null,null,null,null,null,"?? equipment available"]
[]
["UK","G",81,"31000-31800","X",null,null,null,"X",null,null,"X",null,null,null,null,450,null,"National Plan"]
[]
["Austria","AUT",82,"31800-33400","X",null,null,null,"X",null,"X",null,null,null,null,null,566,null,"ERC/REC/(01)02",null,"X",null,1,3,5]
["Bosnia and Herzegovina","BIH",82,"31800-33400","X",null,null,null,"X",null,null,null,null,null,null,null,0,null,"ERC/REC/(01)02"]
["Bulgaria","BUL",82,"31800-33400","X",null,null,null,"X",null,null,null,null,null,null,0,0,null,"ERC/REC/(01)02","-","-","-","-","-","-"]
["Czech Republic","CZE",82,"31800-33400","X",null,null,null,"X",null,null,null,null,null,null,null,1374,null,"see the EFIS","N/A","N/A","N/A",null,"1.7km"]
["Germany","D",82,"31800-33400","x",null,null,null,"x",null,null,null,null,null,null,null,9110,null,"ERC/REC/(01)02",null,"x","x",1,2,7,"+"]
["Estonia","EST",82,"31800-33400","not in use",null,null,null,null,null,null,null,null,null,null,null,null,null,"ERC/REC/(01)02"]
["France","F",82,"31800-33400","X",null,null,null,"X",null,"X",null,null,null,null,null,530,null,"ERC/REC/(01)02",null,"X","X",0.28999999999999998,2.71,8]
["Finland","FIN",82,"31800-33400","x",null,null,null,"x",null,"x",null,null,null,null,0,111,null,"ERC/REC/(01)02",null,null,"x","0.1","1.1","7.5","+4",null,"4)",null,"4) Potential 5G candidate band under study"]
["UK","G",82,"31800-33400",null,"X"]
["Greece","GRC",82,"31800-33400","X",null,null,null,null,null,"X","X",null,null,null,null,28,null,"ERC/REC/(01)02",null,"X","X",0.4,2,5,"growth"]
["Hungary","HNG",82,"31800-33400",null,null,null,null,null,null,null,null,null,null,null,null,null,null,"ERC/REC/(01)02",null,null,null,null,null,null,null,null,null,null,"Only planned for PP, PMP"]
["Netherlands","HOL",{"$f":"VLOOKUP(D586,[1]BandList!$A$2:$B$110,2,FALSE)","v":82},"31800-33400","x",null,null,null,"x",null,null,null,null,null,null,null,1695,null,"ERC/REC/(01)02",null,"x","x",1,2,6,"+"]
["Norway","NOR",82,"31800-33400","x","x",null,null,null,null,null,null,null,null,null,null,null,null,"ERC/REC/(01)02",null,"x","x"]
["Portugal","POR",82,"31800-33400","X",null,null,null,"X","X",null,null,null,null,null,null,null,null,"ERC/REC/(01)02",null,null,null,null,null,null,"Planned","Planned","Planned","Planned"]
["Sweden","S",82,"31800-33400","X",null,null,null,null,null,null,null,null,null,null,null,2137,null,"ERC/REC/(01)02","X","X","X",0,2.2000000000000002,11.1,-25]
["Switzerland","SUI",82,"31800-33400","x",null,null,null,"x",null,"x","x","x",null,null,null,775,null,"ERC/REC/(01)02",null,null,"x",0.5,2.2999999999999998,5.7,100]
["Slovak Republic","SVK",82,"31800-33400","x",null,null,null,"x",null,null,null,null,null,null,null,397,null,"ERC/REC/(01)02",null,"x","x",0.13,1,5.0999999999999996,20]
[]
["Latvia","LVA",83,"31815–32347/32627–33159","X",null,null,null,"X","X","X",null,null,null,null,null,224,null,"ERC/REC/(01)02",null,"X","X",0.1,1.5,5,0.1]
[]
["Latvia","LVA",84,"32375–32571/33187–33383","X",null,null,null,"X",null,"X",null,null,null,null,null,0,null,"ERC/REC/(01)02",null,null,null,null,null,null,0.05]
[]
["Estonia","EST",85,"36000-37000","not in use"]
["Latvia","LVA",85,"36000-37000",null,null,null,null,null,null,null,null,null,null,null,null,null,null,null,null,null,null,null,null,null,null,null,null,null,"Exclusive Military Band Within the Band 36000-37000 MHz"]
["Portugal","POR",85,"36000-37000",null,null,null,null,null,null,null,null,null,"X","Military"]
["Switzerland","SUI",85,"36000-37000",null,null,null,null,null,null,null,null,null,null,"No civil use"]
[]
["Austria","AUT",86,"37000-39500","X",null,null,null,"X",null,"X","X",null,null,null,null,3642,null,"T/R 12-01","X","X","X",1,5,17]
["Bosnia and Herzegovina","BIH",86,"37000-39500","X",null,null,null,"X",null,"X",null,null,null,null,null,12,null,"T/R 12-01","X","X","X",0.2,1.5,5]
["Bulgaria","BUL",86,"37000-39500","X",null,null,null,"X",null,"X",null,null,null,null,0,1075,null,"T/R 12-01, Annex A","X","X","X",0.03,1,6,"+50 %"]
["Czech Republic","CZE",86,"37000-39500","X",null,null,null,"X",null,null,null,null,null,null,null,6123,null,"see the EFIS","N/A","N/A","N/A",null,"1.2km"]
["Germany","D",86,"37000-39500","x",null,null,null,"x",null,null,null,null,null,null,null,30750,null,"T/R 12-01",null,"x","x",1,2,13,"+"]
["Estonia","EST",86,"37000-39500","x",null,null,null,"x",null,"x",null,null,null,null,225,null,null,"T/R 12-01","x","x",null,0.05,null,12]
["France","F",86,"37000-39500","X",null,null,null,"X",null,"X",null,null,null,null,null,7079,null,"T/R 12-01","X","X","X",0.04,2.48,11.39,7.0000000000000007E-2,"X",null,"New regulation put in place in 2013 in order to offer more capacity to backhaul needs with higher bandwidth"]
["Finland","FIN",86,"37000-39500","x",null,null,null,"x",null,null,"x",null,null,null,0,18,null,"T/R 12-01",null,"x",null,"0.7","1.8","3.7",null,null,"4)",null,"4) Potential 5G candidate band under study"]
["UK","G",86,"37000-39500","X",null,null,null,"X",null,"X","X","X",null,null,1,6091,null,"T/R 12-01","X","X","X",null,3]
["Greece","GRC",86,"37000-39500","X",null,null,null,null,null,"X","X",null,null,null,null,1035,null,"T/R 12-01","X","X","X",0.02,1.6,6.8,"growth"]
["Hungary","HNG",86,"37000-39500","X",null,null,null,"X",null,"X",null,null,null,null,null,6356,null,"T/R 12-01",null,"X","X",null,5,null,null,"X",null,null,"37.926-38.220/39.186-39.480 GHz subband designated for non-civil FS, the rest for civil FS ; Currently congested in big cities"]
["Netherlands","HOL",{"$f":"VLOOKUP(D613,[1]BandList!$A$2:$B$110,2,FALSE)","v":86},"37000-39500","x",null,null,null,"x",null,"x","x",null,null,null,null,3322,null,"T/R 12-01",null,"x","x",1,2,9,"+"]
["Croatia","HRV",86,"37000-39500","X",null,null,null,"X",null,"X",null,null,null,null,null,455,null,"T/R 12-01",null,"X","X",0.05,1.56,7.55,10]
["Italy",{"$f":"VLOOKUP(A615, '[1]Country names'!$A$5:$C$53,3,FALSE)","v":"I"},{"$f":"VLOOKUP(D615,[1]BandList!$A$2:$B$110,2,FALSE)","v":86},"37000-39500","X",null,null,null,"X",null,"X","X","X",null,null,null,13585,null,"T/R 12-01",78,10976,2531,0.1,3.875,9.3000000000000007,"+10/20"]
["Ireland","IRL",86,"37000-39500","X",null,null,null,"X",null,null,null,null,"X",null,null,2095,null,"T/R 12-01",245,843,1007,"0 km"]
["Latvia","LVA",86,"37000-39500","X",null,null,null,"X",null,"X","X",null,null,null,null,195,null,"T/R 12-01",null,"X","X","0,3",2,6,0.2]
["Malta","MLT",86,"37000-39500","X",null,null,null,"X",null,"X",null,null,null,null,null,1,null,"ERC Rec T/R 12-01",null,null,null,1.7,1.7,1.7]
["Norway","NOR",86,"37000-39500","x",null,null,null,null,null,null,null,null,null,null,null,28,null,"T/R 12-01",null,"x","x"]
["Norway","NOR",86,"37000-39500",null,"x",null,null,null,null,null,null,null,null,null,null,null,null,null,null,"x","x"]
["Portugal","POR",86,"37000-39500","X",null,null,null,"X",null,"X","X",null,null,"FS",null,425,null,"T/R 12-01","X","X","X",0.1,"2",6,5]
["Russia","RUS",86,"37000-39500","X",null,null,null,"X",null,"X","X",null,null,"X\nTelecom operators, industrial process communications","under 0.1%",26520,null,"ITU-R Rec. F.749","X","X","X",1,2,5,null,null,null,"Increase of use, most of all in mobile backhaul and in telecom operators' infrastructure and in industrial process communications."]
["Sweden","S",86,"37000-39500","X",null,null,null,null,null,null,null,null,null,null,null,3542,null,"T/R 12-01","X","X","X",0,2,10,-25]
["Switzerland","SUI",86,"37000-39500","x",null,null,null,"x",null,"x","x","x",null,null,null,1036,null,"T/R 12-01",null,"x",null,0.3,2.7,7.9,50,"> High / Low problems in urban areas"]
["Slovak Republic","SVK",86,"37000-39500","x",null,null,null,"x",null,null,null,null,null,null,null,1775,null,"T/R 12-01","x","x","x",0.05,2,7,10]
["Slovenia","SVN",86,"37000-39500","X",null,null,null,"X",null,"X",null,null,null,null,0,504,null,"T/R 12-01",null,"X","X",0.1,2,6,"+10%","X"]
["Turkey","TUR",86,"37000-39500","x",null,null,null,"x",null,null,null,null,null,null,null,422,null,"T/R 12-01 Annex A",null,null,null,"<1",1.5,5]
["Turkey","TUR",86,"37000-39500",null,"x",null,null,"x",null,null,null,null,null,null,null,15870]
[]
["Estonia","EST",87,"39500-40500","not in use"]
["Finland","FIN",87,"39500-40500",null,null,null,null,null,null,null,null,null,null,null,null,null,null,null,null,null,null,null,null,null,null,null,"4)",null,"4) Potential 5G candidate band under study"]
["Latvia","LVA",87,"39500-40500",null,null,null,null,null,null,null,null,null,null,null,null,null,null,"ERC/DEC/(00)02",null,null,null,null,null,null,null,null,null,null,"Currently not in use by Fixed service"]
["Portugal","POR",87,"39500-40500",null,null,null,null,null,null,null,null,null,null,"HDFSS"]
["Switzerland","SUI",87,"39500-40500",null,null,null,null,null,null,null,null,null,null,"FSS"]
[]
["Austria","AUT",88,"40500-43500","X",null,null,null,"X",null,"X",null,null,null,null,null,53,null,"ECC/REC/(01)04",null,"X",null,1,3,5]
["Bosnia and Herzegovina","BIH",88,"40500-43500","X",null,null,null,"X",null,null,null,null,null,null,null,0,null,"ECC/REC/(01)04"]
["Czech Republic","CZE",88,"40500-43500","X",null,null,null,"X",null,null,null,null,null,null,null,54,null,"see the EFIS","N/A","N/A","N/A",null,"0.6km"]
["Germany","D",88,"40500-43500","x",null,null,null,"x",null,null,null,null,null,null,null,3020,null,"ECC/REC/(01)04",null,null,"x",null,null,null,"+"]
["Estonia","EST",88,"40500-43500","not in use",null,null,null,null,null,null,null,null,null,null,null,null,null,"ECC/REC/(01)04"]
["Finland","FIN",88,"40500-43500","x",null,null,null,"x",null,null,null,null,null,null,0,0,null,"ECC/REC/(01)04",null,null,null,null,null,null,null,null,"4)",null,"4) Potential 5G candidate band under study"]
["UK","G",88,"40500-43500",null,"X"]
["Greece","GRC",88,"40500-43500","X",null,null,null,null,null,null,null,null,null,null,null,null,null,"ECC/REC/(01)04",null,null,null,null,null,null,"growth","Allocation of the 41334-42000 paired with 42834-43500  for P-P links. Potential fututre block allocation of the rest of the band","Allocation of the 41334-42000 paired with 42834-43500  for P-P links. Potential fututre block allocation of the rest of the band","Allocation of the 41334-42000 paired with 42834-43500  for P-P links. Potential fututre block allocation of the rest of the band"]
["Hungary","HNG",88,"40500-43500",null,null,null,null,null,null,null,null,null,null,null,null,null,null,"ERC/DEC/(99)15",null,null,null,null,null,null,null,null,null,null,"Only planned for PP and MWS"]
["Netherlands","HOL",{"$f":"VLOOKUP(D645,[1]BandList!$A$2:$B$110,2,FALSE)","v":88},"40500-43500","x",null,null,null,"x",null,null,null,null,null,null,null,null,null,"ECC/REC/(01)04"]
["Italy",{"$f":"VLOOKUP(A646, '[1]Country names'!$A$5:$C$53,3,FALSE)","v":"I"},{"$f":"VLOOKUP(D646,[1]BandList!$A$2:$B$110,2,FALSE)","v":88},"40500-43500","X",null,null,null,"X",null,"X","X","X",null,null,null,1580,null,"ECC/REC/(01)04",0,1095,485,"0.080",2,3.9,"+10/20"]
["Ireland","IRL",88,"40500-43500","X",null,null,null,"X",null,null,null,null,"X",null,null,10,null,"ECC/REC/(01)04",null,null,10,"0 km"]
["Latvia","LVA",88,"40500-43500","X",null,null,null,"X","X","X",null,null,null,null,null,0,0,"ECC/REC/(01)04",null,"X","X",null,null,null,1]
["Norway","NOR",88,"40500-43500",null,"x",null,null,null,null,null,null,null,null,null,null,null,null,"ECC/REC/(01)04",null,"x","x"]
["Portugal","POR",88,"40500-43500","?","?",null,null,"X","X",null,null,null,null,"MWS, MVDS",null,null,null,"ECC/REC/(01)04",null,null,null,null,null,null,"Planned","Planned","Planned","Planned"]
["Russia","RUS",88,"40500-43500","X",null,null,null,"X","X",null,"X",null,null,"X\nTelecom operators, industrial process communications",null,160,16,"ITU-R Rec. F.2005",null,null,"X",0.1,3,6,null,null,null,"Use in existing telecom operators' communications networks."]
["Switzerland","SUI",88,"40500-43500","x",null,null,null,"x",null,"x","x",null,null,null,null,582,null,"ECC/REC/(01)04",null,null,"x",0.5,1.6,3.8,200]
["Slovak Republic","SVK",88,"40500-43500",null,null,null,null,null,null,null,null,null,null,null,null,null,null,"ECC/REC/(01)04",null,null,null,null,null,null,null,null,null,"operation "]
["Slovak Republic","SVK",88,"40500-43500",null,null,null,null,null,null,null,null,null,null,null,null,null,null,null,null,null,null,null,null,null,null,null,null,"expected"]
[]
["Czech Republic","CZE",89,"47200-48500",null,null,null,null,null,null,null,"ENG/OB",null,null,null,null,null,null,"47.2 GHz- 50.2 GHz","N/A","N/A","N/A"]
["Estonia","EST",89,"47200-48500","not in use"]
["Finland","FIN",89,"47200-48500","x",null,null,null,"x",null,null,null,null,null,null,0,0,null,"ERC/REC 12-11",null,null,null,null,null,null,null,null,"4)",null,"4) Potential 5G candidate band under study"]
["Latvia","LVA",89,"47200-48500","X",null,null,null,"X",null,null,null,"X",null,null,0,null,null,"ERC/REC 25-10",null,"X",null,null,null,null,1]
["Portugal","POR",89,"47200-48500",null,null,null,null,null,null,null,null,null,null,"HDFSS (47.5-47.9 GHz)"]
["Switzerland","SUI",89,"47200-48500",null,null,null,null,null,null,null,null,null,null,"PMSE",null,null,null,null,null,null,null,null,null,null,null,null,null,"?? equipment available"]
[]
["Bosnia and Herzegovina","BIH",90,"48500-50200","X",null,null,null,"X",null,null,null,null,null,null,null,0,null,"ERC/REC 12-10"]
["Czech Republic","CZE",90,"48500-50200",null,null,null,null,null,null,null,"ENG/OB",null,null,null,null,null,null,"47.2 GHz- 50.2 GHz","N/A","N/A","N/A"]
["Estonia","EST",90,"48500-50200","not in use",null,null,null,null,null,null,null,null,null,null,null,null,null,"ERC/REC 12-11"]
["Finland","FIN",90,"48500-50200","x",null,null,null,"x",null,null,null,null,null,null,0,0,null,"ERC/REC 12-11",null,null,null,null,null,null,null,null,"4)",null,"4) Potential 5G candidate band under study"]
["Hungary","HNG",90,"48500-50200","X",null,null,null,"X",null,null,null,null,null,null,null,0,null,"ERC/REC 12-10"]
["Netherlands","HOL",{"$f":"VLOOKUP(D668,[1]BandList!$A$2:$B$110,2,FALSE)","v":90},"48500-50200",null,null,null,null,null,null,null,null,null,null,null,null,null,null,"ERC/REC 12-11"]
["Latvia","LVA",90,"48500-50200","X",null,null,null,"X",null,"X","X",null,null,null,null,0,null,"ERC/REC 12-11"]
["Portugal","POR",90,"48500-50200","?","?",null,null,"X","X",null,null,null,null,"HDFSS (48.2-48.54 GHz and 49.44-50.2 GHz)",null,null,null,"ERC/REC 12-11",null,null,null,null,null,null,"Planned","Planned","Planned","Planned"]
["Switzerland","SUI",90,"48500-50200",null,null,null,null,null,null,null,null,null,null,null,null,null,null,"ERC/REC 12-11",null,null,null,null,null,null,null,null,null,"?? equipment available"]
[]
["UK","G",91,"49200 - 50200","X",null,null,null,"X",null,"X",null,null,null,null,0,30,null,null,"X",null,null,null,2]
[]
["Estonia","EST",92,"50400-51400","not in use, no any interest"]
["Finland","FIN",92,"50400-51400","x",null,null,null,"x",null,null,null,null,null,null,0,0,null,"no channel plan",null,null,null,null,null,null,null,null,"4)",null,"4) Potential 5G candidate band under study"]
["Latvia","LVA",92,"50400-51400",null,null,null,null,null,null,null,null,null,null,null,null,null,null,null,null,null,null,null,null,null,null,null,null,null,"Currently not in use by Fixed service"]
["Switzerland","SUI",92,"50400-51400",null,null,null,null,null,null,null,null,null,null,null,null,null,null,null,null,null,null,null,null,null,null,null,null,"?? equipment available"]
[]
["Bosnia and Herzegovina","BIH",93,"51400-52600","X",null,null,null,"X",null,null,null,null,null,null,null,null,null,"ERC/REC 12-11"]
["Bulgaria","BUL",93,"51400-52600","X",null,null,null,"X",null,null,null,null,null,null,0,0,null,"ERC/REC 12-11","-","-","-","-","-","-"]
["Germany","D",93,"51400-52600","x",null,null,null,"x",null,null,null,null,null,null,null,0,null,"ERC/REC 12-11"]
["Estonia","EST",93,"51400-52600","not in use, no any interest",null,null,null,null,null,null,null,null,null,null,null,null,null,"ERC/REC 12-11"]
["Finland","FIN",93,"51400-52600","x",null,null,null,"x",null,null,null,null,null,null,0,0,null,"ERC/REC 12-11, planned",null,null,null,null,null,null,null,null,"4)",null,"4) Potential 5G candidate band under study"]
["UK","G",93,"51400-52600","X",null,null,null,"X",null,null,null,null,null,null,0,0,null,"ERC/REC 12-11"]
["Hungary","HNG",93,"51400-52600","X",null,null,null,"X",null,null,null,null,null,null,null,0,null,"ERC/REC 12-11"]
["Netherlands","HOL",{"$f":"VLOOKUP(D687,[1]BandList!$A$2:$B$110,2,FALSE)","v":93},"51400-52600",null,null,null,null,null,null,null,null,null,null,null,null,null,null,"ERC/REC 12-11"]
["Latvia","LVA",93,"51400-52600","X",null,null,null,"X",null,"X","X",null,null,null,null,0,null,"ERC/REC 12-11",null,"X","X",null,null,null,1]
["Portugal","POR",93,"51400-52600","?","?",null,null,"X","X",null,null,null,null,null,null,null,null,"ERC/REC 12-11",null,null,null,null,null,null,"Planned","Planned","Planned","Planned"]
["Switzerland","SUI",93,"51400-52600","x",null,null,null,"x",null,"x","x",null,null,null,null,299,null,"ERC/REC 12-11",null,"x",null,0.15,0.75,2.8,-80,null,null,"> not enough transmission capacity with existing equipment"]
[]
["Bosnia and Herzegovina","BIH",94,"55780-57000","X",null,null,null,"X",null,null,null,null,null,null,null,0,null,"ERC/REC 12-12"]
["Bulgaria","BUL",94,"55780-57000","X",null,null,null,"X",null,null,null,null,null,null,0,0,null,"ERC/REC 12-12, Annex 2","-","-","-","-","-","-"]
["Estonia","EST",94,"55780-57000","not in use, no any interest",null,null,null,null,null,null,null,null,null,null,null,null,null,"ERC/REC 12-12"]
["Finland","FIN",94,"55780-57000","x",null,null,null,"x",null,null,null,null,null,null,0,0,null,"ERC/REC 12-12, planned"]
["UK","G",94,"55780-57000","X",null,null,null,"X",null,null,null,null,null,null,0,0,null,"ERC/REC 12-12"]
["Greece","GRC",94,"55780-57000","X",null,null,null,null,null,null,null,null,null,null,null,null,null,"ERC/REC 12-12"]
["Hungary","HNG",94,"55780-57000","X",null,null,null,"X",null,null,null,null,null,null,null,0,null,"ERC/REC 12-12"]
["Netherlands","HOL",{"$f":"VLOOKUP(D699,[1]BandList!$A$2:$B$110,2,FALSE)","v":94},"55780-57000",null,null,null,null,null,null,null,null,null,null,null,null,null,null,"ERC/REC 12-12"]
["Latvia","LVA",94,"55780-57000","X",null,null,null,"X",null,"X","X",null,null,null,null,0,null,"ERC/REC 12-12E",null,null,null,null,null,null,1]
["Portugal","POR",94,"55780-57000","?","?",null,null,"X","X",null,null,null,null,"EESS",null,null,null,"ERC/REC 12-12",null,null,null,null,null,null,"Planned","Planned","Planned","Planned"]
["Switzerland","SUI",94,"55780-57000","x",null,null,null,"x",null,"x","x",null,null,null,null,0,null,"ERC/REC 12-12",null,null,null,null,null,null,null,null,null,"?? equipment available"]
[]
["Bosnia and Herzegovina","BIH",96,"57000-59000","X",null,null,null,"X",null,null,null,null,null,null,null,0,null,"ECC/REC/(09)01"]
["Bulgaria","BUL",96,"57000-59000","X",null,null,null,"X",null,null,null,null,null,null,0,0,null,"ECC/REC/(09)01","-","-","-","-","-","-"]
["Czech Republic","CZE",96,"57000-59000","X",null,null,null,"X",null,null,null,null,null,null,null,3,null,"see the EFIS","N/A","N/A","N/A"]
["Germany","D",96,"57000-59000",null,null,null,"x","x",null,null,null,null,null,null,null,null,null,"ECC/REC/(09)01"]
["Estonia","EST",96,"57000-59000","not in use, no any interest",null,null,null,null,null,null,null,null,null,null,null,null,null,"ECC/REC/(09)01"]
["Finland","FIN",96,"57000-59000",null,"x",null,null,"x",null,null,"x",null,null,null,null,4,null,"existing use ERC/REC 12-09",null,null,null,null,"N/A"]
["UK","G",96,"57000-59000",null,null,null,"X",null,null,null,null,null,null,null,null,null,null,"ECC/REC/(09)01"]
["Hungary","HNG",96,"57000-59000","X",null,null,null,"X",null,null,"X",null,null,null,null,2,null,"ECC/REC/(09)01",null,null,"X",null,3]
["Netherlands","HOL",{"$f":"VLOOKUP(D712,[1]BandList!$A$2:$B$110,2,FALSE)","v":96},"57000-59000",null,null,null,null,null,null,null,null,null,null,null,null,null,null,"ECC/REC/(09)01"]
["Latvia","LVA",96,"57000-59000","X",null,null,null,"X",null,"X",null,null,null,null,null,0,null,"ECC/REC/(09)01",null,null,null,null,null,null,1]
["Norway","NOR",96,"57000-59000",null,null,null,"x",null,null,null,null,null,null,null,null,null,null,"ECC/REC/(09)01"]
["Portugal","POR",96,"57000-59000","?","?",null,null,"X","X",null,null,null,null,"EESS, SRD",null,null,null,"ECC/REC/(09)01",null,null,null,null,null,null,"Planned","Planned","Planned","Planned"]
["Sweden","S",96,"57000-59000",null,null,null,"X",null,null,null,null,null,null,null,null,null,null,"ECC/REC/(09)01"]
["Switzerland","SUI",96,"57000-59000","x",null,null,null,"x",null,"x",null,null,null,null,null,109,null,"ECC/REC/(09)01","x",null,null,0.05,0.3,1,-100,null,null,"> not enough transmission capacity with existing equipment"]
[]
["Greece","GRC",97,"57000-63000","X",null,null,null,null,null,null,null,null,null,null,null,null,null,"ECC/REC/(09)01"]
[]
["Russia","RUS",98,"57200-58200","X",null,null,null,"X",null,"X",null,null,null,null,0,220,null,"ITU-R Rec. F.1497","X","X",null,0.1,1,2,null,null,null,"Minor increase of use in mobile backhaul."]
[]
["Russia","RUS",99,"58250-63250",null,null,null,"X","X",null,null,null,null,null,null,null,null,null,"National Plan (59.5 GHz;\n62 GHz)",null,null,"X",0.1,1,2]
[]
["Latvia","LVA",100,"59000-61000",null,null,null,null,null,null,null,null,null,null,null,null,null,null,"ECC/REC/(09)01",null,null,null,null,null,null,null,null,"X",null,"Exclusive Military Band Within the Band 59000-61000 MHz; planned reallocation"]
[]
["Bulgaria","BUL",101,"59000-64000","X",null,null,null,"X",null,null,null,null,null,null,0,0,null,"ECC/REC/(09)01","-","-","-","-","-","-"]
["Germany","D",101,"59000-64000",null,null,null,"x","x",null,null,null,null,null,null,null,null,null,"ECC/REC/(09)01"]
["Estonia","EST",101,"59000-64000","not in use, no any interest",null,null,null,null,null,null,null,null,null,null,null,null,null,"ECC/REC/(09)01"]
["UK","G",101,"59000-64000",null,null,null,"X",null,null,null,null,null,null,null,null,null,null,"ECC/REC/(09)01"]
["Hungary","HNG",101,"59000-64000",null,null,"X",null,"X",null,null,null,null,null,null,null,0,null,"ECC/REC/(09)01"]
["Netherlands","HOL",{"$f":"VLOOKUP(D732,[1]BandList!$A$2:$B$110,2,FALSE)","v":101},"59000-64000",null,null,null,null,null,null,null,null,null,null,null,null,null,null,"ECC/REC/(09)01"]
["Norway","NOR",101,"59000-64000",null,null,null,"x",null,null,null,null,null,null,null,null,null,null,"ECC/REC/(09)01"]
["Portugal","POR",101,"59000-64000","?","?",null,null,"X","X",null,null,null,null,"SRD, ISM, Military (59-61 GHz)",null,null,null,"ECC/REC/(09)01",null,null,null,null,null,null,"Planned","Planned","Planned","Planned"]
["Sweden","S",101,"59000-64000",null,null,null,"X",null,null,null,null,null,null,null,null,null,null,"ECC/REC/(09)01"]
["Switzerland","SUI",101,"59000-64000",null,null,null,"x","x",null,null,null,null,null,null,null,null,null,"ECC/REC/(09)01"]
[]
["Latvia","LVA",102,"61000-66000",null,null,null,null,null,null,null,null,null,null,null,null,null,null,null,null,null,null,null,null,null,null,null,"X"]
[]
["Bosnia and Herzegovina","BIH",103,"64000-66000","X",null,null,null,"X",null,null,null,null,null,null,null,0,null,"ECC/REC/(05)02"]
["Bulgaria","BUL",103,"64000-66000","X",null,null,null,"X",null,null,null,null,null,null,0,0,null,"ECC/REC/(05)02","-","-","-","-","-","-"]
["Estonia","EST",103,"64000-66000","not in use, no any interest",null,null,null,null,null,null,null,null,null,null,null,null,null,"ECC/REC/(05)02"]
["Finland","FIN",103,"64000-66000","x",null,null,null,"x",null,null,null,null,null,null,0,0,null,"ECC/REC/(05)02"]
["UK","G",103,"64000-66000",null,null,"X",null,"X",null,null,null,null,null,null,0,0,null,"no channel plan in the UK"]
["Greece","GRC",103,"64000-66000","X",null,null,null,null,null,null,null,null,null,null,null,null,null,"ECC/REC/(05)02"]
["Hungary","HNG",103,"64000-66000",null,null,null,null,null,null,null,null,null,null,null,null,null,null,"ECC/REC/(05)02",null,null,null,null,null,null,null,null,null,null,"Only planned for PP"]
["Netherlands","HOL",{"$f":"VLOOKUP(D747,[1]BandList!$A$2:$B$110,2,FALSE)","v":103},"64000-66000",null,null,null,null,null,null,null,null,null,null,null,null,null,null,"ECC/REC/(05)02"]
["Norway","NOR",103,"64000-66000",null,null,null,"x",null,null,null,null,null,null,null,null,null,null,"ECC/REC/(05)02"]
["Portugal","POR",103,"64000-66000","?","?",null,null,"X","X",null,null,null,null,null,null,null,null,"ECC/REC/(05)02",null,null,null,null,null,null,"Planned","Planned","Planned","Planned"]
["Sweden","S",103,"64000-66000",null,null,null,"X",null,null,null,null,null,null,null,null,null,null,"ECC/REC/(05)02"]
["Switzerland","SUI",103,"64000-66000",null,null,null,"x","x",null,null,null,null,null,null,null,null,null,"ECC/REC/(05)02"]
[]
["Austria","AUT",104,"71000-76000 and 81000-86000","X",null,null,null,"X",null,null,null,null,null,null,null,1269,null,"ECC/REC/(05)07",null,"X","X",1,3,6]
["Bosnia and Herzegovina","BIH",104,"71000-76000 and 81000-86000","X",null,null,null,"X",null,null,null,null,null,null,null,0,null,"ECC/REC/(05)07"]
["Bulgaria","BUL",104,"71000-76000 and 81000-86000","X",null,null,null,"X",null,"X",null,null,null,null,0,52,null,"ECC/REC/(05)07",null,null,"X",0.2,0.8,2,"+500 %"]
["Czech Republic","CZE",104,"71000-76000 and 81000-86000",null,null,"X",null,"X",null,null,null,null,null,null,null,1245,null,"see the EFIS","N/A","N/A","N/A"]
["Germany","D",104,"71000-76000 and 81000-86000","x",null,null,null,"x",null,null,null,null,null,null,null,510,null,"ECC/REC/(05)07",null,null,"x"]
["Estonia","EST",104,"71000-76000 and 81000-86000","not in use, no any interest",null,null,null,null,null,null,null,null,null,null,null,null,null,"ECC/REC/(05)07"]
["France","F",104,"71000-76000 and 81000-86000","X",null,null,null,"X",null,"X",null,null,null,null,null,537,null,"ECC/REC/(05)07",null,null,"X",0.1,1.94,7.2,0.5]
["Finland","FIN",104,"71000-76000 and 81000-86000","x",null,null,null,"x",null,null,"x",null,null,null,0,4,null,"ECC/REC/(05)07",null,null,"x","0.1","2.4","2.9",null,null,"4)",null,"4) Potential 5G candidate band under study"]
["Greece","GRC",104,"71000-76000 and 81000-86000","X",null,null,null,null,null,"X","X",null,null,null,null,191,null,"ECC/REC/(05)07",null,null,"X",0.02,1.3,4,"high growth"]
["Hungary","HNG",104,"71000-76000 and 81000-86000",null,null,"X",null,"X",null,null,null,null,null,null,null,562,null,"ECC/REC/(05)07",null,null,"X",null,1]
["Netherlands","HOL",{"$f":"VLOOKUP(D763,[1]BandList!$A$2:$B$110,2,FALSE)","v":104},"71000-76000 and 81000-86000","x",null,null,null,"x",null,"x","x",null,null,null,null,26,null,"ECC/REC/(05)07",null,null,"x",1,2,3,"+"]
["Croatia","HRV",104,"71000-76000 and 81000-86000",null,null,"X",null,"X",null,"X","X",null,null,null,null,17,null,"ECC/REC/(05)07",null,null,"X",0.36,2.37,8.8000000000000007,500]
["Italy",{"$f":"VLOOKUP(A765, '[1]Country names'!$A$5:$C$53,3,FALSE)","v":"I"},{"$f":"VLOOKUP(D765,[1]BandList!$A$2:$B$110,2,FALSE)","v":104},"71000-76000 and 81000-86000","X",null,null,null,"X",null,"X","X","X",null,null,null,8,null,"ECC/REC/(05)07",0,4,4,0.14399999999999999,0.5,1.4359999999999999,"+10/20"]
["Ireland","IRL",104,"71000-76000 and 81000-86000","X",null,null,null,"X",null,null,null,null,"X",null,null,355,null,"ECC/REC/(05)07",355,null,null,"0 km"]
["Norway","NOR",104,"71000-76000 and 81000-86000","x",null,null,null,null,null,null,null,null,null,null,null,6,null,"ECC/REC/(05)07",null,null,"x"]
["Portugal","POR",104,"71000-76000 and 81000-86000","?","?",null,null,"X","X",null,"X",null,null,"SRD, AM (75.5-76 GHz), Military (71-74 GHz and 81-84 GHz)",null,1,null,"ECC/REC/(05)07",null,null,"X",0.01,"0,3",1,1000]
["Sweden","S",104,"71000-76000 and 81000-86000","X",null,null,null,null,null,null,null,null,null,null,null,4,null,"ECC/REC/(05)07",null,null,"X",0,2,2.9,100]
["Switzerland","SUI",104,"71000-76000 and 81000-86000","x",null,null,null,"x",null,"x","x",null,null,null,null,333,null,"ECC/REC/(05)07",null,null,"x",0.1,0.8,4.9000000000000004,500]
["Slovenia","SVN",104,"71000-76000 and 81000-86000","X",null,null,null,"X",null,"X","X",null,null,null,0,5,null,"ECC/REC/(05)07",null,null,"X",0.5,2,3,"+10%"]
["Turkey","TUR",104,"71000-76000 and 81000-86000","x",null,null,null,"x",null,null,null,null,null,null,null,581,null,"ECC/REC/(05)07",null,null,null,"<1",1,4]
[]
["Russia","RUS",105,"71000-76000/81000-86000",null,null,null,"X","X",null,"X","X",null,null,"X\nTelecom operators",0,"> 1000",null,"ITU-R Rec. F.2006",null,null,"X",0.1,0.5,1,null,null,null,"Increase of use, most of all in mobile backhaul and in telecom operators' infrastructure."]
[]
["UK","G",106,"71125-73125 and 81125-83125","X",null,null,null,"X",null,"X","X",null,null,null,null,320,null,"ECC/REC/(05)07",null,null,"X",null,1.5]
[]
["UK","G",107,"73375-75875 and 83375-85875",null,null,"X",null,"X",null,null,"X",null,null,"X",null,2400,null,"no channel plan in the UK",null,"X","X",null,4]
[]
["Latvia","LVA",108,"74000-76000 and 84000-86000","X",null,null,null,"X",null,"X","X",null,null,null,null,14,null,"ECC/REC/(05)07",null,null,"X","0,1",1,3,5]
[]
["Estonia","EST",109,"92000-95000","not in use, no any interest",null,null,null,null,null,null,null,null,null,null,null,null,null,"ECC/REC (14)01"]
["Finland","FIN",109,"92000-95000","x",null,null,null,"x",null,null,null,null,null,null,0,0,null,"ECC/REC (14)01"]
["Hungary","HNG",109,"92000-95000",null,null,null,null,null,null,null,null,null,null,null,null,null,null,"ECC/REC (14)01",null,null,null,null,null,null,null,null,null,null,"Only planned for PP"]
["Netherlands","HOL",{"$f":"VLOOKUP(D785,[1]BandList!$A$2:$B$110,2,FALSE)","v":109},"92000-95000",null,null,null,null,null,null,null,null,null,null,null,null,null,null,"ECC/REC (14)01"]
["Portugal","POR",109,"92000-95000","?","?",null,null,"X","X",null,null,null,null,null,null,null,null,"ECC/REC/(14)01",null,null,null,null,null,null,"Planned","Planned","Planned","Planned"]
["Russia","RUS",109,"92000-95000",null,null,null,"X","X",null,null,null,null,null,null,null,null,null,"ITU-R Rec. F.2004",null,null,"X",0.1,0.5,1]
["Switzerland","SUI",109,"92000-95000","x",null,null,null,"x",null,"x","x",null,null,null,null,0,null,"ECC/REC (14)01",null,null,"x",null,null,null,"?",null,null,"?? equipment available"]

{"sheet":"Ranges summary","index":5,"n_rows":104,"n_cols":80,"rows_kept":104,"cut":false,"hidden":false,"merged":[]}
[1,2,3,4,5,6,7,8,9,10,11,12,13,14,15,16,17,18,19,20,21,22,23,24,25,26,27,28,29,30,31,32,33,34,35,36,37,38,39,40,41,42,43,44,45,46,47,48,49,50,51,52,53,54,55,56,57,58,59,60,61,62,63,64,65,66,67,68,69,70,71,72,73,74,75,76,77,78,79,80]
["Admin number","Half Band","Band index","Frequency band (MHz)","Licensing regime",null,null,null,null," Topo-logy",null,null,"Application",null,null,null,null,"Number of P-P links",null,"Number of CS","Channel/Frequency plan used (e.g. ERC/ECC Rec. ITU-R Rec.)",null,"Link characteristics",null,null,null,null,null,"Future trends (e.g. in the next 5 years)",null,null,null,null,null,"0.1 Percentile","0.3 Percentile","0.5 Percentile","0.7 Percentile","0.95 Percentile","1 Percentile","0.1 Percentile","0.3 Percentile","0.5 Percentile","0.7 Percentile","0.95 Percentile","1 Percentile","0.1 Percentile","0.3 Percentile","0.5 Percentile","0.7 Percentile","0.95 Percentile","1 Percentile","0.1 Percentile","0.3 Percentile","0.5 Percentile","0.7 Percentile","0.95 Percentile","1 Percentile"]
[null,null,null,null,null,null,null,null,null,"FWA",null,null,"Network Infrastruc-ture",null,null,null,null,null,null,null,null,null,"Capacity",null,null,"Hop length (km)",null,null,null,null,null,null,null,null,"L min",null,null,null,null,"L min","L Typ",null,null,null,null,"L Typ","L max",null,null,null,null,"L max"]
[null,null,null,null,"Link by link","Block","Light licensed","Licence exempt","link-by-link + Block","P-P","P-MP","PtP + PMP","Mobile backhaul","Others","Broadcasting Infrastructure","No Information available on the application","Other (please indicate)","unidirectional","bidirectional (1 bidirectional link counts 1)","(applicable only for P-MP and mesh networks)",null,"National plans","LOW (<10 Mbit/s)","MEDIUM (10 to 100 Mbit/s)","HIGH (>100 Mbit/s)","MIN","Typical figure","MAX","Anticipated growth","Anticipated reduction","Currently congested","Planned reallocation to other service/application","Other (please describe)\n(see Question 3 of the Questionnaire)"]
[14,1.4335,1,"1350-1375 and 1492-1517",11,2,null,null,null,10,1,null,null,6,3,2,1,142,1088,16,12,2,8,2,null,0.6,null,82,null,2,null,7,2,1,0.8,2,3.5,4.5,8.2475000000000005,9.33,12.164999999999999,16.5,18,19,27.5,30,29.664999999999999,52.5,57.5,65,79,82]
[1,1.4339999999999999,2,"1350-1375 and 1492-1518",1,null,null,null,null,null,1,null,null,null,null,null,null,null,null,9,1,null,1,null,null,5,null,25,null,1]
[16,1.4135,3,"1375-1400 and 1427-1452",15,null,null,null,null,12,1,1,null,5,3,1,1,142,1961,null,12,1,11,1,null,0.08,null,152,1,3,null,8,4,1,0.30400000000000005,0.82000000000000006,1.5,2.8999999999999995,21.465499999999992,28,8.8640000000000008,12.9,19,20.3,41.199999999999989,52,25.899000000000008,60.14,63.7,69.599999999999994,127.49999999999997,152]
[1,1.476,4,"1437,5-1465,5 and 1486,5-1514,5",null,1,null,null,null,null,1,null,null,null,null,null,1,null,null,null,null,1,null,null,null,null,null,null,null,1,null,null,1]
[1,1.47,5,"1440-1500",1,null,null,null,null,1,null,null,null,1,null,null,null,null,39,null,null,null,null,null,null,null,null,null,null,1,null,1]
[1,1.4990000000000001,6,"1492–1506",1,null,null,null,null,null,1,null,1,null,null,null,null,null,null,19,1,null,1,null,null,1,null,10]
[1,1.5209999999999999,7,"1517-1525",1,null,null,null,null,null,null,null,null,null,1,null,null,347,null,null,null,1,1,null,null,5,null,30,1]
[1,1.5215000000000001,8,"1518 - 1525",1,null,null,null,null,1,null,null,null,null,1,null,null,24,null,null,null,null,1,null,null,1.1000000000000001,null,36.6]
[1,1.524,9,"1518-1530",1,null,null,null,null,1,null,null,null,null,1,null,null,61,null,null,null,1,1,null,null,1,null,46,1,null,null,null,1]
[1,1.681,10,"1672 - 1690",null,null,null,null,null,1,null,null,null,1,null,null,null,null,2,null,null,null,1]
[1,1.75,11,"1700-1709 and 1786-1800",1,null,null,null,null,null,null,null,null,null,1,null,null,192,null,null,null,1,1,1,null,7,null,90,null,1,null,1]
[1,2.2949999999999999,12,"1900-2690",1,null,null,null,null,null,null,null,1,1,null,null,null,null,3,null,null,null,1]
[14,2.1575000000000002,13,"2025-2110 and 2200-2290",11,1,1,null,null,10,null,null,null,3,6,4,2,48,80,null,14,null,4,4,null,2,null,290,null,1,null,null,1,1,2.2999999999999998,2.9,4,5.2699999999999987,7.294999999999999,7.7,4.5500000000000007,7.25,12.850000000000001,18.399999999999999,21.4,22,5.5500000000000007,31.349999999999998,57.5,125,265,290]
[1,2.0975000000000001,14,"2085-2110",1,null,null,null,null,1,null,null,null,null,1,null,null,189,null,null,null,1,null,null,null,0.09,null,55.74,1]
[1,2.4417499999999999,15,"2400-2483.5",1,null,null,1,null,1,1,1,null,null,null,null,1,null,8922,4108,null,null,1,1,1,0.05,null,70,null,null,null,null,1]
[22,3.5,16,"3400-3600",10,12,null,null,null,8,18,5,2,8,2,1,4,94,202,7778,18,2,4,10,3,1,null,140,2,3,null,9,2,2,1,1.5,2.5,6.05,17.274999999999999,20,9.4599999999999991,11,15,30.999999999999996,47,50,14.55,22.5,27.5,55,125,140]
[1,3.7444999999999999,17,"3480 – 3500//3580 – 3600; 3605 – 3689//3925 – 4009\n\n\n",null,1]
[2,3.7,18,"3600-3800",2,null,null,null,null,2,null,null,null,1,null,null,1,null,21,null,1,1,null,2,null,13,null,73,null,1,null,1,1,null,13,13,13,13,13,13,51,51,51,51,51,51,73,73,73,73,73,73]
[16,3.9,19,"3600-4200",10,7,null,null,null,8,10,1,3,4,3,null,4,191,815,957,15,null,2,8,6,1,null,100,3,1,null,6,1,2,1,7.3999999999999986,13,20,20,20,22.799999999999997,43.6,50,50,58,60,22.5,45,72.5,89.5,99.75,100]
[1,3.9420000000000002,20,"3689-3875//4009-4195",1,null,null,null,null,1,null,null,1,1,1,null,null,null,65,null,1,null,null,null,1]
[5,4,21,"3800-4200",4,null,null,null,null,3,null,null,null,1,2,null,null,null,402,null,5,null,null,1,2,11,null,101,null,1,null,null,null,null,12.853999999999999,16.562000000000001,20.27,22.962,26.326999999999998,27,40.200000000000003,54.599999999999994,58.664999999999999,60.696999999999996,63.4495,64,69.900000000000006,71.7,81.784999999999997,92.512999999999991,99.585499999999996,101]
[7,4.7,22,"4400-5000",3,null,null,null,null,1,null,null,null,1,1,1,4,10,311,null,1,1,null,1,1,10,null,80,null,null,null,null,1,1,11.200000000000001,13.600000000000001,16,18.399999999999999,21.4,22,24.3,28.900000000000002,33.5,38.099999999999994,43.849999999999994,45,27.800000000000004,39.400000000000006,51,62.599999999999994,77.099999999999994,80]
[1,5.25,23,"5150-5350",1,null,null,null,null,1,1,1,null,null,null,null,1,null,1282,5419,null,null,1,1,1,0.5,null,30,null,null,null,null,1]
[1,5.75,24,"5650-5850",1,null,null,null,null,1,1,1,null,null,null,null,1,null,2258,3802,null,1,1,1,1,0.05,null,32,null,null,null,null,1]
[1,5.76,25,"5725-5795",null,null,1,null,null,1,1,1,null,null,null,null,null,null,null,25,null,null,null,null,null,null,null,null,1]
[8,5.8875000000000002,26,"5850-5925",2,1,1,3,null,3,4,2,1,1,null,1,2,null,813,1150,null,2,1,2,1,1,null,68,null,null,null,null,1,1,1.3000000000000003,1.9000000000000001,2.5,3.0999999999999996,3.8499999999999996,4,13.200000000000003,19.600000000000001,26,32.4,40.4,42,42.800000000000004,48.400000000000006,54,59.599999999999994,66.599999999999994,68]
[6,6.1749999999999998,27,"5925-6425",6,null,null,null,null,5,1,1,6,4,3,null,1,38,5447,5300,6,null,1,4,6,1,null,98,1,null,1,null,2,null,2.9999999999999996,6.2,7,9.3999999999999986,10.559999999999999,10.7,15.5,26.5,32.86,36.86,40,40,39.799999999999997,54,70,70.744,92.585999999999999,98]
[19,6.5250000000000004,28,"5925-7125",21,1,null,null,1,19,null,null,11,11,7,2,4,10,15306,70,19,null,1,7,13,2,null,631,10,null,4,1,3,null,2,7.1935000000000002,10,15,25.15,40,24.4,30.3,40,45,65.999999999999972,80,51.5,63.19,70,80.925000000000011,127.25,140]
[1,6.7675000000000001,29,"6425-7110",1,null,null,null,null,null,null,null,1,1,1,null,null,9,367,null,1,null,null,null,1,7,null,123,1]
[5,6.7750000000000004,30,"6425-7125",5,null,null,null,null,5,null,null,4,4,2,null,1,23,1827,null,5,null,null,2,4,5,null,97,null,null,1,null,2,null,6.2,8.6,12.56,18.407999999999994,35.567999999999991,39,31.6,35,39,39.799999999999997,40.4,40.5,48.3,66.900000000000006,70.664999999999992,73.896999999999991,93.149499999999989,97]
[5,7.2750000000000004,31,"7125-7425",5,null,null,null,null,4,null,null,2,3,2,null,null,10,2419,null,5,null,2,2,2,0.5,null,85.56,1,null,null,null,null,null,0.95000000000000007,1.8499999999999999,2.88,5.3839999999999941,17.563999999999997,20,19.899999999999999,27.7,32,35.216000000000001,36.835999999999999,37.159999999999997,56.9,58.7,65.5,73.355999999999995,83.525999999999996,85.56]
[17,7.4375,32,"7125-7750",20,null,null,null,null,18,null,null,12,13,5,2,5,58,11705,null,18,null,8,14,13,1,null,749,11,3,3,null,null,1,2.4400000000000004,4.5144000000000002,10,10.219999999999999,15,15,22.6,27.88,30,31.549999999999997,40,40,40,51.5,55.75,59.65,94,106]
[1,7.4,33,"7250-7550",1,null,null,null,null,1,null,null,1,1,1,null,1,null,10890,null,1,null,1,1,1,1,null,65,null,null,null,null,1]
[4,7.5750000000000002,34,"7425-7725",4,null,null,null,null,3,null,null,4,3,2,null,null,null,1681,null,4,null,2,4,4,0.6,null,98,2,null,2,null,null,null,2.2200000000000002,5.4599999999999991,6.54,8.171999999999997,16.361999999999995,18,25.1,29.299999999999997,30,30.2,31.7,32,63.761000000000003,85.283000000000001,93.435000000000002,98,98,98]
[2,7.6624999999999996,35,"7425-7900",2,null,null,null,null,2,null,null,1,1,1,null,null,51,4863,null,2,null,1,1,1,null,null,null,null,null,null,null,null,null,null,null,null,null,null,null,32,32,32,32,32,32]
[1,7.7762500000000001,36,"7725-7827,5",1,null,null,null,null,1,null,null,1,null,null,null,null,null,454,null,1,1,1,1,1,7,null,58,1]
[9,7.8250000000000002,37,"7750-7900",8,null,null,null,null,7,null,null,3,3,1,3,1,40,566,null,5,null,1,4,3,3,null,80,4,null,null,null,null,null,5.1000000000000005,9.2999999999999989,10,10.145,11.232499999999998,11.45,29,36,40,40,48,50,50,50,52.6,57.679999999999993,76.279999999999987,80]
[1,8.15,38,"7900-8400",1,null,null,null,null,1,null,null,1,1,1,null,1,null,11540,null,1,null,1,1,1,1,null,65,null,null,null,null,1]
[3,8,39,"7725-8275",3,null,null,null,null,2,null,null,1,1,2,null,null,null,1243,null,3,null,null,1,3,2,null,102,1,1,null,null,null,null,2.5999999999999996,3.8000000000000003,5,11.456,19.526,21.14,30.2,36.6,43,46.72,51.37,52.3,58.313999999999993,74.942000000000007,91.57,95.74199999999999,100.95699999999999,102]
[13,8.1999999999999993,40,"7900-8500",10,2,null,null,null,9,null,null,6,5,3,3,3,22,7006,null,12,1,2,7,5,0.15,null,171,3,null,1,1,1,null,1.5249999999999999,4.1500000000000004,6.2,7.5,9.5,10,16.559999999999999,19.360000000000003,24.8,24.96,27.4,28,34.979999999999997,45.4,47,73.079999999999984,80.72,81]
[3,8.3874999999999993,41,"8275-8500",3,null,null,null,null,2,null,null,2,2,1,null,null,null,122,null,3,null,1,2,3,9,null,79,null,1,null,null,null,null,11.613999999999999,16.842000000000002,22.07,24.442,27.407,28,29.4,32.200000000000003,35,38.6,43.1,44,35.332000000000001,49.996000000000002,64.66,70.396000000000001,77.566000000000003,79]
[18,10.34,42,"10000-10680",13,5,null,1,1,12,5,2,2,7,8,2,4,234,678,890,15,2,5,10,2,0.3,null,142,5,2,null,null,2,null,0.39,1,2,3.3,5.8799999999999981,6.6,5,8,14,20.399999999999999,27.5,30,10.629999999999999,14.459999999999999,30,43.25,90.449999999999974,99]
[1,10.35,43,"10125 – 10205 GHz//10475 – 10555;  10205 – 10225//10555 – 10575",null,1]
[1,10.414999999999999,44,"10150-10680",1,null,null,null,null,1,null,null,null,null,1,null,null,53,1,null,1,null,1,null,null,0.2,null,42,1]
[1,10.59,45,"10500-10680",null,1,null,null,null,1,null,null,null,null,null,null,null,null,5229,null,1]
[19,11.2,46,"10700-11700",16,1,null,null,null,15,null,null,10,10,9,1,2,48,16470,null,17,null,1,6,13,0.6,null,71,5,3,1,null,2,null,1.0449999999999999,1.4734,2.8499999999999996,5,9.7799999999999994,10,12.2,14.2,19,23.103999999999996,42.399999999999991,46,27.286999999999999,30.849,37.754999999999995,43.5,67.699999999999989,71]
[1,11.24,47,"10755-11725",1,null,null,null,null,1,null,null,1,1,null,null,null,5,242,null,1,null,null,1,1,3,null,46,1]
[7,12.1,48,"11700-12500",1,2,null,null,null,1,3,null,null,null,2,null,2,2,null,252,null,2,null,1,1,5.4,null,23,null,null,null,null,1,2,5.4,5.4,5.4,5.4,5.4,5.4,14.2,14.2,14.2,14.2,14.2,14.2,23,23,23,23,23,23]
[1,12.112500000000001,49,"11725-12500",1,null,null,null,null,1,null,null,null,1,null,null,null,3,null,null,null,1,1,1,null,2,null,4,null,null,null,null,1]
[24,13,50,"12750-13250",24,1,null,null,null,21,null,null,17,16,9,3,2,41,72159,null,23,null,9,15,17,0.31,null,349,11,1,8,null,1,1,1,1,1.71,2.09,6.0549999999999971,7.5,11.6,14.472,17.39,18.899999999999999,25.499999999999989,30,34.31,44.2,48,51.75,62.064499999999974,79.430000000000007]
[8,14.375,51,"14250-14500",4,null,null,null,null,4,null,null,1,1,4,null,3,1091,333,null,1,null,2,2,null,1,null,35,1,null,null,1,2,1,1.06,1.1800000000000002,1.3,2.78,4.63,5,12.6,13.8,15,17.8,21.299999999999997,22,26,28,30,32,34.5,35]
[18,14.925000000000001,52,"14500-14620 and 15230-15350",17,2,null,null,null,17,null,null,10,9,5,2,null,361,27043,null,16,1,8,12,7,0.3,null,322,6,3,4,null,null,1,0.5102000000000001,1,5,5.3999999999999986,11.179999999999996,12.95,13.0266,14,15,15.12,25,25,17.304000000000002,29.68,41,48,62.959999999999972,74.900000000000006]
[5,14.925000000000001,53,"14500-15350",5,null,null,null,null,4,null,null,5,4,2,null,2,1,29823,null,4,1,3,3,5,0.2,null,57,2,null,null,null,2,null,0.44000000000000006,0.91999999999999993,1,1.2999999999999989,3.5499999999999989,4,10.66,13.2,14,14.8,15,15,23,29,30,32.699999999999989,52.949999999999989,57]
[6,17.5,54,"17300-17700",1,null,null,null,null,1,null,null,null,1,1,null,2,null,1,null,null,null,null,null,1,null,null,null,null,null,null,null,null,1,null,null,null,null,null,null,0.5,0.5,0.5,0.5,0.5,0.5]
[25,18.7,55,"17700-19700",26,1,null,null,null,23,null,null,19,16,9,2,3,544,139776,null,23,null,12,18,20,0.1,null,266,16,null,3,null,1,1,0.19100000000000006,0.2913,1,2,4,4,5,8.08,9,10,18.199999999999996,20,17.882200000000001,20,30.5,38,45.125000000000021,76]
[7,21.6,56,"21200-22000",4,null,null,null,null,4,null,null,1,1,1,null,2,null,220,null,2,null,1,1,null,null,null,null,null,null,null,null,1,1,null,null,null,null,null,null,5,5,5,5,5,5]
[1,22.4,57,"21200-23600",1,null,null,null,null,1,null,null,1,1,null,null,1,null,29200,null,1,null,1,1,1,1,null,15,null,null,null,null,1]
[21,22.8,58,"22000-22600 and 23000-23600",21,2,null,null,null,20,null,null,14,9,3,1,1,550,94413,null,20,null,9,17,15,0.1,null,175,12,1,4,null,2,2,0.12,0.22499999999999998,0.5,1,4,4,5,6.25,6.8149999999999995,7.9,10.5,12,11.726000000000001,16,20.6,25.999999999999996,51,51]
[2,22.8,59,"22000-23600",2,null,null,null,null,1,null,null,2,2,1,null,null,11,5883,null,2,null,2,2,2,0.1,null,15,1,null,null,null,null,null,0.1,0.1,0.1,0.1,0.1,0.1,4.4000000000000004,5.2,6,6.8,7.8,8,15,15,15,15,15,15]
[1,22.792000000000002,60,"22008-23576",1,null,null,null,null,1,null,null,1,1,null,null,null,null,903,null,1,null,1,1,1,0.2,null,21,1]
[8,22.8,61,"22600-23000",6,null,null,null,null,5,null,null,null,2,3,null,1,1,8,null,4,1,1,2,1,null,null,null,1,null,null,1,2,1,null,null,null,null,null,null,8,8,8,8,8,8]
[9,24.375,62,"24250-24500",2,null,null,1,null,2,null,null,null,null,3,null,2,null,null,null,2,1,null,1,1,null,null,null,1,null,null,1,null,2]
[1,25.112500000000001,63,"24500–24717/25557–25725",1,null,null,null,null,1,null,null,1,null,null,null,null,null,33,null,1,null,null,1,1,0.2,null,5,1]
[20,25.5,64,"24500-26500",20,11,null,null,4,19,11,6,13,6,3,null,2,17,51678,4234,19,null,9,15,14,0.04,null,80,7,1,2,3,2,2,4.2000000000000003E-2,0.10199999999999998,0.4,0.97,2.4499999999999993,3,3,3.92,4,5.7999999999999989,11.799999999999994,16,8,9,11,15.167999999999999,59.779999999999951,80]
[1,25.613,65,"24773–25445/25781–26453",1,null,null,null,null,1,1,1,1,null,null,null,null,null,null,43,1,null,null,1,1,0.2,null,5,1]
[1,26.875,66,"24250-29500",1,null,null,null,null,1,1,1,1,1,null,null,1,null,350,330,1,null,1,1,1,1,null,10,null,null,null,null,1]
[5,27,67,"26500-27500",null,null,null,null,null,null,null,null,null,null,null,1,2,null,null,null,null,null,null,null,null,null,null,null,null,null,null,1,null,2]
[18,28.5,68,"27500-29500",12,8,null,null,1,11,8,4,6,3,3,1,1,null,5862,277,14,null,2,7,9,0.05,null,173,8,null,null,1,1,1,6.2000000000000006E-2,0.38199999999999995,1,1.8399999999999999,2,2,1.1280000000000001,1.8399999999999999,2,3.1999999999999993,4.1399999999999997,4.2,3.1080000000000001,4.16,6.8,7.5999999999999979,12.099999999999998,13]
[1,28.640499999999999,69,"27828,5–28444,5/28948,5–29452,5",1,null,null,null,null,1,1,1,1,1,null,null,null,null,7,86,1,null,null,1,1,0.1,null,5,1]
[11,31.15,70,"31000-31300",7,null,null,null,null,6,1,1,1,1,null,null,null,null,null,null,10,null,null,null,null,null,null,null,1,null,null,1,2]
[1,31.4,71,"31000-31800",1,null,null,null,null,1,null,null,null,1,null,null,null,null,450,null,null,1]
[17,32.6,72,"31800-33400",14,2,null,null,1,11,1,1,5,2,1,null,null,null,16723,null,15,null,1,8,9,0.13,null,75,7,1,null,2,1,2,9.1000000000000025E-2,0.30099999999999999,0.45,0.94999999999999973,1,1,1.7000000000000002,2,2.1,2.2899999999999996,2.8984999999999999,3,5,5.16,5.85,6.8999999999999995,10.014999999999997,11.1]
[1,32.487000000000002,73,"31815–32347/32627–33159",1,null,null,null,null,1,1,1,1,null,null,null,null,null,224,null,1,null,null,1,1,0.1,null,5,1]
[1,32.878999999999998,74,"32375–32571/33187–33383",1,null,null,null,null,1,null,null,1,null,null,null,null,null,null,null,1,null,null,null,null,null,null,null,1]
[4,36.5,75,"36000-37000",null,null,null,null,null,null,null,null,null,null,null,1,2,null,null,null,null,null,null,null,null,null,null,null,null,null,null,null,null,1]
[25,38.25,76,"37000-39500",25,2,null,null,null,23,null,null,17,10,3,1,2,226,131956,null,24,null,11,21,18,0.05,null,37,12,1,3,1,2,2,2.6000000000000002E-2,0.05,0.1,0.4399999999999995,1.1399999999999995,1.7,1.5,1.8199999999999998,2,2.2879999999999998,5,5,5,6,7,9.18,13.399999999999991,17]
[5,40,77,"39500-40500",null,null,null,null,null,null,null,null,null,null,null,null,2,null,null,null,null,null,null,null,null,null,null,null,null,null,null,1,null,2]
[18,42,78,"40500-43500",12,2,null,null,null,12,3,3,4,3,1,1,2,null,5459,16,15,null,null,3,5,0.1,null,6,6,null,null,3,5,2,0.18,0.34000000000000008,0.5,0.7,0.95,1,1.7200000000000002,1.96,2.5,3,3,3,3.83,3.8899999999999997,4.45,5.0999999999999996,5.85,6]
[6,47.85,79,"47200-48500",2,null,null,null,null,2,null,null,null,null,1,null,2,null,null,null,2,null,null,1,null,null,null,null,1,null,null,1,1,1]
[9,49.35,80,"48500-50200",4,null,null,null,null,5,1,1,1,1,null,null,1,null,null,null,8,null,null,null,null,null,null,null,1,null,null,2,2,1]
[1,49.7,81,"49200 - 50200",1,null,null,null,null,1,null,null,1,null,null,null,null,null,30,null,null,null,1]
[4,50.9,82,"50400-51400",1,null,null,null,null,1,null,null,null,null,null,null,null,null,null,null,null,null,null,null,null,null,null,null,null,null,null,1,1,2]
[11,52,83,"51400-52600",8,null,null,null,null,9,1,1,2,2,null,null,null,null,299,null,11,null,null,2,1,0.15,null,2.8,2,1,null,2,2,1,0.15,0.15,0.15,0.15,0.15,0.15,0.75,0.75,0.75,0.75,0.75,0.75,2.8,2.8,2.8,2.8,2.8,2.8]
[11,56.39,84,"55780-57000",8,null,null,null,null,8,1,1,2,2,null,null,1,null,null,null,11,null,null,null,null,null,null,null,2,null,null,1,2]
[14,58,85,"57000-59000",6,1,null,4,null,9,1,1,2,2,null,null,1,null,118,null,13,null,1,null,1,0.05,null,1,2,1,null,1,2,null,0.05,0.05,0.05,0.05,0.05,0.05,0.57000000000000028,1.1100000000000001,1.6500000000000001,2.19,2.8649999999999998,3,1,1,1,1,1,1]
[1,60,86,"57000-63000",1,null,null,null,null,null,null,null,null,null,null,null,null,null,null,null,1]
[1,57.7,87,"57200-58200",1,null,null,null,null,1,null,null,1,null,null,null,null,null,220,null,1,null,1,1,null,0.1,null,2,null,null,null,null,1]
[1,60.75,88,"58250-63250",null,null,null,1,null,1,null,null,null,null,null,null,null,null,null,null,null,1,null,null,1,0.1,null,2]
[1,60,89,"59000-61000",null,null,null,null,null,null,null,null,null,null,null,null,null,null,null,null,1,null,null,null,null,null,null,null,null,null,null,1,null,1]
[10,61.5,90,"59000-64000",1,null,1,5,null,5,1,1,null,null,null,null,1,null,null,null,10,null,null,null,null,null,null,null,1,null,null,1,1]
[1,63.5,91,"61000-66000",null,null,null,null,null,null,null,null,null,null,null,null,null,null,null,null,null,null,null,null,null,null,null,null,null,null,null,1]
[12,65,92,"64000-66000",4,null,1,3,null,6,1,1,null,null,null,null,null,null,null,null,11,null,null,null,null,null,null,null,1,null,null,1,1,1]
[20,78.5,93,"71000-76000 and 81000-86000",15,null,3,null,null,16,1,1,8,8,1,1,1,null,5706,null,19,null,null,1,14,0.1,null,29,10,null,null,1,null,1,0.01,0.1,0.14399999999999999,0.36,1,1,0.8,1,1.62,2,2.6534999999999997,3,1.4923999999999999,2.9299999999999997,3.5,4.63,7.919999999999999,8.8000000000000007]
[1,78.5,94,"71000-76000/81000-86000",null,null,null,1,null,1,null,null,1,1,null,null,1,null,null,null,1,null,null,null,1,0.1,null,1,null,null,null,null,1]
[1,77.125,95,"71125-73125 and 81125-83125",1,null,null,null,null,1,null,null,1,1,null,null,null,null,320,null,1,null,null,null,1]
[1,79.625,96,"73375-75875 and 83375-85875",null,null,1,null,null,1,null,null,null,1,null,null,1,null,2400,null,null,null,null,1,1]
[1,80,97,"74000-76000 and 84000-86000",1,null,null,null,null,1,null,null,1,1,null,null,null,null,14,null,1,null,null,null,1,0.1,null,3,1]
[7,93.5,98,"92000-95000",2,null,null,1,null,4,1,1,1,1,null,null,null,null,null,null,7,null,null,null,2,0.1,null,1,1,null,null,1,2,1,0.1,0.1,0.1,0.1,0.1,0.1,0.5,0.5,0.5,0.5,0.5,0.5,1,1,1,1,1,1]
[]
[null,null,null,null,472,70,9,21,8,443,86,43,222,217,132,37,90,4889,737931,34781,502,28,147,245,249,null,null,null,177,36,37,65]

{"sheet":"Tot-GHz","index":6,"n_rows":51,"n_cols":80,"rows_kept":51,"cut":false,"hidden":false,"merged":[]}
[1,2,3,4,5,6,7,8,9,10,11,12,13,14,15,16,17,18,19,20,21,22,23,24,25,26,27,28,29,30,31,32,33,34,35,36,37,38,39,40,41,42,43,44,45,46,47,48,49,50,51,52,53,54,55,56,57,58,59,60,61,62,63,64,65,66,67,68,69,70,71,72,73,74,75,76,77,78,79,80]
[null,null,"Frequency (GHz)",null,"Licensing regime",null,null,null,null," Topo-logy",null,null,"Application",null,null,null,null,"Number of P-P links",null,"Number of CS","Channel/Frequency plan used (e.g. ERC/ECC Rec. ITU-R Rec.)",null,"Link characteristics",null,null,null,null,null,"Future trends (e.g. in the next 5 years)"]
[null,null,null,null,null,null,null,null,null,"FWA",null,null,"Network Infrastruc-ture",null,null,null,null,null,null,null,null,null,"Capacity",null,null,"Hop length (km)"]
[null,null,null,null,"Link by link","Block","Light licensed","Licence exempt","link-by-link + Block","P-P","P-MP","PtP + PMP","Mobile backhaul","Others","Broadcasting Infrastructure","No Information available on the application","Other (please indicate)","unidirection","bidirectional (1 bidirectional link counts 1)","(applicable only for P-MP and mesh networks)",null,"National plans","LOW (<10 Mbit/s)","MEDIUM (10 to 100 Mbit/s)","HIGH (>100 Mbit/s)","MIN","Typical figure","MAX","Anticipated growth","Anticipated reduction","Currently congested","Planned reallocation to other service/application","Other (please describe)\n(see Question 3 of the Questionnaire)"]
[null,null,1,null,33,3,null,null,null,26,5,1,1,13,10,3,3,908,3090,44,26,7,26,4,null,null,null,null,3,9,null,17,8]
[null,null,2,null,14,1,1,1,null,12,1,1,1,4,7,4,3,237,9005,4108,14,1,6,5,1,null,null,null,1,1,null,null,2]
[null,null,3,null,23,20,null,null,null,19,28,6,6,14,6,1,9,285,1103,8735,35,3,6,20,10,null,null,null,5,5,null,16,4]
[null,null,4,null,7,null,null,null,null,4,null,null,null,2,3,1,4,10,713,null,6,1,null,2,3,null,null,null,null,1,null,null,1]
[null,null,5,null,4,1,2,3,null,6,7,5,1,1,null,1,4,null,4353,10396,null,3,3,4,3,null,null,null,1,null,null,null,3]
[null,null,6,null,33,1,null,null,1,29,1,1,22,20,13,2,6,80,22947,5370,31,null,2,13,24,null,null,null,12,null,6,1,7]
[null,null,7,null,41,null,null,null,null,36,null,null,24,24,12,5,7,159,32578,null,36,1,16,27,25,null,null,null,19,3,5,null,1]
[null,null,8,null,17,2,null,null,null,14,null,null,10,9,7,3,4,22,19911,null,19,1,4,11,12,null,null,null,4,2,1,1,2]
[null,null,10,null,14,7,null,1,1,14,5,2,2,7,9,2,4,287,5908,890,17,2,6,10,2,null,null,null,6,2,null,null,2]
[null,null,11,null,17,1,null,null,null,16,null,null,11,11,9,1,2,53,16712,null,18,null,1,7,14,null,null,null,6,3,1,null,2]
[null,null,12,null,2,2,null,null,null,2,3,null,null,1,2,null,2,5,null,252,null,3,1,2,1,null,null,null,null,null,null,null,2]
[null,null,13,null,24,1,null,null,null,21,null,null,17,16,9,3,2,41,72159,null,23,null,9,15,17,null,null,null,11,1,8,null,1]
[null,null,14,null,26,2,null,null,null,25,null,null,16,14,11,2,5,1453,57199,null,21,2,13,17,12,null,null,null,9,3,4,1,4]
[null,null,17,null,1,null,null,null,null,1,null,null,null,1,1,null,2,null,1,null,null,null,null,null,1]
[null,null,18,null,26,1,null,null,null,23,null,null,19,16,9,2,3,544,139776,null,23,null,12,18,20,null,null,null,16,null,3,null,1]
[null,null,21,null,4,null,null,null,null,4,null,null,1,1,1,null,2,null,220,null,2,null,1,1,null,null,null,null,null,null,null,null,1]
[null,null,22,null,31,2,null,null,null,28,null,null,18,15,7,1,3,562,130407,null,28,1,14,23,20,null,null,null,15,1,4,1,5]
[null,null,24,null,2,null,null,1,null,2,null,null,null,null,3,null,2,null,null,null,2,1,null,1,1,null,null,null,1,null,null,1]
[null,null,25,null,22,11,null,null,4,21,12,7,15,6,3,null,2,17,51711,4277,21,null,9,17,16,null,null,null,9,1,2,3,2]
[null,null,26,null,1,null,null,null,null,1,1,1,1,1,null,null,1,null,350,330,1,null,1,1,1,null,null,null,null,null,null,null,1]
[null,null,27,null,null,null,null,null,null,null,null,null,null,null,null,1,2,null,null,null,null,null,null,null,null,null,null,null,null,null,null,1]
[null,null,28,null,13,8,null,null,1,12,9,5,7,4,3,1,1,null,5869,363,15,null,2,8,10,null,null,null,9,null,null,1,1]
[null,null,31,null,8,null,null,null,null,7,1,1,1,2,null,null,null,null,450,null,10,1,null,null,null,null,null,null,1,null,null,1,2]
[null,null,32,null,16,2,null,null,1,13,2,2,7,2,1,null,null,null,16947,null,17,null,1,9,10,null,null,null,9,1,null,2,1]
[null,null,36,null,null,null,null,null,null,null,null,null,null,null,null,1,2]
[null,null,38,null,25,2,null,null,null,23,null,null,17,10,3,1,2,226,131956,null,24,null,11,21,18,null,null,null,12,1,3,1,2]
[null,null,40,null,null,null,null,null,null,null,null,null,null,null,null,null,2,null,null,null,null,null,null,null,null,null,null,null,null,null,null,1]
[null,null,42,null,12,2,null,null,null,12,3,3,4,3,1,1,2,null,5459,16,15,null,null,3,5,null,null,null,6,null,null,3,5]
[null,null,47,null,2,null,null,null,null,2,null,null,null,null,1,null,2,null,null,null,2,null,null,1,null,null,null,null,1,null,null,1,1]
[null,null,49,null,5,null,null,null,null,6,1,1,2,1,null,null,1,null,30,null,8,null,1,null,null,null,null,null,1,null,null,2,2]
[null,null,50,null,1,null,null,null,null,1,null,null,null,null,null,null,null,null,null,null,null,null,null,null,null,null,null,null,null,null,null,1,1]
[null,null,52,null,8,null,null,null,null,9,1,1,2,2,null,null,null,null,299,null,11,null,null,2,1,null,null,null,2,1,null,2,2]
[null,null,56,null,8,null,null,null,null,8,1,1,2,2,null,null,1,null,null,null,11,null,null,null,null,null,null,null,2,null,null,1,2]
[null,null,58,null,6,1,null,4,null,9,1,1,2,2,null,null,1,null,118,null,13,null,1,null,1,null,null,null,2,1,null,1,2]
[null,null,60,null,1,null,null,null,null,null,null,null,null,null,null,null,null,null,null,null,1]
[null,null,57,null,1,null,null,null,null,1,null,null,1,null,null,null,null,null,220,null,1,null,1,1,null,null,null,null,null,null,null,null,1]
[null,null,60,null,null,null,null,1,null,1,null,null,null,null,null,null,null,null,null,null,1,1,null,null,1,null,null,null,null,null,null,1]
[null,null,61,null,1,null,1,5,null,5,1,1,null,null,null,null,1,null,null,null,10,null,null,null,null,null,null,null,1,null,null,1,1]
[null,null,63,null,null,null,null,null,null,null,null,null,null,null,null,null,null,null,null,null,null,null,null,null,null,null,null,null,null,null,null,1]
[null,null,65,null,4,null,1,3,null,6,1,1,null,null,null,null,null,null,null,null,11,null,null,null,null,null,null,null,1,null,null,1,1]
[null,null,78,null,15,null,3,1,null,17,1,1,9,9,1,1,2,null,5706,null,20,null,null,1,15,null,null,null,10,null,null,1,1]
[null,null,77,null,1,null,null,null,null,1,null,null,1,1,null,null,null,null,320,null,1,null,null,null,1]
[null,null,79,null,null,null,1,null,null,1,null,null,null,1,null,null,1,null,2400,null,null,null,null,1,1]
[null,null,80,null,1,null,null,null,null,1,null,null,1,1,null,null,null,null,14,null,1,null,null,null,1,null,null,null,1]
[null,null,93,null,2,null,null,1,null,4,1,1,1,1,null,null,null,null,null,null,7,null,null,null,2,null,null,null,1,null,null,1,2]
[]
[null,null,null,null,{"$f":"SUM(E4:E49)","v":472},70,9,21,8,443,86,43,222,217,132,37,90,4889,737931,34781,502,28,147,245,249,null,null,null,{"$f":"SUM(AC4:AC49)","v":177},{"$f":"SUM(AD4:AD49)","v":36},{"$f":"SUM(AE4:AE49)","v":37},{"$f":"SUM(AF4:AF49)","v":65},{"$f":"SUM(AG4:AG49)","v":76}]

{"sheet":"Percentile","index":7,"n_rows":35,"n_cols":23,"rows_kept":35,"cut":false,"hidden":false,"merged":[]}
[]
[null,null,null,null,null,"0.1 Percentile","0.3 Percentile","0.5 Percentile","0.7 Percentile","0.95 Percentile","1 Percentile","0.1 Percentile","0.3 Percentile","0.5 Percentile","0.7 Percentile","0.95 Percentile","1 Percentile","0.1 Percentile","0.3 Percentile","0.5 Percentile","0.7 Percentile","0.95 Percentile","1 Percentile"]
[null,null,null,null,null,"L min",null,null,null,null,"L min","L Typ",null,null,null,null,"L Typ","L max",null,null,null,null,"L max"]
[null,1.4335,1,"1350-1375 and 1492-1517",null,0.8,2,3.5,4.5,8.2475000000000005,9.33,12.164999999999999,16.5,18,19,27.5,30,29.664999999999999,52.5,57.5,65,79,82]
[null,1.4135,3,"1375-1400 and 1427-1452",null,0.30400000000000005,0.82000000000000006,1.5,2.8999999999999995,21.465499999999992,28,8.8640000000000008,12.9,19,20.3,41.199999999999989,52,25.899000000000008,60.14,63.7,69.599999999999994,127.49999999999997,152]
[null,2.1575000000000002,13,"2025-2110 and 2200-2290",null,2.2999999999999998,2.9,4,5.2699999999999987,7.294999999999999,7.7,4.5500000000000007,7.25,12.850000000000001,18.399999999999999,21.4,22,5.5500000000000007,31.349999999999998,57.5,125,265,290]
[null,3.5,16,"3400-3600",null,1,1.5,2.5,6.05,17.274999999999999,20,9.4599999999999991,11,15,30.999999999999996,47,50,14.55,22.5,27.5,55,125,140]
[null,3.9,19,"3600-4200",null,1,7.3999999999999986,13,20,20,20,22.799999999999997,43.6,50,50,58,60,22.5,45,72.5,89.5,99.75,100]
[null,4,21,"3800-4200",null,12.853999999999999,16.562000000000001,20.27,22.962,26.326999999999998,27,40.200000000000003,54.599999999999994,58.664999999999999,60.696999999999996,63.4495,64,69.900000000000006,71.7,81.784999999999997,92.512999999999991,99.585499999999996,101]
[null,4.7,22,"4400-5000",null,11.200000000000001,13.600000000000001,16,18.399999999999999,21.4,22,24.3,28.900000000000002,33.5,38.099999999999994,43.849999999999994,45,27.800000000000004,39.400000000000006,51,62.599999999999994,77.099999999999994,80]
[null,5.8875000000000002,26,"5850-5925",null,1.3000000000000003,1.9000000000000001,2.5,3.0999999999999996,3.8499999999999996,4,13.200000000000003,19.600000000000001,26,32.4,40.4,42,42.800000000000004,48.400000000000006,54,59.599999999999994,66.599999999999994,68]
[null,6.1749999999999998,27,"5925-6425",null,2.9999999999999996,6.2,7,9.3999999999999986,10.559999999999999,10.7,15.5,26.5,32.86,36.86,40,40,39.799999999999997,54,70,70.744,92.585999999999999,98]
[null,6.5250000000000004,28,"5925-7125",null,2,7.1935000000000002,10,15,25.15,40,24.4,30.3,40,45,65.999999999999972,80,51.5,63.19,70,80.925000000000011,127.25,140]
[null,6.7750000000000004,30,"6425-7125",null,6.2,8.6,12.56,18.407999999999994,35.567999999999991,39,31.6,35,39,39.799999999999997,40.4,40.5,48.3,66.900000000000006,70.664999999999992,73.896999999999991,93.149499999999989,97]
[null,7.2750000000000004,31,"7125-7425",null,0.95000000000000007,1.8499999999999999,2.88,5.3839999999999941,17.563999999999997,20,19.899999999999999,27.7,32,35.216000000000001,36.835999999999999,37.159999999999997,56.9,58.7,65.5,73.355999999999995,83.525999999999996,85.56]
[null,7.4375,32,"7125-7750",null,2.4400000000000004,4.5144000000000002,10,10.219999999999999,15,15,22.6,27.88,30,31.549999999999997,40,40,40,51.5,55.75,59.65,94,106]
[null,7.5750000000000002,34,"7425-7725",null,2.2200000000000002,5.4599999999999991,6.54,8.171999999999997,16.361999999999995,18,25.1,29.299999999999997,30,30.2,31.7,32,63.761000000000003,85.283000000000001,93.435000000000002,98,98,98]
[null,7.8250000000000002,37,"7750-7900",null,5.1000000000000005,9.2999999999999989,10,10.145,11.232499999999998,11.45,29,36,40,40,48,50,50,50,52.6,57.679999999999993,76.279999999999987,80]
[null,8,39,"7725-8275",null,2.5999999999999996,3.8000000000000003,5,11.456,19.526,21.14,30.2,36.6,43,46.72,51.37,52.3,58.313999999999993,74.942000000000007,91.57,95.74199999999999,100.95699999999999,102]
[null,8.1999999999999993,40,"7900-8500",null,1.5249999999999999,4.1500000000000004,6.2,7.5,9.5,10,16.559999999999999,19.360000000000003,24.8,24.96,27.4,28,34.979999999999997,45.4,47,73.079999999999984,80.72,81]
[null,8.3874999999999993,41,"8275-8500",null,11.613999999999999,16.842000000000002,22.07,24.442,27.407,28,29.4,32.200000000000003,35,38.6,43.1,44,35.332000000000001,49.996000000000002,64.66,70.396000000000001,77.566000000000003,79]
[null,10.34,42,"10000-10680",null,0.39,1,2,3.3,5.8799999999999981,6.6,5,8,14,20.399999999999999,27.5,30,10.629999999999999,14.459999999999999,30,43.25,90.449999999999974,99]
[null,11.2,46,"10700-11700",null,1.0449999999999999,1.4734,2.8499999999999996,5,9.7799999999999994,10,12.2,14.2,19,23.103999999999996,42.399999999999991,46,27.286999999999999,30.849,37.754999999999995,43.5,67.699999999999989,71]
[null,13,50,"12750-13250",null,1,1,1.71,2.09,6.0549999999999971,7.5,11.6,14.472,17.39,18.899999999999999,25.499999999999989,30,34.31,44.2,48,51.75,62.064499999999974,79.430000000000007]
[null,14.375,51,"14250-14500",null,1.06,1.1800000000000002,1.3,2.78,4.63,5,12.6,13.8,15,17.8,21.299999999999997,22,26,28,30,32,34.5,35]
[null,14.925000000000001,52,"14500-14620 and 15230-15350",null,0.5102000000000001,1,5,5.3999999999999986,11.179999999999996,12.95,13.0266,14,15,15.12,25,25,17.304000000000002,29.68,41,48,62.959999999999972,74.900000000000006]
[null,14.925000000000001,53,"14500-15350",null,0.44000000000000006,0.91999999999999993,1,1.2999999999999989,3.5499999999999989,4,10.66,13.2,14,14.8,15,15,23,29,30,32.699999999999989,52.949999999999989,57]
[null,18.7,55,"17700-19700",null,0.19100000000000006,0.2913,1,2,4,4,5,8.08,9,10,18.199999999999996,20,17.882200000000001,20,30.5,38,45.125000000000021,76]
[null,22.8,58,"22000-22600 and 23000-23600",null,0.12,0.22499999999999998,0.5,1,4,4,5,6.25,6.8149999999999995,7.9,10.5,12,11.726000000000001,16,20.6,25.999999999999996,51,51]
[null,25.5,64,"24500-26500",null,4.2000000000000003E-2,0.10199999999999998,0.4,0.97,2.4499999999999993,3,3,3.92,4,5.7999999999999989,11.799999999999994,16,8,9,11,15.167999999999999,59.779999999999951,80]
[null,28.5,68,"27500-29500",null,6.2000000000000006E-2,0.38199999999999995,1,1.8399999999999999,2,2,1.1280000000000001,1.8399999999999999,2,3.1999999999999993,4.1399999999999997,4.2,3.1080000000000001,4.16,6.8,7.5999999999999979,12.099999999999998,13]
[null,32.6,72,"31800-33400",null,9.1000000000000025E-2,0.30099999999999999,0.45,0.94999999999999973,1,1,1.7000000000000002,2,2.1,2.2899999999999996,2.8984999999999999,3,5,5.16,5.85,6.8999999999999995,10.014999999999997,11.1]
[null,38.25,76,"37000-39500",null,2.6000000000000002E-2,0.05,0.1,0.4399999999999995,1.1399999999999995,1.7,1.5,1.8199999999999998,2,2.2879999999999998,5,5,5,6,7,9.18,13.399999999999991,17]
[null,42,78,"40500-43500",null,0.18,0.34000000000000008,0.5,0.7,0.95,1,1.7200000000000002,1.96,2.5,3,3,3,3.83,3.8899999999999997,4.45,5.0999999999999996,5.85,6]
[null,78.5,93,"71000-76000 and 81000-86000",null,0.01,0.1,0.14399999999999999,0.36,1,1,0.8,1,1.62,2,2.6534999999999997,3,1.4923999999999999,2.9299999999999997,3.5,4.63,7.919999999999999,8.8000000000000007]

{"sheet":"Combined","index":8,"n_rows":687,"n_cols":30,"rows_kept":687,"cut":false,"hidden":false,"merged":[[0,4,0,7],[0,8,0,9],[0,10,0,14],[0,15,0,16],[0,19,0,24],[0,25,0,28],[1,8,1,9],[1,10,1,11],[1,19,1,21],[1,22,1,24],[0,18,2,18]]}
["Respondent","Country code","Band index","Frequency band (MHz)","Licensing regime",null,null,null," Topo-logy",null,"Application",null,null,null,null,"Number of P-P links",null,"Number of CS","Channel/Frequency plan used (e.g. ERC/ECC Rec. ITU-R Rec.)","Link characteristics",null,null,null,null,null,"Future trends (e.g. in the next 5 years)"]
[null,null,null,null,null,null,null,null,"FWA",null,"Network Infrastruc-ture",null,null,null,null,null,null,null,null,"Capacity",null,null,"Hop length (km)"]
[null,null,null,null,"Link by link","Block","Light licensed","Licence exempt","P-P","P-MP","Mobile backhaul","Others","Broadcasting Infrastructure","No Information available on the application","Other (please indicate)","unidirection","bidirectional (1 bidirectional link counts 1)","(applicable only for P-MP and mesh networks)",null,"LOW (<10 Mbit/s)","MEDIUM (10 to 100 Mbit/s)","HIGH (>100 Mbit/s)","MIN","Typical figure","MAX","Anticipated growth/reduction (+/-%)","Currently congested","Planned reallocation to other service/application","Other (please describe)\n(see Question 3 of the Questionnaire)"]
["Italy",{"$f":"VLOOKUP(A4, 'Country names'!$A$5:$C$53,3,FALSE)","v":"I"},{"$f":"VLOOKUP(D4,BandList!$A$2:$B$110,2,FALSE)","v":29},"5925-7125","X",null,null,null,"X",null,"X","X","X",null,null,null,1319,null,"ERC/REC 14-01 and ERC/REC 14-02, ECC/REC(14)06",0,0,399,6.3869999999999996,31.5,59.38,"+10/20"]
["Italy",{"$f":"VLOOKUP(A5, 'Country names'!$A$5:$C$53,3,FALSE)","v":"I"},{"$f":"VLOOKUP(D5,BandList!$A$2:$B$110,2,FALSE)","v":36},"7125-7750","X",null,null,null,"X",null,"X","X","X",null,null,null,3379,null,"ECC REC (02)06",4,0,1418,4.593,31.25,57.98,"+10/20"]
["Italy",{"$f":"VLOOKUP(A6, 'Country names'!$A$5:$C$53,3,FALSE)","v":"I"},{"$f":"VLOOKUP(D6,BandList!$A$2:$B$110,2,FALSE)","v":54},"10700-11700","X",null,null,null,"X",null,"X","X","X",null,null,null,7436,null,"ERC/REC 12-06",0,0,1350,1.462,21.75,32.83,"+10/20"]
["Italy",{"$f":"VLOOKUP(A7, 'Country names'!$A$5:$C$53,3,FALSE)","v":"I"},{"$f":"VLOOKUP(D7,BandList!$A$2:$B$110,2,FALSE)","v":58},"12750-13250","X",null,null,null,"X",null,"X","X","X",null,null,null,10663,null,"ERC/REC 12-02",93,31,4383,1.0129999999999999,18.75,32.700000000000003,"+10/20"]
["Italy",{"$f":"VLOOKUP(A8, 'Country names'!$A$5:$C$53,3,FALSE)","v":"I"},{"$f":"VLOOKUP(D8,BandList!$A$2:$B$110,2,FALSE)","v":60},"14500-14620 and 15230-15350","X",null,null,null,"X",null,"X","X","X",null,null,null,6256,null,"ERC/REC 12-07",152,2,3012,0.95099999999999996,13.333,22.52,"+10/20"]
["Italy",{"$f":"VLOOKUP(A9, 'Country names'!$A$5:$C$53,3,FALSE)","v":"I"},{"$f":"VLOOKUP(D9,BandList!$A$2:$B$110,2,FALSE)","v":64},"17700-19700","X",null,null,null,"X",null,"X","X","X",null,null,null,21374,null,"ERC/REC 12-03",251,6,5078,0.27100000000000002,8.75,16.821999999999999,"+10/20"]
["Italy",{"$f":"VLOOKUP(A10, 'Country names'!$A$5:$C$53,3,FALSE)","v":"I"},{"$f":"VLOOKUP(D10,BandList!$A$2:$B$110,2,FALSE)","v":68},"22000-22600 and 23000-23600","X",null,null,null,"X",null,"X","X","X",null,null,null,15778,null,"T/R 13-02 Annexes A1, A2, A3",189,16,5156,0.12,6.5,12.21,"+10/20"]
["Italy",{"$f":"VLOOKUP(A11, 'Country names'!$A$5:$C$53,3,FALSE)","v":"I"},{"$f":"VLOOKUP(D11,BandList!$A$2:$B$110,2,FALSE)","v":86},"37000-39500","X",null,null,null,"X",null,"X","X","X",null,null,null,13585,null,"T/R 12-01",65,13,4838,0.1,3.875,9.3000000000000007,"+10/20"]
["Italy",{"$f":"VLOOKUP(A12, 'Country names'!$A$5:$C$53,3,FALSE)","v":"I"},{"$f":"VLOOKUP(D12,BandList!$A$2:$B$110,2,FALSE)","v":88},"40500-43500","X",null,null,null,"X",null,"X","X","X",null,null,null,1580,null,"ECC/REC/(01)04",0,0,23,"0.080",2,3.9,"+10/20"]
["Italy",{"$f":"VLOOKUP(A13, 'Country names'!$A$5:$C$53,3,FALSE)","v":"I"},{"$f":"VLOOKUP(D13,BandList!$A$2:$B$110,2,FALSE)","v":104},"71000-76000 and 81000-86000","X",null,null,null,"X",null,"X","X","X",null,null,null,8,null,"ECC/REC/(05)07",0,0,1,0.14399999999999999,0.5,1.4359999999999999,"+10/20"]
["Portugal",{"$f":"VLOOKUP(A14, 'Country names'!$A$5:$C$53,3,FALSE)","v":"POR"},{"$f":"VLOOKUP(D14,BandList!$A$2:$B$110,2,FALSE)","v":1},"1350-1375 and 1492-1517","X",null,null,null,"X",null,null,null,null,null,null,null,92,null,"T/R 13-01 Annex A","X",null,null,5,"20",50,0]
["Portugal",{"$f":"VLOOKUP(A15, 'Country names'!$A$5:$C$53,3,FALSE)","v":"POR"},{"$f":"VLOOKUP(D15,BandList!$A$2:$B$110,2,FALSE)","v":2},"1350-1375 and 1492-1518","X",null,null,null,null,"X",null,null,null,null,null,null,null,9,"T/R 13-01 Annex A","X",null,null,5,"10",25,-100]
["Portugal",{"$f":"VLOOKUP(A16, 'Country names'!$A$5:$C$53,3,FALSE)","v":"POR"},{"$f":"VLOOKUP(D16,BandList!$A$2:$B$110,2,FALSE)","v":3},"1375-1400 and 1427-1452","X",null,null,null,"X","X",null,null,null,null,null,null,null,null,"T/R 13-01 Annex B","X",null,null,null,null,null,"Planned","Planned","Planned","Planned"]
["Portugal",{"$f":"VLOOKUP(A17, 'Country names'!$A$5:$C$53,3,FALSE)","v":"POR"},{"$f":"VLOOKUP(D17,BandList!$A$2:$B$110,2,FALSE)","v":7},"1517-1525","X",null,null,null,null,null,null,null,"X",null,null,347,null,null,"National plan (STL)","X",null,null,5,"15",30,5]
["Portugal",{"$f":"VLOOKUP(A18, 'Country names'!$A$5:$C$53,3,FALSE)","v":"POR"},{"$f":"VLOOKUP(D18,BandList!$A$2:$B$110,2,FALSE)","v":13},"2025-2110 and 2200-2290","X",null,null,null,"X",null,null,null,"X",null,"TCR, SAP/SAB",null,11,null,"T/R 13-01 Annex C","X",null,null,5,"30",190,0]
["Portugal",{"$f":"VLOOKUP(A19, 'Country names'!$A$5:$C$53,3,FALSE)","v":"POR"},{"$f":"VLOOKUP(D19,BandList!$A$2:$B$110,2,FALSE)","v":16},"3400-3600",null,"X",null,null,null,"X",null,null,null,null,"BWA (3.3 - 3.6GHz)",null,null,"44meo","ERC/REC 14-03","X","X",null,1,"10",20,-50]
["Portugal",{"$f":"VLOOKUP(A20, 'Country names'!$A$5:$C$53,3,FALSE)","v":"POR"},{"$f":"VLOOKUP(D20,BandList!$A$2:$B$110,2,FALSE)","v":19},"3600-4200",null,"X",null,null,null,"X",null,null,null,null,"FSS, VSAT (3.8-4.2 GHz)",null,null,"2zax","ERC/REC 12-08","X","X",null,1,"10",20,-100]
["Portugal",{"$f":"VLOOKUP(A21, 'Country names'!$A$5:$C$53,3,FALSE)","v":"POR"},{"$f":"VLOOKUP(D21,BandList!$A$2:$B$110,2,FALSE)","v":22},"4400-5000",null,null,null,null,null,null,null,null,null,null,"Military"]
["Portugal",{"$f":"VLOOKUP(A22, 'Country names'!$A$5:$C$53,3,FALSE)","v":"POR"},{"$f":"VLOOKUP(D22,BandList!$A$2:$B$110,2,FALSE)","v":26},"5850-5925",null,null,null,"X",null,null,null,null,null,null,"ISM, SRD"]
["Portugal",{"$f":"VLOOKUP(A23, 'Country names'!$A$5:$C$53,3,FALSE)","v":"POR"},{"$f":"VLOOKUP(D23,BandList!$A$2:$B$110,2,FALSE)","v":29},"5925-7125","X",null,null,null,"X",null,"X","X",null,null,"VSAT, SRD",null,6,null,"ERC/REC 14-01",null,"X","X",15,"30",70,5]
["Portugal",{"$f":"VLOOKUP(A24, 'Country names'!$A$5:$C$53,3,FALSE)","v":"POR"},{"$f":"VLOOKUP(D24,BandList!$A$2:$B$110,2,FALSE)","v":30},"5925-7126","X",null,null,null,"X",null,"X","X",null,null,"VSAT, SRD",null,7,null,"ERC/REC 14-02",null,"X","X",15,"30",70,5]
["Portugal",{"$f":"VLOOKUP(A25, 'Country names'!$A$5:$C$53,3,FALSE)","v":"POR"},{"$f":"VLOOKUP(D25,BandList!$A$2:$B$110,2,FALSE)","v":31},"5925-7127","X",null,null,null,"X",null,null,null,null,null,"VSAT, SRD",null,null,null,"ECC/REC(14)06","X",null,null,10,"20",70,"Planned","Planned","Planned","Planned"]
["Portugal",{"$f":"VLOOKUP(A26, 'Country names'!$A$5:$C$53,3,FALSE)","v":"POR"},{"$f":"VLOOKUP(D26,BandList!$A$2:$B$110,2,FALSE)","v":36},"7125-7750","X",null,null,null,"X",null,null,"X",null,null,"FSS, Military (7.25-7.3 GHz)",null,4,null,"7 LOW: ITU-R F.385","X",null,null,15,"30",50,-100]
["Portugal",{"$f":"VLOOKUP(A27, 'Country names'!$A$5:$C$53,3,FALSE)","v":"POR"},{"$f":"VLOOKUP(D27,BandList!$A$2:$B$110,2,FALSE)","v":37},"7125-7751","X",null,null,null,"X",null,"X",null,null,null,"FSS, Military (7.25-7.3 GHz)",null,286,null,"7 LOW: ECC REC (02)06","X","X","X",10,"25",40,10]
["Portugal",{"$f":"VLOOKUP(A28, 'Country names'!$A$5:$C$53,3,FALSE)","v":"POR"},{"$f":"VLOOKUP(D28,BandList!$A$2:$B$110,2,FALSE)","v":38},"7125-7752","X",null,null,null,"X",null,null,"X",null,null,"FSS",null,4,null,"7 HIGH: ITU-R F.385","X",null,null,15,"30",50,-100]
["Portugal",{"$f":"VLOOKUP(A29, 'Country names'!$A$5:$C$53,3,FALSE)","v":"POR"},{"$f":"VLOOKUP(D29,BandList!$A$2:$B$110,2,FALSE)","v":39},"7125-7753","X",null,null,null,"X",null,"X","X",null,null,"FSS",null,103,null,"7 HIGH: ECC REC (02)06","X","X","X",10,"25",40,10]
["Portugal",{"$f":"VLOOKUP(A30, 'Country names'!$A$5:$C$53,3,FALSE)","v":"POR"},{"$f":"VLOOKUP(D30,BandList!$A$2:$B$110,2,FALSE)","v":46},"7750-7900","X",null,null,null,"X",null,"X","X",null,null,null,null,141,null,"8 LOW: ECC REC (02)06",null,"X","X",10,"25",50,10]
["Portugal",{"$f":"VLOOKUP(A31, 'Country names'!$A$5:$C$53,3,FALSE)","v":"POR"},{"$f":"VLOOKUP(D31,BandList!$A$2:$B$110,2,FALSE)","v":48},"7900-8500","X",null,null,null,"X",null,null,null,null,null,"FSS, EESS, Military (7.975-8.025 GHz)",null,null,null,"8 HIGH: ECC REC (02)06","X","X",null,null,null,null,"Planned","Planned","Planned","Planned"]
["Portugal",{"$f":"VLOOKUP(A32, 'Country names'!$A$5:$C$53,3,FALSE)","v":"POR"},{"$f":"VLOOKUP(D32,BandList!$A$2:$B$110,2,FALSE)","v":50},"10000-10680",null,null,null,null,null,null,null,null,null,null,"AM, SAP/SAB, SRD",null,null,null,"ERC/REC 12-05"]
["Portugal",{"$f":"VLOOKUP(A33, 'Country names'!$A$5:$C$53,3,FALSE)","v":"POR"},{"$f":"VLOOKUP(D33,BandList!$A$2:$B$110,2,FALSE)","v":54},"10700-11700","X",null,null,null,"X",null,"X","X","X",null,"FSS, VSAT, SNG, SIT, AES, Euteltracs",null,97,null,"ERC/REC 12-06",null,"X","X",5,"20",40,-10]
["Portugal",{"$f":"VLOOKUP(A34, 'Country names'!$A$5:$C$53,3,FALSE)","v":"POR"},{"$f":"VLOOKUP(D34,BandList!$A$2:$B$110,2,FALSE)","v":56},"11700-12500",null,null,null,null,null,null,null,null,null,null,"RAD-S, SIT"]
["Portugal",{"$f":"VLOOKUP(A35, 'Country names'!$A$5:$C$53,3,FALSE)","v":"POR"},{"$f":"VLOOKUP(D35,BandList!$A$2:$B$110,2,FALSE)","v":58},"12750-13250","X",null,null,null,"X",null,"X","X",null,null,"FSS",null,357,null,"ERC/REC 12-02","X","X","X",5,"15",40,5]
["Portugal",{"$f":"VLOOKUP(A36, 'Country names'!$A$5:$C$53,3,FALSE)","v":"POR"},{"$f":"VLOOKUP(D36,BandList!$A$2:$B$110,2,FALSE)","v":59},"14250-14500",null,null,null,null,null,null,null,null,null,null,"FSS, VSAT, SNG, AES"]
["Portugal",{"$f":"VLOOKUP(A37, 'Country names'!$A$5:$C$53,3,FALSE)","v":"POR"},{"$f":"VLOOKUP(D37,BandList!$A$2:$B$110,2,FALSE)","v":60},"14500-14620 and 15230-15350","X",null,null,null,"X",null,"X","X",null,null,null,null,189,null,"ERC/REC 12-07","X","X","X",5,"15",30,5]
["Portugal",{"$f":"VLOOKUP(A38, 'Country names'!$A$5:$C$53,3,FALSE)","v":"POR"},{"$f":"VLOOKUP(D38,BandList!$A$2:$B$110,2,FALSE)","v":63},"17300-17700",null,null,null,null,null,null,null,null,null,null,"FSS, HDFSS"]
["Portugal",{"$f":"VLOOKUP(A39, 'Country names'!$A$5:$C$53,3,FALSE)","v":"POR"},{"$f":"VLOOKUP(D39,BandList!$A$2:$B$110,2,FALSE)","v":64},"17700-19700","X",null,null,null,"X",null,"X","X",null,null,"FSS",null,251,null,"ITU-R F.595","X","X",null,3,"10",20,5]
["Portugal",{"$f":"VLOOKUP(A40, 'Country names'!$A$5:$C$53,3,FALSE)","v":"POR"},{"$f":"VLOOKUP(D40,BandList!$A$2:$B$110,2,FALSE)","v":65},"17700-19701","X",null,null,null,"X",null,"X","X","X",null,"FSS",null,1628,null,"ERC/REC 12-03",null,"X","X",3,"10",20,20]
["Portugal",{"$f":"VLOOKUP(A41, 'Country names'!$A$5:$C$53,3,FALSE)","v":"POR"},{"$f":"VLOOKUP(D41,BandList!$A$2:$B$110,2,FALSE)","v":66},"21200-22000",null,null,null,null,null,null,null,null,null,null,"SRR"]
["Portugal",{"$f":"VLOOKUP(A42, 'Country names'!$A$5:$C$53,3,FALSE)","v":"POR"},{"$f":"VLOOKUP(D42,BandList!$A$2:$B$110,2,FALSE)","v":68},"22000-22600 and 23000-23600","X",null,null,null,"X",null,"X","X",null,null,"SRR",null,1047,null,"T/R 13-02 Annexes A1","X","X","X",1,"5",15,10]
["Portugal",{"$f":"VLOOKUP(A43, 'Country names'!$A$5:$C$53,3,FALSE)","v":"POR"},{"$f":"VLOOKUP(D43,BandList!$A$2:$B$110,2,FALSE)","v":71},"22600-23000","X",null,null,null,"X",null,null,null,null,null,"SRR",null,null,null,"T/R 13-02 Annexes A2, A3",null,null,null,null,null,null,"No use at the moment.","No use at the moment.","No use at the moment.","No use at the moment."]
["Portugal",{"$f":"VLOOKUP(A44, 'Country names'!$A$5:$C$53,3,FALSE)","v":"POR"},{"$f":"VLOOKUP(D44,BandList!$A$2:$B$110,2,FALSE)","v":72},"24250-24500",null,null,null,null,null,null,null,null,null,null,"SRR, SRD"]
["Portugal",{"$f":"VLOOKUP(A45, 'Country names'!$A$5:$C$53,3,FALSE)","v":"POR"},{"$f":"VLOOKUP(D45,BandList!$A$2:$B$110,2,FALSE)","v":75},"24500-26500",null,"X",null,null,null,"X","X",null,null,null,"SRR, SRD, Military (25.25-25.492 GHz and 26.25-27.5 GHz)",null,null,null,"T/R 13-02 Annex B","X","X",null,null,"5",null,"No use at the moment.","No use at the moment.","No use at the moment.","No use at the moment."]
["Portugal",{"$f":"VLOOKUP(A46, 'Country names'!$A$5:$C$53,3,FALSE)","v":"POR"},{"$f":"VLOOKUP(D46,BandList!$A$2:$B$110,2,FALSE)","v":77},"26500-27500",null,null,null,null,null,null,null,null,null,null,"SRR, SRD, Military (26.25-27.5 GHz)"]
["Portugal",{"$f":"VLOOKUP(A47, 'Country names'!$A$5:$C$53,3,FALSE)","v":"POR"},{"$f":"VLOOKUP(D47,BandList!$A$2:$B$110,2,FALSE)","v":78},"27500-29500",null,"X",null,null,null,"X",null,null,"X",null,"FSS, HDFSS",null,null,null,"T/R 13-02 Annex C",null,"X",null,null,"5",null,"No use at the moment.","No use at the moment.","No use at the moment.","No use at the moment."]
["Portugal",{"$f":"VLOOKUP(A48, 'Country names'!$A$5:$C$53,3,FALSE)","v":"POR"},{"$f":"VLOOKUP(D48,BandList!$A$2:$B$110,2,FALSE)","v":80},"31000-31300",null,null,null,null,null,null,null,null,null,null,null,null,null,null,"ECC/REC/(02)02",null,null,null,null,null,null,"Planned","Planned","Planned","Planned"]
["Portugal",{"$f":"VLOOKUP(A49, 'Country names'!$A$5:$C$53,3,FALSE)","v":"POR"},{"$f":"VLOOKUP(D49,BandList!$A$2:$B$110,2,FALSE)","v":82},"31800-33400","X",null,null,null,"X","X",null,null,null,null,null,null,null,null,"ERC/REC/(01)02",null,null,null,null,null,null,"Planned","Planned","Planned","Planned"]
["Portugal",{"$f":"VLOOKUP(A50, 'Country names'!$A$5:$C$53,3,FALSE)","v":"POR"},{"$f":"VLOOKUP(D50,BandList!$A$2:$B$110,2,FALSE)","v":85},"36000-37000",null,null,null,null,null,null,null,null,null,"X","Military"]
["Portugal",{"$f":"VLOOKUP(A51, 'Country names'!$A$5:$C$53,3,FALSE)","v":"POR"},{"$f":"VLOOKUP(D51,BandList!$A$2:$B$110,2,FALSE)","v":86},"37000-39500","X",null,null,null,"X",null,"X","X",null,null,"FS",null,425,null,"T/R 12-01","X","X","X",0.1,"2",6,5]
["Portugal",{"$f":"VLOOKUP(A52, 'Country names'!$A$5:$C$53,3,FALSE)","v":"POR"},{"$f":"VLOOKUP(D52,BandList!$A$2:$B$110,2,FALSE)","v":87},"39500-40500",null,null,null,null,null,null,null,null,null,null,"HDFSS"]
["Portugal",{"$f":"VLOOKUP(A53, 'Country names'!$A$5:$C$53,3,FALSE)","v":"POR"},{"$f":"VLOOKUP(D53,BandList!$A$2:$B$110,2,FALSE)","v":88},"40500-43500","?","?",null,null,"X","X",null,null,null,null,"MWS, MVDS",null,null,null,"ECC/REC/(01)04",null,null,null,null,null,null,"Planned","Planned","Planned","Planned"]
["Portugal",{"$f":"VLOOKUP(A54, 'Country names'!$A$5:$C$53,3,FALSE)","v":"POR"},{"$f":"VLOOKUP(D54,BandList!$A$2:$B$110,2,FALSE)","v":89},"47200-48500",null,null,null,null,null,null,null,null,null,null,"HDFSS (47.5-47.9 GHz)"]
["Portugal",{"$f":"VLOOKUP(A55, 'Country names'!$A$5:$C$53,3,FALSE)","v":"POR"},{"$f":"VLOOKUP(D55,BandList!$A$2:$B$110,2,FALSE)","v":90},"48500-50200","?","?",null,null,"X","X",null,null,null,null,"HDFSS (48.2-48.54 GHz and 49.44-50.2 GHz)",null,null,null,"ERC/REC 12-11",null,null,null,null,null,null,"Planned","Planned","Planned","Planned"]
["Portugal",{"$f":"VLOOKUP(A56, 'Country names'!$A$5:$C$53,3,FALSE)","v":"POR"},{"$f":"VLOOKUP(D56,BandList!$A$2:$B$110,2,FALSE)","v":93},"51400-52600","?","?",null,null,"X","X",null,null,null,null,null,null,null,null,"ERC/REC 12-11",null,null,null,null,null,null,"Planned","Planned","Planned","Planned"]
["Portugal",{"$f":"VLOOKUP(A57, 'Country names'!$A$5:$C$53,3,FALSE)","v":"POR"},{"$f":"VLOOKUP(D57,BandList!$A$2:$B$110,2,FALSE)","v":94},"55780-57000","?","?",null,null,"X","X",null,null,null,null,"EESS",null,null,null,"ERC/REC 12-12",null,null,null,null,null,null,"Planned","Planned","Planned","Planned"]
["Portugal",{"$f":"VLOOKUP(A58, 'Country names'!$A$5:$C$53,3,FALSE)","v":"POR"},{"$f":"VLOOKUP(D58,BandList!$A$2:$B$110,2,FALSE)","v":96},"57000-59000","?","?",null,null,"X","X",null,null,null,null,"EESS, SRD",null,null,null,"ECC/REC/(09)01",null,null,null,null,null,null,"Planned","Planned","Planned","Planned"]
["Portugal",{"$f":"VLOOKUP(A59, 'Country names'!$A$5:$C$53,3,FALSE)","v":"POR"},{"$f":"VLOOKUP(D59,BandList!$A$2:$B$110,2,FALSE)","v":101},"59000-64000","?","?",null,null,"X","X",null,null,null,null,"SRD, ISM, Military (59-61 GHz)",null,null,null,"ECC/REC/(09)01",null,null,null,null,null,null,"Planned","Planned","Planned","Planned"]
["Portugal",{"$f":"VLOOKUP(A60, 'Country names'!$A$5:$C$53,3,FALSE)","v":"POR"},{"$f":"VLOOKUP(D60,BandList!$A$2:$B$110,2,FALSE)","v":103},"64000-66000","?","?",null,null,"X","X",null,null,null,null,null,null,null,null,"ECC/REC/(05)02",null,null,null,null,null,null,"Planned","Planned","Planned","Planned"]
["Portugal",{"$f":"VLOOKUP(A61, 'Country names'!$A$5:$C$53,3,FALSE)","v":"POR"},{"$f":"VLOOKUP(D61,BandList!$A$2:$B$110,2,FALSE)","v":104},"71000-76000 and 81000-86000","?","?",null,null,"X","X",null,"X",null,null,"SRD, AM (75.5-76 GHz), Military (71-74 GHz and 81-84 GHz)",null,1,null,"ECC/REC/(05)07",null,null,"X",0.01,"0,3",1,1000]
["Portugal",{"$f":"VLOOKUP(A62, 'Country names'!$A$5:$C$53,3,FALSE)","v":"POR"},{"$f":"VLOOKUP(D62,BandList!$A$2:$B$110,2,FALSE)","v":109},"92000-95000","?","?",null,null,"X","X",null,null,null,null,null,null,null,null,"ECC/REC/(14)01",null,null,null,null,null,null,"Planned","Planned","Planned","Planned"]
["Bulgaria",{"$f":"VLOOKUP(A63, 'Country names'!$A$5:$C$53,3,FALSE)","v":"BUL"},{"$f":"VLOOKUP(D63,BandList!$A$2:$B$110,2,FALSE)","v":18},"3600-3800","X",null,null,null,"X",null,null,"X",null,null,null,0,14,null,"ERC/REC 12-08, Annex B, Part 2",null,"X",null,13,51,73,null,null,null,"Reallocate to another suitable frequency band"]
["Bulgaria",{"$f":"VLOOKUP(A64, 'Country names'!$A$5:$C$53,3,FALSE)","v":"BUL"},{"$f":"VLOOKUP(D64,BandList!$A$2:$B$110,2,FALSE)","v":21},"3800-4200","X",null,null,null,"X",null,null,null,null,null,null,0,0,null,"ERC/REC 12-08, Annex B, Part 1","-","-","-","-","-","-"]
["Bulgaria",{"$f":"VLOOKUP(A65, 'Country names'!$A$5:$C$53,3,FALSE)","v":"BUL"},{"$f":"VLOOKUP(D65,BandList!$A$2:$B$110,2,FALSE)","v":28},"5925-6425","X",null,null,null,"X",null,"X","X",null,null,null,0,232,null,"ERC/REC 14-01, Annex 1",null,null,"X",6,32,70,null,"X",null,"Currently congested for area of capital - Sofia"]
["Bulgaria",{"$f":"VLOOKUP(A66, 'Country names'!$A$5:$C$53,3,FALSE)","v":"BUL"},{"$f":"VLOOKUP(D66,BandList!$A$2:$B$110,2,FALSE)","v":34},"6425-7125","X",null,null,null,"X",null,"X","X",null,null,null,0,228,null,"ERC/REC 14-02, Annex 1",null,null,"X",9,30,97,null,"X",null,"Currently congested for area of capital - Sofia"]
["Bulgaria",{"$f":"VLOOKUP(A67, 'Country names'!$A$5:$C$53,3,FALSE)","v":"BUL"},{"$f":"VLOOKUP(D67,BandList!$A$2:$B$110,2,FALSE)","v":35},"7125-7425","X",null,null,null,"X",null,"X","X",null,null,null,0,73,null,"ITU-R F.385-8",null,"X","X",20,35,59,"+25 %"]
["Bulgaria",{"$f":"VLOOKUP(A68, 'Country names'!$A$5:$C$53,3,FALSE)","v":"BUL"},{"$f":"VLOOKUP(D68,BandList!$A$2:$B$110,2,FALSE)","v":42},"7425-7725","X",null,null,null,"X",null,"X",null,null,null,null,0,404,null,"ITU-R F.385-8","X","X","X",18,30,98,"+25 %"]
["Bulgaria",{"$f":"VLOOKUP(A69, 'Country names'!$A$5:$C$53,3,FALSE)","v":"BUL"},{"$f":"VLOOKUP(D69,BandList!$A$2:$B$110,2,FALSE)","v":44},"7725-78275","X",null,null,null,"X",null,"X",null,null,null,null,0,454,null,"ITU-R F.386-9 and national plan","X","X","X",7,22,58,"+10 %"]
["Bulgaria",{"$f":"VLOOKUP(A70, 'Country names'!$A$5:$C$53,3,FALSE)","v":"BUL"},{"$f":"VLOOKUP(D70,BandList!$A$2:$B$110,2,FALSE)","v":48},"7900-8500","X",null,null,null,"X",null,null,"X",null,null,null,0,19,null,"ECC REC (02)06, Annex 2",null,"X",null,15,34,61,"+200 %"]
["Bulgaria",{"$f":"VLOOKUP(A71, 'Country names'!$A$5:$C$53,3,FALSE)","v":"BUL"},{"$f":"VLOOKUP(D71,BandList!$A$2:$B$110,2,FALSE)","v":52},"10150-10680","X",null,null,null,"X",null,null,null,"X",null,null,53,1,null,"ERC/REC 12-05, Annex A","X",null,null,0.2,7,42,"+10 %"]
["Bulgaria",{"$f":"VLOOKUP(A72, 'Country names'!$A$5:$C$53,3,FALSE)","v":"BUL"},{"$f":"VLOOKUP(D72,BandList!$A$2:$B$110,2,FALSE)","v":55},"10755-11725","X",null,null,null,"X",null,"X","X",null,null,null,5,242,null,"ITU-R F.387-12",null,"X","X",3,16,46,"+25 %"]
["Bulgaria",{"$f":"VLOOKUP(A73, 'Country names'!$A$5:$C$53,3,FALSE)","v":"BUL"},{"$f":"VLOOKUP(D73,BandList!$A$2:$B$110,2,FALSE)","v":57},"11725-12500","X",null,null,null,"X",null,null,"X",null,null,null,3,0,null,"national plan","X","X",null,2,3,4,null,null,null,"Reallocate to another suitable frequency band"]
["Bulgaria",{"$f":"VLOOKUP(A74, 'Country names'!$A$5:$C$53,3,FALSE)","v":"BUL"},{"$f":"VLOOKUP(D74,BandList!$A$2:$B$110,2,FALSE)","v":58},"12750-13250","X",null,null,null,"X",null,"X","X",null,null,null,0,1135,null,"ERC/REC 12-02","X","X","X",2,15,59,"+25 %"]
["Bulgaria",{"$f":"VLOOKUP(A75, 'Country names'!$A$5:$C$53,3,FALSE)","v":"BUL"},{"$f":"VLOOKUP(D75,BandList!$A$2:$B$110,2,FALSE)","v":64},"17700-19700","X",null,null,null,"X",null,"X","X",null,null,null,0,2798,null,"ERC/REC 12-03","X","X","X",0.2,10,36,"+50 %"]
["Bulgaria",{"$f":"VLOOKUP(A76, 'Country names'!$A$5:$C$53,3,FALSE)","v":"BUL"},{"$f":"VLOOKUP(D76,BandList!$A$2:$B$110,2,FALSE)","v":70},"22008-23576","X",null,null,null,"X",null,"X","X",null,null,null,0,903,null,"T/R 13-02, Annex A","X","X","X",0.2,5,21,"+25 %"]
["Bulgaria",{"$f":"VLOOKUP(A77, 'Country names'!$A$5:$C$53,3,FALSE)","v":"BUL"},{"$f":"VLOOKUP(D77,BandList!$A$2:$B$110,2,FALSE)","v":75},"24500-26500","X","X",null,null,"X","X","X",null,null,null,null,0,469,1472,"T/R 13-02 Annex B for P-P and ECC/REC (00) 05 for P-MP","X","X","X",0.06,4,15,"+25 %"]
["Bulgaria",{"$f":"VLOOKUP(A78, 'Country names'!$A$5:$C$53,3,FALSE)","v":"BUL"},{"$f":"VLOOKUP(D78,BandList!$A$2:$B$110,2,FALSE)","v":78},"27500-29500","X",null,null,null,"X",null,"X",null,null,null,null,0,946,null,"T/R 13-02 Annex C","X","X","X",7.0000000000000007E-2,2,10,"+50 %"]
["Bulgaria",{"$f":"VLOOKUP(A79, 'Country names'!$A$5:$C$53,3,FALSE)","v":"BUL"},{"$f":"VLOOKUP(D79,BandList!$A$2:$B$110,2,FALSE)","v":80},"31000-31300","X",null,null,null,"X",null,null,null,null,null,null,0,0,null,"ECC/REC/(02)02","-","-","-","-","-","-"]
["Bulgaria",{"$f":"VLOOKUP(A80, 'Country names'!$A$5:$C$53,3,FALSE)","v":"BUL"},{"$f":"VLOOKUP(D80,BandList!$A$2:$B$110,2,FALSE)","v":82},"31800-33400","X",null,null,null,"X",null,null,null,null,null,null,0,0,null,"ERC/REC/(01)02","-","-","-","-","-","-"]
["Bulgaria",{"$f":"VLOOKUP(A81, 'Country names'!$A$5:$C$53,3,FALSE)","v":"BUL"},{"$f":"VLOOKUP(D81,BandList!$A$2:$B$110,2,FALSE)","v":86},"37000-39500","X",null,null,null,"X",null,"X",null,null,null,null,0,1075,null,"T/R 12-01, Annex A","X","X","X",0.03,1,6,"+50 %"]
["Bulgaria",{"$f":"VLOOKUP(A82, 'Country names'!$A$5:$C$53,3,FALSE)","v":"BUL"},{"$f":"VLOOKUP(D82,BandList!$A$2:$B$110,2,FALSE)","v":93},"51400-52600","X",null,null,null,"X",null,null,null,null,null,null,0,0,null,"ERC/REC 12-11","-","-","-","-","-","-"]
["Bulgaria",{"$f":"VLOOKUP(A83, 'Country names'!$A$5:$C$53,3,FALSE)","v":"BUL"},{"$f":"VLOOKUP(D83,BandList!$A$2:$B$110,2,FALSE)","v":94},"55780-57000","X",null,null,null,"X",null,null,null,null,null,null,0,0,null,"ERC/REC 12-12, Annex 2","-","-","-","-","-","-"]
["Bulgaria",{"$f":"VLOOKUP(A84, 'Country names'!$A$5:$C$53,3,FALSE)","v":"BUL"},{"$f":"VLOOKUP(D84,BandList!$A$2:$B$110,2,FALSE)","v":96},"57000-59000","X",null,null,null,"X",null,null,null,null,null,null,0,0,null,"ECC/REC/(09)01","-","-","-","-","-","-"]
["Bulgaria",{"$f":"VLOOKUP(A85, 'Country names'!$A$5:$C$53,3,FALSE)","v":"BUL"},{"$f":"VLOOKUP(D85,BandList!$A$2:$B$110,2,FALSE)","v":101},"59000-64000","X",null,null,null,"X",null,null,null,null,null,null,0,0,null,"ECC/REC/(09)01","-","-","-","-","-","-"]
["Bulgaria",{"$f":"VLOOKUP(A86, 'Country names'!$A$5:$C$53,3,FALSE)","v":"BUL"},{"$f":"VLOOKUP(D86,BandList!$A$2:$B$110,2,FALSE)","v":103},"64000-66000","X",null,null,null,"X",null,null,null,null,null,null,0,0,null,"ECC/REC/(05)02","-","-","-","-","-","-"]
["Bulgaria",{"$f":"VLOOKUP(A87, 'Country names'!$A$5:$C$53,3,FALSE)","v":"BUL"},{"$f":"VLOOKUP(D87,BandList!$A$2:$B$110,2,FALSE)","v":104},"71000-76000 and 81000-86000","X",null,null,null,"X",null,"X",null,null,null,null,0,52,null,"ECC/REC/(05)07",null,null,"X",0.2,0.8,2,"+500 %"]
["Switzerland",{"$f":"VLOOKUP(A88, 'Country names'!$A$5:$C$53,3,FALSE)","v":"SUI"},{"$f":"VLOOKUP(D88,BandList!$A$2:$B$110,2,FALSE)","v":1},"1350-1375 and 1492-1517","x",null,null,null,"x",null,null,"x",null,null,null,null,2,null,"T/R 13-01 Annex A","x",null,null,null,null,null,-100,null,"MFCN"]
["Switzerland",{"$f":"VLOOKUP(A89, 'Country names'!$A$5:$C$53,3,FALSE)","v":"SUI"},{"$f":"VLOOKUP(D89,BandList!$A$2:$B$110,2,FALSE)","v":5},"1440-1500","x",null,null,null,"x",null,null,"x",null,null,null,null,39,null,null,"analog",null,null,null,null,null,-100,null,"MFCN"]
["Switzerland",{"$f":"VLOOKUP(A90, 'Country names'!$A$5:$C$53,3,FALSE)","v":"SUI"},{"$f":"VLOOKUP(D90,BandList!$A$2:$B$110,2,FALSE)","v":3},"1375-1400 and 1427-1452","x",null,null,null,"x",null,null,"x",null,null,null,null,32,null,"T/R 13-01 Annex B","x /analog",null,null,null,null,null,-100,null,"MFCN"]
["Switzerland",{"$f":"VLOOKUP(A91, 'Country names'!$A$5:$C$53,3,FALSE)","v":"SUI"},{"$f":"VLOOKUP(D91,BandList!$A$2:$B$110,2,FALSE)","v":8},"1518 - 1525","x",null,null,null,"x",null,null,null,"x",null,null,24,null,null,null,"x /analog",null,null,1.1000000000000001,16.7,36.6,0]
["Switzerland",{"$f":"VLOOKUP(A92, 'Country names'!$A$5:$C$53,3,FALSE)","v":"SUI"},{"$f":"VLOOKUP(D92,BandList!$A$2:$B$110,2,FALSE)","v":13},"2025-2110 and 2200-2290",null,null,null,null,null,null,null,null,null,"x","No civil use, PMSE",null,null,null,"T/R 13-01 Annex C"]
["Switzerland",{"$f":"VLOOKUP(A93, 'Country names'!$A$5:$C$53,3,FALSE)","v":"SUI"},{"$f":"VLOOKUP(D93,BandList!$A$2:$B$110,2,FALSE)","v":16},"3400-3600","x",null,null,null,null,"x",null,"x",null,null,null,null,null,null,"ERC/REC 14-03",null,null,null,null,null,null,null,null,"MFCN","PMSE"]
["Switzerland",{"$f":"VLOOKUP(A94, 'Country names'!$A$5:$C$53,3,FALSE)","v":"SUI"},{"$f":"VLOOKUP(D94,BandList!$A$2:$B$110,2,FALSE)","v":19},"3600-4200","x",null,null,null,null,"x",null,"x",null,null,null,null,null,null,"ERC/REC 12-08",null,null,null,null,null,null,null,null,"MFCN"]
["Switzerland",{"$f":"VLOOKUP(A95, 'Country names'!$A$5:$C$53,3,FALSE)","v":"SUI"},{"$f":"VLOOKUP(D95,BandList!$A$2:$B$110,2,FALSE)","v":22},"4400-5000",null,null,null,null,null,null,null,null,null,"x","No civil use"]
["Switzerland",{"$f":"VLOOKUP(A96, 'Country names'!$A$5:$C$53,3,FALSE)","v":"SUI"},{"$f":"VLOOKUP(D96,BandList!$A$2:$B$110,2,FALSE)","v":26},"5850-5925",null,null,null,"x","x","x",null,null,null,"x"]
["Switzerland",{"$f":"VLOOKUP(A97, 'Country names'!$A$5:$C$53,3,FALSE)","v":"SUI"},{"$f":"VLOOKUP(D97,BandList!$A$2:$B$110,2,FALSE)","v":29},"5925-7125","x",null,null,null,"x",null,"x","x","x",null,null,null,46,null,"ERC/REC 14-01 and ERC/REC 14-02, ECC/REC(14)06",null,null,"x",20.2,46.7,75.900000000000006,20]
["Switzerland",{"$f":"VLOOKUP(A98, 'Country names'!$A$5:$C$53,3,FALSE)","v":"SUI"},{"$f":"VLOOKUP(D98,BandList!$A$2:$B$110,2,FALSE)","v":36},"7125-7750","x",null,null,null,"x",null,"x","x","x",null,null,null,90,null,"ECC REC (02)06",null,"x","x",11.1,30.1,56.5,10]
["Switzerland",{"$f":"VLOOKUP(A99, 'Country names'!$A$5:$C$53,3,FALSE)","v":"SUI"},{"$f":"VLOOKUP(D99,BandList!$A$2:$B$110,2,FALSE)","v":46},"7750-7900",null,null,null,null,null,null,null,null,null,"x","No civil use"]
["Switzerland",{"$f":"VLOOKUP(A100, 'Country names'!$A$5:$C$53,3,FALSE)","v":"SUI"},{"$f":"VLOOKUP(D100,BandList!$A$2:$B$110,2,FALSE)","v":48},"7900-8500",null,null,null,null,null,null,null,null,null,"x","No civil use",null,null,null,"ECC REC (02)06"]
["Switzerland",{"$f":"VLOOKUP(A101, 'Country names'!$A$5:$C$53,3,FALSE)","v":"SUI"},{"$f":"VLOOKUP(D101,BandList!$A$2:$B$110,2,FALSE)","v":50},"10000-10680","x",null,null,null,"x",null,null,"x","x",null,null,null,66,null,"ERC/REC 12-05",null,"x",null,6.6,20.399999999999999,42.5,30]
["Switzerland",{"$f":"VLOOKUP(A102, 'Country names'!$A$5:$C$53,3,FALSE)","v":"SUI"},{"$f":"VLOOKUP(D102,BandList!$A$2:$B$110,2,FALSE)","v":54},"10700-11700","x",null,null,null,"x",null,"x","x","x",null,null,null,103,null,"ERC/REC 12-06",null,null,"x",9.6,17.7,37.01,30]
["Switzerland",{"$f":"VLOOKUP(A103, 'Country names'!$A$5:$C$53,3,FALSE)","v":"SUI"},{"$f":"VLOOKUP(D103,BandList!$A$2:$B$110,2,FALSE)","v":58},"12750-13250","x",null,null,null,"x",null,"x","x","x",null,null,null,510,null,"ERC/REC 12-02",null,"x",null,5.8,15.3,46.4,50]
["Switzerland",{"$f":"VLOOKUP(A104, 'Country names'!$A$5:$C$53,3,FALSE)","v":"SUI"},{"$f":"VLOOKUP(D104,BandList!$A$2:$B$110,2,FALSE)","v":59},"14250-14500",null,null,null,null,null,null,null,null,"x",null,"FSS SNG"]
["Switzerland",{"$f":"VLOOKUP(A105, 'Country names'!$A$5:$C$53,3,FALSE)","v":"SUI"},{"$f":"VLOOKUP(D105,BandList!$A$2:$B$110,2,FALSE)","v":60},"14500-14620 and 15230-15350","x",null,null,null,"x",null,"x","x","x",null,null,null,103,null,"ERC/REC 12-07",null,"x",null,7.6,15.3,29.2,-20]
["Switzerland",{"$f":"VLOOKUP(A106, 'Country names'!$A$5:$C$53,3,FALSE)","v":"SUI"},{"$f":"VLOOKUP(D106,BandList!$A$2:$B$110,2,FALSE)","v":63},"17300-17700",null,null,null,null,null,null,null,null,"x",null,"FSS Feeder Link"]
["Switzerland",{"$f":"VLOOKUP(A107, 'Country names'!$A$5:$C$53,3,FALSE)","v":"SUI"},{"$f":"VLOOKUP(D107,BandList!$A$2:$B$110,2,FALSE)","v":64},"17700-19700","x",null,null,null,"x",null,"x","x","x",null,null,null,1149,null,"ERC/REC 12-03",null,"x","x",2.4,8.1999999999999993,26.1,200]
["Switzerland",{"$f":"VLOOKUP(A108, 'Country names'!$A$5:$C$53,3,FALSE)","v":"SUI"},{"$f":"VLOOKUP(D108,BandList!$A$2:$B$110,2,FALSE)","v":66},"21200-22000",null,null,null,null,null,null,null,null,null,null,"PMSE",null,null,null,null,null,null,null,null,null,null,null,null,null,"?? equipment available"]
["Switzerland",{"$f":"VLOOKUP(A109, 'Country names'!$A$5:$C$53,3,FALSE)","v":"SUI"},{"$f":"VLOOKUP(D109,BandList!$A$2:$B$110,2,FALSE)","v":68},"22000-22600 and 23000-23600","x",null,null,null,"x",null,"x","x","x",null,null,null,873,null,"T/R 13-02 Annexes A1, A2, A3",null,"x",null,1.6,7.2,20.6,50,"> High / Low problems in urban areas"]
["Switzerland",{"$f":"VLOOKUP(A110, 'Country names'!$A$5:$C$53,3,FALSE)","v":"SUI"},{"$f":"VLOOKUP(D110,BandList!$A$2:$B$110,2,FALSE)","v":71},"22600-23000","(x)",null,null,null,"(x)",null,null,"(x)",null,null,null,null,null,null,null,"(x)",null,null,null,null,null,null,null,null,"(planned narrowband link as a replacement for 1.4 GHz)"]
["Switzerland",{"$f":"VLOOKUP(A111, 'Country names'!$A$5:$C$53,3,FALSE)","v":"SUI"},{"$f":"VLOOKUP(D111,BandList!$A$2:$B$110,2,FALSE)","v":72},"24250-24500",null,null,null,null,null,null,null,null,null,null,"PMSE"]
["Switzerland",{"$f":"VLOOKUP(A112, 'Country names'!$A$5:$C$53,3,FALSE)","v":"SUI"},{"$f":"VLOOKUP(D112,BandList!$A$2:$B$110,2,FALSE)","v":75},"24500-26500","x",null,null,null,"x",null,"x","x","x",null,null,null,52,null,"T/R 13-02 Annex B",null,null,"x",0.9,3.9,7.9,200]
["Switzerland",{"$f":"VLOOKUP(A113, 'Country names'!$A$5:$C$53,3,FALSE)","v":"SUI"},{"$f":"VLOOKUP(D113,BandList!$A$2:$B$110,2,FALSE)","v":77},"26500-27500",null,null,null,null,null,null,null,null,null,"x","No civil use"]
["Switzerland",{"$f":"VLOOKUP(A114, 'Country names'!$A$5:$C$53,3,FALSE)","v":"SUI"},{"$f":"VLOOKUP(D114,BandList!$A$2:$B$110,2,FALSE)","v":78},"27500-29500","x",null,null,null,"x",null,"x","x","x",null,null,null,540,null,"T/R 13-02 Annex C",null,"x","x",1.8,4.2,6.8,100]
["Switzerland",{"$f":"VLOOKUP(A115, 'Country names'!$A$5:$C$53,3,FALSE)","v":"SUI"},{"$f":"VLOOKUP(D115,BandList!$A$2:$B$110,2,FALSE)","v":80},"31000-31300",null,null,null,null,null,null,null,null,null,null,null,null,null,null,"ECC/REC/(02)02",null,null,null,null,null,null,null,null,null,"?? equipment available"]
["Switzerland",{"$f":"VLOOKUP(A116, 'Country names'!$A$5:$C$53,3,FALSE)","v":"SUI"},{"$f":"VLOOKUP(D116,BandList!$A$2:$B$110,2,FALSE)","v":82},"31800-33400","x",null,null,null,"x",null,"x","x","x",null,null,null,775,null,"ERC/REC/(01)02",null,null,"x",0.5,2.2999999999999998,5.7,100]
["Switzerland",{"$f":"VLOOKUP(A117, 'Country names'!$A$5:$C$53,3,FALSE)","v":"SUI"},{"$f":"VLOOKUP(D117,BandList!$A$2:$B$110,2,FALSE)","v":85},"36000-37000",null,null,null,null,null,null,null,null,null,null,"No civil use"]
["Switzerland",{"$f":"VLOOKUP(A118, 'Country names'!$A$5:$C$53,3,FALSE)","v":"SUI"},{"$f":"VLOOKUP(D118,BandList!$A$2:$B$110,2,FALSE)","v":86},"37000-39500","x",null,null,null,"x",null,"x","x","x",null,null,null,1036,null,"T/R 12-01",null,"x",null,0.3,2.7,7.9,50,"> High / Low problems in urban areas"]
["Switzerland",{"$f":"VLOOKUP(A119, 'Country names'!$A$5:$C$53,3,FALSE)","v":"SUI"},{"$f":"VLOOKUP(D119,BandList!$A$2:$B$110,2,FALSE)","v":87},"39500-40500",null,null,null,null,null,null,null,null,null,null,"FSS"]
["Switzerland",{"$f":"VLOOKUP(A120, 'Country names'!$A$5:$C$53,3,FALSE)","v":"SUI"},{"$f":"VLOOKUP(D120,BandList!$A$2:$B$110,2,FALSE)","v":88},"40500-43500","x",null,null,null,"x",null,"x","x",null,null,null,null,582,null,"ECC/REC/(01)04",null,null,"x",0.5,1.6,3.8,200]
["Switzerland",{"$f":"VLOOKUP(A121, 'Country names'!$A$5:$C$53,3,FALSE)","v":"SUI"},{"$f":"VLOOKUP(D121,BandList!$A$2:$B$110,2,FALSE)","v":89},"47200-48500",null,null,null,null,null,null,null,null,null,null,"PMSE",null,null,null,null,null,null,null,null,null,null,null,null,null,"?? equipment available"]
["Switzerland",{"$f":"VLOOKUP(A122, 'Country names'!$A$5:$C$53,3,FALSE)","v":"SUI"},{"$f":"VLOOKUP(D122,BandList!$A$2:$B$110,2,FALSE)","v":90},"48500-50200",null,null,null,null,null,null,null,null,null,null,null,null,null,null,"ERC/REC 12-11",null,null,null,null,null,null,null,null,null,"?? equipment available"]
["Switzerland",{"$f":"VLOOKUP(A123, 'Country names'!$A$5:$C$53,3,FALSE)","v":"SUI"},{"$f":"VLOOKUP(D123,BandList!$A$2:$B$110,2,FALSE)","v":92},"50400-51400",null,null,null,null,null,null,null,null,null,null,null,null,null,null,null,null,null,null,null,null,null,null,null,null,"?? equipment available"]
["Switzerland",{"$f":"VLOOKUP(A124, 'Country names'!$A$5:$C$53,3,FALSE)","v":"SUI"},{"$f":"VLOOKUP(D124,BandList!$A$2:$B$110,2,FALSE)","v":93},"51400-52600","x",null,null,null,"x",null,"x","x",null,null,null,null,299,null,"ERC/REC 12-11",null,"x",null,0.15,0.75,2.8,-80,null,null,"> not enough transmission capacity with existing equipment"]
["Switzerland",{"$f":"VLOOKUP(A125, 'Country names'!$A$5:$C$53,3,FALSE)","v":"SUI"},{"$f":"VLOOKUP(D125,BandList!$A$2:$B$110,2,FALSE)","v":94},"55780-57000","x",null,null,null,"x",null,"x","x",null,null,null,null,0,null,"ERC/REC 12-12",null,null,null,null,null,null,null,null,null,"?? equipment available"]
["Switzerland",{"$f":"VLOOKUP(A126, 'Country names'!$A$5:$C$53,3,FALSE)","v":"SUI"},{"$f":"VLOOKUP(D126,BandList!$A$2:$B$110,2,FALSE)","v":96},"57000-59000","x",null,null,null,"x",null,"x",null,null,null,null,null,109,null,"ECC/REC/(09)01","x",null,null,0.05,0.3,1,-100,null,null,"> not enough transmission capacity with existing equipment"]
["Switzerland",{"$f":"VLOOKUP(A127, 'Country names'!$A$5:$C$53,3,FALSE)","v":"SUI"},{"$f":"VLOOKUP(D127,BandList!$A$2:$B$110,2,FALSE)","v":101},"59000-64000",null,null,null,"x","x",null,null,null,null,null,null,null,null,null,"ECC/REC/(09)01"]
["Switzerland",{"$f":"VLOOKUP(A128, 'Country names'!$A$5:$C$53,3,FALSE)","v":"SUI"},{"$f":"VLOOKUP(D128,BandList!$A$2:$B$110,2,FALSE)","v":103},"64000-66000",null,null,null,"x","x",null,null,null,null,null,null,null,null,null,"ECC/REC/(05)02"]
["Switzerland",{"$f":"VLOOKUP(A129, 'Country names'!$A$5:$C$53,3,FALSE)","v":"SUI"},{"$f":"VLOOKUP(D129,BandList!$A$2:$B$110,2,FALSE)","v":104},"71000-76000 and 81000-86000","x",null,null,null,"x",null,"x","x",null,null,null,null,333,null,"ECC/REC/(05)07",null,null,"x",0.1,0.8,4.9000000000000004,500]
["Switzerland",{"$f":"VLOOKUP(A130, 'Country names'!$A$5:$C$53,3,FALSE)","v":"SUI"},{"$f":"VLOOKUP(D130,BandList!$A$2:$B$110,2,FALSE)","v":109},"92000-95000","x",null,null,null,"x",null,"x","x",null,null,null,null,0,null,"ECC/REC (14)01",null,null,"x",null,null,null,"?",null,null,"?? equipment available"]
["Hungary",{"$f":"VLOOKUP(A131, 'Country names'!$A$5:$C$53,3,FALSE)","v":"HNG"},{"$f":"VLOOKUP(D131,BandList!$A$2:$B$110,2,FALSE)","v":3},"1375-1400 and 1427-1452","X",null,null,null,"X",null,null,null,null,null,null,null,0,null,"T/R 13-01 Annex B"]
["Hungary",{"$f":"VLOOKUP(A132, 'Country names'!$A$5:$C$53,3,FALSE)","v":"HNG"},{"$f":"VLOOKUP(D132,BandList!$A$2:$B$110,2,FALSE)","v":13},"2025-2110 and 2200-2290","X",null,null,null,"X",null,null,null,null,null,null,null,0,null,"T/R 13-01 Annex C"]
["Hungary",{"$f":"VLOOKUP(A133, 'Country names'!$A$5:$C$53,3,FALSE)","v":"HNG"},{"$f":"VLOOKUP(D133,BandList!$A$2:$B$110,2,FALSE)","v":16},"3400-3600",null,"X",null,null,"X","X",null,null,null,null,null,null,null,null,"ERC/REC 14-03",null,null,null,null,null,null,null,null,null,null,"Block assignment for MFCN; awarded 2016 summer - currently no usage"]
["Hungary",{"$f":"VLOOKUP(A134, 'Country names'!$A$5:$C$53,3,FALSE)","v":"HNG"},{"$f":"VLOOKUP(D134,BandList!$A$2:$B$110,2,FALSE)","v":19},"3600-4200",null,null,null,null,null,null,null,null,null,null,null,null,17,null,"ERC/REC 12-08",null,null,null,null,null,null,null,null,null,null,"3600-3800 MHz band: awarded 2016 summer; Block assignment for MFCN; currently no usage; 3800-4200 MHz: 17 bidirectional links"]
["Hungary",{"$f":"VLOOKUP(A135, 'Country names'!$A$5:$C$53,3,FALSE)","v":"HNG"},{"$f":"VLOOKUP(D135,BandList!$A$2:$B$110,2,FALSE)","v":29},"5925-7125","X",null,null,null,"X",null,null,null,null,null,null,null,135,null,"ERC/REC 14-01 and ERC/REC 14-02",null,null,"X",null,60]
["Hungary",{"$f":"VLOOKUP(A136, 'Country names'!$A$5:$C$53,3,FALSE)","v":"HNG"},{"$f":"VLOOKUP(D136,BandList!$A$2:$B$110,2,FALSE)","v":36},"7125-7750","X",null,null,null,"X",null,null,"X",null,null,null,null,205,null,"ECC REC (02)06",null,"X",null,null,40,null,null,null,null,null,"7125-7425 MHz subband for non-civil FS, 7427-7725 MHz subband for civil FS"]
["Hungary",{"$f":"VLOOKUP(A137, 'Country names'!$A$5:$C$53,3,FALSE)","v":"HNG"},{"$f":"VLOOKUP(D137,BandList!$A$2:$B$110,2,FALSE)","v":46},"7750-7900","X",null,null,null,"X",null,null,null,"X",null,null,null,0,null,"ECC REC (02)06",null,"X",null,null,40]
["Hungary",{"$f":"VLOOKUP(A138, 'Country names'!$A$5:$C$53,3,FALSE)","v":"HNG"},{"$f":"VLOOKUP(D138,BandList!$A$2:$B$110,2,FALSE)","v":48},"7900-8500","X",null,null,null,"X",null,null,null,null,null,null,null,0,null,"ECC REC (02)06"]
["Hungary",{"$f":"VLOOKUP(A139, 'Country names'!$A$5:$C$53,3,FALSE)","v":"HNG"},{"$f":"VLOOKUP(D139,BandList!$A$2:$B$110,2,FALSE)","v":50},"10000-10680","X",null,null,null,"X",null,null,null,"X",null,null,58,null,null,"ERC/REC 12-05",null,"X",null,null,20]
["Hungary",{"$f":"VLOOKUP(A140, 'Country names'!$A$5:$C$53,3,FALSE)","v":"HNG"},{"$f":"VLOOKUP(D140,BandList!$A$2:$B$110,2,FALSE)","v":54},"10700-11700","X",null,null,null,"X",null,"X",null,null,null,null,null,341,null,"ERC/REC 12-06",null,null,"X",null,40]
["Hungary",{"$f":"VLOOKUP(A141, 'Country names'!$A$5:$C$53,3,FALSE)","v":"HNG"},{"$f":"VLOOKUP(D141,BandList!$A$2:$B$110,2,FALSE)","v":56},"11700-12500",null,null,null,null,null,"X",null,null,"X",null,null,null,null,150,"National plan",null,null,"X",null,null,null,null,null,null,null,"Only 12.3-12.5 GHz band designated for local MVDS"]
["Hungary",{"$f":"VLOOKUP(A142, 'Country names'!$A$5:$C$53,3,FALSE)","v":"HNG"},{"$f":"VLOOKUP(D142,BandList!$A$2:$B$110,2,FALSE)","v":58},"12750-13250","X",null,null,null,"X",null,null,null,null,null,null,null,2806,null,"ERC/REC 12-02",null,null,"X",null,30,null,null,"X",null,null,"Currently congested in big cities"]
["Hungary",{"$f":"VLOOKUP(A143, 'Country names'!$A$5:$C$53,3,FALSE)","v":"HNG"},{"$f":"VLOOKUP(D143,BandList!$A$2:$B$110,2,FALSE)","v":60},"14500-14620 and 15230-15350","X",null,null,null,"X",null,null,null,null,null,null,null,114,null,"ERC/REC 12-07",null,"X",null,null,25,null,null,null,null,null,"Number of civil FS links decreased due to the extension of the subband used for military purposes"]
["Hungary",{"$f":"VLOOKUP(A144, 'Country names'!$A$5:$C$53,3,FALSE)","v":"HNG"},{"$f":"VLOOKUP(D144,BandList!$A$2:$B$110,2,FALSE)","v":64},"17700-19700","X",null,null,null,"X",null,null,null,null,null,null,null,2159,null,"ERC/REC 12-03",null,null,"X",null,20,null,null,"X",null,null,"Currently congested in big cities"]
["Hungary",{"$f":"VLOOKUP(A145, 'Country names'!$A$5:$C$53,3,FALSE)","v":"HNG"},{"$f":"VLOOKUP(D145,BandList!$A$2:$B$110,2,FALSE)","v":66},"21200-22000","X",null,null,null,"X",null,null,null,null,null,null,null,null,null,null,null,null,null,null,null,null,null,null,null,null,"Only the subband 21.2-21.4 GHz is planned for ENG/OB "]
["Hungary",{"$f":"VLOOKUP(A146, 'Country names'!$A$5:$C$53,3,FALSE)","v":"HNG"},{"$f":"VLOOKUP(D146,BandList!$A$2:$B$110,2,FALSE)","v":68},"22000-22600 and 23000-23600","X",null,null,null,"X",null,null,null,null,null,null,null,2209,null,"T/R 13-02 Annex A1",null,"X",null,null,10,null,null,null,null,null,"22-22.45/23-23.45 GHz subband for civil FS, the rest for non-civil FS"]
["Hungary",{"$f":"VLOOKUP(A147, 'Country names'!$A$5:$C$53,3,FALSE)","v":"HNG"},{"$f":"VLOOKUP(D147,BandList!$A$2:$B$110,2,FALSE)","v":71},"22600-23000","X",null,null,null,"X",null,null,null,"X",null,null,1,null,null,"T/R 13-02 Annexes A2 and A3",null,null,null,null,null,null,null,null,null,null,"National plan for analogue ENG/OB "]
["Hungary",{"$f":"VLOOKUP(A148, 'Country names'!$A$5:$C$53,3,FALSE)","v":"HNG"},{"$f":"VLOOKUP(D148,BandList!$A$2:$B$110,2,FALSE)","v":72},"24250-24500","X",null,null,null,"X",null,null,null,"X",null,null,0,null,null,"T/R 13-02",null,null,null,null,null,null,null,null,null,null,"T/R 13-02 van beírva"]
["Hungary",{"$f":"VLOOKUP(A149, 'Country names'!$A$5:$C$53,3,FALSE)","v":"HNG"},{"$f":"VLOOKUP(D149,BandList!$A$2:$B$110,2,FALSE)","v":75},"24500-26500",null,"X",null,null,"X","X","X",null,null,null,null,null,"N/A","N/A","T/R 13-02 Annex B",null,null,"X",null,10,null,null,null,null,null,"Block assignment is applied, the exact number of CS and PP links is not known"]
["Hungary",{"$f":"VLOOKUP(A150, 'Country names'!$A$5:$C$53,3,FALSE)","v":"HNG"},{"$f":"VLOOKUP(D150,BandList!$A$2:$B$110,2,FALSE)","v":78},"27500-29500",null,null,null,null,null,null,null,null,null,null,null,null,null,null,"ECC/DEC/(05)01",null,null,null,null,null,null,null,null,null,null,"Only planned for PP, PMP"]
["Hungary",{"$f":"VLOOKUP(A151, 'Country names'!$A$5:$C$53,3,FALSE)","v":"HNG"},{"$f":"VLOOKUP(D151,BandList!$A$2:$B$110,2,FALSE)","v":80},"31000-31300","X",null,null,null,"X",null,null,null,null,null,null,null,0,null,"ECC/REC/(02)02"]
["Hungary",{"$f":"VLOOKUP(A152, 'Country names'!$A$5:$C$53,3,FALSE)","v":"HNG"},{"$f":"VLOOKUP(D152,BandList!$A$2:$B$110,2,FALSE)","v":82},"31800-33400",null,null,null,null,null,null,null,null,null,null,null,null,null,null,"ERC/REC/(01)02",null,null,null,null,null,null,null,null,null,null,"Only planned for PP, PMP"]
["Hungary",{"$f":"VLOOKUP(A153, 'Country names'!$A$5:$C$53,3,FALSE)","v":"HNG"},{"$f":"VLOOKUP(D153,BandList!$A$2:$B$110,2,FALSE)","v":86},"37000-39500","X",null,null,null,"X",null,"X",null,null,null,null,null,6356,null,"T/R 12-01",null,"X","X",null,5,null,null,"X",null,null,"37.926-38.220/39.186-39.480 GHz subband designated for non-civil FS, the rest for civil FS"]
["Hungary",{"$f":"VLOOKUP(A154, 'Country names'!$A$5:$C$53,3,FALSE)","v":"HNG"},{"$f":"VLOOKUP(D154,BandList!$A$2:$B$110,2,FALSE)","v":88},"40500-43500",null,null,null,null,null,null,null,null,null,null,null,null,null,null,"ERC/DEC/(99)15",null,null,null,null,null,null,null,null,null,null,"Only planned for PP and MWS"]
["Hungary",{"$f":"VLOOKUP(A155, 'Country names'!$A$5:$C$53,3,FALSE)","v":"HNG"},{"$f":"VLOOKUP(D155,BandList!$A$2:$B$110,2,FALSE)","v":90},"48500-50200","X",null,null,null,"X",null,null,null,null,null,null,null,0,null,"ERC/REC 12-10"]
["Hungary",{"$f":"VLOOKUP(A156, 'Country names'!$A$5:$C$53,3,FALSE)","v":"HNG"},{"$f":"VLOOKUP(D156,BandList!$A$2:$B$110,2,FALSE)","v":93},"51400-52600","X",null,null,null,"X",null,null,null,null,null,null,null,0,null,"ERC/REC 12-11"]
["Hungary",{"$f":"VLOOKUP(A157, 'Country names'!$A$5:$C$53,3,FALSE)","v":"HNG"},{"$f":"VLOOKUP(D157,BandList!$A$2:$B$110,2,FALSE)","v":94},"55780-57000","X",null,null,null,"X",null,null,null,null,null,null,null,0,null,"ERC/REC 12-12"]
["Hungary",{"$f":"VLOOKUP(A158, 'Country names'!$A$5:$C$53,3,FALSE)","v":"HNG"},{"$f":"VLOOKUP(D158,BandList!$A$2:$B$110,2,FALSE)","v":96},"57000-59000","X",null,null,null,"X",null,null,"X",null,null,null,null,2,null,"ECC/REC/(09)01",null,null,"X",null,3]
["Hungary",{"$f":"VLOOKUP(A159, 'Country names'!$A$5:$C$53,3,FALSE)","v":"HNG"},{"$f":"VLOOKUP(D159,BandList!$A$2:$B$110,2,FALSE)","v":101},"59000-64000",null,null,"X",null,"X",null,null,null,null,null,null,null,0,null,"ECC/REC/(09)01"]
["Hungary",{"$f":"VLOOKUP(A160, 'Country names'!$A$5:$C$53,3,FALSE)","v":"HNG"},{"$f":"VLOOKUP(D160,BandList!$A$2:$B$110,2,FALSE)","v":103},"64000-66000",null,null,null,null,null,null,null,null,null,null,null,null,null,null,"ECC/REC/(05)02",null,null,null,null,null,null,null,null,null,null,"Only planned for PP"]
["Hungary",{"$f":"VLOOKUP(A161, 'Country names'!$A$5:$C$53,3,FALSE)","v":"HNG"},{"$f":"VLOOKUP(D161,BandList!$A$2:$B$110,2,FALSE)","v":104},"71000-76000 and 81000-86000",null,null,"X",null,"X",null,null,null,null,null,null,null,562,null,"ECC/REC/(05)07",null,null,"X",null,1]
["Hungary",{"$f":"VLOOKUP(A162, 'Country names'!$A$5:$C$53,3,FALSE)","v":"HNG"},{"$f":"VLOOKUP(D162,BandList!$A$2:$B$110,2,FALSE)","v":109},"92000-95000",null,null,null,null,null,null,null,null,null,null,null,null,null,null,"ECC/REC (14)01",null,null,null,null,null,null,null,null,null,null,"Only planned for PP"]
["Latvia",{"$f":"VLOOKUP(A163, 'Country names'!$A$5:$C$53,3,FALSE)","v":"LVA"},{"$f":"VLOOKUP(D163,BandList!$A$2:$B$110,2,FALSE)","v":1},"1350-1375 and 1492-1517","X",null,null,null,"X",null,null,"X",null,null,null,null,0,null,"T/R 13-01 Annex A",null,null,null,null,null,null,null,null,"X"]
["Latvia",{"$f":"VLOOKUP(A164, 'Country names'!$A$5:$C$53,3,FALSE)","v":"LVA"},{"$f":"VLOOKUP(D164,BandList!$A$2:$B$110,2,FALSE)","v":6},"1492–1506","X",null,null,null,null,"X","X",null,null,null,null,null,null,19,"ITU-R F.701","X",null,null,1,5,10]
["Latvia",{"$f":"VLOOKUP(A165, 'Country names'!$A$5:$C$53,3,FALSE)","v":"LVA"},{"$f":"VLOOKUP(D165,BandList!$A$2:$B$110,2,FALSE)","v":3},"1375-1400 and 1427-1452","X",null,null,null,"X",null,null,"X",null,null,null,null,0,null,"T/R 13-01 Annex B",null,null,null,null,null,null,null,null,"X"]
["Latvia",{"$f":"VLOOKUP(A166, 'Country names'!$A$5:$C$53,3,FALSE)","v":"LVA"},{"$f":"VLOOKUP(D166,BandList!$A$2:$B$110,2,FALSE)","v":13},"2025-2110 and 2200-2290","X",null,null,null,"X",null,null,null,null,"X",null,0,0,null,"T/R 13-01 Annex C",null,null,null,null,null,null,null,null,null,"No changes"]
["Latvia",{"$f":"VLOOKUP(A167, 'Country names'!$A$5:$C$53,3,FALSE)","v":"LVA"},{"$f":"VLOOKUP(D167,BandList!$A$2:$B$110,2,FALSE)","v":16},"3400-3600","X",null,null,null,"X","X","X","X",null,null,null,0,0,31,"ERC/REC 14-03",null,"X",null,1,10,25,0.1]
["Latvia",{"$f":"VLOOKUP(A168, 'Country names'!$A$5:$C$53,3,FALSE)","v":"LVA"},{"$f":"VLOOKUP(D168,BandList!$A$2:$B$110,2,FALSE)","v":19},"3600-4200","X",null,null,null,"X","X","X","X",null,null,null,0,5,106,"ERC/REC 12-08",null,"X",null,1,10,25,0.1]
["Latvia",{"$f":"VLOOKUP(A169, 'Country names'!$A$5:$C$53,3,FALSE)","v":"LVA"},{"$f":"VLOOKUP(D169,BandList!$A$2:$B$110,2,FALSE)","v":22},"4400-5000",null,null,null,null,null,null,null,null,null,null,null,null,null,null,null,null,null,null,null,null,null,null,null,null,null,"Exclusive Military Band Within the Band 4400-5000 MHz"]
["Latvia",{"$f":"VLOOKUP(A170, 'Country names'!$A$5:$C$53,3,FALSE)","v":"LVA"},{"$f":"VLOOKUP(D170,BandList!$A$2:$B$110,2,FALSE)","v":26},"5850-5925",null,null,null,null,null,null,null,null,null,null,null,null,null,null,null,null,null,null,null,null,null,null,null,null,null,"Currently not in use by Fixed service"]
["Latvia",{"$f":"VLOOKUP(A171, 'Country names'!$A$5:$C$53,3,FALSE)","v":"LVA"},{"$f":"VLOOKUP(D171,BandList!$A$2:$B$110,2,FALSE)","v":29},"5925-7125","X",null,null,null,"X",null,"X","X","X",null,null,null,105,null,"ERC/REC 14-01 and ERC/REC 14-02",null,"X","X",20,30,51,0.1]
["Latvia",{"$f":"VLOOKUP(A172, 'Country names'!$A$5:$C$53,3,FALSE)","v":"LVA"},{"$f":"VLOOKUP(D172,BandList!$A$2:$B$110,2,FALSE)","v":36},"7125-7750","X",null,null,null,"X",null,"X","X",null,null,null,null,110,null,"ECC REC (02)06",null,"X","X",10,35,55,0.2]
["Latvia",{"$f":"VLOOKUP(A173, 'Country names'!$A$5:$C$53,3,FALSE)","v":"LVA"},{"$f":"VLOOKUP(D173,BandList!$A$2:$B$110,2,FALSE)","v":46},"7750-7900","X",null,null,null,"X",null,"X","X",null,null,null,null,35,null,"ECC REC (02)06",null,"X","X",10,35,50,0.2]
["Latvia",{"$f":"VLOOKUP(A174, 'Country names'!$A$5:$C$53,3,FALSE)","v":"LVA"},{"$f":"VLOOKUP(D174,BandList!$A$2:$B$110,2,FALSE)","v":48},"7900-8500","X",null,null,null,"X",null,"X","X",null,null,null,null,410,null,"ECC REC (02)06",null,"X","X",8,25,45,0.1]
["Latvia",{"$f":"VLOOKUP(A175, 'Country names'!$A$5:$C$53,3,FALSE)","v":"LVA"},{"$f":"VLOOKUP(D175,BandList!$A$2:$B$110,2,FALSE)","v":50},"10000-10680","X",null,null,null,"X",null,null,"X",null,null,null,null,20,null,"ERC/REC 12-05","X","X",null,5,10,20,-0.2]
["Latvia",{"$f":"VLOOKUP(A176, 'Country names'!$A$5:$C$53,3,FALSE)","v":"LVA"},{"$f":"VLOOKUP(D176,BandList!$A$2:$B$110,2,FALSE)","v":50},"10000-10680",null,"X",null,null,null,"X",null,"X",null,null,null,null,null,65,null,null,"X",null,1,5,15,0.1]
["Latvia",{"$f":"VLOOKUP(A177, 'Country names'!$A$5:$C$53,3,FALSE)","v":"LVA"},{"$f":"VLOOKUP(D177,BandList!$A$2:$B$110,2,FALSE)","v":54},"10700-11700","X",null,null,null,"X",null,"X","X","X",null,null,6,0,null,"ERC/REC 12-06",null,"X","X",10,15,30,5]
["Latvia",{"$f":"VLOOKUP(A178, 'Country names'!$A$5:$C$53,3,FALSE)","v":"LVA"},{"$f":"VLOOKUP(D178,BandList!$A$2:$B$110,2,FALSE)","v":56},"11700-12500",null,null,null,null,null,null,null,null,null,null,null,null,null,null,null,null,null,null,null,null,null,null,null,null,null,"Not allocated for Fixed service"]
["Latvia",{"$f":"VLOOKUP(A179, 'Country names'!$A$5:$C$53,3,FALSE)","v":"LVA"},{"$f":"VLOOKUP(D179,BandList!$A$2:$B$110,2,FALSE)","v":58},"12750-13250","X",null,null,null,"X",null,"X","X",null,null,null,null,890,null,"ERC/REC 12-02",null,"X","X",2,20,52,0.1]
["Latvia",{"$f":"VLOOKUP(A180, 'Country names'!$A$5:$C$53,3,FALSE)","v":"LVA"},{"$f":"VLOOKUP(D180,BandList!$A$2:$B$110,2,FALSE)","v":59},"14250-14500",null,null,null,null,null,null,null,null,null,null,null,null,null,null,null,null,null,null,null,null,null,null,null,null,null,"Not allocated for Fixed service, allocation for FSS (Earth to Space)"]
["Latvia",{"$f":"VLOOKUP(A181, 'Country names'!$A$5:$C$53,3,FALSE)","v":"LVA"},{"$f":"VLOOKUP(D181,BandList!$A$2:$B$110,2,FALSE)","v":60},"14500-14620 and 15230-15350","X",null,null,null,"x",null,"X","X",null,null,null,null,44,null,"ERC/REC 12-07",null,"X","X",10,25,41,0.1]
["Latvia",{"$f":"VLOOKUP(A182, 'Country names'!$A$5:$C$53,3,FALSE)","v":"LVA"},{"$f":"VLOOKUP(D182,BandList!$A$2:$B$110,2,FALSE)","v":63},"17300-17700",null,null,null,null,null,null,null,null,null,null,null,null,null,null,"ECC/DEC/(05)08",null,null,null,null,null,null,null,null,null,null,"Not allocated for Fixed service, allocation for FSS (application - HDFSS)"]
["Latvia",{"$f":"VLOOKUP(A183, 'Country names'!$A$5:$C$53,3,FALSE)","v":"LVA"},{"$f":"VLOOKUP(D183,BandList!$A$2:$B$110,2,FALSE)","v":64},"17700-19700","X",null,null,null,"X",null,"X","X",null,null,null,null,550,null,"ERC/REC 12-03",null,"X","X",2,18,27,0.1]
["Latvia",{"$f":"VLOOKUP(A184, 'Country names'!$A$5:$C$53,3,FALSE)","v":"LVA"},{"$f":"VLOOKUP(D184,BandList!$A$2:$B$110,2,FALSE)","v":66},"21200-22000","X",null,null,null,"X",null,null,null,"X",null,null,null,0,null,"ITU-R F.637 Annex 2"]
["Latvia",{"$f":"VLOOKUP(A185, 'Country names'!$A$5:$C$53,3,FALSE)","v":"LVA"},{"$f":"VLOOKUP(D185,BandList!$A$2:$B$110,2,FALSE)","v":68},"22000-22600 and 23000-23600","X",null,null,null,"X",null,"X","X",null,null,null,null,1380,null,"T/R 13-02 Annexes A1, A2, A3",null,"X","X",1,12,23,0.1]
["Latvia",{"$f":"VLOOKUP(A186, 'Country names'!$A$5:$C$53,3,FALSE)","v":"LVA"},{"$f":"VLOOKUP(D186,BandList!$A$2:$B$110,2,FALSE)","v":71},"22600-23000","X",null,null,null,"X",null,null,null,"X",null,null,0,null,null,"T/R 13-02 Annex A2",null,"X","X",null,null,null,0.1]
["Latvia",{"$f":"VLOOKUP(A187, 'Country names'!$A$5:$C$53,3,FALSE)","v":"LVA"},{"$f":"VLOOKUP(D187,BandList!$A$2:$B$110,2,FALSE)","v":72},"24250-24500","X",null,null,null,"X",null,null,null,"X",null,null,0,null,null,"T/R 13-02",null,"X","X",null,null,null,0.1]
["Latvia",{"$f":"VLOOKUP(A188, 'Country names'!$A$5:$C$53,3,FALSE)","v":"LVA"},{"$f":"VLOOKUP(D188,BandList!$A$2:$B$110,2,FALSE)","v":74},"24500–24717/25557–25725","X",null,null,null,"X",null,"X",null,null,null,null,null,33,null,"T/R 13-02",null,"X","X",0.2,2,5,0.1]
["Latvia",{"$f":"VLOOKUP(A189, 'Country names'!$A$5:$C$53,3,FALSE)","v":"LVA"},{"$f":"VLOOKUP(D189,BandList!$A$2:$B$110,2,FALSE)","v":76},"24773–25445/25781–26453","X",null,null,null,"X","X","X",null,null,null,null,null,null,43,"T/R 13-02",null,"X","X",0.2,2,5,0.1]
["Latvia",{"$f":"VLOOKUP(A190, 'Country names'!$A$5:$C$53,3,FALSE)","v":"LVA"},{"$f":"VLOOKUP(D190,BandList!$A$2:$B$110,2,FALSE)","v":77},"26500-27500",null,null,null,null,null,null,null,null,null,null,null,null,null,null,null,null,null,null,null,null,null,null,null,null,null,"Exclusive Military Band Within the Band 26500-27500 MHz"]
["Latvia",{"$f":"VLOOKUP(A191, 'Country names'!$A$5:$C$53,3,FALSE)","v":"LVA"},{"$f":"VLOOKUP(D191,BandList!$A$2:$B$110,2,FALSE)","v":79},"27828,5–28444,5/28948,5–29452,5","X",null,null,null,"X","X","X","X",null,null,null,null,7,86,"T/R 13-02 ",null,"X","X",0.1,1.5,5,0.1]
["Latvia",{"$f":"VLOOKUP(A192, 'Country names'!$A$5:$C$53,3,FALSE)","v":"LVA"},{"$f":"VLOOKUP(D192,BandList!$A$2:$B$110,2,FALSE)","v":80},"31000-31300","X",null,null,null,"X","X","X",null,null,null,null,null,0,0,"ECC/REC/(02)02"]
["Latvia",{"$f":"VLOOKUP(A193, 'Country names'!$A$5:$C$53,3,FALSE)","v":"LVA"},{"$f":"VLOOKUP(D193,BandList!$A$2:$B$110,2,FALSE)","v":84},"32375–32571/33187–33383","X",null,null,null,"X",null,"X",null,null,null,null,null,0,null,"ERC/REC/(01)02",null,null,null,null,null,null,0.05]
["Latvia",{"$f":"VLOOKUP(A194, 'Country names'!$A$5:$C$53,3,FALSE)","v":"LVA"},{"$f":"VLOOKUP(D194,BandList!$A$2:$B$110,2,FALSE)","v":83},"31815–32347/32627–33159","X",null,null,null,"X","X","X",null,null,null,null,null,224,null,"ERC/REC/(01)02",null,"X","X",0.1,1.5,5,0.1]
["Latvia",{"$f":"VLOOKUP(A195, 'Country names'!$A$5:$C$53,3,FALSE)","v":"LVA"},{"$f":"VLOOKUP(D195,BandList!$A$2:$B$110,2,FALSE)","v":85},"36000-37000",null,null,null,null,null,null,null,null,null,null,null,null,null,null,null,null,null,null,null,null,null,null,null,null,null,"Exclusive Military Band Within the Band 36000-37000 MHz"]
["Latvia",{"$f":"VLOOKUP(A196, 'Country names'!$A$5:$C$53,3,FALSE)","v":"LVA"},{"$f":"VLOOKUP(D196,BandList!$A$2:$B$110,2,FALSE)","v":86},"37000-39500","X",null,null,null,"X",null,"X","X",null,null,null,null,195,null,"T/R 12-01",null,"X","X","0,3",2,6,0.2]
["Latvia",{"$f":"VLOOKUP(A197, 'Country names'!$A$5:$C$53,3,FALSE)","v":"LVA"},{"$f":"VLOOKUP(D197,BandList!$A$2:$B$110,2,FALSE)","v":87},"39500-40500",null,null,null,null,null,null,null,null,null,null,null,null,null,null,"ERC/DEC/(00)02",null,null,null,null,null,null,null,null,null,null,"Currently not in use by Fixed service"]
["Latvia",{"$f":"VLOOKUP(A198, 'Country names'!$A$5:$C$53,3,FALSE)","v":"LVA"},{"$f":"VLOOKUP(D198,BandList!$A$2:$B$110,2,FALSE)","v":88},"40500-43500","X",null,null,null,"X","X","X",null,null,null,null,null,0,0,"ECC/REC/(01)04",null,"X","X",null,null,null,1]
["Latvia",{"$f":"VLOOKUP(A199, 'Country names'!$A$5:$C$53,3,FALSE)","v":"LVA"},{"$f":"VLOOKUP(D199,BandList!$A$2:$B$110,2,FALSE)","v":89},"47200-48500","X",null,null,null,"X",null,null,null,"X",null,null,0,null,null,"ERC/REC 25-10",null,"X",null,null,null,null,1]
["Latvia",{"$f":"VLOOKUP(A200, 'Country names'!$A$5:$C$53,3,FALSE)","v":"LVA"},{"$f":"VLOOKUP(D200,BandList!$A$2:$B$110,2,FALSE)","v":90},"48500-50200","X",null,null,null,"X",null,"X","X",null,null,null,null,0,null,"ERC/REC 12-11"]
["Latvia",{"$f":"VLOOKUP(A201, 'Country names'!$A$5:$C$53,3,FALSE)","v":"LVA"},{"$f":"VLOOKUP(D201,BandList!$A$2:$B$110,2,FALSE)","v":92},"50400-51400",null,null,null,null,null,null,null,null,null,null,null,null,null,null,null,null,null,null,null,null,null,null,null,null,null,"Currently not in use by Fixed service"]
["Latvia",{"$f":"VLOOKUP(A202, 'Country names'!$A$5:$C$53,3,FALSE)","v":"LVA"},{"$f":"VLOOKUP(D202,BandList!$A$2:$B$110,2,FALSE)","v":93},"51400-52600","X",null,null,null,"X",null,"X","X",null,null,null,null,0,null,"ERC/REC 12-11",null,"X","X",null,null,null,1]
["Latvia",{"$f":"VLOOKUP(A203, 'Country names'!$A$5:$C$53,3,FALSE)","v":"LVA"},{"$f":"VLOOKUP(D203,BandList!$A$2:$B$110,2,FALSE)","v":94},"55780-57000","X",null,null,null,"X",null,"X","X",null,null,null,null,0,null,"ERC/REC 12-12E",null,null,null,null,null,null,1]
["Latvia",{"$f":"VLOOKUP(A204, 'Country names'!$A$5:$C$53,3,FALSE)","v":"LVA"},{"$f":"VLOOKUP(D204,BandList!$A$2:$B$110,2,FALSE)","v":96},"57000-59000","X",null,null,null,"X",null,"X",null,null,null,null,null,0,null,"ECC/REC/(09)01",null,null,null,null,null,null,1]
["Latvia",{"$f":"VLOOKUP(A205, 'Country names'!$A$5:$C$53,3,FALSE)","v":"LVA"},{"$f":"VLOOKUP(D205,BandList!$A$2:$B$110,2,FALSE)","v":100},"59000-61000",null,null,null,null,null,null,null,null,null,null,null,null,null,null,"ECC/REC/(09)01",null,null,null,null,null,null,null,null,"X",null,"Exclusive Military Band Within the Band 59000-61000 MHz; planned reallocation"]
["Latvia",{"$f":"VLOOKUP(A206, 'Country names'!$A$5:$C$53,3,FALSE)","v":"LVA"},{"$f":"VLOOKUP(D206,BandList!$A$2:$B$110,2,FALSE)","v":102},"61000-66000",null,null,null,null,null,null,null,null,null,null,null,null,null,null,null,null,null,null,null,null,null,null,null,"X"]
["Latvia",{"$f":"VLOOKUP(A207, 'Country names'!$A$5:$C$53,3,FALSE)","v":"LVA"},{"$f":"VLOOKUP(D207,BandList!$A$2:$B$110,2,FALSE)","v":108},"74000-76000 and 84000-86000","X",null,null,null,"X",null,"X","X",null,null,null,null,14,null,"ECC/REC/(05)07",null,null,"X","0,1",1,3,5]
["Ireland",{"$f":"VLOOKUP(A208, 'Country names'!$A$5:$C$53,3,FALSE)","v":"IRL"},{"$f":"VLOOKUP(D208,BandList!$A$2:$B$110,2,FALSE)","v":1},"1350-1375 and 1492-1517","X",null,null,null,"X",null,null,null,null,"X",null,null,76,null,"T/R 13-01 Annex A",76,null,null,"No min. path length policy"]
["Ireland",{"$f":"VLOOKUP(A209, 'Country names'!$A$5:$C$53,3,FALSE)","v":"IRL"},{"$f":"VLOOKUP(D209,BandList!$A$2:$B$110,2,FALSE)","v":3},"1375-1400 and 1427-1452","X",null,null,null,"X",null,null,null,"X",null,null,41,null,null,"T/R 13-01 Annex B",41,null,null,"No min. path length policy"]
["Ireland",{"$f":"VLOOKUP(A210, 'Country names'!$A$5:$C$53,3,FALSE)","v":"IRL"},{"$f":"VLOOKUP(D210,BandList!$A$2:$B$110,2,FALSE)","v":13},"2025-2110 and 2200-2290","X",null,null,null,"X",null,null,null,null,"X",null,null,28,null,"T/R 13-01 Annex C",7,21,null,"25 km"]
["Ireland",{"$f":"VLOOKUP(A211, 'Country names'!$A$5:$C$53,3,FALSE)","v":"IRL"},{"$f":"VLOOKUP(D211,BandList!$A$2:$B$110,2,FALSE)","v":16},"3400-3600","X (FWALA licences issues on case by case basis)",null,null,null,null,"X",null,null,null,null,"Wireless broadband provision",null,null,"268 (3400 - 3800 MHz)","ERC/REC 14-03",null,null,null,"N/A",null,null,null,null,"X "]
["Ireland",{"$f":"VLOOKUP(A212, 'Country names'!$A$5:$C$53,3,FALSE)","v":"IRL"},{"$f":"VLOOKUP(D212,BandList!$A$2:$B$110,2,FALSE)","v":19},"3600-4200","X (FWALA licences issues on case by case basis)",null,null,null,null,"X",null,null,null,null,"Wireless broadband provision",null,null,"268 (3400 - 3800 MHz)","ERC/REC 12-08",null,null,null,"N/A",null,null,null,null,"X "]
["Ireland",{"$f":"VLOOKUP(A213, 'Country names'!$A$5:$C$53,3,FALSE)","v":"IRL"},{"$f":"VLOOKUP(D213,BandList!$A$2:$B$110,2,FALSE)","v":26},"5850-5925",null,null,"X (5725 - 5875 MHz)",null,null,"X",null,"X",null,null,null,null,null,"106 stations registered for use of the entire band 5725 - 5875 MHz",null,null,null,null,"N/A"]
["Ireland",{"$f":"VLOOKUP(A214, 'Country names'!$A$5:$C$53,3,FALSE)","v":"IRL"},{"$f":"VLOOKUP(D214,BandList!$A$2:$B$110,2,FALSE)","v":29},"5925-7125","X",null,null,null,"X",null,null,null,null,"X",null,null,208,null,"ERC/REC 14-01 and ERC/REC 14-02, ECC/REC(14)06",null,null,208,"25 km"]
["Ireland",{"$f":"VLOOKUP(A215, 'Country names'!$A$5:$C$53,3,FALSE)","v":"IRL"},{"$f":"VLOOKUP(D215,BandList!$A$2:$B$110,2,FALSE)","v":36},"7125-7750","X",null,null,null,"X",null,null,null,null,"X",null,null,270,null,"ECC REC (02)06",12,31,227,"25 km"]
["Ireland",{"$f":"VLOOKUP(A216, 'Country names'!$A$5:$C$53,3,FALSE)","v":"IRL"},{"$f":"VLOOKUP(D216,BandList!$A$2:$B$110,2,FALSE)","v":46},"7750-7900","X",null,null,null,"X",null,null,null,null,"X",null,null,208,null,null,null,10,198,"25 km"]
["Ireland",{"$f":"VLOOKUP(A217, 'Country names'!$A$5:$C$53,3,FALSE)","v":"IRL"},{"$f":"VLOOKUP(D217,BandList!$A$2:$B$110,2,FALSE)","v":48},"7900-8500","X",null,null,null,"X",null,null,null,null,"X",null,null,12,null,"ECC REC (02)06",8,4,null,"25 km"]
["Ireland",{"$f":"VLOOKUP(A218, 'Country names'!$A$5:$C$53,3,FALSE)","v":"IRL"},{"$f":"VLOOKUP(D218,BandList!$A$2:$B$110,2,FALSE)","v":50},"10000-10680","X (FWALA licences issues on case by case basis)",null,null,null,null,"X",null,null,null,null,"Wireless broadband provision",null,null,35,"ERC/REC 12-05",null,null,null,"N/A"]
["Ireland",{"$f":"VLOOKUP(A219, 'Country names'!$A$5:$C$53,3,FALSE)","v":"IRL"},{"$f":"VLOOKUP(D219,BandList!$A$2:$B$110,2,FALSE)","v":54},"10700-11700","X",null,null,null,"X",null,null,null,null,"X",null,null,778,null,"ERC/REC 12-06",null,null,778,"10 km"]
["Ireland",{"$f":"VLOOKUP(A220, 'Country names'!$A$5:$C$53,3,FALSE)","v":"IRL"},{"$f":"VLOOKUP(D220,BandList!$A$2:$B$110,2,FALSE)","v":58},"12750-13250","X",null,null,null,"X",null,null,null,null,"X",null,null,1362,null,"ERC/REC 12-02",42,603,717,"9 km",null,null,null,"X"]
["Ireland",{"$f":"VLOOKUP(A221, 'Country names'!$A$5:$C$53,3,FALSE)","v":"IRL"},{"$f":"VLOOKUP(D221,BandList!$A$2:$B$110,2,FALSE)","v":60},"14500-14620 and 15230-15350","X",null,null,null,"X",null,null,null,null,"X",null,null,1752,null,"ERC/REC 12-07",201,7,1544,"9 km",null,null,null,"X"]
["Ireland",{"$f":"VLOOKUP(A222, 'Country names'!$A$5:$C$53,3,FALSE)","v":"IRL"},{"$f":"VLOOKUP(D222,BandList!$A$2:$B$110,2,FALSE)","v":64},"17700-19700","X",null,null,null,"X",null,null,null,null,"X",null,null,1190,null,null,null,13,1177,"6 km for links ≤ 34 MBit/s.",null,null,null,"X"]
["Ireland",{"$f":"VLOOKUP(A223, 'Country names'!$A$5:$C$53,3,FALSE)","v":"IRL"},{"$f":"VLOOKUP(D223,BandList!$A$2:$B$110,2,FALSE)","v":64},"17700-19700",null,null,null,null,null,null,null,null,null,null,null,null,null,null,null,null,null,null,"0 km for links > 34 Mbit/s. "]
["Ireland",{"$f":"VLOOKUP(A224, 'Country names'!$A$5:$C$53,3,FALSE)","v":"IRL"},{"$f":"VLOOKUP(D224,BandList!$A$2:$B$110,2,FALSE)","v":68},"22000-22600 and 23000-23600","X",null,null,null,"X",null,null,null,null,"X",null,null,1640,null,"T/R 13-02 Annexes A1, A2, A3",163,758,719,"3 km for links ≤ 34 MBit/s.",null,null,null,"X"]
["Ireland",{"$f":"VLOOKUP(A225, 'Country names'!$A$5:$C$53,3,FALSE)","v":"IRL"},{"$f":"VLOOKUP(D225,BandList!$A$2:$B$110,2,FALSE)","v":68},"22000-22600 and 23000-23600",null,null,null,null,null,null,null,null,null,null,null,null,null,null,null,null,null,null,"0 km for links > 34 Mbit/s, or 34 Mbit/s in 14 MHz channel spacing. "]
["Ireland",{"$f":"VLOOKUP(A226, 'Country names'!$A$5:$C$53,3,FALSE)","v":"IRL"},{"$f":"VLOOKUP(D226,BandList!$A$2:$B$110,2,FALSE)","v":75},"24500-26500",null,"X",null,null,"X",null,null,null,null,null,null,null,"4444 sites registered nationwide for 26 GHz \"block licence\" link deployments. There are therefore a minimum of 2222 links, with potentially many more, depending upon the number of 26 GHz links deployed at each site.",null,null,"X","X","X","3 km for links ≤ 34 MBit/s."]
["Ireland",{"$f":"VLOOKUP(A227, 'Country names'!$A$5:$C$53,3,FALSE)","v":"IRL"},{"$f":"VLOOKUP(D227,BandList!$A$2:$B$110,2,FALSE)","v":75},"24500-26500",null,null,null,null,null,null,null,null,null,null,null,null,null,null,null,null,null,null,"0 km for links > 34 Mbit/s, or 34 Mbit/s in 14 MHz channel spacing. "]
["Ireland",{"$f":"VLOOKUP(A228, 'Country names'!$A$5:$C$53,3,FALSE)","v":"IRL"},{"$f":"VLOOKUP(D228,BandList!$A$2:$B$110,2,FALSE)","v":75},"24500-26500","X",null,null,null,"X",null,null,null,null,null,null,null,474,null,"T/R 13-02 Annex B",null,null,474,"3 km for links ≤ 34 MBit/s."]
["Ireland",{"$f":"VLOOKUP(A229, 'Country names'!$A$5:$C$53,3,FALSE)","v":"IRL"},{"$f":"VLOOKUP(D229,BandList!$A$2:$B$110,2,FALSE)","v":75},"24500-26500",null,null,null,null,null,null,null,null,null,null,null,null,null,null,null,null,null,null,"0 km for links > 34 Mbit/s, or 34 Mbit/s in 14 MHz channel spacing. "]
["Ireland",{"$f":"VLOOKUP(A230, 'Country names'!$A$5:$C$53,3,FALSE)","v":"IRL"},{"$f":"VLOOKUP(D230,BandList!$A$2:$B$110,2,FALSE)","v":75},"24500-26500","X (FWALA licences issues on case by case basis)",null,null,null,null,"X",null,null,null,null,"Wireless broadband provision",null,null,3,null,null,null,null,"N/A"]
["Ireland",{"$f":"VLOOKUP(A231, 'Country names'!$A$5:$C$53,3,FALSE)","v":"IRL"},{"$f":"VLOOKUP(D231,BandList!$A$2:$B$110,2,FALSE)","v":78},"27500-29500","X",null,null,null,"X",null,null,null,null,"X",null,null,197,null,"T/R 13-02 Annex C",null,45,153,"3 km for links ≤ 34 MBit/s."]
["Ireland",{"$f":"VLOOKUP(A232, 'Country names'!$A$5:$C$53,3,FALSE)","v":"IRL"},{"$f":"VLOOKUP(D232,BandList!$A$2:$B$110,2,FALSE)","v":78},"27500-29500",null,null,null,null,null,null,null,null,null,null,null,null,null,null,null,null,null,null,"0 km for links > 34 Mbit/s, or 34 Mbit/s in 14 MHz channel spacing. "]
["Ireland",{"$f":"VLOOKUP(A233, 'Country names'!$A$5:$C$53,3,FALSE)","v":"IRL"},{"$f":"VLOOKUP(D233,BandList!$A$2:$B$110,2,FALSE)","v":80},"31000-31300","X",null,null,null,null,null,null,null,null,null,null,null,0,null,"ECC/REC/(02)02"]
["Ireland",{"$f":"VLOOKUP(A234, 'Country names'!$A$5:$C$53,3,FALSE)","v":"IRL"},{"$f":"VLOOKUP(D234,BandList!$A$2:$B$110,2,FALSE)","v":86},"37000-39500","X",null,null,null,"X",null,null,null,null,"X",null,null,2095,null,"T/R 12-01",245,843,1007,"0 km"]
["Ireland",{"$f":"VLOOKUP(A235, 'Country names'!$A$5:$C$53,3,FALSE)","v":"IRL"},{"$f":"VLOOKUP(D235,BandList!$A$2:$B$110,2,FALSE)","v":88},"40500-43500","X",null,null,null,"X",null,null,null,null,"X",null,null,10,null,"ECC/REC/(01)04",null,null,10,"0 km"]
["Ireland",{"$f":"VLOOKUP(A236, 'Country names'!$A$5:$C$53,3,FALSE)","v":"IRL"},{"$f":"VLOOKUP(D236,BandList!$A$2:$B$110,2,FALSE)","v":104},"71000-76000 and 81000-86000","X",null,null,null,"X",null,null,null,null,"X",null,null,355,null,"ECC/REC/(05)07",355,null,null,"0 km"]
["Finland",{"$f":"VLOOKUP(A237, 'Country names'!$A$5:$C$53,3,FALSE)","v":"FIN"},{"$f":"VLOOKUP(D237,BandList!$A$2:$B$110,2,FALSE)","v":1},"1350-1375 and 1492-1517",null,null,null,null,null,null,null,null,null,null,null,0,0,null,"(T/R 13-01 Annex A)  1)",null,null,null,null,null,null,null,null,"1)",null,"1) MFCN 1492-1517 MHz planned in the beginning of 2019"]
["Finland",{"$f":"VLOOKUP(A238, 'Country names'!$A$5:$C$53,3,FALSE)","v":"FIN"},{"$f":"VLOOKUP(D238,BandList!$A$2:$B$110,2,FALSE)","v":1},"1350-1375 and 1492-1517",null,"x",null,null,null,"x",null,"x",null,null,null,null,null,16,"FWA: 1359-1371 MHz, national plan",null,"x",null,null,"N/A"]
["Finland",{"$f":"VLOOKUP(A239, 'Country names'!$A$5:$C$53,3,FALSE)","v":"FIN"},{"$f":"VLOOKUP(D239,BandList!$A$2:$B$110,2,FALSE)","v":3},"1375-1400 and 1427-1452",null,null,null,null,null,null,null,null,null,null,null,null,null,null,null,null,null,null,null,null,null,null,null,"2)",null,"2) MFCN 1427-1452 MHz planned in the beginning of 2019"]
["Finland",{"$f":"VLOOKUP(A240, 'Country names'!$A$5:$C$53,3,FALSE)","v":"FIN"},{"$f":"VLOOKUP(D240,BandList!$A$2:$B$110,2,FALSE)","v":13},"2025-2110 and 2200-2290","x",null,null,null,"x",null,null,"x",null,null,null,"N/A",null,null,"ERC/REC 25-10",null,"x",null,null,"N/A",null,null,null,null,null,"temporary use "]
["Finland",{"$f":"VLOOKUP(A241, 'Country names'!$A$5:$C$53,3,FALSE)","v":"FIN"},{"$f":"VLOOKUP(D241,BandList!$A$2:$B$110,2,FALSE)","v":16},"3400-3600",null,"x",null,null,null,"x",null,"x",null,null,null,null,null,"ca.250","FWA: 3410-3590 MHz, national plan","x",null,null,null,"<8",null,-35,null,"3)",null,"3) MFCN 3400-3800 MHz planned in the beginning of 2019"]
["Finland",{"$f":"VLOOKUP(A242, 'Country names'!$A$5:$C$53,3,FALSE)","v":"FIN"},{"$f":"VLOOKUP(D242,BandList!$A$2:$B$110,2,FALSE)","v":19},"3600-4200","x",null,null,null,"x",null,null,null,"x",null,null,164,32,null,"ERC/REC 12-08",null,"x","x",20,">30",null,null,null,"3)",null,"3) MFCN 3400-3800 MHz planned in the beginning of 2019"]
["Finland",{"$f":"VLOOKUP(A243, 'Country names'!$A$5:$C$53,3,FALSE)","v":"FIN"},{"$f":"VLOOKUP(D243,BandList!$A$2:$B$110,2,FALSE)","v":29},"5925-7125","x",null,null,null,"x",null,"x","x","x",null,null,0,646,null,"ERC/REC 14-01 and ERC/REC 14-02, ECC/REC(14)06",null,"x","x",10,"19.7","63.1","+ 50","x",null,"upper 6 GHz congested in some areas"]
["Finland",{"$f":"VLOOKUP(A244, 'Country names'!$A$5:$C$53,3,FALSE)","v":"FIN"},{"$f":"VLOOKUP(D244,BandList!$A$2:$B$110,2,FALSE)","v":36},"7125-7750","x",null,null,null,"x",null,"x","x",null,null,null,0,363,null,"Modified ITU-R F.385",null,"x","x",10,"29.4","74.9",-25]
["Finland",{"$f":"VLOOKUP(A245, 'Country names'!$A$5:$C$53,3,FALSE)","v":"FIN"},{"$f":"VLOOKUP(D245,BandList!$A$2:$B$110,2,FALSE)","v":48},"7900-8500","x",null,null,null,null,null,"x","x",null,null,null,0,4,null,"ECC REC (02)06",null,null,"x",10,"15.4","17.1"]
["Finland",{"$f":"VLOOKUP(A246, 'Country names'!$A$5:$C$53,3,FALSE)","v":"FIN"},{"$f":"VLOOKUP(D246,BandList!$A$2:$B$110,2,FALSE)","v":48},"7900-8500",null,"x",null,null,null,null,null,null,"x",null,null,"N/A","N/A",null,"video links, national plan",null,"x",null,null,"N/A"]
["Finland",{"$f":"VLOOKUP(A247, 'Country names'!$A$5:$C$53,3,FALSE)","v":"FIN"},{"$f":"VLOOKUP(D247,BandList!$A$2:$B$110,2,FALSE)","v":50},"10000-10680","x",null,null,null,"x",null,null,"x","x",null,null,3,0,null,"ERC/REC 12-05",null,null,null,"0.1","5.1","14.2"]
["Finland",{"$f":"VLOOKUP(A248, 'Country names'!$A$5:$C$53,3,FALSE)","v":"FIN"},{"$f":"VLOOKUP(D248,BandList!$A$2:$B$110,2,FALSE)","v":58},"12750-13250","x",null,null,null,"x",null,"x","x",null,null,null,0,1750,null,"ERC/REC 12-02",null,"x","x","0.24","14.4","34.9",-10]
["Finland",{"$f":"VLOOKUP(A249, 'Country names'!$A$5:$C$53,3,FALSE)","v":"FIN"},{"$f":"VLOOKUP(D249,BandList!$A$2:$B$110,2,FALSE)","v":60},"14500-14620 and 15230-15350","x",null,null,null,"x",null,"x","x",null,null,null,0,414,null,"ITU-R F.636","x","x",null,"0.4","13.8","32.2",-7]
["Finland",{"$f":"VLOOKUP(A250, 'Country names'!$A$5:$C$53,3,FALSE)","v":"FIN"},{"$f":"VLOOKUP(D250,BandList!$A$2:$B$110,2,FALSE)","v":64},"17700-19700","x",null,null,null,"x",null,"x","x",null,null,null,0,2730,null,"ERC/DEC/(00)07; ERC/REC 12-03",null,"x","x","0.1","8.0","26.6","+15"]
["Finland",{"$f":"VLOOKUP(A251, 'Country names'!$A$5:$C$53,3,FALSE)","v":"FIN"},{"$f":"VLOOKUP(D251,BandList!$A$2:$B$110,2,FALSE)","v":66},"21200-22000","x",null,null,null,"x",null,null,"x",null,null,null,0,0,null,"ERC/REC 25-10"]
["Finland",{"$f":"VLOOKUP(A252, 'Country names'!$A$5:$C$53,3,FALSE)","v":"FIN"},{"$f":"VLOOKUP(D252,BandList!$A$2:$B$110,2,FALSE)","v":68},"22000-22600 and 23000-23600","x",null,null,null,"x",null,"x","x",null,null,null,0,1619,null,"T/R 13-02 Annexes A1, A2, A3","x","x","x","0.6","4.9","17.5","-15 *)",null,null,null,"*) decrease 28 MHz / increase 56 MHz"]
["Finland",{"$f":"VLOOKUP(A253, 'Country names'!$A$5:$C$53,3,FALSE)","v":"FIN"},{"$f":"VLOOKUP(D253,BandList!$A$2:$B$110,2,FALSE)","v":68},"22000-22600 and 23000-23600",null,null,null,null,null,null,null,null,null,null,null,null,null,null,null,null,null,null,null,null,null,"+2 *)","x",null,"56 MHz channels congested in some areas"]
["Finland",{"$f":"VLOOKUP(A254, 'Country names'!$A$5:$C$53,3,FALSE)","v":"FIN"},{"$f":"VLOOKUP(D254,BandList!$A$2:$B$110,2,FALSE)","v":71},"22600-23000","x",null,null,null,"x",null,null,"x",null,null,null,0,0,null,"ERC/REC 25-10"]
["Finland",{"$f":"VLOOKUP(A255, 'Country names'!$A$5:$C$53,3,FALSE)","v":"FIN"},{"$f":"VLOOKUP(D255,BandList!$A$2:$B$110,2,FALSE)","v":72},"24250-24500",null,null,null,null,null,null,null,null,null,null,null,null,null,null,null,null,null,null,null,null,null,null,null,"4)",null,"4) Potential 5G candidate band under study"]
["Finland",{"$f":"VLOOKUP(A256, 'Country names'!$A$5:$C$53,3,FALSE)","v":"FIN"},{"$f":"VLOOKUP(D256,BandList!$A$2:$B$110,2,FALSE)","v":75},"24500-26500","x",null,null,null,"x",null,null,null,"x",null,null,0,1,null,"T/R 13-02 Annex B",null,"x",null,null,"1.6",null,null,null,"4)"]
["Finland",{"$f":"VLOOKUP(A257, 'Country names'!$A$5:$C$53,3,FALSE)","v":"FIN"},{"$f":"VLOOKUP(D257,BandList!$A$2:$B$110,2,FALSE)","v":77},"26500-27500",null,null,null,null,null,null,null,null,null,null,null,null,null,null,null,null,null,null,null,null,null,null,null,"4)"]
["Finland",{"$f":"VLOOKUP(A258, 'Country names'!$A$5:$C$53,3,FALSE)","v":"FIN"},{"$f":"VLOOKUP(D258,BandList!$A$2:$B$110,2,FALSE)","v":78},"27500-29500","x",null,null,null,"x",null,"x","x","x",null,null,0,500,null,"T/R 13-02 Annex C",null,"x","x","0.1","1.3","17.3","+2"]
["Finland",{"$f":"VLOOKUP(A259, 'Country names'!$A$5:$C$53,3,FALSE)","v":"FIN"},{"$f":"VLOOKUP(D259,BandList!$A$2:$B$110,2,FALSE)","v":80},"31000-31300","x",null,null,null,"x",null,null,"x",null,null,null,0,0,null,"ECC/REC/(02)02"]
["Finland",{"$f":"VLOOKUP(A260, 'Country names'!$A$5:$C$53,3,FALSE)","v":"FIN"},{"$f":"VLOOKUP(D260,BandList!$A$2:$B$110,2,FALSE)","v":82},"31800-33400","x",null,null,null,"x",null,"x",null,null,null,null,0,111,null,"ERC/REC/(01)02",null,null,"x","0.1","1.1","7.5","+4",null,"4)"]
["Finland",{"$f":"VLOOKUP(A261, 'Country names'!$A$5:$C$53,3,FALSE)","v":"FIN"},{"$f":"VLOOKUP(D261,BandList!$A$2:$B$110,2,FALSE)","v":86},"37000-39500","x",null,null,null,"x",null,null,"x",null,null,null,0,18,null,"T/R 12-01",null,"x",null,"0.7","1.8","3.7",null,null,"4)"]
["Finland",{"$f":"VLOOKUP(A262, 'Country names'!$A$5:$C$53,3,FALSE)","v":"FIN"},{"$f":"VLOOKUP(D262,BandList!$A$2:$B$110,2,FALSE)","v":87},"39500-40500",null,null,null,null,null,null,null,null,null,null,null,null,null,null,null,null,null,null,null,null,null,null,null,"4)"]
["Finland",{"$f":"VLOOKUP(A263, 'Country names'!$A$5:$C$53,3,FALSE)","v":"FIN"},{"$f":"VLOOKUP(D263,BandList!$A$2:$B$110,2,FALSE)","v":88},"40500-43500","x",null,null,null,"x",null,null,null,null,null,null,0,0,null,"ECC/REC/(01)04",null,null,null,null,null,null,null,null,"4)"]
["Finland",{"$f":"VLOOKUP(A264, 'Country names'!$A$5:$C$53,3,FALSE)","v":"FIN"},{"$f":"VLOOKUP(D264,BandList!$A$2:$B$110,2,FALSE)","v":89},"47200-48500","x",null,null,null,"x",null,null,null,null,null,null,0,0,null,"ERC/REC 12-11",null,null,null,null,null,null,null,null,"4)"]
["Finland",{"$f":"VLOOKUP(A265, 'Country names'!$A$5:$C$53,3,FALSE)","v":"FIN"},{"$f":"VLOOKUP(D265,BandList!$A$2:$B$110,2,FALSE)","v":90},"48500-50200","x",null,null,null,"x",null,null,null,null,null,null,0,0,null,"ERC/REC 12-11",null,null,null,null,null,null,null,null,"4)"]
["Finland",{"$f":"VLOOKUP(A266, 'Country names'!$A$5:$C$53,3,FALSE)","v":"FIN"},{"$f":"VLOOKUP(D266,BandList!$A$2:$B$110,2,FALSE)","v":92},"50400-51400","x",null,null,null,"x",null,null,null,null,null,null,0,0,null,"no channel plan",null,null,null,null,null,null,null,null,"4)"]
["Finland",{"$f":"VLOOKUP(A267, 'Country names'!$A$5:$C$53,3,FALSE)","v":"FIN"},{"$f":"VLOOKUP(D267,BandList!$A$2:$B$110,2,FALSE)","v":93},"51400-52600","x",null,null,null,"x",null,null,null,null,null,null,0,0,null,"ERC/REC 12-11, planned",null,null,null,null,null,null,null,null,"4)"]
["Finland",{"$f":"VLOOKUP(A268, 'Country names'!$A$5:$C$53,3,FALSE)","v":"FIN"},{"$f":"VLOOKUP(D268,BandList!$A$2:$B$110,2,FALSE)","v":94},"55780-57000","x",null,null,null,"x",null,null,null,null,null,null,0,0,null,"ERC/REC 12-12, planned"]
["Finland",{"$f":"VLOOKUP(A269, 'Country names'!$A$5:$C$53,3,FALSE)","v":"FIN"},{"$f":"VLOOKUP(D269,BandList!$A$2:$B$110,2,FALSE)","v":96},"57000-59000",null,"x",null,null,"x",null,null,"x",null,null,null,null,4,null,"existing use ERC/REC 12-09",null,null,null,null,"N/A"]
["Finland",{"$f":"VLOOKUP(A270, 'Country names'!$A$5:$C$53,3,FALSE)","v":"FIN"},{"$f":"VLOOKUP(D270,BandList!$A$2:$B$110,2,FALSE)","v":103},"64000-66000","x",null,null,null,"x",null,null,null,null,null,null,0,0,null,"ECC/REC/(05)02"]
["Finland",{"$f":"VLOOKUP(A271, 'Country names'!$A$5:$C$53,3,FALSE)","v":"FIN"},{"$f":"VLOOKUP(D271,BandList!$A$2:$B$110,2,FALSE)","v":104},"71000-76000 and 81000-86000","x",null,null,null,"x",null,null,"x",null,null,null,0,4,null,"ECC/REC/(05)07",null,null,"x","0.1","2.4","2.9",null,null,"4)"]
["Finland",{"$f":"VLOOKUP(A272, 'Country names'!$A$5:$C$53,3,FALSE)","v":"FIN"},{"$f":"VLOOKUP(D272,BandList!$A$2:$B$110,2,FALSE)","v":109},"92000-95000","x",null,null,null,"x",null,null,null,null,null,null,0,0,null,"ECC/REC (14)01"]
["Slovenia",{"$f":"VLOOKUP(A273, 'Country names'!$A$5:$C$53,3,FALSE)","v":"SVN"},{"$f":"VLOOKUP(D273,BandList!$A$2:$B$110,2,FALSE)","v":1},"1350-1375 and 1492-1517","X",null,null,null,"X",null,null,"X","X",null,null,83,12,null,"T/R 13-01 Annex A","X",null,null,0.6,18,82,null,null,"X","candidate band for mobile broadband"]
["Slovenia",{"$f":"VLOOKUP(A274, 'Country names'!$A$5:$C$53,3,FALSE)","v":"SVN"},{"$f":"VLOOKUP(D274,BandList!$A$2:$B$110,2,FALSE)","v":3},"1375-1400 and 1427-1452","X",null,null,null,"X",null,null,null,"X",null,null,25,0,null,"T/R 13-01 Annex B","X",null,null,2,15,33,null,null,"X","candidate band for mobile broadband"]
["Slovenia",{"$f":"VLOOKUP(A275, 'Country names'!$A$5:$C$53,3,FALSE)","v":"SVN"},{"$f":"VLOOKUP(D275,BandList!$A$2:$B$110,2,FALSE)","v":9},"1518-1530","X",null,null,null,"X",null,null,null,"X",null,null,61,0,null,"national plan","X",null,null,1,10,46,"+10%",null,null,"500 kHz analog FM"]
["Slovenia",{"$f":"VLOOKUP(A276, 'Country names'!$A$5:$C$53,3,FALSE)","v":"SVN"},{"$f":"VLOOKUP(D276,BandList!$A$2:$B$110,2,FALSE)","v":16},"3400-3600",null,"X",null,null,null,"X",null,"X",null,"X",null,null,null,10,"ERC/REC 14-03",null,"X"]
["Slovenia",{"$f":"VLOOKUP(A277, 'Country names'!$A$5:$C$53,3,FALSE)","v":"SVN"},{"$f":"VLOOKUP(D277,BandList!$A$2:$B$110,2,FALSE)","v":21},"3800-4200","X",null,null,null,"X",null,null,null,"X",null,null,0,19,null,"ERC/REC 12-08",null,null,"X",27,57,69]
["Slovenia",{"$f":"VLOOKUP(A278, 'Country names'!$A$5:$C$53,3,FALSE)","v":"SVN"},{"$f":"VLOOKUP(D278,BandList!$A$2:$B$110,2,FALSE)","v":28},"5925-6425","X",null,null,null,"X",null,"X","X",null,null,null,0,12,null,"ERC/REC 14-01 ",null,"X","X",10,21,33]
["Slovenia",{"$f":"VLOOKUP(A279, 'Country names'!$A$5:$C$53,3,FALSE)","v":"SVN"},{"$f":"VLOOKUP(D279,BandList!$A$2:$B$110,2,FALSE)","v":34},"6425-7125","X",null,null,null,"X",null,null,"X",null,null,null,0,1,null,"ERC/REC 14-02",null,"X",null,39,39,39]
["Slovenia",{"$f":"VLOOKUP(A280, 'Country names'!$A$5:$C$53,3,FALSE)","v":"SVN"},{"$f":"VLOOKUP(D280,BandList!$A$2:$B$110,2,FALSE)","v":35},"7125-7425","X",null,null,null,"X",null,"X",null,"X",null,null,0,85,null,"ECC REC (02)06",null,null,"X",2,29,72]
["Slovenia",{"$f":"VLOOKUP(A281, 'Country names'!$A$5:$C$53,3,FALSE)","v":"SVN"},{"$f":"VLOOKUP(D281,BandList!$A$2:$B$110,2,FALSE)","v":42},"7425-7725","X",null,null,null,"X",null,"X","X","X",null,null,0,39,null,"ECC REC (02)06",null,"X","X",6,23,53,null,"X"]
["Slovenia",{"$f":"VLOOKUP(A282, 'Country names'!$A$5:$C$53,3,FALSE)","v":"SVN"},{"$f":"VLOOKUP(D282,BandList!$A$2:$B$110,2,FALSE)","v":45},"7725-8275","X",null,null,null,"X",null,null,null,"X",null,null,0,48,null,"ECC REC (02)06",null,null,"X",2,27,50]
["Slovenia",{"$f":"VLOOKUP(A283, 'Country names'!$A$5:$C$53,3,FALSE)","v":"SVN"},{"$f":"VLOOKUP(D283,BandList!$A$2:$B$110,2,FALSE)","v":49},"8275-8500","X",null,null,null,"X",null,"X",null,null,null,null,0,1,null,"ECC REC (02)06",null,null,"X",28,28,28]
["Slovenia",{"$f":"VLOOKUP(A284, 'Country names'!$A$5:$C$53,3,FALSE)","v":"SVN"},{"$f":"VLOOKUP(D284,BandList!$A$2:$B$110,2,FALSE)","v":50},"10000-10680","X",null,null,null,"X",null,null,null,"X","X",null,3,0,null,"ERC/REC 12-05",null,null,"X",4,8,11]
["Slovenia",{"$f":"VLOOKUP(A285, 'Country names'!$A$5:$C$53,3,FALSE)","v":"SVN"},{"$f":"VLOOKUP(D285,BandList!$A$2:$B$110,2,FALSE)","v":50},"10000-10680",null,"X",null,null,null,"X",null,null,null,null,"X",null,null,6,null,null,"X",null,null,null,null,null,null,null,"BWA/MMDS/block assignment for P-P"]
["Slovenia",{"$f":"VLOOKUP(A286, 'Country names'!$A$5:$C$53,3,FALSE)","v":"SVN"},{"$f":"VLOOKUP(D286,BandList!$A$2:$B$110,2,FALSE)","v":54},"10700-11700","X",null,null,null,"X",null,null,null,"X",null,null,0,10,null,"ERC/REC 12-06",null,null,"X",4,12,27]
["Slovenia",{"$f":"VLOOKUP(A287, 'Country names'!$A$5:$C$53,3,FALSE)","v":"SVN"},{"$f":"VLOOKUP(D287,BandList!$A$2:$B$110,2,FALSE)","v":56},"11700-12500",null,"X",null,null,null,"X",null,null,null,null,"X",null,null,30,"national plan",null,"X",null,null,null,null,null,null,null,"MMDS, block of 200MHz"]
["Slovenia",{"$f":"VLOOKUP(A288, 'Country names'!$A$5:$C$53,3,FALSE)","v":"SVN"},{"$f":"VLOOKUP(D288,BandList!$A$2:$B$110,2,FALSE)","v":58},"12750-13250","X",null,null,null,"X",null,"X","X","X","X",null,0,326,null,"ERC/REC 12-02",null,"X","X",1,13,35,"+10%","X"]
["Slovenia",{"$f":"VLOOKUP(A289, 'Country names'!$A$5:$C$53,3,FALSE)","v":"SVN"},{"$f":"VLOOKUP(D289,BandList!$A$2:$B$110,2,FALSE)","v":61},"14500-15350","X",null,null,null,"X",null,"X",null,null,null,null,0,83,null,"ERC/REC 12-07 (and ITU F.636)",null,null,"X",4,13,30,null,null,null,"NATO-NJFA frequency band"]
["Slovenia",{"$f":"VLOOKUP(A290, 'Country names'!$A$5:$C$53,3,FALSE)","v":"SVN"},{"$f":"VLOOKUP(D290,BandList!$A$2:$B$110,2,FALSE)","v":64},"17700-19700","X",null,null,null,"X",null,"X","X","X","X",null,0,459,null,"ERC/REC 12-03",null,"X","X",0.2,8,39,"+10%","X"]
["Slovenia",{"$f":"VLOOKUP(A291, 'Country names'!$A$5:$C$53,3,FALSE)","v":"SVN"},{"$f":"VLOOKUP(D291,BandList!$A$2:$B$110,2,FALSE)","v":68},"22000-22600 and 23000-23600","X",null,null,null,"X",null,"X",null,null,null,null,0,661,null,"T/R 13-02 Annex A.1",null,"X","X",0.3,5,16,"+10%","X"]
["Slovenia",{"$f":"VLOOKUP(A292, 'Country names'!$A$5:$C$53,3,FALSE)","v":"SVN"},{"$f":"VLOOKUP(D292,BandList!$A$2:$B$110,2,FALSE)","v":75},"24500-26500","X",null,null,null,"X",null,"X",null,null,null,null,0,204,null,"T/R 13-02 Annex B",null,"X","X",0.3,4,9,"+10%"]
["Slovenia",{"$f":"VLOOKUP(A293, 'Country names'!$A$5:$C$53,3,FALSE)","v":"SVN"},{"$f":"VLOOKUP(D293,BandList!$A$2:$B$110,2,FALSE)","v":86},"37000-39500","X",null,null,null,"X",null,"X",null,null,null,null,0,504,null,"T/R 12-01",null,"X","X",0.1,2,6,"+10%","X"]
["Slovenia",{"$f":"VLOOKUP(A294, 'Country names'!$A$5:$C$53,3,FALSE)","v":"SVN"},{"$f":"VLOOKUP(D294,BandList!$A$2:$B$110,2,FALSE)","v":104},"71000-76000 and 81000-86000","X",null,null,null,"X",null,"X","X",null,null,null,0,5,null,"ECC/REC/(05)07",null,null,"X",0.5,2,3,"+10%"]
["Turkey",{"$f":"VLOOKUP(A295, 'Country names'!$A$5:$C$53,3,FALSE)","v":"TUR"},{"$f":"VLOOKUP(D295,BandList!$A$2:$B$110,2,FALSE)","v":16},"3400-3600",null,"x",null,null,null,"x",null,"x",null,null,null,null,null,1276,"ERC/REC 14-03"]
["Turkey",{"$f":"VLOOKUP(A296, 'Country names'!$A$5:$C$53,3,FALSE)","v":"TUR"},{"$f":"VLOOKUP(D296,BandList!$A$2:$B$110,2,FALSE)","v":21},"3800-4200","x",null,null,null,null,null,null,null,null,null,null,null,172,null,"ERC/REC 12-08",null,null,null,"<1",33,72]
["Turkey",{"$f":"VLOOKUP(A297, 'Country names'!$A$5:$C$53,3,FALSE)","v":"TUR"},{"$f":"VLOOKUP(D297,BandList!$A$2:$B$110,2,FALSE)","v":29},"5925-7125","x",null,null,null,"x",null,null,null,null,null,null,null,1387,null,"ERC/REC 14-01 and ERC/REC 14-02",null,null,null,"<1",35,96]
["Turkey",{"$f":"VLOOKUP(A298, 'Country names'!$A$5:$C$53,3,FALSE)","v":"TUR"},{"$f":"VLOOKUP(D298,BandList!$A$2:$B$110,2,FALSE)","v":35},"7125-7425","x",null,null,null,"x",null,null,null,null,null,null,null,2231,null,"ECC REC (02)06 Annex 2.1"]
["Turkey",{"$f":"VLOOKUP(A299, 'Country names'!$A$5:$C$53,3,FALSE)","v":"TUR"},{"$f":"VLOOKUP(D299,BandList!$A$2:$B$110,2,FALSE)","v":43},"7425-7900","x",null,null,null,"x",null,null,null,null,null,null,null,3766,null,"ECC REC (02)06 Annex 2.2"]
["Turkey",{"$f":"VLOOKUP(A300, 'Country names'!$A$5:$C$53,3,FALSE)","v":"TUR"},{"$f":"VLOOKUP(D300,BandList!$A$2:$B$110,2,FALSE)","v":48},"7900-8500","x",null,null,null,"x",null,null,null,null,null,null,null,1323,null,"ECC REC (02)06 Annex 2.3"]
["Turkey",{"$f":"VLOOKUP(A301, 'Country names'!$A$5:$C$53,3,FALSE)","v":"TUR"},{"$f":"VLOOKUP(D301,BandList!$A$2:$B$110,2,FALSE)","v":53},"10500-10680",null,"x",null,null,"x",null,null,null,null,null,null,null,5229,null,"ITU-R F.747"]
["Turkey",{"$f":"VLOOKUP(A302, 'Country names'!$A$5:$C$53,3,FALSE)","v":"TUR"},{"$f":"VLOOKUP(D302,BandList!$A$2:$B$110,2,FALSE)","v":60},"14500-14620 and 15230-15350","x",null,null,null,"x",null,null,null,null,null,null,null,87,null,"ITU-R F.636.3",null,null,null,1,7,16]
["Turkey",{"$f":"VLOOKUP(A303, 'Country names'!$A$5:$C$53,3,FALSE)","v":"TUR"},{"$f":"VLOOKUP(D303,BandList!$A$2:$B$110,2,FALSE)","v":60},"14500-14620 and 15230-15350",null,"x",null,null,"x",null,null,null,null,null,null,null,6499,null,"ITU-R F.636.3"]
["Turkey",{"$f":"VLOOKUP(A304, 'Country names'!$A$5:$C$53,3,FALSE)","v":"TUR"},{"$f":"VLOOKUP(D304,BandList!$A$2:$B$110,2,FALSE)","v":64},"17700-19700","x",null,null,null,"x",null,null,null,null,null,null,null,6002,null,"ERC/REC 12-03 Annex A"]
["Turkey",{"$f":"VLOOKUP(A305, 'Country names'!$A$5:$C$53,3,FALSE)","v":"TUR"},{"$f":"VLOOKUP(D305,BandList!$A$2:$B$110,2,FALSE)","v":68},"22000-22600 and 23000-23600","x",null,null,null,"x",null,null,null,null,null,null,null,129,null,"T/R 13-02 Annexes A1",null,null,null,"<1",6.5,11]
["Turkey",{"$f":"VLOOKUP(A306, 'Country names'!$A$5:$C$53,3,FALSE)","v":"TUR"},{"$f":"VLOOKUP(D306,BandList!$A$2:$B$110,2,FALSE)","v":68},"22000-22600 and 23000-23600",null,"x",null,null,"x",null,null,null,null,null,null,null,22714]
["Turkey",{"$f":"VLOOKUP(A307, 'Country names'!$A$5:$C$53,3,FALSE)","v":"TUR"},{"$f":"VLOOKUP(D307,BandList!$A$2:$B$110,2,FALSE)","v":75},"24500-26500","x",null,null,null,"x",null,null,null,null,null,null,null,383,null,"T/R 13-02 Annex B",null,null,null,"<1",3,9]
["Turkey",{"$f":"VLOOKUP(A308, 'Country names'!$A$5:$C$53,3,FALSE)","v":"TUR"},{"$f":"VLOOKUP(D308,BandList!$A$2:$B$110,2,FALSE)","v":75},"24500-26500",null,"x",null,null,"x",null,null,null,null,null,null,null,12068]
["Turkey",{"$f":"VLOOKUP(A309, 'Country names'!$A$5:$C$53,3,FALSE)","v":"TUR"},{"$f":"VLOOKUP(D309,BandList!$A$2:$B$110,2,FALSE)","v":86},"37000-39500","x",null,null,null,"x",null,null,null,null,null,null,null,422,null,"T/R 12-01 Annex A",null,null,null,"<1",1.5,5]
["Turkey",{"$f":"VLOOKUP(A310, 'Country names'!$A$5:$C$53,3,FALSE)","v":"TUR"},{"$f":"VLOOKUP(D310,BandList!$A$2:$B$110,2,FALSE)","v":86},"37000-39500",null,"x",null,null,"x",null,null,null,null,null,null,null,15870]
["Turkey",{"$f":"VLOOKUP(A311, 'Country names'!$A$5:$C$53,3,FALSE)","v":"TUR"},{"$f":"VLOOKUP(D311,BandList!$A$2:$B$110,2,FALSE)","v":104},"71000-76000 and 81000-86000","x",null,null,null,"x",null,null,null,null,null,null,null,581,null,"ECC/REC/(05)07",null,null,null,"<1",1,4]
["Mobitel EAD Bulgaria",{"$f":"VLOOKUP(A312, 'Country names'!$A$5:$C$53,3,FALSE)","v":{"$error":"#N/A"}},{"$f":"VLOOKUP(D312,BandList!$A$2:$B$110,2,FALSE)","v":29},"5925-7125","x",null,null,null,"x",null,"x",null,null,null,null,null,96,null,"ERC/REC 14-01 and ERC/REC 14-02, ECC/REC(14)06",null,null,"x",15.01,25.75,54.03,10]
["Mobitel EAD Bulgaria",{"$f":"VLOOKUP(A313, 'Country names'!$A$5:$C$53,3,FALSE)","v":{"$error":"#N/A"}},{"$f":"VLOOKUP(D313,BandList!$A$2:$B$110,2,FALSE)","v":48},"7900-8500","x",null,null,null,"x",null,"x",null,null,null,null,null,442,null,null,null,"x",null,15.02,21.77,54.37,10]
["Mobitel EAD Bulgaria",{"$f":"VLOOKUP(A314, 'Country names'!$A$5:$C$53,3,FALSE)","v":{"$error":"#N/A"}},{"$f":"VLOOKUP(D314,BandList!$A$2:$B$110,2,FALSE)","v":58},"12750-13250","x",null,null,null,"x",null,"x",null,null,null,null,null,267,null,"ERC/REC 12-02",null,"x",null,6.27,12.62,30.75,20]
["Mobitel EAD Bulgaria",{"$f":"VLOOKUP(A315, 'Country names'!$A$5:$C$53,3,FALSE)","v":{"$error":"#N/A"}},{"$f":"VLOOKUP(D315,BandList!$A$2:$B$110,2,FALSE)","v":64},"17700-19700","x",null,null,null,"x",null,"x",null,null,null,null,null,666,null,"ERC/REC 12-03",null,"x",null,2.97,8.23,21.01,10]
["Mobitel EAD Bulgaria",{"$f":"VLOOKUP(A316, 'Country names'!$A$5:$C$53,3,FALSE)","v":{"$error":"#N/A"}},{"$f":"VLOOKUP(D316,BandList!$A$2:$B$110,2,FALSE)","v":75},"24500-26500","x",null,null,null,"x",null,"x",null,null,null,null,null,474,null,"T/R 13-02 Annex B",null,"x",null,1.98,3.69,15.18,20]
["Mobitel EAD Bulgaria",{"$f":"VLOOKUP(A317, 'Country names'!$A$5:$C$53,3,FALSE)","v":{"$error":"#N/A"}},{"$f":"VLOOKUP(D317,BandList!$A$2:$B$110,2,FALSE)","v":78},"27500-29500","x",null,null,null,"x",null,"x",null,null,null,null,null,440,null,"T/R 13-02 Annex C",null,"x",null,7.0000000000000007E-2,1.9,5.67,10]
["Mobitel EAD Bulgaria",{"$f":"VLOOKUP(A318, 'Country names'!$A$5:$C$53,3,FALSE)","v":{"$error":"#N/A"}},{"$f":"VLOOKUP(D318,BandList!$A$2:$B$110,2,FALSE)","v":86},"37000-39500","x",null,null,null,"x",null,"x",null,null,null,null,null,671,null,"T/R 12-01",null,"x",null,0.04,0.79,2.61,-10]
["Greece",{"$f":"VLOOKUP(A319, 'Country names'!$A$5:$C$53,3,FALSE)","v":"GRC"},{"$f":"VLOOKUP(D319,BandList!$A$2:$B$110,2,FALSE)","v":4},"1437,5-1465,5 and 1486,5-1514,5",null,"X",null,null,null,"X",null,null,null,null,"rural networks",null,null,null,"National Plan",null,null,null,null,null,null,"reduction",null,null,"licenses expire at 2020"]
["Greece",{"$f":"VLOOKUP(A320, 'Country names'!$A$5:$C$53,3,FALSE)","v":"GRC"},{"$f":"VLOOKUP(D320,BandList!$A$2:$B$110,2,FALSE)","v":11},"1700-1709 and 1786-1800","X",null,null,null,null,null,null,null,"X",null,null,192,null,null,"National Plan","X","X",null,"0.7",17,90,"reduction",null,"reallocate the 1785-1800 MHz band for PMSE applications (2014/641/EC)"]
["Greece",{"$f":"VLOOKUP(A321, 'Country names'!$A$5:$C$53,3,FALSE)","v":"GRC"},{"$f":"VLOOKUP(D321,BandList!$A$2:$B$110,2,FALSE)","v":13},"2025-2110 and 2200-2290","X",null,null,null,null,null,null,"X",null,null,null,null,41,null,"T/R 13-01 Annex C","X","X",null,"0.6",22,60,"reduction"]
["Greece",{"$f":"VLOOKUP(A322, 'Country names'!$A$5:$C$53,3,FALSE)","v":"GRC"},{"$f":"VLOOKUP(D322,BandList!$A$2:$B$110,2,FALSE)","v":16},"3400-3600",null,"X",null,null,"X","X",null,null,null,null,null,"1 National Coverage License             (2x30 MHz)","1 National Coverage License             (2x30 MHz)","1 National Coverage License             (2x30 MHz)","ECC/DEC/(11)06",null,null,null,null,null,null,"growth",null,"potential future use of the band for 5G networks"]
["Greece",{"$f":"VLOOKUP(A323, 'Country names'!$A$5:$C$53,3,FALSE)","v":"GRC"},{"$f":"VLOOKUP(D323,BandList!$A$2:$B$110,2,FALSE)","v":21},"3800-4200","Χ",null,null,null,null,null,null,"X",null,null,null,null,144,null,"ERC/REC 12-08",null,"X","Χ",11,64,101,"reduction"]
["Greece",{"$f":"VLOOKUP(A324, 'Country names'!$A$5:$C$53,3,FALSE)","v":"GRC"},{"$f":"VLOOKUP(D324,BandList!$A$2:$B$110,2,FALSE)","v":25},"5725-5795",null,null,"X",null,"X","X",null,null,null,null,null,null,null,25,"ECC/DEC/(06)04",null,null,null,null,null,null,"growth"]
["Greece",{"$f":"VLOOKUP(A325, 'Country names'!$A$5:$C$53,3,FALSE)","v":"GRC"},{"$f":"VLOOKUP(D325,BandList!$A$2:$B$110,2,FALSE)","v":28},"5925-6425","X",null,null,null,null,null,"X","X","X",null,null,7,324,null,"ERC/REC 14-01 ",null,"X","X",7,40,98,"growth"]
["Greece",{"$f":"VLOOKUP(A326, 'Country names'!$A$5:$C$53,3,FALSE)","v":"GRC"},{"$f":"VLOOKUP(D326,BandList!$A$2:$B$110,2,FALSE)","v":33},"6425-7110","X",null,null,null,null,null,"X","X","X",null,null,9,367,null,"ERC/REC 14-02",null,null,"X",7,45,123,"growth"]
["Greece",{"$f":"VLOOKUP(A327, 'Country names'!$A$5:$C$53,3,FALSE)","v":"GRC"},{"$f":"VLOOKUP(D327,BandList!$A$2:$B$110,2,FALSE)","v":35},"7125-7425","X",null,null,null,null,null,null,"X","X",null,null,10,16,null,"ITU-R REC F.385-10","X",null,null,0.5,16,56]
["Greece",{"$f":"VLOOKUP(A328, 'Country names'!$A$5:$C$53,3,FALSE)","v":"GRC"},{"$f":"VLOOKUP(D328,BandList!$A$2:$B$110,2,FALSE)","v":42},"7425-7725","X",null,null,null,null,null,"X","X",null,null,null,null,1057,null,"ECC REC (02)06","X","X","X",0.6,30,98,"stable"]
["Greece",{"$f":"VLOOKUP(A329, 'Country names'!$A$5:$C$53,3,FALSE)","v":"GRC"},{"$f":"VLOOKUP(D329,BandList!$A$2:$B$110,2,FALSE)","v":45},"7725-8275","X",null,null,null,null,null,"X","X",null,null,null,null,1058,null,"ITU-R REC F.386-9",null,"X","X",5,43,102,"reduction"]
["Greece",{"$f":"VLOOKUP(A330, 'Country names'!$A$5:$C$53,3,FALSE)","v":"GRC"},{"$f":"VLOOKUP(D330,BandList!$A$2:$B$110,2,FALSE)","v":49},"8275-8500","X",null,null,null,null,null,"X","X",null,null,null,null,111,null,"ECC REC (02)06","X","X","X",9,35,79,"reduction"]
["Greece",{"$f":"VLOOKUP(A331, 'Country names'!$A$5:$C$53,3,FALSE)","v":"GRC"},{"$f":"VLOOKUP(D331,BandList!$A$2:$B$110,2,FALSE)","v":50},"10000-10680","X",null,null,null,null,null,null,null,"X",null,null,74,null,null,"National Plan","X","X",null,3,14,40,"reduction"]
["Greece",{"$f":"VLOOKUP(A332, 'Country names'!$A$5:$C$53,3,FALSE)","v":"GRC"},{"$f":"VLOOKUP(D332,BandList!$A$2:$B$110,2,FALSE)","v":54},"10700-11700","X",null,null,null,null,null,"X","X",null,null,null,null,934,null,"ERC/REC 12-06",null,null,"X",1.7,19,71,"growth"]
["Greece",{"$f":"VLOOKUP(A333, 'Country names'!$A$5:$C$53,3,FALSE)","v":"GRC"},{"$f":"VLOOKUP(D333,BandList!$A$2:$B$110,2,FALSE)","v":58},"12750-13250","X",null,null,null,null,null,"X","X",null,null,null,null,1408,null,"ERC/REC 12-02","X","X","X",1,17,58,"high growth"]
["Greece",{"$f":"VLOOKUP(A334, 'Country names'!$A$5:$C$53,3,FALSE)","v":"GRC"},{"$f":"VLOOKUP(D334,BandList!$A$2:$B$110,2,FALSE)","v":61},"14500-15350","X",null,null,null,null,null,"X","X",null,null,null,null,2867,null,"National Plan","X","X","X",0.2,14,57,"growth","heavily used"]
["Greece",{"$f":"VLOOKUP(A335, 'Country names'!$A$5:$C$53,3,FALSE)","v":"GRC"},{"$f":"VLOOKUP(D335,BandList!$A$2:$B$110,2,FALSE)","v":64},"17700-19700","X",null,null,null,null,null,"X","X",null,null,null,null,3026,null,"ERC/REC 12-03","X","X","X",0.1,8,40,"growth","heavily used"]
["Greece",{"$f":"VLOOKUP(A336, 'Country names'!$A$5:$C$53,3,FALSE)","v":"GRC"},{"$f":"VLOOKUP(D336,BandList!$A$2:$B$110,2,FALSE)","v":69},"22000-23600","X",null,null,null,null,null,"X","X",null,null,null,null,2086,null,"T/R 13-02 Annex A","X","X","X",0.1,4,15,"growth"]
["Greece",{"$f":"VLOOKUP(A337, 'Country names'!$A$5:$C$53,3,FALSE)","v":"GRC"},{"$f":"VLOOKUP(D337,BandList!$A$2:$B$110,2,FALSE)","v":71},"22600-23000",null,null,null,null,null,null,null,null,"X",null,null,null,null,null,"National Plan"]
["Greece",{"$f":"VLOOKUP(A338, 'Country names'!$A$5:$C$53,3,FALSE)","v":"GRC"},{"$f":"VLOOKUP(D338,BandList!$A$2:$B$110,2,FALSE)","v":72},"24250-24500",null,null,null,null,null,null,null,null,"X",null,null,null,null,null,"National Plan"]
["Greece",{"$f":"VLOOKUP(A339, 'Country names'!$A$5:$C$53,3,FALSE)","v":"GRC"},{"$f":"VLOOKUP(D339,BandList!$A$2:$B$110,2,FALSE)","v":75},"24500-26500",null,"X",null,null,"X","X","X",null,null,null,null,"4 National Coverage Licenses                         (2x56 MHz, 2x56 MHz, 2x56 MHz,            2x112 MHz)","4 National Coverage Licenses                         (2x56 MHz, 2x56 MHz, 2x56 MHz,            2x112 MHz)","4 National Coverage Licenses                         (2x56 MHz, 2x56 MHz, 2x56 MHz,            2x112 MHz)","ERC/REC 13-02",null,null,null,null,null,null,"growth",null,"potential future use of the band for 5G networks"]
["Greece",{"$f":"VLOOKUP(A340, 'Country names'!$A$5:$C$53,3,FALSE)","v":"GRC"},{"$f":"VLOOKUP(D340,BandList!$A$2:$B$110,2,FALSE)","v":78},"27500-29500",null,"X",null,null,"X","X",null,null,null,null,null,"7  Regional Coverage Licenses            ","7  Regional Coverage Licenses            ","7  Regional Coverage Licenses            ","ECC/DEC/(05)01, ECC/REC/(11)01",null,null,null,null,null,null,"growth"]
["Greece",{"$f":"VLOOKUP(A341, 'Country names'!$A$5:$C$53,3,FALSE)","v":"GRC"},{"$f":"VLOOKUP(D341,BandList!$A$2:$B$110,2,FALSE)","v":82},"31800-33400","X",null,null,null,null,null,"X","X",null,null,null,null,28,null,"ERC/REC/(01)02",null,"X","X",0.4,2,5,"growth"]
["Greece",{"$f":"VLOOKUP(A342, 'Country names'!$A$5:$C$53,3,FALSE)","v":"GRC"},{"$f":"VLOOKUP(D342,BandList!$A$2:$B$110,2,FALSE)","v":86},"37000-39500","X",null,null,null,null,null,"X","X",null,null,null,null,1035,null,"T/R 12-01","X","X","X",0.02,1.6,6.8,"growth"]
["Greece",{"$f":"VLOOKUP(A343, 'Country names'!$A$5:$C$53,3,FALSE)","v":"GRC"},{"$f":"VLOOKUP(D343,BandList!$A$2:$B$110,2,FALSE)","v":88},"40500-43500","X",null,null,null,null,null,null,null,null,null,null,null,null,null,"ECC/REC/(01)04",null,null,null,null,null,null,"growth","Allocation of the 41334-42000 paired with 42834-43500  for P-P links. Potential fututre block allocation of the rest of the band","Allocation of the 41334-42000 paired with 42834-43500  for P-P links. Potential fututre block allocation of the rest of the band","Allocation of the 41334-42000 paired with 42834-43500  for P-P links. Potential fututre block allocation of the rest of the band"]
["Greece",{"$f":"VLOOKUP(A344, 'Country names'!$A$5:$C$53,3,FALSE)","v":"GRC"},{"$f":"VLOOKUP(D344,BandList!$A$2:$B$110,2,FALSE)","v":94},"55780-57000","X",null,null,null,null,null,null,null,null,null,null,null,null,null,"ERC/REC 12-12"]
["Greece",{"$f":"VLOOKUP(A345, 'Country names'!$A$5:$C$53,3,FALSE)","v":"GRC"},{"$f":"VLOOKUP(D345,BandList!$A$2:$B$110,2,FALSE)","v":97},"57000-63000","X",null,null,null,null,null,null,null,null,null,null,null,null,null,"ECC/REC/(09)01"]
["Greece",{"$f":"VLOOKUP(A346, 'Country names'!$A$5:$C$53,3,FALSE)","v":"GRC"},{"$f":"VLOOKUP(D346,BandList!$A$2:$B$110,2,FALSE)","v":103},"64000-66000","X",null,null,null,null,null,null,null,null,null,null,null,null,null,"ECC/REC/(05)02"]
["Greece",{"$f":"VLOOKUP(A347, 'Country names'!$A$5:$C$53,3,FALSE)","v":"GRC"},{"$f":"VLOOKUP(D347,BandList!$A$2:$B$110,2,FALSE)","v":104},"71000-76000 and 81000-86000","X",null,null,null,null,null,"X","X",null,null,null,null,191,null,"ECC/REC/(05)07",null,null,"X",0.02,1.3,4,"high growth"]
["UK",{"$f":"VLOOKUP(A348, 'Country names'!$A$5:$C$53,3,FALSE)","v":"G"},{"$f":"VLOOKUP(D348,BandList!$A$2:$B$110,2,FALSE)","v":1},"1350-1375 and 1492-1517","X",null,null,null,"X",null,null,"X","X",null,null,null,820,null,"T/R 13-01 Annex A","X",null,null,null,15]
["UK",{"$f":"VLOOKUP(A349, 'Country names'!$A$5:$C$53,3,FALSE)","v":"G"},{"$f":"VLOOKUP(D349,BandList!$A$2:$B$110,2,FALSE)","v":10},"1672 - 1690",null,null,null,null,"X",null,null,"X",null,null,null,null,2,null,null,"X"]
["UK",{"$f":"VLOOKUP(A350, 'Country names'!$A$5:$C$53,3,FALSE)","v":"G"},{"$f":"VLOOKUP(D350,BandList!$A$2:$B$110,2,FALSE)","v":12},"1900-2690","X",null,null,null,null,null,"X","X",null,null,null,null,3,null,null,"X",null,null,null,8]
["UK",{"$f":"VLOOKUP(A351, 'Country names'!$A$5:$C$53,3,FALSE)","v":"G"},{"$f":"VLOOKUP(D351,BandList!$A$2:$B$110,2,FALSE)","v":17},"3480 – 3500//3580 – 3600; 3605 – 3689//3925 – 4009\n\n\n",null,"X"]
["UK",{"$f":"VLOOKUP(A352, 'Country names'!$A$5:$C$53,3,FALSE)","v":"G"},{"$f":"VLOOKUP(D352,BandList!$A$2:$B$110,2,FALSE)","v":20},"3689-3875//4009-4195","x",null,null,null,"x",null,"X","X","X",null,null,null,65,null,"ERC/REC 12-08 Annex A Part 2",null,null,"X",null,37]
["UK",{"$f":"VLOOKUP(A353, 'Country names'!$A$5:$C$53,3,FALSE)","v":"G"},{"$f":"VLOOKUP(D353,BandList!$A$2:$B$110,2,FALSE)","v":27},"5925 - 6425","X",null,null,null,"X",null,"X","X","X",null,null,31,305,null,"ERC/REC 14-01 ",null,"X","X",null,40]
["UK",{"$f":"VLOOKUP(A354, 'Country names'!$A$5:$C$53,3,FALSE)","v":"G"},{"$f":"VLOOKUP(D354,BandList!$A$2:$B$110,2,FALSE)","v":32},"6425 - 7125 ","X",null,null,null,"X",null,"X","X","X",null,null,23,519,null,"ERC/REC 14-02, ITU-R Rec. F.384",null,"X","X",null,34]
["UK",{"$f":"VLOOKUP(A355, 'Country names'!$A$5:$C$53,3,FALSE)","v":"G"},{"$f":"VLOOKUP(D355,BandList!$A$2:$B$110,2,FALSE)","v":41},"7425 - 7900","X",null,null,null,"X",null,"X","X","X",null,null,51,1097,null,"ITU-R REC. F.385-9 Annex 4","X","X","X",null,32]
["UK",{"$f":"VLOOKUP(A356, 'Country names'!$A$5:$C$53,3,FALSE)","v":"G"},{"$f":"VLOOKUP(D356,BandList!$A$2:$B$110,2,FALSE)","v":51},"10125 – 10205 GHz//10475 – 10555;  10205 – 10225//10555 – 10575",null,"X"]
["UK",{"$f":"VLOOKUP(A357, 'Country names'!$A$5:$C$53,3,FALSE)","v":"G"},{"$f":"VLOOKUP(D357,BandList!$A$2:$B$110,2,FALSE)","v":54},"10700-11700","X",null,null,null,"X",null,null,"X",null,null,null,8,6,null,null,null,null,"X",null,46]
["UK",{"$f":"VLOOKUP(A358, 'Country names'!$A$5:$C$53,3,FALSE)","v":"G"},{"$f":"VLOOKUP(D358,BandList!$A$2:$B$110,2,FALSE)","v":58},"12750-13250","X",null,null,null,"X",null,"X","X","X",null,null,37,3271,null,"ERC/REC 12-02 Annex A","X","X","X",null,19]
["UK",{"$f":"VLOOKUP(A359, 'Country names'!$A$5:$C$53,3,FALSE)","v":"G"},{"$f":"VLOOKUP(D359,BandList!$A$2:$B$110,2,FALSE)","v":59},"14250-14500","X",null,null,null,"X",null,"X","X","X",null,null,2,162,null,null,"X","X",null,null,22]
["UK",{"$f":"VLOOKUP(A360, 'Country names'!$A$5:$C$53,3,FALSE)","v":"G"},{"$f":"VLOOKUP(D360,BandList!$A$2:$B$110,2,FALSE)","v":61},"14500-15350","X",null,null,null,"X",null,"X","X","X",null,null,1,2910,null,"ERC/REC 12-07","X","X","X",null,15]
["UK",{"$f":"VLOOKUP(A361, 'Country names'!$A$5:$C$53,3,FALSE)","v":"G"},{"$f":"VLOOKUP(D361,BandList!$A$2:$B$110,2,FALSE)","v":63},"17300-17700","X",null,null,null,"X",null,null,"X",null,null,null,0,1,null,null,null,null,"X",null,0.5]
["UK",{"$f":"VLOOKUP(A362, 'Country names'!$A$5:$C$53,3,FALSE)","v":"G"},{"$f":"VLOOKUP(D362,BandList!$A$2:$B$110,2,FALSE)","v":64},"17700-19700","X",null,null,null,"X",null,"X","X","X",null,null,9,7629,null,"ERC/REC 12-03, ITU-R Rec. F.595","X","X","X",null,9]
["UK",{"$f":"VLOOKUP(A363, 'Country names'!$A$5:$C$53,3,FALSE)","v":"G"},{"$f":"VLOOKUP(D363,BandList!$A$2:$B$110,2,FALSE)","v":66},"21200-22000","X",null,null,null,"X",null,"X",null,null,null,null,null,220,null,null,"X","X",null,null,5]
["UK",{"$f":"VLOOKUP(A364, 'Country names'!$A$5:$C$53,3,FALSE)","v":"G"},{"$f":"VLOOKUP(D364,BandList!$A$2:$B$110,2,FALSE)","v":69},"22000-23600","X",null,null,null,"X",null,"X","X","X",null,null,11,3797,null,"T/R 13-02 Annexes A","X","X","X",null,8]
["UK",{"$f":"VLOOKUP(A365, 'Country names'!$A$5:$C$53,3,FALSE)","v":"G"},{"$f":"VLOOKUP(D365,BandList!$A$2:$B$110,2,FALSE)","v":75},"24500-26500","X",null,null,null,"X",null,"X","X","X",null,null,0,2889,null,"T/R 13-02 Annex B","X","X","X",null,6]
["UK",{"$f":"VLOOKUP(A366, 'Country names'!$A$5:$C$53,3,FALSE)","v":"G"},{"$f":"VLOOKUP(D366,BandList!$A$2:$B$110,2,FALSE)","v":78},"27500-29500",null,"X"]
["UK",{"$f":"VLOOKUP(A367, 'Country names'!$A$5:$C$53,3,FALSE)","v":"G"},{"$f":"VLOOKUP(D367,BandList!$A$2:$B$110,2,FALSE)","v":81},"31000-31800","X",null,null,null,"X",null,null,"X",null,null,null,null,450,null,"National Plan"]
["UK",{"$f":"VLOOKUP(A368, 'Country names'!$A$5:$C$53,3,FALSE)","v":"G"},{"$f":"VLOOKUP(D368,BandList!$A$2:$B$110,2,FALSE)","v":82},"31800-33400",null,"X"]
["UK",{"$f":"VLOOKUP(A369, 'Country names'!$A$5:$C$53,3,FALSE)","v":"G"},{"$f":"VLOOKUP(D369,BandList!$A$2:$B$110,2,FALSE)","v":86},"37000-39500","X",null,null,null,"X",null,"X","X","X",null,null,1,6091,null,"T/R 12-01","X","X","X",null,3]
["UK",{"$f":"VLOOKUP(A370, 'Country names'!$A$5:$C$53,3,FALSE)","v":"G"},{"$f":"VLOOKUP(D370,BandList!$A$2:$B$110,2,FALSE)","v":88},"40500-43500",null,"X"]
["UK",{"$f":"VLOOKUP(A371, 'Country names'!$A$5:$C$53,3,FALSE)","v":"G"},{"$f":"VLOOKUP(D371,BandList!$A$2:$B$110,2,FALSE)","v":91},"49200 - 50200","X",null,null,null,"X",null,"X",null,null,null,null,0,30,null,null,"X",null,null,null,2]
["UK",{"$f":"VLOOKUP(A372, 'Country names'!$A$5:$C$53,3,FALSE)","v":"G"},{"$f":"VLOOKUP(D372,BandList!$A$2:$B$110,2,FALSE)","v":93},"51400-52600","X",null,null,null,"X",null,null,null,null,null,null,0,0,null,"ERC/REC 12-11"]
["UK",{"$f":"VLOOKUP(A373, 'Country names'!$A$5:$C$53,3,FALSE)","v":"G"},{"$f":"VLOOKUP(D373,BandList!$A$2:$B$110,2,FALSE)","v":94},"55780-57000","X",null,null,null,"X",null,null,null,null,null,null,0,0,null,"ERC/REC 12-12"]
["UK",{"$f":"VLOOKUP(A374, 'Country names'!$A$5:$C$53,3,FALSE)","v":"G"},{"$f":"VLOOKUP(D374,BandList!$A$2:$B$110,2,FALSE)","v":96},"57000-59000",null,null,null,"X",null,null,null,null,null,null,null,null,null,null,"ECC/REC/(09)01"]
["UK",{"$f":"VLOOKUP(A375, 'Country names'!$A$5:$C$53,3,FALSE)","v":"G"},{"$f":"VLOOKUP(D375,BandList!$A$2:$B$110,2,FALSE)","v":101},"59000-64000",null,null,null,"X",null,null,null,null,null,null,null,null,null,null,"ECC/REC/(09)01"]
["UK",{"$f":"VLOOKUP(A376, 'Country names'!$A$5:$C$53,3,FALSE)","v":"G"},{"$f":"VLOOKUP(D376,BandList!$A$2:$B$110,2,FALSE)","v":103},"64000-66000",null,null,"X",null,"X",null,null,null,null,null,null,0,0,null,"no channel plan in the UK"]
["UK",{"$f":"VLOOKUP(A377, 'Country names'!$A$5:$C$53,3,FALSE)","v":"G"},{"$f":"VLOOKUP(D377,BandList!$A$2:$B$110,2,FALSE)","v":106},"71125-73125 and 81125-83125","X",null,null,null,"X",null,"X","X",null,null,null,null,320,null,"ECC/REC/(05)07",null,null,"X",null,1.5]
["UK",{"$f":"VLOOKUP(A378, 'Country names'!$A$5:$C$53,3,FALSE)","v":"G"},{"$f":"VLOOKUP(D378,BandList!$A$2:$B$110,2,FALSE)","v":107},"73375-75875 and 83375-85875",null,null,"X",null,"X",null,null,"X",null,null,"X",null,2400,null,"no channel plan in the UK",null,"X","X",null,4]
["Sweden",{"$f":"VLOOKUP(A379, 'Country names'!$A$5:$C$53,3,FALSE)","v":"S"},{"$f":"VLOOKUP(D379,BandList!$A$2:$B$110,2,FALSE)","v":3},"1375-1400 and 1427-1452","X",null,null,null,null,null,null,"X",null,null,null,42,34,null,"T/R 13-01 Annex B","X",null,null,0.8,11.5,61.4,-100,null,"X"]
["Sweden",{"$f":"VLOOKUP(A380, 'Country names'!$A$5:$C$53,3,FALSE)","v":"S"},{"$f":"VLOOKUP(D380,BandList!$A$2:$B$110,2,FALSE)","v":16},"3400-3600",null,"X",null,null,null,null,null,null,null,null,null,null,"N/A",null,"ERC/REC 14-03"]
["Sweden",{"$f":"VLOOKUP(A381, 'Country names'!$A$5:$C$53,3,FALSE)","v":"S"},{"$f":"VLOOKUP(D381,BandList!$A$2:$B$110,2,FALSE)","v":19},"3600-4200",null,"X",null,null,null,null,null,null,null,null,null,null,"N/A",null,"ERC/REC 12-08",null,null,null,null,null,null,null,null,"?"]
["Sweden",{"$f":"VLOOKUP(A382, 'Country names'!$A$5:$C$53,3,FALSE)","v":"S"},{"$f":"VLOOKUP(D382,BandList!$A$2:$B$110,2,FALSE)","v":29},"5925-7125","X",null,null,null,null,null,null,null,"X",null,null,null,928,null,"ERC/REC 14-01 and ERC/REC 14-02, ECC/REC(14)06",null,null,"X",9.3000000000000007,42.2,85.95,50,null,null,"X"]
["Sweden",{"$f":"VLOOKUP(A383, 'Country names'!$A$5:$C$53,3,FALSE)","v":"S"},{"$f":"VLOOKUP(D383,BandList!$A$2:$B$110,2,FALSE)","v":36},"7125-7750","X",null,null,null,null,null,"X","X","X",null,null,null,509,null,"ECC REC (02)06","X","X","X",4.2,27.7,70.5,25,"X"]
["Sweden",{"$f":"VLOOKUP(A384, 'Country names'!$A$5:$C$53,3,FALSE)","v":"S"},{"$f":"VLOOKUP(D384,BandList!$A$2:$B$110,2,FALSE)","v":48},"7900-8500","X",null,null,null,null,null,"X","X","X",null,null,null,1823,null,"ECC REC (02)06",null,"X","X",5.4,24.8,79.599999999999994,25,"X"]
["Sweden",{"$f":"VLOOKUP(A385, 'Country names'!$A$5:$C$53,3,FALSE)","v":"S"},{"$f":"VLOOKUP(D385,BandList!$A$2:$B$110,2,FALSE)","v":50},"10000-10680",null,"X",null,null,null,null,"X","X",null,null,null,null,"N/A",null,"ERC/REC 12-05"]
["Sweden",{"$f":"VLOOKUP(A386, 'Country names'!$A$5:$C$53,3,FALSE)","v":"S"},{"$f":"VLOOKUP(D386,BandList!$A$2:$B$110,2,FALSE)","v":58},"12750-13250","X",null,null,null,null,null,"X","X","X",null,null,null,1007,null,"ERC/REC 12-02","X","X","X",2.1,17.899999999999999,49.5,0,"X"]
["Sweden",{"$f":"VLOOKUP(A387, 'Country names'!$A$5:$C$53,3,FALSE)","v":"S"},{"$f":"VLOOKUP(D387,BandList!$A$2:$B$110,2,FALSE)","v":60},"14500-14620 and 15230-15350","X",null,null,null,null,null,"X","X","X",null,null,null,3652,null,"National Channel Plan","X","X","X",0.3,14.9,74.900000000000006,0,"X"]
["Sweden",{"$f":"VLOOKUP(A388, 'Country names'!$A$5:$C$53,3,FALSE)","v":"S"},{"$f":"VLOOKUP(D388,BandList!$A$2:$B$110,2,FALSE)","v":64},"17700-19700","X",null,null,null,null,null,"X","X","X",null,null,null,6047,null,"ERC/REC 12-03","X","X","X",0.2,10,43.5,0]
["Sweden",{"$f":"VLOOKUP(A389, 'Country names'!$A$5:$C$53,3,FALSE)","v":"S"},{"$f":"VLOOKUP(D389,BandList!$A$2:$B$110,2,FALSE)","v":68},"22000-22600 and 23000-23600","X",null,null,null,null,null,"X","X",null,null,null,null,1082,null,"T/R 13-02 Annexes A1, A2, A3","X","X","X",0.4,7.8,31.7,-25]
["Sweden",{"$f":"VLOOKUP(A390, 'Country names'!$A$5:$C$53,3,FALSE)","v":"S"},{"$f":"VLOOKUP(D390,BandList!$A$2:$B$110,2,FALSE)","v":75},"24500-26500","X","X",null,null,null,null,null,null,null,null,null,null,3314,null,"T/R 13-02 Annex B","X","X","X",0,6.4,46.3,-25]
["Sweden",{"$f":"VLOOKUP(A391, 'Country names'!$A$5:$C$53,3,FALSE)","v":"S"},{"$f":"VLOOKUP(D391,BandList!$A$2:$B$110,2,FALSE)","v":78},"27500-29500",null,"X",null,null,null,null,null,null,null,null,null,null,"N/A",null,"T/R 13-02 Annex C"]
["Sweden",{"$f":"VLOOKUP(A392, 'Country names'!$A$5:$C$53,3,FALSE)","v":"S"},{"$f":"VLOOKUP(D392,BandList!$A$2:$B$110,2,FALSE)","v":82},"31800-33400","X",null,null,null,null,null,null,null,null,null,null,null,2137,null,"ERC/REC/(01)02","X","X","X",0,2.2000000000000002,11.1,-25]
["Sweden",{"$f":"VLOOKUP(A393, 'Country names'!$A$5:$C$53,3,FALSE)","v":"S"},{"$f":"VLOOKUP(D393,BandList!$A$2:$B$110,2,FALSE)","v":86},"37000-39500","X",null,null,null,null,null,null,null,null,null,null,null,3542,null,"T/R 12-01","X","X","X",0,2,10,-25]
["Sweden",{"$f":"VLOOKUP(A394, 'Country names'!$A$5:$C$53,3,FALSE)","v":"S"},{"$f":"VLOOKUP(D394,BandList!$A$2:$B$110,2,FALSE)","v":96},"57000-59000",null,null,null,"X",null,null,null,null,null,null,null,null,null,null,"ECC/REC/(09)01"]
["Sweden",{"$f":"VLOOKUP(A395, 'Country names'!$A$5:$C$53,3,FALSE)","v":"S"},{"$f":"VLOOKUP(D395,BandList!$A$2:$B$110,2,FALSE)","v":101},"59000-64000",null,null,null,"X",null,null,null,null,null,null,null,null,null,null,"ECC/REC/(09)01"]
["Sweden",{"$f":"VLOOKUP(A396, 'Country names'!$A$5:$C$53,3,FALSE)","v":"S"},{"$f":"VLOOKUP(D396,BandList!$A$2:$B$110,2,FALSE)","v":103},"64000-66000",null,null,null,"X",null,null,null,null,null,null,null,null,null,null,"ECC/REC/(05)02"]
["Sweden",{"$f":"VLOOKUP(A397, 'Country names'!$A$5:$C$53,3,FALSE)","v":"S"},{"$f":"VLOOKUP(D397,BandList!$A$2:$B$110,2,FALSE)","v":104},"71000-76000 and 81000-86000","X",null,null,null,null,null,null,null,null,null,null,null,4,null,"ECC/REC/(05)07",null,null,"X",0,2,2.9,100]
["Germany",{"$f":"VLOOKUP(A398, 'Country names'!$A$5:$C$53,3,FALSE)","v":"D"},{"$f":"VLOOKUP(D398,BandList!$A$2:$B$110,2,FALSE)","v":16},"3400-3600",null,"x",null,null,null,"x",null,null,null,null,null,null,null,840,"ERC/REC 14-03",null,"x","x",null,null,null,null,null,"x"]
["Germany",{"$f":"VLOOKUP(A399, 'Country names'!$A$5:$C$53,3,FALSE)","v":"D"},{"$f":"VLOOKUP(D399,BandList!$A$2:$B$110,2,FALSE)","v":19},"3600-4200",null,"x",null,null,null,"x",null,null,null,null,null,null,null,110,"ERC/REC 12-08",null,"x","x",null,null,null,null,null,"x"]
["Germany",{"$f":"VLOOKUP(A400, 'Country names'!$A$5:$C$53,3,FALSE)","v":"D"},{"$f":"VLOOKUP(D400,BandList!$A$2:$B$110,2,FALSE)","v":19},"3600-4200","x",null,null,null,"x",null,null,null,null,null,null,null,90,null,null,null,null,"x",20,42,65,"-"]
["Germany",{"$f":"VLOOKUP(A401, 'Country names'!$A$5:$C$53,3,FALSE)","v":"D"},{"$f":"VLOOKUP(D401,BandList!$A$2:$B$110,2,FALSE)","v":29},"5925-7125","x",null,null,null,"x",null,null,null,null,null,null,null,3500,null,"ERC/REC 14-01 and ERC/REC 14-02, ECC/REC(14)06",null,"x","x",15,40,67,null,"x"]
["Germany",{"$f":"VLOOKUP(A402, 'Country names'!$A$5:$C$53,3,FALSE)","v":"D"},{"$f":"VLOOKUP(D402,BandList!$A$2:$B$110,2,FALSE)","v":36},"7125-7750","x",null,null,null,"x",null,null,null,null,null,null,null,4430,null,"ECC REC (02)06",null,"x","x",15,28,90,null,"x"]
["Germany",{"$f":"VLOOKUP(A403, 'Country names'!$A$5:$C$53,3,FALSE)","v":"D"},{"$f":"VLOOKUP(D403,BandList!$A$2:$B$110,2,FALSE)","v":58},"12750-13250","x",null,null,null,"x",null,null,null,null,null,null,null,9370,null,"ERC/REC 12-02",null,null,"x",7.5,12,49,null,"x"]
["Germany",{"$f":"VLOOKUP(A404, 'Country names'!$A$5:$C$53,3,FALSE)","v":"D"},{"$f":"VLOOKUP(D404,BandList!$A$2:$B$110,2,FALSE)","v":60},"14500-14620 and 15230-15350","x",null,null,null,"x",null,null,null,null,null,null,null,6200,null,"ERC/REC 12-07",null,"x","x",5,14,55,null,"x"]
["Germany",{"$f":"VLOOKUP(A405, 'Country names'!$A$5:$C$53,3,FALSE)","v":"D"},{"$f":"VLOOKUP(D405,BandList!$A$2:$B$110,2,FALSE)","v":64},"17700-19700","x",null,null,null,"x",null,null,null,null,null,null,null,20220,null,"ERC/REC 12-03",null,null,"x",4,9,38,"+"]
["Germany",{"$f":"VLOOKUP(A406, 'Country names'!$A$5:$C$53,3,FALSE)","v":"D"},{"$f":"VLOOKUP(D406,BandList!$A$2:$B$110,2,FALSE)","v":68},"22000-22600 and 23000-23600","x",null,null,null,"x",null,null,null,null,null,null,null,18650,null,"T/R 13-02 Annexes A1, A2, A3",null,"x","x",4,8,51]
["Germany",{"$f":"VLOOKUP(A407, 'Country names'!$A$5:$C$53,3,FALSE)","v":"D"},{"$f":"VLOOKUP(D407,BandList!$A$2:$B$110,2,FALSE)","v":75},"24500-26500","x",null,null,null,"x",null,null,null,null,null,null,null,18620,null,"T/R 13-02 Annex B",null,"x","x",2,4,11,null,"x"]
["Germany",{"$f":"VLOOKUP(A408, 'Country names'!$A$5:$C$53,3,FALSE)","v":"D"},{"$f":"VLOOKUP(D408,BandList!$A$2:$B$110,2,FALSE)","v":75},"24500-26500","x",null,null,null,null,"x",null,null,null,null,null,null,null,2600]
["Germany",{"$f":"VLOOKUP(A409, 'Country names'!$A$5:$C$53,3,FALSE)","v":"D"},{"$f":"VLOOKUP(D409,BandList!$A$2:$B$110,2,FALSE)","v":78},"27500-29500","x",null,null,null,"x",null,null,null,null,null,null,null,1900,null,"T/R 13-02 Annex C",null,"x","x",2,3,13,"+"]
["Germany",{"$f":"VLOOKUP(A410, 'Country names'!$A$5:$C$53,3,FALSE)","v":"D"},{"$f":"VLOOKUP(D410,BandList!$A$2:$B$110,2,FALSE)","v":78},"27500-29500"," ","x",null,null,null,"x",null,null,null,null,null,null,null,80]
["Germany",{"$f":"VLOOKUP(A411, 'Country names'!$A$5:$C$53,3,FALSE)","v":"D"},{"$f":"VLOOKUP(D411,BandList!$A$2:$B$110,2,FALSE)","v":82},"31800-33400","x",null,null,null,"x",null,null,null,null,null,null,null,9110,null,"ERC/REC/(01)02",null,"x","x",1,2,7,"+"]
["Germany",{"$f":"VLOOKUP(A412, 'Country names'!$A$5:$C$53,3,FALSE)","v":"D"},{"$f":"VLOOKUP(D412,BandList!$A$2:$B$110,2,FALSE)","v":86},"37000-39500","x",null,null,null,"x",null,null,null,null,null,null,null,30750,null,"T/R 12-01",null,"x","x",1,2,13,"+"]
["Germany",{"$f":"VLOOKUP(A413, 'Country names'!$A$5:$C$53,3,FALSE)","v":"D"},{"$f":"VLOOKUP(D413,BandList!$A$2:$B$110,2,FALSE)","v":88},"40500-43500","x",null,null,null,"x",null,null,null,null,null,null,null,3020,null,"ECC/REC/(01)04",null,null,"x",null,null,null,"+"]
["Germany",{"$f":"VLOOKUP(A414, 'Country names'!$A$5:$C$53,3,FALSE)","v":"D"},{"$f":"VLOOKUP(D414,BandList!$A$2:$B$110,2,FALSE)","v":93},"51400-52600","x",null,null,null,"x",null,null,null,null,null,null,null,0,null,"ERC/REC 12-11"]
["Germany",{"$f":"VLOOKUP(A415, 'Country names'!$A$5:$C$53,3,FALSE)","v":"D"},{"$f":"VLOOKUP(D415,BandList!$A$2:$B$110,2,FALSE)","v":96},"57000-59000",null,null,null,"x","x",null,null,null,null,null,null,null,null,null,"ECC/REC/(09)01"]
["Germany",{"$f":"VLOOKUP(A416, 'Country names'!$A$5:$C$53,3,FALSE)","v":"D"},{"$f":"VLOOKUP(D416,BandList!$A$2:$B$110,2,FALSE)","v":101},"59000-64000",null,null,null,"x","x",null,null,null,null,null,null,null,null,null,"ECC/REC/(09)01"]
["Germany",{"$f":"VLOOKUP(A417, 'Country names'!$A$5:$C$53,3,FALSE)","v":"D"},{"$f":"VLOOKUP(D417,BandList!$A$2:$B$110,2,FALSE)","v":104},"71000-76000 and 81000-86000","x",null,null,null,"x",null,null,null,null,null,null,null,510,null,"ECC/REC/(05)07",null,null,"x"]
["Russia",{"$f":"VLOOKUP(A418, 'Country names'!$A$5:$C$53,3,FALSE)","v":"RUS"},{"$f":"VLOOKUP(D418,BandList!$A$2:$B$110,2,FALSE)","v":15},"2400-2483.5","X",null,null,"X","X","X",null,null,null,null,"X\nTelecom operators, industrial process communications",null,8922,4108,null,"X","X","X",0.05,20,70,null,null,null,"Increase of use in P-P FWA networks (TDD). Increase of use in P-MP FWA networks (TDD)of small telecom operators' networks.\n"]
["Russia",{"$f":"VLOOKUP(A419, 'Country names'!$A$5:$C$53,3,FALSE)","v":"RUS"},{"$f":"VLOOKUP(D419,BandList!$A$2:$B$110,2,FALSE)","v":16},"3400-3600","X",null,null,null,"X","X",null,null,"X",null,"WiMAX","under 0.1%",200,4000,"For RRLs - National Plan","X","X",null,20,50,80,null,null,null,"Use in telecom operators' infrastructure, broadcasting infrastructure, and industrial process communications. The number of RRL station is expected to decrease because the frequency band 3400-3600 MHz has been identified for IMT. "]
["Russia",{"$f":"VLOOKUP(A420, 'Country names'!$A$5:$C$53,3,FALSE)","v":"RUS"},{"$f":"VLOOKUP(D420,BandList!$A$2:$B$110,2,FALSE)","v":19},"3600-4200","X",null,null,null,"X",null,"X","X","X",null,"X\nTelecom operators, industrial process communications",null,400,null,"For RRLs - ITU-R Rec.\nF.635\nF.382","X","X","X",20,50,80,null,null,null,"Increase of  use in long-distance multi-hop links in mobile backhaul, broadcasting and telecom operators' infrastructure, and for industrial process communications."]
["Russia",{"$f":"VLOOKUP(A421, 'Country names'!$A$5:$C$53,3,FALSE)","v":"RUS"},{"$f":"VLOOKUP(D421,BandList!$A$2:$B$110,2,FALSE)","v":22},"4400-5000","X",null,null,null,"X",null,null,"X",null,null,"X\nTelecom operators, industrial process communications",null,310,null," ITU-R Rec. F.1099\nF.746",null,null,"X",10,45,80,null,null,null,"Use in telecom operators' infrastructure and industrial process communications. \nThe increase of the total number of RRLs is expected to stop becuase the frequency band 4800-4990 MHz has been identified for IMT. "]
["Russia",{"$f":"VLOOKUP(A422, 'Country names'!$A$5:$C$53,3,FALSE)","v":"RUS"},{"$f":"VLOOKUP(D422,BandList!$A$2:$B$110,2,FALSE)","v":23},"5150-5350","Х",null,null,null,"Х","Х",null,null,null,null,"X\nTelecom operators, industrial process communications",null,1282,5419,null,"X","X","X",0.5,20,30,null,null,null,"Increase of  use in P-P FWA networks (TDD).\nIncrease of  use in P-MP FWA networks (TDD) in small telecom operators' networks."]
["Russia",{"$f":"VLOOKUP(A423, 'Country names'!$A$5:$C$53,3,FALSE)","v":"RUS"},{"$f":"VLOOKUP(D423,BandList!$A$2:$B$110,2,FALSE)","v":24},"5650-5850","Х",null,null,null,"Х","Х",null,null,null,null,"X\nTelecom operators, industrial process communications",null,2258,3802,"For RRLs - National Plan","X","X","X",0.05,20,32,null,null,null,"Increase of  use in P-P FWA networks (TDD).\nIncrease of  use in P-MP FWA networks (TDD) in small telecom operators' networks."]
["Russia",{"$f":"VLOOKUP(A424, 'Country names'!$A$5:$C$53,3,FALSE)","v":"RUS"},{"$f":"VLOOKUP(D424,BandList!$A$2:$B$110,2,FALSE)","v":26},"5850-5925","X",null,null,null,"X","X",null,null,null,null,"X\nTelecom operators, industrial process communications",null,800,1150,"For RRLs - National Plan","X","X","X",1,10,40,null,null,null,"Increase of  use in P-P FWA networks (TDD).\nIncrease of  use in P-MP FWA networks (TDD) in small telecom operators' networks."]
["Russia",{"$f":"VLOOKUP(A425, 'Country names'!$A$5:$C$53,3,FALSE)","v":"RUS"},{"$f":"VLOOKUP(D425,BandList!$A$2:$B$110,2,FALSE)","v":28},"5925-6425","X",null,null,null,"X","X","X",null,null,null,"X\nTelecom operators, industrial process communications",null,4500,5300,"Для РРЛ- ITU-R Rec. F.383","X","X","X",1,10,50,null,null,null,"Increase of use in P-P FWA networks (TDD).\nIncrease of use in P-MP FWA networks (TDD) in small telecom operators' networks.\nModerate use in mobile backhaul (outside major populated areas), in telecom operators' infrastructure, and for industrial process communications.\n"]
["Russia",{"$f":"VLOOKUP(A426, 'Country names'!$A$5:$C$53,3,FALSE)","v":"RUS"},{"$f":"VLOOKUP(D426,BandList!$A$2:$B$110,2,FALSE)","v":34},"6425-7125","X",null,null,null,"X",null,"X","X",null,null,"X\nTelecom operators, industrial process communications",null,1050,null,"ITU-R Rec. F.384",null,null,"X",5,40,70,null,null,null,"Increase of use in long-distance multi-hop links in mobile backhaul, telecom operators' infrastructure, and for industrial process communications. "]
["Russia",{"$f":"VLOOKUP(A427, 'Country names'!$A$5:$C$53,3,FALSE)","v":"RUS"},{"$f":"VLOOKUP(D427,BandList!$A$2:$B$110,2,FALSE)","v":40},"7250-7550","X",null,null,null,"X",null,"X","X","X",null,"X\nTelecom operators, industrial process communications",null,10890,null,"ITU-R Rec. F.385","X","X","X",1,35,65,null,null,null,"Increase of use, most of all in mobile backhaul (outside major populated areas) and in telecom operators' infrastructure and in industrial process communications."]
["Russia",{"$f":"VLOOKUP(A428, 'Country names'!$A$5:$C$53,3,FALSE)","v":"RUS"},{"$f":"VLOOKUP(D428,BandList!$A$2:$B$110,2,FALSE)","v":47},"7900-8400","X",null,null,null,"X",null,"X","X","X",null,"X\nTelecom operators, industrial process communications",null,11540,null,"ITU-R Rec. F.386","X","X","X",1,35,65,null,null,null,"Increase of use, most of all in mobile backhaul (outside major populated areas) and in telecom operators' infrastructure and in industrial process communications."]
["Russia",{"$f":"VLOOKUP(A429, 'Country names'!$A$5:$C$53,3,FALSE)","v":"RUS"},{"$f":"VLOOKUP(D429,BandList!$A$2:$B$110,2,FALSE)","v":50},"10000-10680","X",null,null,null,"X","X",null,null,null,null,"X\nTelecom operators",null,230,600,"For RRLs - ITU-R Rec. \nF.747,\nfor FWA - ITU-R Rec. F.1568, СЕPТ/ERC/REC 12-05Е","X","X","X",1,25,45,null,null,null,"Use in existing telecom operators' communications networks."]
["Russia",{"$f":"VLOOKUP(A430, 'Country names'!$A$5:$C$53,3,FALSE)","v":"RUS"},{"$f":"VLOOKUP(D430,BandList!$A$2:$B$110,2,FALSE)","v":54},"10700-11700","X",null,null,null,"X",null,"X","X","X",null,"X\nTelecom operators, industrial process communications","under 0.1%",1440,null,"ITU-R Rec. F.387","X","X","X",1,25,45,null,null,null,"Increase of use, most of all in mobile backhaul (outside major populated areas) and in telecom operators' infrastructure and in industrial process communications."]
["Russia",{"$f":"VLOOKUP(A431, 'Country names'!$A$5:$C$53,3,FALSE)","v":"RUS"},{"$f":"VLOOKUP(D431,BandList!$A$2:$B$110,2,FALSE)","v":58},"12750-13250","X",null,null,null,"X",null,"X","X","X",null,"X\nTelecom operators, industrial process communications","under 0.1%",23800,null,"ITU-R Rec. F.497","X","X","X",1,20,35,null,null,null,"Increase of use, most of all in mobile backhaul (outside major populated areas) and in telecom operators' infrastructure and in industrial process communications."]
["Russia",{"$f":"VLOOKUP(A432, 'Country names'!$A$5:$C$53,3,FALSE)","v":"RUS"},{"$f":"VLOOKUP(D432,BandList!$A$2:$B$110,2,FALSE)","v":59},"14250-14500","X",null,null,null,"X",null,null,null,"X",null,"X\nTelecom operators, industrial process communications",null,30,null,"ITU-R Rec. F.636","X","X",null,1,15,30,null,null,null,"Used for industrial process communications until the frequency licenses expire. \nNo new networks are built."]
["Russia",{"$f":"VLOOKUP(A433, 'Country names'!$A$5:$C$53,3,FALSE)","v":"RUS"},{"$f":"VLOOKUP(D433,BandList!$A$2:$B$110,2,FALSE)","v":61},"14500-15350","X",null,null,null,"X",null,"X","X","X",null,"X\nTelecom operators, industrial process communications","under 0.1%",23940,null,"ITU-R Rec. F.636","X","X","X",1,15,30,null,null,null,"Increase of use, most of all in mobile backhaul (outside major populated areas) and in telecom operators' infrastructure and in industrial process communications."]
["Russia",{"$f":"VLOOKUP(A434, 'Country names'!$A$5:$C$53,3,FALSE)","v":"RUS"},{"$f":"VLOOKUP(D434,BandList!$A$2:$B$110,2,FALSE)","v":64},"17700-19700","X",null,null,null,"X",null,"X","X","X",null,"X\nTelecom operators, industrial process communications","under 0.1%",41070,null,"ITU-R Rec. F.595","X","X","X",1,5,20,null,null,null,"Increase of use, most of all in mobile backhaul and in telecom operators' infrastructure and in industrial process communications."]
["Russia",{"$f":"VLOOKUP(A435, 'Country names'!$A$5:$C$53,3,FALSE)","v":"RUS"},{"$f":"VLOOKUP(D435,BandList!$A$2:$B$110,2,FALSE)","v":67},"21200-23600","X",null,null,null,"X",null,"X","X",null,null,"X\nTelecom operators, industrial process communications",null,29200,null,"ITU-R Rec. F.637","X","X","X",1,3,15,null,null,null,"Increase of use, most of all in mobile backhaul and in telecom operators' infrastructure."]
["Russia",{"$f":"VLOOKUP(A436, 'Country names'!$A$5:$C$53,3,FALSE)","v":"RUS"},{"$f":"VLOOKUP(D436,BandList!$A$2:$B$110,2,FALSE)","v":73},"24250-29500","X",null,null,null,"X","X","X","X",null,null,"X\nTelecom operators",null,350,330,"For RRLs - ITU-R Rec. F.748","X","X","X",1,3,10,null,null,null,"Minor increase of use in mobile backhaul and in telecom operators' infrastructure."]
["Russia",{"$f":"VLOOKUP(A437, 'Country names'!$A$5:$C$53,3,FALSE)","v":"RUS"},{"$f":"VLOOKUP(D437,BandList!$A$2:$B$110,2,FALSE)","v":86},"37000-39500","X",null,null,null,"X",null,"X","X",null,null,"X\nTelecom operators, industrial process communications","under 0.1%",26520,null,"ITU-R Rec. F.749","X","X","X",1,2,5,null,null,null,"Increase of use, most of all in mobile backhaul and in telecom operators' infrastructure and in industrial process communications."]
["Russia",{"$f":"VLOOKUP(A438, 'Country names'!$A$5:$C$53,3,FALSE)","v":"RUS"},{"$f":"VLOOKUP(D438,BandList!$A$2:$B$110,2,FALSE)","v":88},"40500-43500","X",null,null,null,"X","X",null,"X",null,null,"X\nTelecom operators, industrial process communications",null,160,16,"ITU-R Rec. F.2005",null,null,"X",0.1,3,6,null,null,null,"Use in existing telecom operators' communications networks."]
["Russia",{"$f":"VLOOKUP(A439, 'Country names'!$A$5:$C$53,3,FALSE)","v":"RUS"},{"$f":"VLOOKUP(D439,BandList!$A$2:$B$110,2,FALSE)","v":98},"57200-58200","X",null,null,null,"X",null,"X",null,null,null,null,0,220,null,"ITU-R Rec. F.1497","X","X",null,0.1,1,2,null,null,null,"Minor increase of use in mobile backhaul."]
["Russia",{"$f":"VLOOKUP(A440, 'Country names'!$A$5:$C$53,3,FALSE)","v":"RUS"},{"$f":"VLOOKUP(D440,BandList!$A$2:$B$110,2,FALSE)","v":99},"58250-63250",null,null,null,"X","X",null,null,null,null,null,null,null,null,null,"National Plan (59.5 GHz;\n62 GHz)",null,null,"X",0.1,1,2]
["Russia",{"$f":"VLOOKUP(A441, 'Country names'!$A$5:$C$53,3,FALSE)","v":"RUS"},{"$f":"VLOOKUP(D441,BandList!$A$2:$B$110,2,FALSE)","v":105},"71000-76000/81000-86000",null,null,null,"X","X",null,"X","X",null,null,"X\nTelecom operators",0,"> 1000",null,"ITU-R Rec. F.2006",null,null,"X",0.1,0.5,1,null,null,null,"Increase of use, most of all in mobile backhaul and in telecom operators' infrastructure."]
["Russia",{"$f":"VLOOKUP(A442, 'Country names'!$A$5:$C$53,3,FALSE)","v":"RUS"},{"$f":"VLOOKUP(D442,BandList!$A$2:$B$110,2,FALSE)","v":109},"92000-95000",null,null,null,"X","X",null,null,null,null,null,null,null,null,null,"ITU-R Rec. F.2004",null,null,"X",0.1,0.5,1]
["Bosnia and Herzegovina",{"$f":"VLOOKUP(A443, 'Country names'!$A$5:$C$53,3,FALSE)","v":"BIH"},{"$f":"VLOOKUP(D443,BandList!$A$2:$B$110,2,FALSE)","v":1},"1350-1375 and 1492-1517","X",null,null,null,"X",null,null,null,"X",null,null,53,null,null,"T/R 13-01 Annex A","X",null,null,4,30,70]
["Bosnia and Herzegovina",{"$f":"VLOOKUP(A444, 'Country names'!$A$5:$C$53,3,FALSE)","v":"BIH"},{"$f":"VLOOKUP(D444,BandList!$A$2:$B$110,2,FALSE)","v":3},"1375-1400 and 1427-1452","X",null,null,null,"X",null,null,null,"X",null,null,5,null,null,"T/R 13-01 Annex B","X",null,null,0.4,25,70]
["Bosnia and Herzegovina",{"$f":"VLOOKUP(A445, 'Country names'!$A$5:$C$53,3,FALSE)","v":"BIH"},{"$f":"VLOOKUP(D445,BandList!$A$2:$B$110,2,FALSE)","v":13},"2025-2110 and 2200-2290","X",null,null,null,"X",null,null,null,"X",null,null,25,null,null,"T/R 13-01 Annex C","X","X",null,2,18,55]
["Bosnia and Herzegovina",{"$f":"VLOOKUP(A446, 'Country names'!$A$5:$C$53,3,FALSE)","v":"BIH"},{"$f":"VLOOKUP(D446,BandList!$A$2:$B$110,2,FALSE)","v":16},"3400-3600","X",null,null,null,"X",null,null,null,"X",null,null,10,1,null,"ERC/REC 14-03",null,"X","X",2,35,140,null,null,"X"]
["Bosnia and Herzegovina",{"$f":"VLOOKUP(A447, 'Country names'!$A$5:$C$53,3,FALSE)","v":"BIH"},{"$f":"VLOOKUP(D447,BandList!$A$2:$B$110,2,FALSE)","v":19},"3600-4200","X",null,null,null,"X",null,null,null,"X",null,null,27,28,null,"ERC/REC 12-08",null,null,"X",9,60,99,"+50"]
["Bosnia and Herzegovina",{"$f":"VLOOKUP(A448, 'Country names'!$A$5:$C$53,3,FALSE)","v":"BIH"},{"$f":"VLOOKUP(D448,BandList!$A$2:$B$110,2,FALSE)","v":29},"5925-7125","X",null,null,null,"X",null,null,"X",null,null,null,5,216,null,"ERC/REC 14-01 and ERC/REC 14-02, ECC/REC(14)06",null,null,"X",2,58,140]
["Bosnia and Herzegovina",{"$f":"VLOOKUP(A449, 'Country names'!$A$5:$C$53,3,FALSE)","v":"BIH"},{"$f":"VLOOKUP(D449,BandList!$A$2:$B$110,2,FALSE)","v":36},"7125-7750","X",null,null,null,"X",null,null,"X",null,null,null,12,144,null,"ECC REC (02)06",null,null,"X",4,30,53,"+5"]
["Bosnia and Herzegovina",{"$f":"VLOOKUP(A450, 'Country names'!$A$5:$C$53,3,FALSE)","v":"BIH"},{"$f":"VLOOKUP(D450,BandList!$A$2:$B$110,2,FALSE)","v":46},"7750-7900","X",null,null,null,"X",null,"X","X",null,null,null,40,156,null,"ECC REC (02)06",null,null,"X",3,50,80,"+8"]
["Bosnia and Herzegovina",{"$f":"VLOOKUP(A451, 'Country names'!$A$5:$C$53,3,FALSE)","v":"BIH"},{"$f":"VLOOKUP(D451,BandList!$A$2:$B$110,2,FALSE)","v":48},"7900-8500",null,null,null,null,null,null,null,null,null,null,null,null,null,null,"ECC REC (02)06",null,null,null,null,null,null,null,null,null,"NOTE!"]
["Bosnia and Herzegovina",{"$f":"VLOOKUP(A452, 'Country names'!$A$5:$C$53,3,FALSE)","v":"BIH"},{"$f":"VLOOKUP(D452,BandList!$A$2:$B$110,2,FALSE)","v":50},"10000-10680","X",null,null,null,"X",null,null,null,"X",null,null,87,null,null,"ERC/REC 12-05","X","X",null,0.3,25,99,"+10"]
["Bosnia and Herzegovina",{"$f":"VLOOKUP(A453, 'Country names'!$A$5:$C$53,3,FALSE)","v":"BIH"},{"$f":"VLOOKUP(D453,BandList!$A$2:$B$110,2,FALSE)","v":54},"10700-11700","X",null,null,null,"X",null,null,"X","X",null,null,34,116,null,"ERC/REC 12-06",null,"X","X",0.6,25,65,"-5"]
["Bosnia and Herzegovina",{"$f":"VLOOKUP(A454, 'Country names'!$A$5:$C$53,3,FALSE)","v":"BIH"},{"$f":"VLOOKUP(D454,BandList!$A$2:$B$110,2,FALSE)","v":56},"11700-12500",null,"X",null,null,null,"X",null,null,null,null,null,null,null,72]
["Bosnia and Herzegovina",{"$f":"VLOOKUP(A455, 'Country names'!$A$5:$C$53,3,FALSE)","v":"BIH"},{"$f":"VLOOKUP(D455,BandList!$A$2:$B$110,2,FALSE)","v":58},"12750-13250","X",null,null,null,"X",null,"X","X",null,null,null,null,120,null,"ERC/REC 12-02","X","X","X",1,23,57,"+10"]
["Bosnia and Herzegovina",{"$f":"VLOOKUP(A456, 'Country names'!$A$5:$C$53,3,FALSE)","v":"BIH"},{"$f":"VLOOKUP(D456,BandList!$A$2:$B$110,2,FALSE)","v":60},"14500-14620 and 15230-15350","X",null,null,null,"X",null,"X","X",null,null,null,null,290,null,"ERC/REC 12-07","X","X","X",0.4,15,48,"+3"]
["Bosnia and Herzegovina",{"$f":"VLOOKUP(A457, 'Country names'!$A$5:$C$53,3,FALSE)","v":"BIH"},{"$f":"VLOOKUP(D457,BandList!$A$2:$B$110,2,FALSE)","v":64},"17700-19700","X",null,null,null,"X",null,"X",null,null,null,null,null,808,null,"ERC/REC 12-03","X","X","X",0.3,10,34,"+10"]
["Bosnia and Herzegovina",{"$f":"VLOOKUP(A458, 'Country names'!$A$5:$C$53,3,FALSE)","v":"BIH"},{"$f":"VLOOKUP(D458,BandList!$A$2:$B$110,2,FALSE)","v":68},"22000-22600 and 23000-23600","X",null,null,null,"X",null,"X",null,null,null,null,null,701,null,"T/R 13-02 Annexes A1, A2, A3","X","X","X",0.15,7,30,"+10"]
["Bosnia and Herzegovina",{"$f":"VLOOKUP(A459, 'Country names'!$A$5:$C$53,3,FALSE)","v":"BIH"},{"$f":"VLOOKUP(D459,BandList!$A$2:$B$110,2,FALSE)","v":75},"24500-26500","X","X",null,null,"X","X","X","X",null,null,null,null,148,0,"T/R 13-02 Annex B","X","X","X",0.2,4,13]
["Bosnia and Herzegovina",{"$f":"VLOOKUP(A460, 'Country names'!$A$5:$C$53,3,FALSE)","v":"BIH"},{"$f":"VLOOKUP(D460,BandList!$A$2:$B$110,2,FALSE)","v":78},"27500-29500","X","X",null,null,"X","X","X","X",null,null,null,null,0,0,"T/R 13-02 Annex C"]
["Bosnia and Herzegovina",{"$f":"VLOOKUP(A461, 'Country names'!$A$5:$C$53,3,FALSE)","v":"BIH"},{"$f":"VLOOKUP(D461,BandList!$A$2:$B$110,2,FALSE)","v":80},"31000-31300","X",null,null,null,"X",null,null,null,null,null,null,null,0,null,"ECC/REC/(02)02"]
["Bosnia and Herzegovina",{"$f":"VLOOKUP(A462, 'Country names'!$A$5:$C$53,3,FALSE)","v":"BIH"},{"$f":"VLOOKUP(D462,BandList!$A$2:$B$110,2,FALSE)","v":82},"31800-33400","X",null,null,null,"X",null,null,null,null,null,null,null,0,null,"ERC/REC/(01)02"]
["Bosnia and Herzegovina",{"$f":"VLOOKUP(A463, 'Country names'!$A$5:$C$53,3,FALSE)","v":"BIH"},{"$f":"VLOOKUP(D463,BandList!$A$2:$B$110,2,FALSE)","v":86},"37000-39500","X",null,null,null,"X",null,"X",null,null,null,null,null,12,null,"T/R 12-01","X","X","X",0.2,1.5,5]
["Bosnia and Herzegovina",{"$f":"VLOOKUP(A464, 'Country names'!$A$5:$C$53,3,FALSE)","v":"BIH"},{"$f":"VLOOKUP(D464,BandList!$A$2:$B$110,2,FALSE)","v":88},"40500-43500","X",null,null,null,"X",null,null,null,null,null,null,null,0,null,"ECC/REC/(01)04"]
["Bosnia and Herzegovina",{"$f":"VLOOKUP(A465, 'Country names'!$A$5:$C$53,3,FALSE)","v":"BIH"},{"$f":"VLOOKUP(D465,BandList!$A$2:$B$110,2,FALSE)","v":90},"48500-50200","X",null,null,null,"X",null,null,null,null,null,null,null,0,null,"ERC/REC 12-10"]
["Bosnia and Herzegovina",{"$f":"VLOOKUP(A466, 'Country names'!$A$5:$C$53,3,FALSE)","v":"BIH"},{"$f":"VLOOKUP(D466,BandList!$A$2:$B$110,2,FALSE)","v":93},"51400-52600","X",null,null,null,"X",null,null,null,null,null,null,null,null,null,"ERC/REC 12-11"]
["Bosnia and Herzegovina",{"$f":"VLOOKUP(A467, 'Country names'!$A$5:$C$53,3,FALSE)","v":"BIH"},{"$f":"VLOOKUP(D467,BandList!$A$2:$B$110,2,FALSE)","v":94},"55780-57000","X",null,null,null,"X",null,null,null,null,null,null,null,0,null,"ERC/REC 12-12"]
["Bosnia and Herzegovina",{"$f":"VLOOKUP(A468, 'Country names'!$A$5:$C$53,3,FALSE)","v":"BIH"},{"$f":"VLOOKUP(D468,BandList!$A$2:$B$110,2,FALSE)","v":96},"57000-59000","X",null,null,null,"X",null,null,null,null,null,null,null,0,null,"ECC/REC/(09)01"]
["Bosnia and Herzegovina",{"$f":"VLOOKUP(A469, 'Country names'!$A$5:$C$53,3,FALSE)","v":"BIH"},{"$f":"VLOOKUP(D469,BandList!$A$2:$B$110,2,FALSE)","v":103},"64000-66000","X",null,null,null,"X",null,null,null,null,null,null,null,0,null,"ECC/REC/(05)02"]
["Bosnia and Herzegovina",{"$f":"VLOOKUP(A470, 'Country names'!$A$5:$C$53,3,FALSE)","v":"BIH"},{"$f":"VLOOKUP(D470,BandList!$A$2:$B$110,2,FALSE)","v":104},"71000-76000 and 81000-86000","X",null,null,null,"X",null,null,null,null,null,null,null,0,null,"ECC/REC/(05)07"]
["Slovak Republic",{"$f":"VLOOKUP(A471, 'Country names'!$A$5:$C$53,3,FALSE)","v":"SVK"},{"$f":"VLOOKUP(D471,BandList!$A$2:$B$110,2,FALSE)","v":1},"1350-1375 and 1492-1517",null,null,null,null,null,null,null,null,null,null,null,null,null,null,null,null,null,null,null,null,null,null,null,null,"SDL"]
["Slovak Republic",{"$f":"VLOOKUP(A472, 'Country names'!$A$5:$C$53,3,FALSE)","v":"SVK"},{"$f":"VLOOKUP(D472,BandList!$A$2:$B$110,2,FALSE)","v":3},"1375-1400 and 1427-1452",null,null,null,null,null,null,null,null,null,null,null,null,null,null,null,null,null,null,null,null,null,null,null,null,"SDL"]
["Slovak Republic",{"$f":"VLOOKUP(A473, 'Country names'!$A$5:$C$53,3,FALSE)","v":"SVK"},{"$f":"VLOOKUP(D473,BandList!$A$2:$B$110,2,FALSE)","v":16},"3400-3600",null,"X",null,null,null,"X",null,null,null,null,null,null,null,450,"ERC/REC 14-03",null,"X"]
["Slovak Republic",{"$f":"VLOOKUP(A474, 'Country names'!$A$5:$C$53,3,FALSE)","v":"SVK"},{"$f":"VLOOKUP(D474,BandList!$A$2:$B$110,2,FALSE)","v":19},"3600-4200",null,"X",null,null,null,"X",null,null,null,null,null,null,null,668,"ERC/REC 12-08",null,"X"]
["Slovak Republic",{"$f":"VLOOKUP(A475, 'Country names'!$A$5:$C$53,3,FALSE)","v":"SVK"},{"$f":"VLOOKUP(D475,BandList!$A$2:$B$110,2,FALSE)","v":29},"5925-7125","X",null,null,null,"X",null,"X",null,null,null,null,null,null,70,"ERC/REC 14-01 and ERC/REC 14-02, ECC/REC(14)06",null,null,"X",8,25,54.6,5]
["Slovak Republic",{"$f":"VLOOKUP(A476, 'Country names'!$A$5:$C$53,3,FALSE)","v":"SVK"},{"$f":"VLOOKUP(D476,BandList!$A$2:$B$110,2,FALSE)","v":36},"7125-7750","X",null,null,null,"X",null,null,null,null,null,null,null,97,null,"ECC REC (02)06","X","X","X",13.2,25,59.3,30]
["Slovak Republic",{"$f":"VLOOKUP(A477, 'Country names'!$A$5:$C$53,3,FALSE)","v":"SVK"},{"$f":"VLOOKUP(D477,BandList!$A$2:$B$110,2,FALSE)","v":46},"7750-7900","X",null,null,null,"X",null,null,null,null,null,null,null,23,null,"ccir rec 385-6","X","X",null,11.45,25,55.2,40]
["Slovak Republic",{"$f":"VLOOKUP(A478, 'Country names'!$A$5:$C$53,3,FALSE)","v":"SVK"},{"$f":"VLOOKUP(D478,BandList!$A$2:$B$110,2,FALSE)","v":50},"10000-10680","X","X",null,null,"X","X",null,"X",null,null,null,4,54,184,"ERC/REC 12-05","X","X",null,0.4,5,13.2,25]
["Slovak Republic",{"$f":"VLOOKUP(A479, 'Country names'!$A$5:$C$53,3,FALSE)","v":"SVK"},{"$f":"VLOOKUP(D479,BandList!$A$2:$B$110,2,FALSE)","v":54},"10700-11700","X",null,null,null,"X",null,null,"X",null,null,null,null,187,null,"ERC/REC 12-06",null,"X","X",5,13,38.5,20]
["Slovak Republic",{"$f":"VLOOKUP(A480, 'Country names'!$A$5:$C$53,3,FALSE)","v":"SVK"},{"$f":"VLOOKUP(D480,BandList!$A$2:$B$110,2,FALSE)","v":58},"12750-13250","X",null,null,null,"X",null,null,null,null,null,null,null,523,null,"ERC/REC 12-02","X","X","X",3,10,44,5]
["Slovak Republic",{"$f":"VLOOKUP(A481, 'Country names'!$A$5:$C$53,3,FALSE)","v":"SVK"},{"$f":"VLOOKUP(D481,BandList!$A$2:$B$110,2,FALSE)","v":60},"14500-14620 and 15230-15350","X",null,null,null,"X",null,null,null,null,null,null,null,203,null,"ERC/REC 12-07","X","X",null,6,15,48,5]
["Slovak Republic",{"$f":"VLOOKUP(A482, 'Country names'!$A$5:$C$53,3,FALSE)","v":"SVK"},{"$f":"VLOOKUP(D482,BandList!$A$2:$B$110,2,FALSE)","v":64},"17700-19700","x",null,null,null,"x",null,null,null,null,null,null,null,2330,null,null,"x","x","x",4,15,38,10]
["Slovak Republic",{"$f":"VLOOKUP(A483, 'Country names'!$A$5:$C$53,3,FALSE)","v":"SVK"},{"$f":"VLOOKUP(D483,BandList!$A$2:$B$110,2,FALSE)","v":68},"22000-22600 and 23000-23600","X",null,null,null,"X",null,"X",null,null,null,null,null,1183,null,"T/R 13-02 Annexes A1, A2, A3","X","X","X",0.5,5,16,5]
["Slovak Republic",{"$f":"VLOOKUP(A484, 'Country names'!$A$5:$C$53,3,FALSE)","v":"SVK"},{"$f":"VLOOKUP(D484,BandList!$A$2:$B$110,2,FALSE)","v":75},"24500-26500","X","X",null,null,"X","X","X","X",null,null,null,null,1998,15,"T/R 13-02 Annex B","x","x","x",0.04,1.5,8,20]
["Slovak Republic",{"$f":"VLOOKUP(A485, 'Country names'!$A$5:$C$53,3,FALSE)","v":"SVK"},{"$f":"VLOOKUP(D485,BandList!$A$2:$B$110,2,FALSE)","v":78},"27500-29500","x",null,null,null,"x","x",null,null,null,null,null,null,244,null,"ECC/DEC/(05)01","x","x","x",0.05,1.2,4.2,15]
["Slovak Republic",{"$f":"VLOOKUP(A486, 'Country names'!$A$5:$C$53,3,FALSE)","v":"SVK"},{"$f":"VLOOKUP(D486,BandList!$A$2:$B$110,2,FALSE)","v":82},"31800-33400","x",null,null,null,"x",null,null,null,null,null,null,null,397,null,"ERC/REC/(01)02",null,"x","x",0.13,1,5.0999999999999996,20]
["Slovak Republic",{"$f":"VLOOKUP(A487, 'Country names'!$A$5:$C$53,3,FALSE)","v":"SVK"},{"$f":"VLOOKUP(D487,BandList!$A$2:$B$110,2,FALSE)","v":86},"37000-39500","x",null,null,null,"x",null,null,null,null,null,null,null,1775,null,"T/R 12-01","x","x","x",0.05,2,7,10]
["Slovak Republic",{"$f":"VLOOKUP(A488, 'Country names'!$A$5:$C$53,3,FALSE)","v":"SVK"},{"$f":"VLOOKUP(D488,BandList!$A$2:$B$110,2,FALSE)","v":88},"40500-43500",null,null,null,null,null,null,null,null,null,null,null,null,null,null,"ECC/REC/(01)04",null,null,null,null,null,null,null,null,null,"operation "]
["Slovak Republic",{"$f":"VLOOKUP(A489, 'Country names'!$A$5:$C$53,3,FALSE)","v":"SVK"},{"$f":"VLOOKUP(D489,BandList!$A$2:$B$110,2,FALSE)","v":88},"40500-43500",null,null,null,null,null,null,null,null,null,null,null,null,null,null,null,null,null,null,null,null,null,null,null,null,"expected"]
["France",{"$f":"VLOOKUP(A490, 'Country names'!$A$5:$C$53,3,FALSE)","v":"F"},{"$f":"VLOOKUP(D490,BandList!$A$2:$B$110,2,FALSE)","v":3},"1375-1400 and 1427-1452","X",null,null,null,"X",null,null,"X",null,null,null,null,1827,null,"T/R 13-01 Annex B","X",null,null,0.08,20.5,152,null,null,null,"Due to the results of WRC-15, the future use of this band is currently under consideration."]
["France",{"$f":"VLOOKUP(A491, 'Country names'!$A$5:$C$53,3,FALSE)","v":"F"},{"$f":"VLOOKUP(D491,BandList!$A$2:$B$110,2,FALSE)","v":3},"1375-1400 and 1427-1452","X",null,null,null,null,null,null,null,null,null,null,28,null,null,null,"X",null,null,null,7]
["France",{"$f":"VLOOKUP(A492, 'Country names'!$A$5:$C$53,3,FALSE)","v":"F"},{"$f":"VLOOKUP(D492,BandList!$A$2:$B$110,2,FALSE)","v":16},"3400-3600","X",null,null,null,"X",null,"X",null,null,null,null,84,null,null,"ERC/REC 14-03",null,null,null,null,null,null,null,null,"X"]
["France",{"$f":"VLOOKUP(A493, 'Country names'!$A$5:$C$53,3,FALSE)","v":"F"},{"$f":"VLOOKUP(D493,BandList!$A$2:$B$110,2,FALSE)","v":29},"5925-7125","X",null,null,null,"X",null,"X","X",null,null,null,null,4171,null,"ERC/REC 14-01 and ERC/REC 14-02, ECC/REC(14)06",null,"X","X",2,29,109,null,"X"]
["France",{"$f":"VLOOKUP(A494, 'Country names'!$A$5:$C$53,3,FALSE)","v":"F"},{"$f":"VLOOKUP(D494,BandList!$A$2:$B$110,2,FALSE)","v":48},"7900-8500","X",null,null,null,"X",null,"X","X","X",null,null,null,2331,null,"ECC REC (02)06","X","X","X",0.15,18,81]
["France",{"$f":"VLOOKUP(A495, 'Country names'!$A$5:$C$53,3,FALSE)","v":"F"},{"$f":"VLOOKUP(D495,BandList!$A$2:$B$110,2,FALSE)","v":54},"10700-11700","X",null,null,null,"X",null,"X",null,null,null,null,null,3276,null,"ERC/REC 12-06",null,"X","X",1.45,13,54,null,"X"]
["France",{"$f":"VLOOKUP(A496, 'Country names'!$A$5:$C$53,3,FALSE)","v":"F"},{"$f":"VLOOKUP(D496,BandList!$A$2:$B$110,2,FALSE)","v":58},"12750-13250","X",null,null,null,"X",null,"X","X",null,null,null,null,9004,null,"ERC/REC 12-02","X","X","X",0.31,14.12,79.430000000000007,null,"X"]
["France",{"$f":"VLOOKUP(A497, 'Country names'!$A$5:$C$53,3,FALSE)","v":"F"},{"$f":"VLOOKUP(D497,BandList!$A$2:$B$110,2,FALSE)","v":59},"14250-14500","X",null,null,null,"X",null,null,null,null,null,null,null,141,null,null,null,null,null,1.3,12,35,null,null,null,"Decrease of number of links - No new license delivered"]
["France",{"$f":"VLOOKUP(A498, 'Country names'!$A$5:$C$53,3,FALSE)","v":"F"},{"$f":"VLOOKUP(D498,BandList!$A$2:$B$110,2,FALSE)","v":64},"17700-19700","X",null,null,null,"X",null,"X","X",null,null,null,null,9272,null,"ERC/REC 12-03","X","X","X",0.11,7.98,76]
["France",{"$f":"VLOOKUP(A499, 'Country names'!$A$5:$C$53,3,FALSE)","v":"F"},{"$f":"VLOOKUP(D499,BandList!$A$2:$B$110,2,FALSE)","v":68},"22000-22600 and 23000-23600","X",null,null,null,"X",null,null,null,null,null,null,null,12745,null,"T/R13-02","X","X","X",0.12,6.63,30.43,null,"X",null,"New regulation put in place in 2013 in order to offer more capacity to backhaul needs with higher bandwidth"]
["France",{"$f":"VLOOKUP(A500, 'Country names'!$A$5:$C$53,3,FALSE)","v":"F"},{"$f":"VLOOKUP(D500,BandList!$A$2:$B$110,2,FALSE)","v":71},"22600-23000","X",null,null,null,null,null,null,null,null,null,null,null,8,null,null,null,"X",null,null,8]
["France",{"$f":"VLOOKUP(A501, 'Country names'!$A$5:$C$53,3,FALSE)","v":"F"},{"$f":"VLOOKUP(D501,BandList!$A$2:$B$110,2,FALSE)","v":75},"24500-26500","X",null,null,null,"X",null,"X",null,null,null,null,null,3984,null,"T/R 13-02 Annex B",null,"X","X",0.06,3.47,15.42,null,null,null,"New regulation put in place in 2013 in order to offer more capacity to backhaul needs with higher bandwidth"]
["France",{"$f":"VLOOKUP(A502, 'Country names'!$A$5:$C$53,3,FALSE)","v":"F"},{"$f":"VLOOKUP(D502,BandList!$A$2:$B$110,2,FALSE)","v":82},"31800-33400","X",null,null,null,"X",null,"X",null,null,null,null,null,530,null,"ERC/REC/(01)02",null,"X","X",0.28999999999999998,2.71,8]
["France",{"$f":"VLOOKUP(A503, 'Country names'!$A$5:$C$53,3,FALSE)","v":"F"},{"$f":"VLOOKUP(D503,BandList!$A$2:$B$110,2,FALSE)","v":86},"37000-39500","X",null,null,null,"X",null,"X",null,null,null,null,null,7079,null,"T/R 12-01","X","X","X",0.04,2.48,11.39,7.0000000000000007E-2,"X",null,"New regulation put in place in 2013 in order to offer more capacity to backhaul needs with higher bandwidth"]
["France",{"$f":"VLOOKUP(A504, 'Country names'!$A$5:$C$53,3,FALSE)","v":"F"},{"$f":"VLOOKUP(D504,BandList!$A$2:$B$110,2,FALSE)","v":104},"71000-76000 and 81000-86000","X",null,null,null,"X",null,"X",null,null,null,null,null,537,null,"ECC/REC/(05)07",null,null,"X",0.1,1.94,7.2,0.5]
["Telenor Bulgaria",{"$f":"VLOOKUP(A505, 'Country names'!$A$5:$C$53,3,FALSE)","v":{"$error":"#N/A"}},{"$f":"VLOOKUP(D505,BandList!$A$2:$B$110,2,FALSE)","v":29},"5925-7125","X",null,null,null,"X",null,"X",null,null,null,null,null,7,null,"ERC/REC 14-01 and ERC/REC 14-02, ECC/REC(14)06",null,null,"X",25,40,58]
["Telenor Bulgaria",{"$f":"VLOOKUP(A506, 'Country names'!$A$5:$C$53,3,FALSE)","v":{"$error":"#N/A"}},{"$f":"VLOOKUP(D506,BandList!$A$2:$B$110,2,FALSE)","v":36},"7125-7750","X",null,null,null,"X",null,"X",null,null,null,null,null,111,null,"ECC REC (02)06",null,null,"X",20,35,45]
["Telenor Bulgaria",{"$f":"VLOOKUP(A507, 'Country names'!$A$5:$C$53,3,FALSE)","v":{"$error":"#N/A"}},{"$f":"VLOOKUP(D507,BandList!$A$2:$B$110,2,FALSE)","v":54},"10700-11700","X",null,null,null,"X",null,"X",null,null,null,null,null,33,null,"ERC/REC 12-06",null,null,"X",9,18,33]
["Telenor Bulgaria",{"$f":"VLOOKUP(A508, 'Country names'!$A$5:$C$53,3,FALSE)","v":{"$error":"#N/A"}},{"$f":"VLOOKUP(D508,BandList!$A$2:$B$110,2,FALSE)","v":58},"12750-13250","X",null,null,null,"X",null,"X",null,null,null,null,null,86,null,"ERC/REC 12-02",null,null,"X",9,19,31]
["Telenor Bulgaria",{"$f":"VLOOKUP(A509, 'Country names'!$A$5:$C$53,3,FALSE)","v":{"$error":"#N/A"}},{"$f":"VLOOKUP(D509,BandList!$A$2:$B$110,2,FALSE)","v":64},"17700-19700","X",null,null,null,"X",null,"X",null,null,null,null,null,779,null,"ERC/REC 12-03",null,null,"X",5.14,12,26.5,null,"X"]
["Telenor Bulgaria",{"$f":"VLOOKUP(A510, 'Country names'!$A$5:$C$53,3,FALSE)","v":{"$error":"#N/A"}},{"$f":"VLOOKUP(D510,BandList!$A$2:$B$110,2,FALSE)","v":68},"22000-22600 and 23000-23600","X",null,null,null,"X",null,"X",null,null,null,null,null,224,null,"T/R 13-02 Annexes A1, A2, A3",null,null,"X",2.2999999999999998,5,21.3]
["Telenor Bulgaria",{"$f":"VLOOKUP(A511, 'Country names'!$A$5:$C$53,3,FALSE)","v":{"$error":"#N/A"}},{"$f":"VLOOKUP(D511,BandList!$A$2:$B$110,2,FALSE)","v":75},"24500-26500",null,"X",null,null,"X",null,"X",null,null,null,null,null,727,null,"T/R 13-02 Annex B",null,null,"X",0.1,3.5,12]
["Telenor Bulgaria",{"$f":"VLOOKUP(A512, 'Country names'!$A$5:$C$53,3,FALSE)","v":{"$error":"#N/A"}},{"$f":"VLOOKUP(D512,BandList!$A$2:$B$110,2,FALSE)","v":78},"27500-29500","X",null,null,null,"X",null,"X",null,null,null,null,null,79,null,"T/R 13-02 Annex C",null,null,"X",0.28000000000000003,2.2999999999999998,10]
["Telenor Bulgaria",{"$f":"VLOOKUP(A513, 'Country names'!$A$5:$C$53,3,FALSE)","v":{"$error":"#N/A"}},{"$f":"VLOOKUP(D513,BandList!$A$2:$B$110,2,FALSE)","v":86},"37000-39500","X",null,null,null,"X",null,"X",null,null,null,null,null,309,null,"T/R 12-01",null,null,"X",0.03,1.3,5.14]
["Estonia",{"$f":"VLOOKUP(A514, 'Country names'!$A$5:$C$53,3,FALSE)","v":"EST"},{"$f":"VLOOKUP(D514,BandList!$A$2:$B$110,2,FALSE)","v":1},"1350-1375 and 1492-1517","x",null,null,null,"x",null,null,null,null,null,null,null,null,null,"T/R 13-01 Annex A"]
["Estonia",{"$f":"VLOOKUP(A515, 'Country names'!$A$5:$C$53,3,FALSE)","v":"EST"},{"$f":"VLOOKUP(D515,BandList!$A$2:$B$110,2,FALSE)","v":1},"1350-1375 and 1492-1517","not in use"]
["Estonia",{"$f":"VLOOKUP(A516, 'Country names'!$A$5:$C$53,3,FALSE)","v":"EST"},{"$f":"VLOOKUP(D516,BandList!$A$2:$B$110,2,FALSE)","v":3},"1375-1400 and 1427-1452","x",null,null,null,"x",null,null,null,null,null,null,null,null,null,"T/R 13-01 Annex B"]
["Estonia",{"$f":"VLOOKUP(A517, 'Country names'!$A$5:$C$53,3,FALSE)","v":"EST"},{"$f":"VLOOKUP(D517,BandList!$A$2:$B$110,2,FALSE)","v":3},"1375-1400 and 1427-1452","not in use"]
["Estonia",{"$f":"VLOOKUP(A518, 'Country names'!$A$5:$C$53,3,FALSE)","v":"EST"},{"$f":"VLOOKUP(D518,BandList!$A$2:$B$110,2,FALSE)","v":13},"2025-2110 and 2200-2290","x",null,null,null,"x",null,null,null,"x",null,null,4,null,null,"T/R 13-01 Annex C","x","x",null,"SAP/SAB"]
["Estonia",{"$f":"VLOOKUP(A519, 'Country names'!$A$5:$C$53,3,FALSE)","v":"EST"},{"$f":"VLOOKUP(D519,BandList!$A$2:$B$110,2,FALSE)","v":16},"3400-3600",null,"x",null,null,null,"x",null,"x",null,null,null,null,null,"no info","ERC/REC 14-03"]
["Estonia",{"$f":"VLOOKUP(A520, 'Country names'!$A$5:$C$53,3,FALSE)","v":"EST"},{"$f":"VLOOKUP(D520,BandList!$A$2:$B$110,2,FALSE)","v":19},"3600-4200",null,"x",null,null,null,"x",null,"x",null,null,null,null,null,"no info","ERC/REC 12-08"]
["Estonia",{"$f":"VLOOKUP(A521, 'Country names'!$A$5:$C$53,3,FALSE)","v":"EST"},{"$f":"VLOOKUP(D521,BandList!$A$2:$B$110,2,FALSE)","v":22},"4400-5000","x"]
["Estonia",{"$f":"VLOOKUP(A522, 'Country names'!$A$5:$C$53,3,FALSE)","v":"EST"},{"$f":"VLOOKUP(D522,BandList!$A$2:$B$110,2,FALSE)","v":26},"5850-5925",null,"x"]
["Estonia",{"$f":"VLOOKUP(A523, 'Country names'!$A$5:$C$53,3,FALSE)","v":"EST"},{"$f":"VLOOKUP(D523,BandList!$A$2:$B$110,2,FALSE)","v":26},"5850-5925","not in use",null,null,null,null,"x"]
["Estonia",{"$f":"VLOOKUP(A524, 'Country names'!$A$5:$C$53,3,FALSE)","v":"EST"},{"$f":"VLOOKUP(D524,BandList!$A$2:$B$110,2,FALSE)","v":29},"5925-7125","x",null,null,null,"x",null,"x",null,null,null,null,5,null,null,"ERC/REC 14-01 and ERC/REC 14-02, ECC/REC(14)06",null,"x",null,null,80]
["Estonia",{"$f":"VLOOKUP(A525, 'Country names'!$A$5:$C$53,3,FALSE)","v":"EST"},{"$f":"VLOOKUP(D525,BandList!$A$2:$B$110,2,FALSE)","v":36},"7125-7750","x",null,null,null,"x",null,"x",null,null,null,null,43,null,null,"ECC REC (02)06",null,"x",null,10,30,55]
["Estonia",{"$f":"VLOOKUP(A526, 'Country names'!$A$5:$C$53,3,FALSE)","v":"EST"},{"$f":"VLOOKUP(D526,BandList!$A$2:$B$110,2,FALSE)","v":46},"7750-7900","x",null,null,null,"x"]
["Estonia",{"$f":"VLOOKUP(A527, 'Country names'!$A$5:$C$53,3,FALSE)","v":"EST"},{"$f":"VLOOKUP(D527,BandList!$A$2:$B$110,2,FALSE)","v":48},"7900-8500","x",null,null,null,"x",null,"x",null,null,null,null,22,null,null,"ECC REC (02)06",null,"x",null,7,28,47]
["Estonia",{"$f":"VLOOKUP(A528, 'Country names'!$A$5:$C$53,3,FALSE)","v":"EST"},{"$f":"VLOOKUP(D528,BandList!$A$2:$B$110,2,FALSE)","v":50},"10000-10680","not in use",null,null,null,null,null,null,null,null,null,null,null,null,null,"ERC/REC 12-05"]
["Estonia",{"$f":"VLOOKUP(A529, 'Country names'!$A$5:$C$53,3,FALSE)","v":"EST"},{"$f":"VLOOKUP(D529,BandList!$A$2:$B$110,2,FALSE)","v":54},"10700-11700","not in use",null,null,null,null,null,null,null,null,null,null,null,null,null,"ERC/REC 12-06"]
["Estonia",{"$f":"VLOOKUP(A530, 'Country names'!$A$5:$C$53,3,FALSE)","v":"EST"},{"$f":"VLOOKUP(D530,BandList!$A$2:$B$110,2,FALSE)","v":56},"11700-12500","not in use"]
["Estonia",{"$f":"VLOOKUP(A531, 'Country names'!$A$5:$C$53,3,FALSE)","v":"EST"},{"$f":"VLOOKUP(D531,BandList!$A$2:$B$110,2,FALSE)","v":58},"12750-13250","x",null,null,null,"x",null,"x",null,null,null,null,null,null,null,"ERC/REC 12-02"]
["Estonia",{"$f":"VLOOKUP(A532, 'Country names'!$A$5:$C$53,3,FALSE)","v":"EST"},{"$f":"VLOOKUP(D532,BandList!$A$2:$B$110,2,FALSE)","v":59},"14250-14500","not in use"]
["Estonia",{"$f":"VLOOKUP(A533, 'Country names'!$A$5:$C$53,3,FALSE)","v":"EST"},{"$f":"VLOOKUP(D533,BandList!$A$2:$B$110,2,FALSE)","v":60},"14500-14620 and 15230-15350","x",null,null,null,"x",null,"x",null,null,null,null,360,null,null,"ERC/REC 12-07","x","x",null,2,20,32]
["Estonia",{"$f":"VLOOKUP(A534, 'Country names'!$A$5:$C$53,3,FALSE)","v":"EST"},{"$f":"VLOOKUP(D534,BandList!$A$2:$B$110,2,FALSE)","v":63},"17300-17700","not in use"]
["Estonia",{"$f":"VLOOKUP(A535, 'Country names'!$A$5:$C$53,3,FALSE)","v":"EST"},{"$f":"VLOOKUP(D535,BandList!$A$2:$B$110,2,FALSE)","v":64},"17700-19700","x",null,null,null,"x",null,"x",null,null,null,null,535,null,null,"ERC/REC 12-03","x","x",null,2,null,38]
["Estonia",{"$f":"VLOOKUP(A536, 'Country names'!$A$5:$C$53,3,FALSE)","v":"EST"},{"$f":"VLOOKUP(D536,BandList!$A$2:$B$110,2,FALSE)","v":66},"21200-22000","not in use"]
["Estonia",{"$f":"VLOOKUP(A537, 'Country names'!$A$5:$C$53,3,FALSE)","v":"EST"},{"$f":"VLOOKUP(D537,BandList!$A$2:$B$110,2,FALSE)","v":68},"22000-22600 and 23000-23600","x",null,null,null,"x",null,"x",null,null,null,null,550,null,null,"T/R 13-02 Annexes A1, A2, A3","x","x",null,0.5,null,21]
["Estonia",{"$f":"VLOOKUP(A538, 'Country names'!$A$5:$C$53,3,FALSE)","v":"EST"},{"$f":"VLOOKUP(D538,BandList!$A$2:$B$110,2,FALSE)","v":71},"22600-23000","not in use"]
["Estonia",{"$f":"VLOOKUP(A539, 'Country names'!$A$5:$C$53,3,FALSE)","v":"EST"},{"$f":"VLOOKUP(D539,BandList!$A$2:$B$110,2,FALSE)","v":72},"24250-24500","not in use"]
["Estonia",{"$f":"VLOOKUP(A540, 'Country names'!$A$5:$C$53,3,FALSE)","v":"EST"},{"$f":"VLOOKUP(D540,BandList!$A$2:$B$110,2,FALSE)","v":75},"24500-26500","x",null,null,null,"x",null,"x",null,null,null,null,17,null,null,"T/R 13-02 Annex B",null,"x",null,0.5,3,8]
["Estonia",{"$f":"VLOOKUP(A541, 'Country names'!$A$5:$C$53,3,FALSE)","v":"EST"},{"$f":"VLOOKUP(D541,BandList!$A$2:$B$110,2,FALSE)","v":77},"26500-27500","not in use"]
["Estonia",{"$f":"VLOOKUP(A542, 'Country names'!$A$5:$C$53,3,FALSE)","v":"EST"},{"$f":"VLOOKUP(D542,BandList!$A$2:$B$110,2,FALSE)","v":78},"27500-29500","not in use",null,null,null,null,null,null,null,null,null,null,null,null,null,"T/R 13-02 Annex C"]
["Estonia",{"$f":"VLOOKUP(A543, 'Country names'!$A$5:$C$53,3,FALSE)","v":"EST"},{"$f":"VLOOKUP(D543,BandList!$A$2:$B$110,2,FALSE)","v":80},"31000-31300","not in use",null,null,null,null,null,null,null,null,null,null,null,null,null,"ECC/REC/(02)02"]
["Estonia",{"$f":"VLOOKUP(A544, 'Country names'!$A$5:$C$53,3,FALSE)","v":"EST"},{"$f":"VLOOKUP(D544,BandList!$A$2:$B$110,2,FALSE)","v":82},"31800-33400","not in use",null,null,null,null,null,null,null,null,null,null,null,null,null,"ERC/REC/(01)02"]
["Estonia",{"$f":"VLOOKUP(A545, 'Country names'!$A$5:$C$53,3,FALSE)","v":"EST"},{"$f":"VLOOKUP(D545,BandList!$A$2:$B$110,2,FALSE)","v":85},"36000-37000","not in use"]
["Estonia",{"$f":"VLOOKUP(A546, 'Country names'!$A$5:$C$53,3,FALSE)","v":"EST"},{"$f":"VLOOKUP(D546,BandList!$A$2:$B$110,2,FALSE)","v":86},"37000-39500","x",null,null,null,"x",null,"x",null,null,null,null,225,null,null,"T/R 12-01","x","x",null,0.05,null,12]
["Estonia",{"$f":"VLOOKUP(A547, 'Country names'!$A$5:$C$53,3,FALSE)","v":"EST"},{"$f":"VLOOKUP(D547,BandList!$A$2:$B$110,2,FALSE)","v":87},"39500-40500","not in use"]
["Estonia",{"$f":"VLOOKUP(A548, 'Country names'!$A$5:$C$53,3,FALSE)","v":"EST"},{"$f":"VLOOKUP(D548,BandList!$A$2:$B$110,2,FALSE)","v":88},"40500-43500","not in use",null,null,null,null,null,null,null,null,null,null,null,null,null,"ECC/REC/(01)04"]
["Estonia",{"$f":"VLOOKUP(A549, 'Country names'!$A$5:$C$53,3,FALSE)","v":"EST"},{"$f":"VLOOKUP(D549,BandList!$A$2:$B$110,2,FALSE)","v":89},"47200-48500","not in use"]
["Estonia",{"$f":"VLOOKUP(A550, 'Country names'!$A$5:$C$53,3,FALSE)","v":"EST"},{"$f":"VLOOKUP(D550,BandList!$A$2:$B$110,2,FALSE)","v":90},"48500-50200","not in use",null,null,null,null,null,null,null,null,null,null,null,null,null,"ERC/REC 12-11"]
["Estonia",{"$f":"VLOOKUP(A551, 'Country names'!$A$5:$C$53,3,FALSE)","v":"EST"},{"$f":"VLOOKUP(D551,BandList!$A$2:$B$110,2,FALSE)","v":92},"50400-51400","not in use, no any interest"]
["Estonia",{"$f":"VLOOKUP(A552, 'Country names'!$A$5:$C$53,3,FALSE)","v":"EST"},{"$f":"VLOOKUP(D552,BandList!$A$2:$B$110,2,FALSE)","v":93},"51400-52600","not in use, no any interest",null,null,null,null,null,null,null,null,null,null,null,null,null,"ERC/REC 12-11"]
["Estonia",{"$f":"VLOOKUP(A553, 'Country names'!$A$5:$C$53,3,FALSE)","v":"EST"},{"$f":"VLOOKUP(D553,BandList!$A$2:$B$110,2,FALSE)","v":94},"55780-57000","not in use, no any interest",null,null,null,null,null,null,null,null,null,null,null,null,null,"ERC/REC 12-12"]
["Estonia",{"$f":"VLOOKUP(A554, 'Country names'!$A$5:$C$53,3,FALSE)","v":"EST"},{"$f":"VLOOKUP(D554,BandList!$A$2:$B$110,2,FALSE)","v":96},"57000-59000","not in use, no any interest",null,null,null,null,null,null,null,null,null,null,null,null,null,"ECC/REC/(09)01"]
["Estonia",{"$f":"VLOOKUP(A555, 'Country names'!$A$5:$C$53,3,FALSE)","v":"EST"},{"$f":"VLOOKUP(D555,BandList!$A$2:$B$110,2,FALSE)","v":101},"59000-64000","not in use, no any interest",null,null,null,null,null,null,null,null,null,null,null,null,null,"ECC/REC/(09)01"]
["Estonia",{"$f":"VLOOKUP(A556, 'Country names'!$A$5:$C$53,3,FALSE)","v":"EST"},{"$f":"VLOOKUP(D556,BandList!$A$2:$B$110,2,FALSE)","v":103},"64000-66000","not in use, no any interest",null,null,null,null,null,null,null,null,null,null,null,null,null,"ECC/REC/(05)02"]
["Estonia",{"$f":"VLOOKUP(A557, 'Country names'!$A$5:$C$53,3,FALSE)","v":"EST"},{"$f":"VLOOKUP(D557,BandList!$A$2:$B$110,2,FALSE)","v":104},"71000-76000 and 81000-86000","not in use, no any interest",null,null,null,null,null,null,null,null,null,null,null,null,null,"ECC/REC/(05)07"]
["Estonia",{"$f":"VLOOKUP(A558, 'Country names'!$A$5:$C$53,3,FALSE)","v":"EST"},{"$f":"VLOOKUP(D558,BandList!$A$2:$B$110,2,FALSE)","v":109},"92000-95000","not in use, no any interest",null,null,null,null,null,null,null,null,null,null,null,null,null,"ECC/REC (14)01"]
["Magyar Telecom Hungary",{"$f":"VLOOKUP(A559, 'Country names'!$A$5:$C$53,3,FALSE)","v":{"$error":"#N/A"}},{"$f":"VLOOKUP(D559,BandList!$A$2:$B$110,2,FALSE)","v":13},"2025-2110 and 2200-2290","    "]
["Magyar Telecom Hungary",{"$f":"VLOOKUP(A560, 'Country names'!$A$5:$C$53,3,FALSE)","v":{"$error":"#N/A"}},{"$f":"VLOOKUP(D560,BandList!$A$2:$B$110,2,FALSE)","v":58},"12750-13250","X",null,null,null,"X",null,"X",null,null,null,null,null,913,null,"ERC/REC 12-02",16,427,470,1.7,15,46.2,0.15]
["Magyar Telecom Hungary",{"$f":"VLOOKUP(A561, 'Country names'!$A$5:$C$53,3,FALSE)","v":{"$error":"#N/A"}},{"$f":"VLOOKUP(D561,BandList!$A$2:$B$110,2,FALSE)","v":62},"14923-15180","X",null,null,null,"X",null,"X","X",null,null,null,null,12,null,"ITU-R F 636-3",5,7,0,3.1,12,18.600000000000001,-1,null,null,"Till 31.12.2018"]
["Magyar Telecom Hungary",{"$f":"VLOOKUP(A562, 'Country names'!$A$5:$C$53,3,FALSE)","v":{"$error":"#N/A"}},{"$f":"VLOOKUP(D562,BandList!$A$2:$B$110,2,FALSE)","v":64},"17700-19700","X",null,null,null,"X",null,"X",null,null,null,null,null,338,null,"ERC/REC 12-03",0,34,304,0.2,10,31.7,0.15]
["Magyar Telecom Hungary",{"$f":"VLOOKUP(A563, 'Country names'!$A$5:$C$53,3,FALSE)","v":{"$error":"#N/A"}},{"$f":"VLOOKUP(D563,BandList!$A$2:$B$110,2,FALSE)","v":68},"22000-22600 and 23000-23600","X",null,null,null,"X",null,"X","X",null,null,null,null,330,null,"T/R 13-02 Annexes A1, A2, A3",15,227,88,0.3,5,15.4,-0.2]
["Magyar Telecom Hungary",{"$f":"VLOOKUP(A564, 'Country names'!$A$5:$C$53,3,FALSE)","v":{"$error":"#N/A"}},{"$f":"VLOOKUP(D564,BandList!$A$2:$B$110,2,FALSE)","v":75},"24500-26500",null,"X",null,null,"X",null,"X","X",null,null,null,null,1480,null,"T/R 13-02 Annex B",0,721,759,0.03,3,28.7,0.3]
["Magyar Telecom Hungary",{"$f":"VLOOKUP(A565, 'Country names'!$A$5:$C$53,3,FALSE)","v":{"$error":"#N/A"}},{"$f":"VLOOKUP(D565,BandList!$A$2:$B$110,2,FALSE)","v":75},"24500-26500",null,"X",null,null,null,"X",null,"X",null,null,null,null,null,31,null,0,267,0,0.1,1.6,3.9,0]
["Magyar Telecom Hungary",{"$f":"VLOOKUP(A566, 'Country names'!$A$5:$C$53,3,FALSE)","v":{"$error":"#N/A"}},{"$f":"VLOOKUP(D566,BandList!$A$2:$B$110,2,FALSE)","v":86},"37000-39500","X",null,null,null,"X",null,"X","X",null,null,null,null,1182,null,"T/R 12-01",150,885,147,0.06,1.7,13.3,-0.1]
["Magyar Telecom Hungary",{"$f":"VLOOKUP(A567, 'Country names'!$A$5:$C$53,3,FALSE)","v":{"$error":"#N/A"}},{"$f":"VLOOKUP(D567,BandList!$A$2:$B$110,2,FALSE)","v":104},"71000-76000 and 81000-86000",null,null,"X",null,"X",null,"X","X",null,null,null,null,405,null,"ECC/REC/(05)07",0,0,405,0.03,0.8,2.9,0.5]
["Austria",{"$f":"VLOOKUP(A568, 'Country names'!$A$5:$C$53,3,FALSE)","v":"AUT"},{"$f":"VLOOKUP(D568,BandList!$A$2:$B$110,2,FALSE)","v":1},"1350-1375 and 1492-1517","X",null,null,null,"X",null,null,"X",null,null,null,null,57,null,"T/R 13-01 Annex A","X","X",null,3,20,60]
["Austria",{"$f":"VLOOKUP(A569, 'Country names'!$A$5:$C$53,3,FALSE)","v":"AUT"},{"$f":"VLOOKUP(D569,BandList!$A$2:$B$110,2,FALSE)","v":3},"1375-1400 and 1427-1452","X",null,null,null,"X",null,null,"X",null,null,null,null,41,null,"T/R 13-01 Annex B","X","X",null,3,20,60]
["Austria",{"$f":"VLOOKUP(A570, 'Country names'!$A$5:$C$53,3,FALSE)","v":"AUT"},{"$f":"VLOOKUP(D570,BandList!$A$2:$B$110,2,FALSE)","v":13},"2025-2110 and 2200-2290","X",null,null,null,"X",null,null,"X","X",null,null,8,null,null,"T/R 13-01 Annex C",null,null,null,null,null,290]
["Austria",{"$f":"VLOOKUP(A571, 'Country names'!$A$5:$C$53,3,FALSE)","v":"AUT"},{"$f":"VLOOKUP(D571,BandList!$A$2:$B$110,2,FALSE)","v":16},"3400-3600","X",null,null,null,null,"X",null,"X",null,null,null,null,null,355,"ERC/REC 14-03","X","X",null,3,15,30]
["Austria",{"$f":"VLOOKUP(A572, 'Country names'!$A$5:$C$53,3,FALSE)","v":"AUT"},{"$f":"VLOOKUP(D572,BandList!$A$2:$B$110,2,FALSE)","v":19},"3600-4200","X",null,null,null,"X",null,"X",null,null,null,null,null,34,null,"ERC/REC 12-08",null,"X",null,13,50,100]
["Austria",{"$f":"VLOOKUP(A573, 'Country names'!$A$5:$C$53,3,FALSE)","v":"AUT"},{"$f":"VLOOKUP(D573,BandList!$A$2:$B$110,2,FALSE)","v":22},"4400-5000","X",null,null,null,null,null,null,null,"X",null,"X",10,1,null,"national",null,"X",null,22,22,22]
["Austria",{"$f":"VLOOKUP(A574, 'Country names'!$A$5:$C$53,3,FALSE)","v":"AUT"},{"$f":"VLOOKUP(D574,BandList!$A$2:$B$110,2,FALSE)","v":26},"5850-5925","X",null,null,null,"X",null,"X",null,null,null,null,null,13,null,"national",null,"X",null,4,42,68]
["Austria",{"$f":"VLOOKUP(A575, 'Country names'!$A$5:$C$53,3,FALSE)","v":"AUT"},{"$f":"VLOOKUP(D575,BandList!$A$2:$B$110,2,FALSE)","v":29},"5925-7125","X",null,null,null,"X",null,"X","X","X",null,null,null,313,null,"ERC/REC 14-01 and ERC/REC 14-02, ECC/REC(14)06",null,null,"X",5,45,70]
["Austria",{"$f":"VLOOKUP(A576, 'Country names'!$A$5:$C$53,3,FALSE)","v":"AUT"},{"$f":"VLOOKUP(D576,BandList!$A$2:$B$110,2,FALSE)","v":36},"7125-7750","X",null,null,null,"X",null,"X","X","X",null,null,null,530,null,"ECC REC (02)06",null,"X","X",1,40,78]
["Austria",{"$f":"VLOOKUP(A577, 'Country names'!$A$5:$C$53,3,FALSE)","v":"AUT"},{"$f":"VLOOKUP(D577,BandList!$A$2:$B$110,2,FALSE)","v":48},"7900-8500","X",null,null,null,"X",null,"X","X","X",null,null,null,306,null,"ECC REC (02)06",null,"X","X",1,35,60]
["Austria",{"$f":"VLOOKUP(A578, 'Country names'!$A$5:$C$53,3,FALSE)","v":"AUT"},{"$f":"VLOOKUP(D578,BandList!$A$2:$B$110,2,FALSE)","v":50},"10000-10680","X",null,null,null,"X",null,"X","X","X",null,null,null,133,null,"ERC/REC 12-05",null,"X",null,1,30,80]
["Austria",{"$f":"VLOOKUP(A579, 'Country names'!$A$5:$C$53,3,FALSE)","v":"AUT"},{"$f":"VLOOKUP(D579,BandList!$A$2:$B$110,2,FALSE)","v":58},"12750-13250","X",null,null,null,"X",null,"X","X","X",null,null,null,663,null,"ERC/REC 12-02",null,null,"X",3,25,52]
["Austria",{"$f":"VLOOKUP(A580, 'Country names'!$A$5:$C$53,3,FALSE)","v":"AUT"},{"$f":"VLOOKUP(D580,BandList!$A$2:$B$110,2,FALSE)","v":60},"14500-14620 and 15230-15350","X",null,null,null,"X",null,"X","X","X",null,null,null,752,null,"ERC/REC 12-07","X","X","X",1,15,44]
["Austria",{"$f":"VLOOKUP(A581, 'Country names'!$A$5:$C$53,3,FALSE)","v":"AUT"},{"$f":"VLOOKUP(D581,BandList!$A$2:$B$110,2,FALSE)","v":64},"17700-19700","X",null,null,null,"X",null,"X","X","X",null,null,null,1308,null,"ERC/REC 12-03",null,null,"X",1,10,19]
["Austria",{"$f":"VLOOKUP(A582, 'Country names'!$A$5:$C$53,3,FALSE)","v":"AUT"},{"$f":"VLOOKUP(D582,BandList!$A$2:$B$110,2,FALSE)","v":68},"22000-22600 and 23000-23600","X",null,null,null,"X",null,"X","X",null,null,null,null,2796,null,"T/R 13-02 Annexes A1, A2, A3","X","X","X",1,10,20]
["Austria",{"$f":"VLOOKUP(A583, 'Country names'!$A$5:$C$53,3,FALSE)","v":"AUT"},{"$f":"VLOOKUP(D583,BandList!$A$2:$B$110,2,FALSE)","v":75},"24500-26500","X",null,null,null,"X","X","X","X",null,null,null,null,2083,null,"T/R 13-02 Annex B","X","X","X",1,6,24]
["Austria",{"$f":"VLOOKUP(A584, 'Country names'!$A$5:$C$53,3,FALSE)","v":"AUT"},{"$f":"VLOOKUP(D584,BandList!$A$2:$B$110,2,FALSE)","v":78},"27500-29500","X",null,null,null,"X","X","X",null,null,null,null,null,1339,null,"T/R 13-02 Annex C",null,null,"X",1,2,4]
["Austria",{"$f":"VLOOKUP(A585, 'Country names'!$A$5:$C$53,3,FALSE)","v":"AUT"},{"$f":"VLOOKUP(D585,BandList!$A$2:$B$110,2,FALSE)","v":82},"31800-33400","X",null,null,null,"X",null,"X",null,null,null,null,null,566,null,"ERC/REC/(01)02",null,"X",null,1,3,5]
["Austria",{"$f":"VLOOKUP(A586, 'Country names'!$A$5:$C$53,3,FALSE)","v":"AUT"},{"$f":"VLOOKUP(D586,BandList!$A$2:$B$110,2,FALSE)","v":86},"37000-39500","X",null,null,null,"X",null,"X","X",null,null,null,null,3642,null,"T/R 12-01","X","X","X",1,5,17]
["Austria",{"$f":"VLOOKUP(A587, 'Country names'!$A$5:$C$53,3,FALSE)","v":"AUT"},{"$f":"VLOOKUP(D587,BandList!$A$2:$B$110,2,FALSE)","v":88},"40500-43500","X",null,null,null,"X",null,"X",null,null,null,null,null,53,null,"ECC/REC/(01)04",null,"X",null,1,3,5]
["Austria",{"$f":"VLOOKUP(A588, 'Country names'!$A$5:$C$53,3,FALSE)","v":"AUT"},{"$f":"VLOOKUP(D588,BandList!$A$2:$B$110,2,FALSE)","v":104},"71000-76000 and 81000-86000","X",null,null,null,"X",null,null,null,null,null,null,null,1269,null,"ECC/REC/(05)07",null,"X","X",1,3,6]
["Czech Republic",{"$f":"VLOOKUP(A589, 'Country names'!$A$5:$C$53,3,FALSE)","v":"CZE"},{"$f":"VLOOKUP(D589,BandList!$A$2:$B$110,2,FALSE)","v":13},"2025-2110 and 2200-2290",null,null,null,null,null,null,null,"ENG/OB",null,null,null,null,null,null,"T/R 13-01 Annex C","N/A","N/A","N/A"]
["Czech Republic",{"$f":"VLOOKUP(A590, 'Country names'!$A$5:$C$53,3,FALSE)","v":"CZE"},{"$f":"VLOOKUP(D590,BandList!$A$2:$B$110,2,FALSE)","v":13},"2025-2110 and 2200-2290",null,null,null,null,null,null,null,"ENG/OB",null,null,null,null,null,null,null,"N/A","N/A","N/A"]
["Czech Republic",{"$f":"VLOOKUP(A591, 'Country names'!$A$5:$C$53,3,FALSE)","v":"CZE"},{"$f":"VLOOKUP(D591,BandList!$A$2:$B$110,2,FALSE)","v":16},"3400-3600","X",null,null,null,null,"X",null,null,null,null,null,null,null,236,"see the EFIS","N/A","N/A","N/A"]
["Czech Republic",{"$f":"VLOOKUP(A592, 'Country names'!$A$5:$C$53,3,FALSE)","v":"CZE"},{"$f":"VLOOKUP(D592,BandList!$A$2:$B$110,2,FALSE)","v":19},"3600-4200","X",null,null,null,"X",null,null,null,null,null,null,null,209,null,"see the EFIS","N/A","N/A","N/A",null,"31.7km"]
["Czech Republic",{"$f":"VLOOKUP(A593, 'Country names'!$A$5:$C$53,3,FALSE)","v":"CZE"},{"$f":"VLOOKUP(D593,BandList!$A$2:$B$110,2,FALSE)","v":19},"3600-4200",null,"X",null,null,null,"X",null,null,null,null,"auction in preparation",null,null,0,null,"N/A","N/A","N/A"]
["Czech Republic",{"$f":"VLOOKUP(A594, 'Country names'!$A$5:$C$53,3,FALSE)","v":"CZE"},{"$f":"VLOOKUP(D594,BandList!$A$2:$B$110,2,FALSE)","v":22},"4400-5000",null,null,null,null,null,null,null,"SAP/SAB",null,null,null,null,null,null,null,"N/A","N/A","N/A"]
["Czech Republic",{"$f":"VLOOKUP(A595, 'Country names'!$A$5:$C$53,3,FALSE)","v":"CZE"},{"$f":"VLOOKUP(D595,BandList!$A$2:$B$110,2,FALSE)","v":22},"4400-5000",null,null,null,null,null,null,null,"SAP/SAB",null,null,null,null,null,null,null,"N/A","N/A","N/A"]
["Czech Republic",{"$f":"VLOOKUP(A596, 'Country names'!$A$5:$C$53,3,FALSE)","v":"CZE"},{"$f":"VLOOKUP(D596,BandList!$A$2:$B$110,2,FALSE)","v":29},"5925-7125","X",null,null,null,"X",null,null,null,null,null,null,null,582,null,"see the EFIS","N/A","N/A","N/A",null,"31.5km"]
["Czech Republic",{"$f":"VLOOKUP(A597, 'Country names'!$A$5:$C$53,3,FALSE)","v":"CZE"},{"$f":"VLOOKUP(D597,BandList!$A$2:$B$110,2,FALSE)","v":36},"7125-7750","X",null,null,null,"X",null,null,null,null,null,null,null,446,null,"see the EFIS","N/A","N/A","N/A",null,"24.4km"]
["Czech Republic",{"$f":"VLOOKUP(A598, 'Country names'!$A$5:$C$53,3,FALSE)","v":"CZE"},{"$f":"VLOOKUP(D598,BandList!$A$2:$B$110,2,FALSE)","v":50},"10000-10680",null,null,null,"X",null,null,null,null,null,null,null,null,"N/A",null,"national plan for 10,301–10,42 GHz and 10,476–10,588 GHz","N/A","N/A","N/A"]
["Czech Republic",{"$f":"VLOOKUP(A599, 'Country names'!$A$5:$C$53,3,FALSE)","v":"CZE"},{"$f":"VLOOKUP(D599,BandList!$A$2:$B$110,2,FALSE)","v":50},"10000-10680",null,null,null,null,null,null,null,"ENG/OB",null,null,null,null,null,null,"10,42–10,476 GHz and 10,588–10,644 GHz","N/A","N/A","N/A"]
["Czech Republic",{"$f":"VLOOKUP(A600, 'Country names'!$A$5:$C$53,3,FALSE)","v":"CZE"},{"$f":"VLOOKUP(D600,BandList!$A$2:$B$110,2,FALSE)","v":50},"10000-10680","X",null,null,null,"X",null,null,null,null,null,null,1,null,null,"see the EFIS","N/A","N/A","N/A"]
["Czech Republic",{"$f":"VLOOKUP(A601, 'Country names'!$A$5:$C$53,3,FALSE)","v":"CZE"},{"$f":"VLOOKUP(D601,BandList!$A$2:$B$110,2,FALSE)","v":54},"10700-11700","X",null,null,null,"X",null,null,null,null,null,null,null,1693,null,"see the EFIS","N/A","N/A","N/A",null,"13.4km"]
["Czech Republic",{"$f":"VLOOKUP(A602, 'Country names'!$A$5:$C$53,3,FALSE)","v":"CZE"},{"$f":"VLOOKUP(D602,BandList!$A$2:$B$110,2,FALSE)","v":58},"12750-13250","X",null,null,null,"X",null,null,null,null,null,null,null,968,null,"see the EFIS","N/A","N/A","N/A",null,"14.5km"]
["Czech Republic",{"$f":"VLOOKUP(A603, 'Country names'!$A$5:$C$53,3,FALSE)","v":"CZE"},{"$f":"VLOOKUP(D603,BandList!$A$2:$B$110,2,FALSE)","v":60},"14500-14620 and 15230-15350","X",null,null,null,"X",null,null,null,null,null,null,null,289,null,"see the EFIS","N/A","N/A","N/A",null,"12.3km"]
["Czech Republic",{"$f":"VLOOKUP(A604, 'Country names'!$A$5:$C$53,3,FALSE)","v":"CZE"},{"$f":"VLOOKUP(D604,BandList!$A$2:$B$110,2,FALSE)","v":64},"17700-19700","X",null,null,null,"X",null,null,null,null,null,null,null,4312,null,"see the EFIS","N/A","N/A","N/A",null,"11.2km"]
["Czech Republic",{"$f":"VLOOKUP(A605, 'Country names'!$A$5:$C$53,3,FALSE)","v":"CZE"},{"$f":"VLOOKUP(D605,BandList!$A$2:$B$110,2,FALSE)","v":68},"22000-22600 and 23000-23600","X",null,null,null,"X",null,null,null,null,null,null,null,4244,null,"see the EFIS","N/A","N/A","N/A",null,"6km"]
["Czech Republic",{"$f":"VLOOKUP(A606, 'Country names'!$A$5:$C$53,3,FALSE)","v":"CZE"},{"$f":"VLOOKUP(D606,BandList!$A$2:$B$110,2,FALSE)","v":68},"22000-22600 and 23000-23600",null,null,null,null,null,null,null,"ENG/OB",null,null,null,null,null,null,"22,592–22,704 GHz","N/A","N/A","N/A"]
["Czech Republic",{"$f":"VLOOKUP(A607, 'Country names'!$A$5:$C$53,3,FALSE)","v":"CZE"},{"$f":"VLOOKUP(D607,BandList!$A$2:$B$110,2,FALSE)","v":72},"24250-24500",null,null,null,null,null,null,null,"ENG/OB",null,null,null,null,null,null,"24,25–24,5 GHz","N/A","N/A","N/A"]
["Czech Republic",{"$f":"VLOOKUP(A608, 'Country names'!$A$5:$C$53,3,FALSE)","v":"CZE"},{"$f":"VLOOKUP(D608,BandList!$A$2:$B$110,2,FALSE)","v":75},"24500-26500",null,"X",null,null,null,"X",null,null,null,null,null,null,null,89,"see the EFIS","N/A","N/A","N/A"]
["Czech Republic",{"$f":"VLOOKUP(A609, 'Country names'!$A$5:$C$53,3,FALSE)","v":"CZE"},{"$f":"VLOOKUP(D609,BandList!$A$2:$B$110,2,FALSE)","v":75},"24500-26500","X",null,null,null,"X",null,null,null,null,null,null,null,3964,null,null,"N/A","N/A","N/A",null,"3.6km"]
["Czech Republic",{"$f":"VLOOKUP(A610, 'Country names'!$A$5:$C$53,3,FALSE)","v":"CZE"},{"$f":"VLOOKUP(D610,BandList!$A$2:$B$110,2,FALSE)","v":78},"27500-29500",null,"X",null,null,null,"X",null,null,null,null,null,null,null,137,"see the EFIS","N/A","N/A","N/A"]
["Czech Republic",{"$f":"VLOOKUP(A611, 'Country names'!$A$5:$C$53,3,FALSE)","v":"CZE"},{"$f":"VLOOKUP(D611,BandList!$A$2:$B$110,2,FALSE)","v":78},"27500-29500","X",null,null,null,null,"X",null,null,null,null,null,null,null,60,null,"N/A","N/A","N/A"]
["Czech Republic",{"$f":"VLOOKUP(A612, 'Country names'!$A$5:$C$53,3,FALSE)","v":"CZE"},{"$f":"VLOOKUP(D612,BandList!$A$2:$B$110,2,FALSE)","v":80},"31000-31300","X",null,null,null,"X",null,null,null,null,null,null,null,0,null,"see the EFIS","N/A","N/A","N/A"]
["Czech Republic",{"$f":"VLOOKUP(A613, 'Country names'!$A$5:$C$53,3,FALSE)","v":"CZE"},{"$f":"VLOOKUP(D613,BandList!$A$2:$B$110,2,FALSE)","v":82},"31800-33400","X",null,null,null,"X",null,null,null,null,null,null,null,1374,null,"see the EFIS","N/A","N/A","N/A",null,"1.7km"]
["Czech Republic",{"$f":"VLOOKUP(A614, 'Country names'!$A$5:$C$53,3,FALSE)","v":"CZE"},{"$f":"VLOOKUP(D614,BandList!$A$2:$B$110,2,FALSE)","v":86},"37000-39500","X",null,null,null,"X",null,null,null,null,null,null,null,6123,null,"see the EFIS","N/A","N/A","N/A",null,"1.2km"]
["Czech Republic",{"$f":"VLOOKUP(A615, 'Country names'!$A$5:$C$53,3,FALSE)","v":"CZE"},{"$f":"VLOOKUP(D615,BandList!$A$2:$B$110,2,FALSE)","v":88},"40500-43500","X",null,null,null,"X",null,null,null,null,null,null,null,54,null,"see the EFIS","N/A","N/A","N/A",null,"0.6km"]
["Czech Republic",{"$f":"VLOOKUP(A616, 'Country names'!$A$5:$C$53,3,FALSE)","v":"CZE"},{"$f":"VLOOKUP(D616,BandList!$A$2:$B$110,2,FALSE)","v":89},"47200-48500",null,null,null,null,null,null,null,"ENG/OB",null,null,null,null,null,null,"47.2 GHz- 50.2 GHz","N/A","N/A","N/A"]
["Czech Republic",{"$f":"VLOOKUP(A617, 'Country names'!$A$5:$C$53,3,FALSE)","v":"CZE"},{"$f":"VLOOKUP(D617,BandList!$A$2:$B$110,2,FALSE)","v":90},"48500-50200",null,null,null,null,null,null,null,"ENG/OB",null,null,null,null,null,null,"47.2 GHz- 50.2 GHz","N/A","N/A","N/A"]
["Czech Republic",{"$f":"VLOOKUP(A618, 'Country names'!$A$5:$C$53,3,FALSE)","v":"CZE"},{"$f":"VLOOKUP(D618,BandList!$A$2:$B$110,2,FALSE)","v":96},"57000-59000","X",null,null,null,"X",null,null,null,null,null,null,null,3,null,"see the EFIS","N/A","N/A","N/A"]
["Czech Republic",{"$f":"VLOOKUP(A619, 'Country names'!$A$5:$C$53,3,FALSE)","v":"CZE"},{"$f":"VLOOKUP(D619,BandList!$A$2:$B$110,2,FALSE)","v":104},"71000-76000 and 81000-86000",null,null,"X",null,"X",null,null,null,null,null,null,null,1245,null,"see the EFIS","N/A","N/A","N/A"]
["Croatia",{"$f":"VLOOKUP(A620, 'Country names'!$A$5:$C$53,3,FALSE)","v":"HRV"},{"$f":"VLOOKUP(D620,BandList!$A$2:$B$110,2,FALSE)","v":1},"1350-1375 and 1492-1517","X",null,null,null,"X",null,null,null,null,null,"X",1,null,null,"National plan","X",null,null,9.33,9.33,9.33,-100,null,"X"]
["Croatia",{"$f":"VLOOKUP(A621, 'Country names'!$A$5:$C$53,3,FALSE)","v":"HRV"},{"$f":"VLOOKUP(D621,BandList!$A$2:$B$110,2,FALSE)","v":3},"1375-1400 and 1427-1452","X",null,null,null,"X",null,null,null,null,null,"X",1,null,null,"National plan","X",null,null,9.33,9.33,9.33,-100,null,"X"]
["Croatia",{"$f":"VLOOKUP(A622, 'Country names'!$A$5:$C$53,3,FALSE)","v":"HRV"},{"$f":"VLOOKUP(D622,BandList!$A$2:$B$110,2,FALSE)","v":14},"2085-2110","X",null,null,null,"X",null,null,null,"X",null,null,189,null,null,"National plan","ANALOG",null,null,0.09,9.5399999999999991,55.74,2]
["Croatia",{"$f":"VLOOKUP(A623, 'Country names'!$A$5:$C$53,3,FALSE)","v":"HRV"},{"$f":"VLOOKUP(D623,BandList!$A$2:$B$110,2,FALSE)","v":16},"3400-3600",null,"X",null,null,null,"X",null,null,null,null,null,null,null,5,"ERC/REC 14-03",null,"X",null,null,null,null,null,null,"X"]
["Croatia",{"$f":"VLOOKUP(A624, 'Country names'!$A$5:$C$53,3,FALSE)","v":"HRV"},{"$f":"VLOOKUP(D624,BandList!$A$2:$B$110,2,FALSE)","v":21},"3800-4200","X",null,null,null,"X",null,null,null,"X",null,null,null,67,null,"ERC/REC 12-08",null,null,"X",20.27,60.33,91.57]
["Croatia",{"$f":"VLOOKUP(A625, 'Country names'!$A$5:$C$53,3,FALSE)","v":"HRV"},{"$f":"VLOOKUP(D625,BandList!$A$2:$B$110,2,FALSE)","v":18},"3600-3800","X",null,null,null,"X",null,null,null,null,null,"ENG/OB",null,7,null,"National plan",null,"X",null,null,null,null,-100,null,"X"]
["Croatia",{"$f":"VLOOKUP(A626, 'Country names'!$A$5:$C$53,3,FALSE)","v":"HRV"},{"$f":"VLOOKUP(D626,BandList!$A$2:$B$110,2,FALSE)","v":28},"5925-6425","X",null,null,null,"X",null,"X",null,"X",null,null,null,74,null,"ERC/REC 14-01",null,null,"X",10.7,33.72,70.930000000000007]
["Croatia",{"$f":"VLOOKUP(A627, 'Country names'!$A$5:$C$53,3,FALSE)","v":"HRV"},{"$f":"VLOOKUP(D627,BandList!$A$2:$B$110,2,FALSE)","v":34},"6425-7125","X",null,null,null,"X",null,"X",null,"X",null,null,null,29,null,"ERC/REC 14-02",null,null,"X",16.12,40.5,71.33]
["Croatia",{"$f":"VLOOKUP(A628, 'Country names'!$A$5:$C$53,3,FALSE)","v":"HRV"},{"$f":"VLOOKUP(D628,BandList!$A$2:$B$110,2,FALSE)","v":35},"7125-7425","X",null,null,null,"X",null,null,"X",null,null,null,null,14,null,"ECC REC (02)06","X","X",null,3.76,37.159999999999997,85.56]
["Croatia",{"$f":"VLOOKUP(A629, 'Country names'!$A$5:$C$53,3,FALSE)","v":"HRV"},{"$f":"VLOOKUP(D629,BandList!$A$2:$B$110,2,FALSE)","v":42},"7425-7725","X",null,null,null,"X",null,"X","X","X",null,null,null,181,null,"ECC REC (02)06",null,"X","X",7.08,32,88.87,20,"X"]
["Croatia",{"$f":"VLOOKUP(A630, 'Country names'!$A$5:$C$53,3,FALSE)","v":"HRV"},{"$f":"VLOOKUP(D630,BandList!$A$2:$B$110,2,FALSE)","v":45},"7725-8275","X",null,null,null,"X",null,null,null,"X",null,null,null,137,null,"ECC REC (02)06",null,null,"X",21.14,52.3,91.57,2]
["Croatia",{"$f":"VLOOKUP(A631, 'Country names'!$A$5:$C$53,3,FALSE)","v":"HRV"},{"$f":"VLOOKUP(D631,BandList!$A$2:$B$110,2,FALSE)","v":49},"8275-8500","X",null,null,null,"X",null,null,"X","X",null,null,null,10,null,"ECC REC (02)06",null,"X","X",22.07,44,64.66]
["Croatia",{"$f":"VLOOKUP(A632, 'Country names'!$A$5:$C$53,3,FALSE)","v":"HRV"},{"$f":"VLOOKUP(D632,BandList!$A$2:$B$110,2,FALSE)","v":54},"10700-11700","X",null,null,null,"X",null,"X","X","X",null,null,null,10,null,"ERC/REC 12-06",null,null,"X",7.49,21.84,29.87]
["Croatia",{"$f":"VLOOKUP(A633, 'Country names'!$A$5:$C$53,3,FALSE)","v":"HRV"},{"$f":"VLOOKUP(D633,BandList!$A$2:$B$110,2,FALSE)","v":58},"12750-13250","X",null,null,null,"X",null,"X","X","X",null,null,null,437,null,"ERC/REC 12-02",null,"X","X",1.62,17.39,49.27,20,"X"]
["Croatia",{"$f":"VLOOKUP(A634, 'Country names'!$A$5:$C$53,3,FALSE)","v":"HRV"},{"$f":"VLOOKUP(D634,BandList!$A$2:$B$110,2,FALSE)","v":60},"14500-14620 and 15230-15350","X",null,null,null,"X",null,null,null,"X",null,null,1,null,null,"ERC/REC 12-07","ANALOG",null,null,12.95,12.95,12.95,-100]
["Croatia",{"$f":"VLOOKUP(A635, 'Country names'!$A$5:$C$53,3,FALSE)","v":"HRV"},{"$f":"VLOOKUP(D635,BandList!$A$2:$B$110,2,FALSE)","v":64},"17700-19700","X",null,null,null,"X",null,"X","X","X",null,null,null,720,null,"ERC/REC 12-03","X","X","X",0.53,9.67,24.64,20]
["Croatia",{"$f":"VLOOKUP(A636, 'Country names'!$A$5:$C$53,3,FALSE)","v":"HRV"},{"$f":"VLOOKUP(D636,BandList!$A$2:$B$110,2,FALSE)","v":68},"22000-22600 and 23000-23600","X",null,null,null,"X",null,"X","X","X",null,null,null,1373,null,"T/R 13-02 Annexes A1, A2, A3","X","X","X",0.14000000000000001,5.16,16.63,10]
["Croatia",{"$f":"VLOOKUP(A637, 'Country names'!$A$5:$C$53,3,FALSE)","v":"HRV"},{"$f":"VLOOKUP(D637,BandList!$A$2:$B$110,2,FALSE)","v":78},"27500-29500","X",null,null,null,"X",null,"X",null,null,null,null,null,4,null,"T/R 13-02 Annex C",null,null,"X",0.46,1.02,1.77,500]
["Croatia",{"$f":"VLOOKUP(A638, 'Country names'!$A$5:$C$53,3,FALSE)","v":"HRV"},{"$f":"VLOOKUP(D638,BandList!$A$2:$B$110,2,FALSE)","v":86},"37000-39500","X",null,null,null,"X",null,"X",null,null,null,null,null,455,null,"T/R 12-01",null,"X","X",0.05,1.56,7.55,10]
["Croatia",{"$f":"VLOOKUP(A639, 'Country names'!$A$5:$C$53,3,FALSE)","v":"HRV"},{"$f":"VLOOKUP(D639,BandList!$A$2:$B$110,2,FALSE)","v":104},"71000-76000 and 81000-86000",null,null,"X",null,"X",null,"X","X",null,null,null,null,17,null,"ECC/REC/(05)07",null,null,"X",0.36,2.37,8.8000000000000007,500]
["Malta",{"$f":"VLOOKUP(A640, 'Country names'!$A$5:$C$53,3,FALSE)","v":"MLT"},{"$f":"VLOOKUP(D640,BandList!$A$2:$B$110,2,FALSE)","v":13},"2025-2110 and 2200-2290","X",null,null,null,"X",null,null,null,"X",null,null,7,null,null,"ERC Rec T/R 13-01",null,null,null,7.7,7.7,7.7]
["Malta",{"$f":"VLOOKUP(A641, 'Country names'!$A$5:$C$53,3,FALSE)","v":"MLT"},{"$f":"VLOOKUP(D641,BandList!$A$2:$B$110,2,FALSE)","v":13},"2025-2110 and 2200-2290","X",null,null,null,"X",null,null,null,"X",null,null,4," ",null,"ERC Rec T/R 13-01",null,null,null,3,3.2,3.4]
["Malta",{"$f":"VLOOKUP(A642, 'Country names'!$A$5:$C$53,3,FALSE)","v":"MLT"},{"$f":"VLOOKUP(D642,BandList!$A$2:$B$110,2,FALSE)","v":16},"3400-3600","X",null,null,null,"X",null,null,"X",null,null,"Telecomms infrastructure backhaul",null,1,null,"ERC Rec 14-03",null,null,null,9.1,9.1,9.1,-1]
["Malta",{"$f":"VLOOKUP(A643, 'Country names'!$A$5:$C$53,3,FALSE)","v":"MLT"},{"$f":"VLOOKUP(D643,BandList!$A$2:$B$110,2,FALSE)","v":29},"5925-7125","X",null,null,null,"X",null,null,"X",null,null,"Telecomms infrastructure backhaul",null,7,null,"ERC Rec 14-01 and ERC Rec 14-02,",null,null,null,19.7,20.6,21.5]
["Malta",{"$f":"VLOOKUP(A644, 'Country names'!$A$5:$C$53,3,FALSE)","v":"MLT"},{"$f":"VLOOKUP(D644,BandList!$A$2:$B$110,2,FALSE)","v":36},"7125-7750","X",null,null,null,"X",null,"X","X","X",null,"Telecomms infrastructure backhaul",3,12,null,"ECC Rec (02)06",null,"X","X",1.6,13,25,0.13]
["Malta",{"$f":"VLOOKUP(A645, 'Country names'!$A$5:$C$53,3,FALSE)","v":"MLT"},{"$f":"VLOOKUP(D645,BandList!$A$2:$B$110,2,FALSE)","v":48},"7900-8500","X",null,null,null,"X",null,"X","X",null,null,"Telecomms infrastructure backhaul"," ",3,null,"ECC Rec (02)06",null,null,"X",2.9,15.6,28.3," "]
["Malta",{"$f":"VLOOKUP(A646, 'Country names'!$A$5:$C$53,3,FALSE)","v":"MLT"},{"$f":"VLOOKUP(D646,BandList!$A$2:$B$110,2,FALSE)","v":50},"10000-10680","X",null,null,null,"X",null,null,null,"X",null,null,4,1,null,"ERC Rec 12-05",null,null,null,3,4.8,7.3," "]
["Malta",{"$f":"VLOOKUP(A647, 'Country names'!$A$5:$C$53,3,FALSE)","v":"MLT"},{"$f":"VLOOKUP(D647,BandList!$A$2:$B$110,2,FALSE)","v":54},"10700-11700","X"," ",null,null,"X",null,"X",null,"X",null,null,null,43,null,"ERC Rec 12-06",null,null,"X",1.5,6.5,21.5,null,null,null,"No change"]
["Malta",{"$f":"VLOOKUP(A648, 'Country names'!$A$5:$C$53,3,FALSE)","v":"MLT"},{"$f":"VLOOKUP(D648,BandList!$A$2:$B$110,2,FALSE)","v":56},"11700-12500","X",null,null,null,"X",null,null,null,"X",null,null,2,null,null,null,null,null,null,5.4,14.2,23]
["Malta",{"$f":"VLOOKUP(A649, 'Country names'!$A$5:$C$53,3,FALSE)","v":"MLT"},{"$f":"VLOOKUP(D649,BandList!$A$2:$B$110,2,FALSE)","v":58},"12750-13250","X",null,null,null,"X"," ",null,null,"X",null,null,4," "," ","ERC Rec 12-02",null,null,null,1.8,2.8,3.8]
["Malta",{"$f":"VLOOKUP(A650, 'Country names'!$A$5:$C$53,3,FALSE)","v":"MLT"},{"$f":"VLOOKUP(D650,BandList!$A$2:$B$110,2,FALSE)","v":61},"14500-15350","X",null,null,null,"X",null,"X","X",null,null,"Telecomms infrastructure backhaul"," ",23,null,"ITU-R F636-4",null,null,"X",1,9.1,20,0.17]
["Malta",{"$f":"VLOOKUP(A651, 'Country names'!$A$5:$C$53,3,FALSE)","v":"MLT"},{"$f":"VLOOKUP(D651,BandList!$A$2:$B$110,2,FALSE)","v":64},"17700-19700","X"," ",null,null,"X",null,"X",null,null,null,null,null,79,null,"ERC Rec 12-03",null,null,"X",1,4,12,0.1]
["Malta",{"$f":"VLOOKUP(A652, 'Country names'!$A$5:$C$53,3,FALSE)","v":"MLT"},{"$f":"VLOOKUP(D652,BandList!$A$2:$B$110,2,FALSE)","v":68},"22000-22600 and 23000-23600","X"," ",null,null,"X",null,"X",null,null,null,null,null,505,null,"ERC Rec T/R 13-02 ",null,null,"X",0.1,1.7,10,0.3]
["Malta",{"$f":"VLOOKUP(A653, 'Country names'!$A$5:$C$53,3,FALSE)","v":"MLT"},{"$f":"VLOOKUP(D653,BandList!$A$2:$B$110,2,FALSE)","v":86},"37000-39500","X",null,null,null,"X",null,"X",null,null,null,null,null,1,null,"ERC Rec T/R 12-01",null,null,null,1.7,1.7,1.7]
["Norway",{"$f":"VLOOKUP(A654, 'Country names'!$A$5:$C$53,3,FALSE)","v":"NOR"},{"$f":"VLOOKUP(D654,BandList!$A$2:$B$110,2,FALSE)","v":1},"1350-1375 and 1492-1517",null,"x",null,null,null,null,null,null,null,null,null,null,null,0,"T/R 13-01 Annex A",null,null,null,null,null,null,null,null,"x"]
["Norway",{"$f":"VLOOKUP(A655, 'Country names'!$A$5:$C$53,3,FALSE)","v":"NOR"},{"$f":"VLOOKUP(D655,BandList!$A$2:$B$110,2,FALSE)","v":1},"1350-1375 and 1492-1517","x",null,null,null,null,null,null,null,null,"x",null,5,29,0,null,"x",null,null,1,18,55,null,null,"x"]
["Norway",{"$f":"VLOOKUP(A656, 'Country names'!$A$5:$C$53,3,FALSE)","v":"NOR"},{"$f":"VLOOKUP(D656,BandList!$A$2:$B$110,2,FALSE)","v":3},"1375-1400 and 1427-1452","x",null,null,null,null,null,null,null,null,"x",null,null,17,null,null,"x",null,null,1,19,66,null,null,"x"]
["Norway",{"$f":"VLOOKUP(A657, 'Country names'!$A$5:$C$53,3,FALSE)","v":"NOR"},{"$f":"VLOOKUP(D657,BandList!$A$2:$B$110,2,FALSE)","v":13},"2025-2110 and 2200-2290",null,"x","x",null,null,null,null,null,null,"x"]
["Norway",{"$f":"VLOOKUP(A658, 'Country names'!$A$5:$C$53,3,FALSE)","v":"NOR"},{"$f":"VLOOKUP(D658,BandList!$A$2:$B$110,2,FALSE)","v":16},"3400-3600",null,"x",null,null,"x","x",null,null,null,null,null,null,null,null,"ERC/REC 14-03"]
["Norway",{"$f":"VLOOKUP(A659, 'Country names'!$A$5:$C$53,3,FALSE)","v":"NOR"},{"$f":"VLOOKUP(D659,BandList!$A$2:$B$110,2,FALSE)","v":19},"3600-4200",null,"x",null,null,null,"x",null,null,null,null,null,null,null,null,"ERC/REC 12-08"]
["Norway",{"$f":"VLOOKUP(A660, 'Country names'!$A$5:$C$53,3,FALSE)","v":"NOR"},{"$f":"VLOOKUP(D660,BandList!$A$2:$B$110,2,FALSE)","v":26},"5850-5925",null,null,null,"x"]
["Norway",{"$f":"VLOOKUP(A661, 'Country names'!$A$5:$C$53,3,FALSE)","v":"NOR"},{"$f":"VLOOKUP(D661,BandList!$A$2:$B$110,2,FALSE)","v":29},"5925-7125","x","x",null,null,null,null,null,null,"x","x",null,0,1666,0,null,null,null,null,2,24,123,5]
["Norway",{"$f":"VLOOKUP(A662, 'Country names'!$A$5:$C$53,3,FALSE)","v":"NOR"},{"$f":"VLOOKUP(D662,BandList!$A$2:$B$110,2,FALSE)","v":36},"7125-7750","x",null,null,null,null,null,"x",null,null,"x",null,0,622,null,null,"x","x","x",3,32,106,5]
["Norway",{"$f":"VLOOKUP(A663, 'Country names'!$A$5:$C$53,3,FALSE)","v":"NOR"},{"$f":"VLOOKUP(D663,BandList!$A$2:$B$110,2,FALSE)","v":46},"7750-7900","x",null,null,null,null,null,null,null,null,"x",null,0,3,null,null,null,null,null,null,40]
["Norway",{"$f":"VLOOKUP(A664, 'Country names'!$A$5:$C$53,3,FALSE)","v":"NOR"},{"$f":"VLOOKUP(D664,BandList!$A$2:$B$110,2,FALSE)","v":48},"7900-8500",null,"x",null,null,"x",null,null,null,null,"x",null,0,1100,null,null,null,"x"]
["Norway",{"$f":"VLOOKUP(A665, 'Country names'!$A$5:$C$53,3,FALSE)","v":"NOR"},{"$f":"VLOOKUP(D665,BandList!$A$2:$B$110,2,FALSE)","v":50},"10000-10680",null,"x",null,null,"x",null,null,null,null,"x",null,0,174,null,null,null,null,null,null,null,null,5]
["Norway",{"$f":"VLOOKUP(A666, 'Country names'!$A$5:$C$53,3,FALSE)","v":"NOR"},{"$f":"VLOOKUP(D666,BandList!$A$2:$B$110,2,FALSE)","v":54},"10700-11700",null,"x",null,null,null,null,null,null,null,null,null,null,null,null,"ERC/REC 12-06",null,null,null,null,null,null,-100]
["Norway",{"$f":"VLOOKUP(A667, 'Country names'!$A$5:$C$53,3,FALSE)","v":"NOR"},{"$f":"VLOOKUP(D667,BandList!$A$2:$B$110,2,FALSE)","v":58},"12750-13250","x",null,null,null,null,null,null,null,null,null,null,0,337,null,"ERC/REC 12-02",null,null,null,1,18,46]
["Norway",{"$f":"VLOOKUP(A668, 'Country names'!$A$5:$C$53,3,FALSE)","v":"NOR"},{"$f":"VLOOKUP(D668,BandList!$A$2:$B$110,2,FALSE)","v":58},"12750-13250",null,"x",null,null,null,null,null,null,null," x",null,0,1077,null,null,null,"x"]
["Norway",{"$f":"VLOOKUP(A669, 'Country names'!$A$5:$C$53,3,FALSE)","v":"NOR"},{"$f":"VLOOKUP(D669,BandList!$A$2:$B$110,2,FALSE)","v":59},"14250-14500",null,"x",null,null,null,null,null,null,null,"x"]
["Norway",{"$f":"VLOOKUP(A670, 'Country names'!$A$5:$C$53,3,FALSE)","v":"NOR"},{"$f":"VLOOKUP(D670,BandList!$A$2:$B$110,2,FALSE)","v":60},"14500-14620 and 15230-15350",null,"x",null,null,null,null,null,null,null,"x"]
["Norway",{"$f":"VLOOKUP(A671, 'Country names'!$A$5:$C$53,3,FALSE)","v":"NOR"},{"$f":"VLOOKUP(D671,BandList!$A$2:$B$110,2,FALSE)","v":64},"17700-19700","x",null,null,null,null,null,null,null,null,null,null,0,225,null,"ERC/REC 12-03"]
["Norway",{"$f":"VLOOKUP(A672, 'Country names'!$A$5:$C$53,3,FALSE)","v":"NOR"},{"$f":"VLOOKUP(D672,BandList!$A$2:$B$110,2,FALSE)","v":64},"17700-19700",null,"x",null,null,null,null,null,null,null,null,null,null,630,null,null,null,"x","x",1,11,38,10]
["Norway",{"$f":"VLOOKUP(A673, 'Country names'!$A$5:$C$53,3,FALSE)","v":"NOR"},{"$f":"VLOOKUP(D673,BandList!$A$2:$B$110,2,FALSE)","v":68},"22000-22600 and 23000-23600","x",null,null,null,null,null,null,null,null,null,null,null,57,null,"T/R 13-02 Annexes A1, A2, A3",null,"x","x",1,6,25,10]
["Norway",{"$f":"VLOOKUP(A674, 'Country names'!$A$5:$C$53,3,FALSE)","v":"NOR"},{"$f":"VLOOKUP(D674,BandList!$A$2:$B$110,2,FALSE)","v":68},"22000-22600 and 23000-23600",null,"x",null,null,null,null,null,null,null,null,null,null,235,null,null,null,"x","x"]
["Norway",{"$f":"VLOOKUP(A675, 'Country names'!$A$5:$C$53,3,FALSE)","v":"NOR"},{"$f":"VLOOKUP(D675,BandList!$A$2:$B$110,2,FALSE)","v":72},"24250-24500",null,null,null,"x"]
["Norway",{"$f":"VLOOKUP(A676, 'Country names'!$A$5:$C$53,3,FALSE)","v":"NOR"},{"$f":"VLOOKUP(D676,BandList!$A$2:$B$110,2,FALSE)","v":75},"24500-26500","x",null,null,null,null,null,null,null,null,null,null,0,18,null,"T/R 13-02 Annex B",null,"x","x",3,5,10]
["Norway",{"$f":"VLOOKUP(A677, 'Country names'!$A$5:$C$53,3,FALSE)","v":"NOR"},{"$f":"VLOOKUP(D677,BandList!$A$2:$B$110,2,FALSE)","v":75},"24500-26500",null,"x",null,null,null,null,null,null,null,null,null,null,410]
["Norway",{"$f":"VLOOKUP(A678, 'Country names'!$A$5:$C$53,3,FALSE)","v":"NOR"},{"$f":"VLOOKUP(D678,BandList!$A$2:$B$110,2,FALSE)","v":78},"27500-29500","x",null,null,null,null,null,null,null,null,null,null,0,1,null,"T/R 13-02 Annex C",null,"x","x"]
["Norway",{"$f":"VLOOKUP(A679, 'Country names'!$A$5:$C$53,3,FALSE)","v":"NOR"},{"$f":"VLOOKUP(D679,BandList!$A$2:$B$110,2,FALSE)","v":78},"27500-29500",null,"x"]
["Norway",{"$f":"VLOOKUP(A680, 'Country names'!$A$5:$C$53,3,FALSE)","v":"NOR"},{"$f":"VLOOKUP(D680,BandList!$A$2:$B$110,2,FALSE)","v":82},"31800-33400","x","x",null,null,null,null,null,null,null,null,null,null,null,null,"ERC/REC/(01)02",null,"x","x"]
["Norway",{"$f":"VLOOKUP(A681, 'Country names'!$A$5:$C$53,3,FALSE)","v":"NOR"},{"$f":"VLOOKUP(D681,BandList!$A$2:$B$110,2,FALSE)","v":86},"37000-39500","x",null,null,null,null,null,null,null,null,null,null,null,28,null,"T/R 12-01",null,"x","x"]
["Norway",{"$f":"VLOOKUP(A682, 'Country names'!$A$5:$C$53,3,FALSE)","v":"NOR"},{"$f":"VLOOKUP(D682,BandList!$A$2:$B$110,2,FALSE)","v":86},"37000-39500",null,"x",null,null,null,null,null,null,null,null,null,null,null,null,null,null,"x","x"]
["Norway",{"$f":"VLOOKUP(A683, 'Country names'!$A$5:$C$53,3,FALSE)","v":"NOR"},{"$f":"VLOOKUP(D683,BandList!$A$2:$B$110,2,FALSE)","v":88},"40500-43500",null,"x",null,null,null,null,null,null,null,null,null,null,null,null,"ECC/REC/(01)04",null,"x","x"]
["Norway",{"$f":"VLOOKUP(A684, 'Country names'!$A$5:$C$53,3,FALSE)","v":"NOR"},{"$f":"VLOOKUP(D684,BandList!$A$2:$B$110,2,FALSE)","v":96},"57000-59000",null,null,null,"x",null,null,null,null,null,null,null,null,null,null,"ECC/REC/(09)01"]
["Norway",{"$f":"VLOOKUP(A685, 'Country names'!$A$5:$C$53,3,FALSE)","v":"NOR"},{"$f":"VLOOKUP(D685,BandList!$A$2:$B$110,2,FALSE)","v":101},"59000-64000",null,null,null,"x",null,null,null,null,null,null,null,null,null,null,"ECC/REC/(09)01"]
["Norway",{"$f":"VLOOKUP(A686, 'Country names'!$A$5:$C$53,3,FALSE)","v":"NOR"},{"$f":"VLOOKUP(D686,BandList!$A$2:$B$110,2,FALSE)","v":103},"64000-66000",null,null,null,"x",null,null,null,null,null,null,null,null,null,null,"ECC/REC/(05)02"]
["Norway",{"$f":"VLOOKUP(A687, 'Country names'!$A$5:$C$53,3,FALSE)","v":"NOR"},{"$f":"VLOOKUP(D687,BandList!$A$2:$B$110,2,FALSE)","v":104},"71000-76000 and 81000-86000","x",null,null,null,null,null,null,null,null,null,null,null,6,null,"ECC/REC/(05)07",null,null,"x"]

{"sheet":"Italy","index":9,"n_rows":30,"n_cols":38,"rows_kept":30,"cut":false,"hidden":false,"merged":[[0,9,0,10],[0,12,0,28],[0,29,0,32],[1,12,1,18],[1,19,1,28],[0,0,2,0],[0,2,0,3],[0,4,0,8],[1,2,1,3],[1,4,1,5]]}
["Frequency band (MHz)","Licensing regime"," Topo-logy",null,"Application",null,null,null,null,"Number of P-P links",null,"Channel/Frequency plan used (e.g. ERC/ECC Rec. ITU-R Rec.)","Link characteristics",null,null,null,null,null,null,null,null,null,null,null,null,null,null,null,null,"Future trends (e.g. in the next 5 years)"]
[null,null,"FWA",null,"Network Infrastruc-ture",null,null,null,null,null,null,null,"Capacity and Adaptive Capacity",null,null,null,null,null,null,"Hop length (km)"]
[null,"Link by link","P-P","P-MP","Mobile backhaul","Others","Broadcasting Infrastructure","No Information available on the application","Other (please indicate)","unidirection","bidirectional (1 bidirectional link counts 1)",null,"LOW (<10 Mbit/s)","BETWEEN <10 Mbit/s and <100 Mbit/s","MEDIUM (10 to 100 Mbit/s)","BETWEEN 10 Mbit/s and <100 Mbit/s","BETWEEN 10 Mbit/s and >100 Mbit/s","HIGH (>=100 Mbit/s)","BETWEEN >=100 Mbit/s and >100 Mbit/s","Km <10","Km between 10 and 20","Km  between 20 and 30","Km  between 30 and 40","Km between 40 and 50","Km  between 50 and 230","Km>230","MIN","Typical figure","MAX","Anticipated growth/reduction (+/-%)","Currently congested","Planned reallocation to other service/application","Other (please describe)\n(see Question 3 of the Questionnaire)","Other (please describe)\n(see Question 3 of the Questionnaire)"]
["5925-7125","X","X",null,"X","X","X",null,null,null,1319,"ERC/REC 14-01 and ERC/REC 14-02, ECC/REC(14)06",0,0,399,1,191,635,93,16,207,353,275,159,143,166,6.3869999999999996,31.5,59.38,"+10/20",null,null,null,null,null,null,null,1]
["7125-7750","X","X",null,"X","X","X",null,null,null,3379,"ECC REC (02)06",4,0,1418,10,744,905,298,91,780,1224,666,345,130,143,4.593,31.25,57.98,"+10/20"]
["10700-11700","X","X",null,"X","X","X",null,null,null,7436,"ERC/REC 12-06",0,0,1350,2,1622,4214,248,1648,4103,1188,338,93,33,33,1.462,21.75,32.83,"+10/20"]
["12750-13250","X","X",null,"X","X","X",null,null,null,10663,"ERC/REC 12-02",93,31,4383,49,3674,1544,889,3034,6172,1270,139,27,5,16,1.0129999999999999,18.75,32.700000000000003,"+10/20"]
["14250-14500","X","X",null,null,null,"X",null,null,1089,null,"ch. Spacing 20 MHz, D.M. 07-10-1986",null,null,1089,null,null,null,null,null,null,null,null,null,null,null,5,null,25,"+10","Y","N"]
["14500-14620 and 15230-15350","X","X",null,"X","X","X",null,null,null,6256,"ERC/REC 12-07",152,2,3012,44,2827,168,51,3742,2422,67,10,5,0,10,0.95099999999999996,13.333,22.52,"+10/20"]
["17700-19700","X","X",null,"X","X","X",null,null,null,21374,"ERC/REC 12-03",251,6,5078,422,7327,6032,2258,19535,1775,41,5,2,0,16,0.27100000000000002,8.75,16.821999999999999,"+10/20"]
["22000-22600 and 23000-23600","X","X",null,"X","X","X",null,null,null,15778,"T/R 13-02 Annexes A1, A2, A3",189,16,5156,633,6930,1580,1274,15698,57,2,1,1,1,18,0.12,6.5,12.21,"+10/20"]
["37000-39500","X","X",null,"X","X","X",null,null,null,13585,"T/R 12-01",65,13,4838,382,5756,1186,1345,13571,2,1,0,2,0,9,0.1,3.875,9.3000000000000007,"+10/20"]
["40500-43500","X","X",null,"X","X","X",null,null,null,1580,"ECC/REC/(01)04",0,0,23,51,1021,66,419,1579,1,0,0,0,0,0,"0.080",2,3.9,"+10/20"]
["71000-76000 and 81000-86000","X","X",null,"X","X","X",null,null,null,8,"ECC/REC/(05)07",0,0,1,0,3,1,3,8,0,0,0,0,0,0,0.14399999999999999,0.5,1.4359999999999999,"+10/20"]
[]
[]
[]
[null,"Rev. Feb 2017 (14.250 - 14.500 info inserted and sheet formatted as ETSI Questionnaire)"]
[]
["5925-7125","X",null,null,"X",null,"X","X","X",null,null,null,1319,null,"ERC/REC 14-01 and ERC/REC 14-02, ECC/REC(14)06",0,591,728,6.3869999999999996,31.5,59.38,"+10/20"]
["7125-7750","X",null,null,"X",null,"X","X","X",null,null,null,3379,null,"ECC REC (02)06",4,2172,1203,4.593,31.25,57.98,"+10/20"]
["10700-11700","X",null,null,"X",null,"X","X","X",null,null,null,7436,null,"ERC/REC 12-06",0,2974,4462,1.462,21.75,32.83,"+10/20"]
["12750-13250","X",null,null,"X",null,"X","X","X",null,null,null,10663,null,"ERC/REC 12-02",93,8137,2433,1.0129999999999999,18.75,32.700000000000003,"+10/20"]
["14250-14500","X",null,null,"X",null,null,null,"X",null,null,1089,null,null,"ch. Spacing 20 MHz, D.M. 07-10-1986",null,1089,0,5,null,25,"+10","Y","N"]
["14500-14620 and 15230-15350","X",null,null,"X",null,"X","X","X",null,null,null,6256,null,"ERC/REC 12-07",152,5885,219,0.95099999999999996,13.333,22.52,"+10/20"]
["17700-19700","X",null,null,"X",null,"X","X","X",null,null,null,21374,null,"ERC/REC 12-03",251,12833,8290,0.27100000000000002,8.75,16.821999999999999,"+10/20"]
["22000-22600 and 23000-23600","X",null,null,"X",null,"X","X","X",null,null,null,15778,null,"T/R 13-02 Annexes A1, A2, A3",189,12735,2854,0.12,6.5,12.21,"+10/20"]
["37000-39500","X",null,null,"X",null,"X","X","X",null,null,null,13585,null,"T/R 12-01",65,10989,2531,0.1,3.875,9.3000000000000007,"+10/20"]
["40500-43500","X",null,null,"X",null,"X","X","X",null,null,null,1580,null,"ECC/REC/(01)04",0,1095,485,"0.080",2,3.9,"+10/20"]
["71000-76000 and 81000-86000","X",null,null,"X",null,"X","X","X",null,null,null,8,null,"ECC/REC/(05)07",0,4,4,0.14399999999999999,0.5,1.4359999999999999,"+10/20"]

{"sheet":"Portugal","index":10,"n_rows":53,"n_cols":28,"rows_kept":53,"cut":false,"hidden":false,"merged":[[0,24,1,27],[3,2,4,2],[0,2,2,2],[0,17,2,17],[0,3,1,6],[0,7,1,8],[0,9,1,13],[0,14,1,15],[0,16,1,16],[0,18,0,23],[1,18,1,20],[1,21,1,23],[28,2,29,2],[5,24,5,27],[10,24,10,27],[11,24,11,27],[12,2,14,2],[14,24,14,27],[15,2,18,2],[37,24,37,27],[20,24,20,27],[21,24,21,27],[23,24,23,27],[25,24,25,27],[27,24,27,27],[30,24,30,27],[33,24,33,27],[34,24,34,27],[35,24,35,27],[36,24,36,27],[48,24,48,27],[49,24,49,27],[50,24,50,27],[52,24,52,27],[38,24,38,27],[39,24,39,27],[42,24,42,27],[44,24,44,27],[46,24,46,27],[47,24,47,27]]}
[null,null,"Frequency band (MHz)","Licensing regime",null,null,null,"Topo- logy",null,"Application",null,null,null,null,"Number of P-P links",null,"Number of CS","Channel/frequency plan used (e.g. ERC/ECC Rec., ITU-R Rec.)","Link characteristics",null,null,null,null,null,"Future trends in the next 5 years"]
[null,null,null,null,null,null,null,null,null,null,null,null,null,null,null,null,null,null,"Capacity",null,null,"Hop lenght (km)"]
[null,null,null,"Link by link","Block","Light licensed","Licence exempt","P-P","P-MP (FWA systems)","Mobile backhaul","Others","Broadcasting Infrastructure","No Information available on the application","Other (please indicate)","Unidirectional","Bidirectional\n(1 bidirectional link = counts 1; 1 link with more than 1 channel = counts 1)","(applicable only for P-MP and mesh networks)",null,"LOW (<10 Mbit/s)","MEDIUM (10 to 100 Mbit/s)","HIGH (>100 Mbit/s)","MIN","Typical figure","MAX","Anticipated growth/reduction (+/-%)","Currently congested","Planned relocation to other service/application","Other (please describe)\n(see Question 3 of the Questionnaire)"]
["Portugal",{"$f":"VLOOKUP(Portugal!A4, 'Country names'!$A$5:$C$53,3,FALSE)","v":"POR"},"1350-1375 and 1492-1517","X",null,null,null,"X",null,null,null,null,null,null,null,92,null,"T/R 13-01 Annex A","X",null,null,5,"20",50,0]
["Portugal",{"$f":"VLOOKUP(Portugal!A5, 'Country names'!$A$5:$C$53,3,FALSE)","v":"POR"},null,"X",null,null,null,null,"X",null,null,null,null,null,null,null,9,"T/R 13-01 Annex A","X",null,null,5,"10",25,-100]
["Portugal",{"$f":"VLOOKUP(Portugal!A6, 'Country names'!$A$5:$C$53,3,FALSE)","v":"POR"},"1375-1400 and 1427-1452","X",null,null,null,"X","X",null,null,null,null,null,null,null,null,"T/R 13-01 Annex B","X",null,null,null,null,null,"Planned"]
["Portugal",{"$f":"VLOOKUP(Portugal!A7, 'Country names'!$A$5:$C$53,3,FALSE)","v":"POR"},"1517-1525","X",null,null,null,null,null,null,null,"X",null,null,347,null,null,"National plan (STL)","X",null,null,5,"15",30,5]
["Portugal",{"$f":"VLOOKUP(Portugal!A8, 'Country names'!$A$5:$C$53,3,FALSE)","v":"POR"},"2025-2110 and 2200-2290","X",null,null,null,"X",null,null,null,"X",null,"TCR, SAP/SAB",null,11,null,"T/R 13-01 Annex C","X",null,null,5,"30",190,0]
["Portugal",{"$f":"VLOOKUP(Portugal!A9, 'Country names'!$A$5:$C$53,3,FALSE)","v":"POR"},"3400-3600",null,"X",null,null,null,"X",null,null,null,null,"BWA (3.3 - 3.6GHz)",null,null,"44meo","ERC/REC 14-03","X","X",null,1,"10",20,-50]
["Portugal",{"$f":"VLOOKUP(Portugal!A10, 'Country names'!$A$5:$C$53,3,FALSE)","v":"POR"},"3600-4200",null,"X",null,null,null,"X",null,null,null,null,"FSS, VSAT (3.8-4.2 GHz)",null,null,"2zax","ERC/REC 12-08","X","X",null,1,"10",20,-100]
["Portugal",{"$f":"VLOOKUP(Portugal!A11, 'Country names'!$A$5:$C$53,3,FALSE)","v":"POR"},"4400-5000",null,null,null,null,null,null,null,null,null,null,"Military"]
["Portugal",{"$f":"VLOOKUP(Portugal!A12, 'Country names'!$A$5:$C$53,3,FALSE)","v":"POR"},"5850-5925",null,null,null,"X",null,null,null,null,null,null,"ISM, SRD"]
["Portugal",{"$f":"VLOOKUP(Portugal!A13, 'Country names'!$A$5:$C$53,3,FALSE)","v":"POR"},"5925-7125","X",null,null,null,"X",null,"X","X",null,null,"VSAT, SRD",null,6,null,"ERC/REC 14-01",null,"X","X",15,"30",70,5]
["Portugal",{"$f":"VLOOKUP(Portugal!A14, 'Country names'!$A$5:$C$53,3,FALSE)","v":"POR"},null,"X",null,null,null,"X",null,"X","X",null,null,"VSAT, SRD",null,7,null,"ERC/REC 14-02",null,"X","X",15,"30",70,5]
["Portugal",{"$f":"VLOOKUP(Portugal!A15, 'Country names'!$A$5:$C$53,3,FALSE)","v":"POR"},null,"X",null,null,null,"X",null,null,null,null,null,"VSAT, SRD",null,null,null,"ECC/REC(14)06","X",null,null,10,"20",70,"Planned"]
["Portugal",{"$f":"VLOOKUP(Portugal!A16, 'Country names'!$A$5:$C$53,3,FALSE)","v":"POR"},"7125-7750","X",null,null,null,"X",null,null,"X",null,null,"FSS, Military (7.25-7.3 GHz)",null,4,null,"7 LOW: ITU-R F.385","X",null,null,15,"30",50,-100]
["Portugal",{"$f":"VLOOKUP(Portugal!A17, 'Country names'!$A$5:$C$53,3,FALSE)","v":"POR"},null,"X",null,null,null,"X",null,"X",null,null,null,"FSS, Military (7.25-7.3 GHz)",null,286,null,"7 LOW: ECC REC (02)06","X","X","X",10,"25",40,10]
["Portugal",{"$f":"VLOOKUP(Portugal!A18, 'Country names'!$A$5:$C$53,3,FALSE)","v":"POR"},null,"X",null,null,null,"X",null,null,"X",null,null,"FSS",null,4,null,"7 HIGH: ITU-R F.385","X",null,null,15,"30",50,-100]
["Portugal",{"$f":"VLOOKUP(Portugal!A19, 'Country names'!$A$5:$C$53,3,FALSE)","v":"POR"},null,"X",null,null,null,"X",null,"X","X",null,null,"FSS",null,103,null,"7 HIGH: ECC REC (02)06","X","X","X",10,"25",40,10]
["Portugal",{"$f":"VLOOKUP(Portugal!A20, 'Country names'!$A$5:$C$53,3,FALSE)","v":"POR"},"7750-7900","X",null,null,null,"X",null,"X","X",null,null,null,null,141,null,"8 LOW: ECC REC (02)06",null,"X","X",10,"25",50,10]
["Portugal",{"$f":"VLOOKUP(Portugal!A21, 'Country names'!$A$5:$C$53,3,FALSE)","v":"POR"},"7900-8500","X",null,null,null,"X",null,null,null,null,null,"FSS, EESS, Military (7.975-8.025 GHz)",null,null,null,"8 HIGH: ECC REC (02)06","X","X",null,null,null,null,"Planned"]
["Portugal",{"$f":"VLOOKUP(Portugal!A22, 'Country names'!$A$5:$C$53,3,FALSE)","v":"POR"},"10000-10680",null,null,null,null,null,null,null,null,null,null,"AM, SAP/SAB, SRD",null,null,null,"ERC/REC 12-05"]
["Portugal",{"$f":"VLOOKUP(Portugal!A23, 'Country names'!$A$5:$C$53,3,FALSE)","v":"POR"},"10700-11700","X",null,null,null,"X",null,"X","X","X",null,"FSS, VSAT, SNG, SIT, AES, Euteltracs",null,97,null,"ERC/REC 12-06",null,"X","X",5,"20",40,-10]
["Portugal",{"$f":"VLOOKUP(Portugal!A24, 'Country names'!$A$5:$C$53,3,FALSE)","v":"POR"},"11700-12500",null,null,null,null,null,null,null,null,null,null,"RAD-S, SIT"]
["Portugal",{"$f":"VLOOKUP(Portugal!A25, 'Country names'!$A$5:$C$53,3,FALSE)","v":"POR"},"12750-13250","X",null,null,null,"X",null,"X","X",null,null,"FSS",null,357,null,"ERC/REC 12-02","X","X","X",5,"15",40,5]
["Portugal",{"$f":"VLOOKUP(Portugal!A26, 'Country names'!$A$5:$C$53,3,FALSE)","v":"POR"},"14250-14500",null,null,null,null,null,null,null,null,null,null,"FSS, VSAT, SNG, AES"]
["Portugal",{"$f":"VLOOKUP(Portugal!A27, 'Country names'!$A$5:$C$53,3,FALSE)","v":"POR"},"14500-14620 and 15230-15350","X",null,null,null,"X",null,"X","X",null,null,null,null,189,null,"ERC/REC 12-07","X","X","X",5,"15",30,5]
["Portugal",{"$f":"VLOOKUP(Portugal!A28, 'Country names'!$A$5:$C$53,3,FALSE)","v":"POR"},"17300-17700",null,null,null,null,null,null,null,null,null,null,"FSS, HDFSS"]
["Portugal",{"$f":"VLOOKUP(Portugal!A29, 'Country names'!$A$5:$C$53,3,FALSE)","v":"POR"},"17700-19700","X",null,null,null,"X",null,"X","X",null,null,"FSS",null,251,null,"ITU-R F.595","X","X",null,3,"10",20,5]
["Portugal",{"$f":"VLOOKUP(Portugal!A30, 'Country names'!$A$5:$C$53,3,FALSE)","v":"POR"},null,"X",null,null,null,"X",null,"X","X","X",null,"FSS",null,1628,null,"ERC/REC 12-03",null,"X","X",3,"10",20,20]
["Portugal",{"$f":"VLOOKUP(Portugal!A31, 'Country names'!$A$5:$C$53,3,FALSE)","v":"POR"},"21200-22000",null,null,null,null,null,null,null,null,null,null,"SRR"]
["Portugal",{"$f":"VLOOKUP(Portugal!A32, 'Country names'!$A$5:$C$53,3,FALSE)","v":"POR"},"22000-22600 and 23000-23600","X",null,null,null,"X",null,"X","X",null,null,"SRR",null,1047,null,"T/R 13-02 Annexes A1","X","X","X",1,"5",15,10]
["Portugal",{"$f":"VLOOKUP(Portugal!A33, 'Country names'!$A$5:$C$53,3,FALSE)","v":"POR"},"22600-23000","X",null,null,null,"X",null,null,null,null,null,"SRR",null,null,null,"T/R 13-02 Annexes A2, A3",null,null,null,null,null,null,"No use at the moment."]
["Portugal",{"$f":"VLOOKUP(Portugal!A34, 'Country names'!$A$5:$C$53,3,FALSE)","v":"POR"},"24250-24500",null,null,null,null,null,null,null,null,null,null,"SRR, SRD"]
["Portugal",{"$f":"VLOOKUP(Portugal!A35, 'Country names'!$A$5:$C$53,3,FALSE)","v":"POR"},"24500-26500",null,"X",null,null,null,"X","X",null,null,null,"SRR, SRD, Military (25.25-25.492 GHz and 26.25-27.5 GHz)",null,null,null,"T/R 13-02 Annex B","X","X",null,null,"5",null,"No use at the moment."]
["Portugal",{"$f":"VLOOKUP(Portugal!A36, 'Country names'!$A$5:$C$53,3,FALSE)","v":"POR"},"26500-27500",null,null,null,null,null,null,null,null,null,null,"SRR, SRD, Military (26.25-27.5 GHz)"]
["Portugal",{"$f":"VLOOKUP(Portugal!A37, 'Country names'!$A$5:$C$53,3,FALSE)","v":"POR"},"27500-29500",null,"X",null,null,null,"X",null,null,"X",null,"FSS, HDFSS",null,null,null,"T/R 13-02 Annex C",null,"X",null,null,"5",null,"No use at the moment."]
["Portugal",{"$f":"VLOOKUP(Portugal!A38, 'Country names'!$A$5:$C$53,3,FALSE)","v":"POR"},"31000-31300",null,null,null,null,null,null,null,null,null,null,null,null,null,null,"ECC/REC/(02)02",null,null,null,null,null,null,"Planned"]
["Portugal",{"$f":"VLOOKUP(Portugal!A39, 'Country names'!$A$5:$C$53,3,FALSE)","v":"POR"},"31800-33400","X",null,null,null,"X","X",null,null,null,null,null,null,null,null,"ERC/REC/(01)02",null,null,null,null,null,null,"Planned"]
["Portugal",{"$f":"VLOOKUP(Portugal!A40, 'Country names'!$A$5:$C$53,3,FALSE)","v":"POR"},"36000-37000",null,null,null,null,null,null,null,null,null,"X","Military"]
["Portugal",{"$f":"VLOOKUP(Portugal!A41, 'Country names'!$A$5:$C$53,3,FALSE)","v":"POR"},"37000-39500","X",null,null,null,"X",null,"X","X",null,null,"FS",null,425,null,"T/R 12-01","X","X","X",0.1,"2",6,5]
["Portugal",{"$f":"VLOOKUP(Portugal!A42, 'Country names'!$A$5:$C$53,3,FALSE)","v":"POR"},"39500-40500",null,null,null,null,null,null,null,null,null,null,"HDFSS"]
["Portugal",{"$f":"VLOOKUP(Portugal!A43, 'Country names'!$A$5:$C$53,3,FALSE)","v":"POR"},"40500-43500","?","?",null,null,"X","X",null,null,null,null,"MWS, MVDS",null,null,null,"ECC/REC/(01)04",null,null,null,null,null,null,"Planned"]
["Portugal",{"$f":"VLOOKUP(Portugal!A44, 'Country names'!$A$5:$C$53,3,FALSE)","v":"POR"},"47200-48500",null,null,null,null,null,null,null,null,null,null,"HDFSS (47.5-47.9 GHz)"]
["Portugal",{"$f":"VLOOKUP(Portugal!A45, 'Country names'!$A$5:$C$53,3,FALSE)","v":"POR"},"48500-50200","?","?",null,null,"X","X",null,null,null,null,"HDFSS (48.2-48.54 GHz and 49.44-50.2 GHz)",null,null,null,"ERC/REC 12-11",null,null,null,null,null,null,"Planned"]
["Portugal",{"$f":"VLOOKUP(Portugal!A46, 'Country names'!$A$5:$C$53,3,FALSE)","v":"POR"},"50400-51400"]
["Portugal",{"$f":"VLOOKUP(Portugal!A47, 'Country names'!$A$5:$C$53,3,FALSE)","v":"POR"},"51400-52600","?","?",null,null,"X","X",null,null,null,null,null,null,null,null,"ERC/REC 12-11",null,null,null,null,null,null,"Planned"]
["Portugal",{"$f":"VLOOKUP(Portugal!A48, 'Country names'!$A$5:$C$53,3,FALSE)","v":"POR"},"55780-57000","?","?",null,null,"X","X",null,null,null,null,"EESS",null,null,null,"ERC/REC 12-12",null,null,null,null,null,null,"Planned"]
["Portugal",{"$f":"VLOOKUP(Portugal!A49, 'Country names'!$A$5:$C$53,3,FALSE)","v":"POR"},"57000-59000","?","?",null,null,"X","X",null,null,null,null,"EESS, SRD",null,null,null,"ECC/REC/(09)01",null,null,null,null,null,null,"Planned"]
["Portugal",{"$f":"VLOOKUP(Portugal!A50, 'Country names'!$A$5:$C$53,3,FALSE)","v":"POR"},"59000-64000","?","?",null,null,"X","X",null,null,null,null,"SRD, ISM, Military (59-61 GHz)",null,null,null,"ECC/REC/(09)01",null,null,null,null,null,null,"Planned"]
["Portugal",{"$f":"VLOOKUP(Portugal!A51, 'Country names'!$A$5:$C$53,3,FALSE)","v":"POR"},"64000-66000","?","?",null,null,"X","X",null,null,null,null,null,null,null,null,"ECC/REC/(05)02",null,null,null,null,null,null,"Planned"]
["Portugal",{"$f":"VLOOKUP(Portugal!A52, 'Country names'!$A$5:$C$53,3,FALSE)","v":"POR"},"71000-76000 and 81000-86000","?","?",null,null,"X","X",null,"X",null,null,"SRD, AM (75.5-76 GHz), Military (71-74 GHz and 81-84 GHz)",null,1,null,"ECC/REC/(05)07",null,null,"X",0.01,"0,3",1,1000]
["Portugal",{"$f":"VLOOKUP(Portugal!A53, 'Country names'!$A$5:$C$53,3,FALSE)","v":"POR"},"92000-95000","?","?",null,null,"X","X",null,null,null,null,null,null,null,null,"ECC/REC/(14)01",null,null,null,null,null,null,"Planned"]

{"sheet":"Bulgaria","index":11,"n_rows":28,"n_cols":28,"rows_kept":28,"cut":false,"hidden":false,"merged":[[0,2,2,2],[0,3,0,6],[0,7,0,8],[0,9,0,13],[0,14,0,15],[0,18,0,23],[0,24,0,27],[1,7,1,8],[1,9,1,10],[1,18,1,20],[1,21,1,23],[0,17,2,17]]}
[null,null,"Frequency band (MHz)","Licensing regime",null,null,null," Topo-logy",null,"Application",null,null,null,null,"Number of P-P links",null,"Number of CS","Channel/Frequency plan used (e.g. ERC/ECC Rec. ITU-R Rec.)","Link characteristics",null,null,null,null,null,"Future trends (e.g. in the next 5 years)"]
[null,null,null,null,null,null,null,"FWA",null,"Network Infrastruc-ture",null,null,null,null,null,null,null,null,"Capacity",null,null,"Hop length (km)"]
[null,null,null,"Link by link","Block","Light licensed","Licence exempt","P-P","P-MP","Mobile backhaul","Others","Broadcasting Infrastructure","No Information available on the application","Other (please indicate)","unidirection","bidirectional (1 bidirectional link counts 1)","(applicable only for P-MP and mesh networks)",null,"LOW (<10 Mbit/s)","MEDIUM (10 to 100 Mbit/s)","HIGH (>100 Mbit/s)","MIN","Typical figure","MAX","Anticipated growth/reduction (+/-%)","Currently congested","Planned reallocation to other service/application","Other (please describe)\n(see Question 3 of the Questionnaire)"]
["Bulgaria",{"$f":"VLOOKUP(A4, 'Country names'!$A$5:$C$53,3,FALSE)","v":"BUL"},"3600-3800","X",null,null,null,"X",null,null,"X",null,null,null,0,14,null,"ERC/REC 12-08, Annex B, Part 2",null,"X",null,13,51,73,null,null,null,"Reallocate to another suitable frequency band"]
["Bulgaria",{"$f":"VLOOKUP(A5, 'Country names'!$A$5:$C$53,3,FALSE)","v":"BUL"},"3800-4200","X",null,null,null,"X",null,null,null,null,null,null,0,0,null,"ERC/REC 12-08, Annex B, Part 1","-","-","-","-","-","-"]
["Bulgaria",{"$f":"VLOOKUP(A6, 'Country names'!$A$5:$C$53,3,FALSE)","v":"BUL"},"5925-6425","X",null,null,null,"X",null,"X","X",null,null,null,0,232,null,"ERC/REC 14-01, Annex 1",null,null,"X",6,32,70,null,"X",null,"Currently congested for area of capital - Sofia"]
["Bulgaria",{"$f":"VLOOKUP(A7, 'Country names'!$A$5:$C$53,3,FALSE)","v":"BUL"},"6425-7125","X",null,null,null,"X",null,"X","X",null,null,null,0,228,null,"ERC/REC 14-02, Annex 1",null,null,"X",9,30,97,null,"X",null,"Currently congested for area of capital - Sofia"]
["Bulgaria",{"$f":"VLOOKUP(A8, 'Country names'!$A$5:$C$53,3,FALSE)","v":"BUL"},"7125-7425","X",null,null,null,"X",null,"X","X",null,null,null,0,73,null,"ITU-R F.385-8",null,"X","X",20,35,59,"+25 %"]
["Bulgaria",{"$f":"VLOOKUP(A9, 'Country names'!$A$5:$C$53,3,FALSE)","v":"BUL"},"7425-7725","X",null,null,null,"X",null,"X",null,null,null,null,0,404,null,"ITU-R F.385-8","X","X","X",18,30,98,"+25 %"]
["Bulgaria",{"$f":"VLOOKUP(A10, 'Country names'!$A$5:$C$53,3,FALSE)","v":"BUL"},"7725-7875","X",null,null,null,"X",null,"X",null,null,null,null,0,454,null,"ITU-R F.386-9 and national plan","X","X","X",7,22,58,"+10 %"]
["Bulgaria",{"$f":"VLOOKUP(A11, 'Country names'!$A$5:$C$53,3,FALSE)","v":"BUL"},"7900-8500","X",null,null,null,"X",null,null,"X",null,null,null,0,19,null,"ECC REC (02)06, Annex 2",null,"X",null,15,34,61,"+200 %"]
["Bulgaria",{"$f":"VLOOKUP(A12, 'Country names'!$A$5:$C$53,3,FALSE)","v":"BUL"},"10150-10680","X",null,null,null,"X",null,null,null,"X",null,null,53,1,null,"ERC/REC 12-05, Annex A","X",null,null,0.2,7,42,"+10 %"]
["Bulgaria",{"$f":"VLOOKUP(A13, 'Country names'!$A$5:$C$53,3,FALSE)","v":"BUL"},"10755-11725","X",null,null,null,"X",null,"X","X",null,null,null,5,242,null,"ITU-R F.387-12",null,"X","X",3,16,46,"+25 %"]
["Bulgaria",{"$f":"VLOOKUP(A14, 'Country names'!$A$5:$C$53,3,FALSE)","v":"BUL"},"11725-12500","X",null,null,null,"X",null,null,"X",null,null,null,3,0,null,"national plan","X","X",null,2,3,4,null,null,null,"Reallocate to another suitable frequency band"]
["Bulgaria",{"$f":"VLOOKUP(A15, 'Country names'!$A$5:$C$53,3,FALSE)","v":"BUL"},"12750-13250","X",null,null,null,"X",null,"X","X",null,null,null,0,1135,null,"ERC/REC 12-02","X","X","X",2,15,59,"+25 %"]
["Bulgaria",{"$f":"VLOOKUP(A16, 'Country names'!$A$5:$C$53,3,FALSE)","v":"BUL"},"17700-19700","X",null,null,null,"X",null,"X","X",null,null,null,0,2798,null,"ERC/REC 12-03","X","X","X",0.2,10,36,"+50 %"]
["Bulgaria",{"$f":"VLOOKUP(A17, 'Country names'!$A$5:$C$53,3,FALSE)","v":"BUL"},"22008-23576","X",null,null,null,"X",null,"X","X",null,null,null,0,903,null,"T/R 13-02, Annex A","X","X","X",0.2,5,21,"+25 %"]
["Bulgaria",{"$f":"VLOOKUP(A18, 'Country names'!$A$5:$C$53,3,FALSE)","v":"BUL"},"24500-26500","X","X",null,null,"X","X","X",null,null,null,null,0,469,1472,"T/R 13-02 Annex B for P-P and ECC/REC (00) 05 for P-MP","X","X","X",0.06,4,15,"+25 %"]
["Bulgaria",{"$f":"VLOOKUP(A19, 'Country names'!$A$5:$C$53,3,FALSE)","v":"BUL"},"27500-29500","X",null,null,null,"X",null,"X",null,null,null,null,0,946,null,"T/R 13-02 Annex C","X","X","X",7.0000000000000007E-2,2,10,"+50 %"]
["Bulgaria",{"$f":"VLOOKUP(A20, 'Country names'!$A$5:$C$53,3,FALSE)","v":"BUL"},"31000-31300","X",null,null,null,"X",null,null,null,null,null,null,0,0,null,"ECC/REC/(02)02","-","-","-","-","-","-"]
["Bulgaria",{"$f":"VLOOKUP(A21, 'Country names'!$A$5:$C$53,3,FALSE)","v":"BUL"},"31800-33400","X",null,null,null,"X",null,null,null,null,null,null,0,0,null,"ERC/REC/(01)02","-","-","-","-","-","-"]
["Bulgaria",{"$f":"VLOOKUP(A22, 'Country names'!$A$5:$C$53,3,FALSE)","v":"BUL"},"37000-39500","X",null,null,null,"X",null,"X",null,null,null,null,0,1075,null,"T/R 12-01, Annex A","X","X","X",0.03,1,6,"+50 %"]
["Bulgaria",{"$f":"VLOOKUP(A23, 'Country names'!$A$5:$C$53,3,FALSE)","v":"BUL"},"51400-52600","X",null,null,null,"X",null,null,null,null,null,null,0,0,null,"ERC/REC 12-11","-","-","-","-","-","-"]
["Bulgaria",{"$f":"VLOOKUP(A24, 'Country names'!$A$5:$C$53,3,FALSE)","v":"BUL"},"557800-57000","X",null,null,null,"X",null,null,null,null,null,null,0,0,null,"ERC/REC 12-12, Annex 2","-","-","-","-","-","-"]
["Bulgaria",{"$f":"VLOOKUP(A25, 'Country names'!$A$5:$C$53,3,FALSE)","v":"BUL"},"57000-59000","X",null,null,null,"X",null,null,null,null,null,null,0,0,null,"ECC/REC/(09)01","-","-","-","-","-","-"]
["Bulgaria",{"$f":"VLOOKUP(A26, 'Country names'!$A$5:$C$53,3,FALSE)","v":"BUL"},"59000-64000","X",null,null,null,"X",null,null,null,null,null,null,0,0,null,"ECC/REC/(09)01","-","-","-","-","-","-"]
["Bulgaria",{"$f":"VLOOKUP(A27, 'Country names'!$A$5:$C$53,3,FALSE)","v":"BUL"},"64000-66000","X",null,null,null,"X",null,null,null,null,null,null,0,0,null,"ECC/REC/(05)02","-","-","-","-","-","-"]
["Bulgaria",{"$f":"VLOOKUP(A28, 'Country names'!$A$5:$C$53,3,FALSE)","v":"BUL"},"71000-76000 and 81000-86000","X",null,null,null,"X",null,"X",null,null,null,null,0,52,null,"ECC/REC/(05)07",null,null,"X",0.2,0.8,2,"+500 %"]

{"sheet":"Switzerland","index":12,"n_rows":92,"n_cols":28,"rows_kept":92,"cut":false,"hidden":false,"merged":[[0,24,0,27],[7,2,8,2],[9,2,10,2],[11,2,12,2],[0,2,2,2],[0,3,0,6],[1,7,1,8],[1,9,1,10],[1,18,1,20],[1,21,1,23],[0,17,2,17],[0,7,0,8],[0,9,0,13],[0,14,0,15],[0,18,0,23],[13,2,14,2],[15,2,16,2],[41,2,42,2],[19,2,20,2],[21,2,22,2],[23,2,24,2],[25,2,26,2],[27,2,28,2],[29,2,30,2],[31,2,32,2],[33,2,34,2],[35,2,36,2],[37,2,38,2],[39,2,40,2],[17,2,18,2],[65,2,66,2],[43,2,44,2],[45,2,46,2],[47,2,48,2],[49,2,50,2],[51,2,52,2],[53,2,54,2],[55,2,56,2],[57,2,58,2],[59,2,60,2],[61,2,62,2],[63,2,64,2],[79,2,80,2],[81,2,82,2],[83,2,84,2],[85,2,86,2],[67,2,68,2],[69,2,70,2],[71,2,72,2],[73,2,74,2],[75,2,76,2],[77,2,78,2]]}
[null,null,"Frequency band (MHz)","Licensing regime",null,null,null," Topo-logy",null,"Application",null,null,null,null,"Number of P-P links",null,"Number of CS","Channel/Frequency plan used (e.g. ERC/ECC Rec. ITU-R Rec.)","Link characteristics",null,null,null,null,null,"Future trends (e.g. in the next 5 years)"]
[null,null,null,null,null,null,null,"FWA",null,"Network Infrastruc-ture",null,null,null,null,null,null,null,null,"Capacity",null,null,"Hop length (km)"]
[null,null,null,"Link by link","Block","Light licensed","Licence exempt","P-P","P-MP","Mobile backhaul","Others","Broadcasting Infrastructure","No Information available on the application","Other (please indicate)","unidirection","bidirectional (1 bidirectional link counts 1)","(applicable only for P-MP and mesh networks)",null,"LOW (<10 Mbit/s)","MEDIUM (10 to 100 Mbit/s)","HIGH (>100 Mbit/s)","MIN","Typical figure","MAX","Anticipated growth/reduction (+/-%)","Currently congested","Planned reallocation to other service/application","Other (please describe)\n(see Question 3 of the Questionnaire)"]
["Switzerland",{"$f":"VLOOKUP(A4, 'Country names'!$A$5:$C$53,3,FALSE)","v":"SUI"},"1350-1375 and 1492-1517","x",null,null,null,"x",null,null,"x",null,null,null,null,2,null,"T/R 13-01 Annex A","x",null,null,null,null,null,-100,null,"MFCN"]
["Switzerland",{"$f":"VLOOKUP(A5, 'Country names'!$A$5:$C$53,3,FALSE)","v":"SUI"},"1440-1500","x",null,null,null,"x",null,null,"x",null,null,null,null,39,null,null,"analog",null,null,null,null,null,-100,null,"MFCN"]
["Switzerland",{"$f":"VLOOKUP(A6, 'Country names'!$A$5:$C$53,3,FALSE)","v":"SUI"},"1375-1400 and 1427-1452","x",null,null,null,"x",null,null,"x",null,null,null,null,32,null,"T/R 13-01 Annex B","x /analog",null,null,null,null,null,-100,null,"MFCN"]
["Switzerland",{"$f":"VLOOKUP(A7, 'Country names'!$A$5:$C$53,3,FALSE)","v":"SUI"},"1518 - 1525","x",null,null,null,"x",null,null,null,"x",null,null,24,null,null,null,"x /analog",null,null,1.1000000000000001,16.7,36.6,0]
["Switzerland",{"$f":"VLOOKUP(A8, 'Country names'!$A$5:$C$53,3,FALSE)","v":"SUI"},"2025-2110 and 2200-2290",null,null,null,null,null,null,null,null,null,"x","No civil use, PMSE",null,null,null,"T/R 13-01 Annex C"]
["Switzerland",{"$f":"VLOOKUP(A9, 'Country names'!$A$5:$C$53,3,FALSE)","v":"SUI"}]
["Switzerland",{"$f":"VLOOKUP(A10, 'Country names'!$A$5:$C$53,3,FALSE)","v":"SUI"},"3400-3600","x",null,null,null,null,"x",null,"x",null,null,null,null,null,null,"ERC/REC 14-03",null,null,null,null,null,null,null,null,"MFCN","PMSE"]
["Switzerland",{"$f":"VLOOKUP(A11, 'Country names'!$A$5:$C$53,3,FALSE)","v":"SUI"}]
["Switzerland",{"$f":"VLOOKUP(A12, 'Country names'!$A$5:$C$53,3,FALSE)","v":"SUI"},"3600-4200","x",null,null,null,null,"x",null,"x",null,null,null,null,null,null,"ERC/REC 12-08",null,null,null,null,null,null,null,null,"MFCN"]
["Switzerland",{"$f":"VLOOKUP(A13, 'Country names'!$A$5:$C$53,3,FALSE)","v":"SUI"}]
["Switzerland",{"$f":"VLOOKUP(A14, 'Country names'!$A$5:$C$53,3,FALSE)","v":"SUI"},"4400-5000",null,null,null,null,null,null,null,null,null,"x","No civil use"]
["Switzerland",{"$f":"VLOOKUP(A15, 'Country names'!$A$5:$C$53,3,FALSE)","v":"SUI"}]
["Switzerland",{"$f":"VLOOKUP(A16, 'Country names'!$A$5:$C$53,3,FALSE)","v":"SUI"},"5850-5925",null,null,null,"x","x","x",null,null,null,"x"]
["Switzerland",{"$f":"VLOOKUP(A17, 'Country names'!$A$5:$C$53,3,FALSE)","v":"SUI"}]
["Switzerland",{"$f":"VLOOKUP(A18, 'Country names'!$A$5:$C$53,3,FALSE)","v":"SUI"},"5925-7125","x",null,null,null,"x",null,"x","x","x",null,null,null,46,null,"ERC/REC 14-01 and ERC/REC 14-02, ECC/REC(14)06",null,null,"x",20.2,46.7,75.900000000000006,20]
["Switzerland",{"$f":"VLOOKUP(A19, 'Country names'!$A$5:$C$53,3,FALSE)","v":"SUI"}]
["Switzerland",{"$f":"VLOOKUP(A20, 'Country names'!$A$5:$C$53,3,FALSE)","v":"SUI"},"7125-7750","x",null,null,null,"x",null,"x","x","x",null,null,null,90,null,"ECC REC (02)06",null,"x","x",11.1,30.1,56.5,10]
["Switzerland",{"$f":"VLOOKUP(A21, 'Country names'!$A$5:$C$53,3,FALSE)","v":"SUI"}]
["Switzerland",{"$f":"VLOOKUP(A22, 'Country names'!$A$5:$C$53,3,FALSE)","v":"SUI"},"7750-7900",null,null,null,null,null,null,null,null,null,"x","No civil use"]
["Switzerland",{"$f":"VLOOKUP(A23, 'Country names'!$A$5:$C$53,3,FALSE)","v":"SUI"}]
["Switzerland",{"$f":"VLOOKUP(A24, 'Country names'!$A$5:$C$53,3,FALSE)","v":"SUI"},"7900-8500",null,null,null,null,null,null,null,null,null,"x","No civil use",null,null,null,"ECC REC (02)06"]
["Switzerland",{"$f":"VLOOKUP(A25, 'Country names'!$A$5:$C$53,3,FALSE)","v":"SUI"}]
["Switzerland",{"$f":"VLOOKUP(A26, 'Country names'!$A$5:$C$53,3,FALSE)","v":"SUI"},"10000-10680","x",null,null,null,"x",null,null,"x","x",null,null,null,66,null,"ERC/REC 12-05",null,"x",null,6.6,20.399999999999999,42.5,30]
["Switzerland",{"$f":"VLOOKUP(A27, 'Country names'!$A$5:$C$53,3,FALSE)","v":"SUI"}]
["Switzerland",{"$f":"VLOOKUP(A28, 'Country names'!$A$5:$C$53,3,FALSE)","v":"SUI"},"10700-11700","x",null,null,null,"x",null,"x","x","x",null,null,null,103,null,"ERC/REC 12-06",null,null,"x",9.6,17.7,37.01,30]
["Switzerland",{"$f":"VLOOKUP(A29, 'Country names'!$A$5:$C$53,3,FALSE)","v":"SUI"}]
["Switzerland",{"$f":"VLOOKUP(A30, 'Country names'!$A$5:$C$53,3,FALSE)","v":"SUI"},"11700-12500"]
["Switzerland",{"$f":"VLOOKUP(A31, 'Country names'!$A$5:$C$53,3,FALSE)","v":"SUI"}]
["Switzerland",{"$f":"VLOOKUP(A32, 'Country names'!$A$5:$C$53,3,FALSE)","v":"SUI"},"12750-13250","x",null,null,null,"x",null,"x","x","x",null,null,null,510,null,"ERC/REC 12-02",null,"x",null,5.8,15.3,46.4,50]
["Switzerland",{"$f":"VLOOKUP(A33, 'Country names'!$A$5:$C$53,3,FALSE)","v":"SUI"}]
["Switzerland",{"$f":"VLOOKUP(A34, 'Country names'!$A$5:$C$53,3,FALSE)","v":"SUI"},"14250-14500",null,null,null,null,null,null,null,null,"x",null,"FSS SNG"]
["Switzerland",{"$f":"VLOOKUP(A35, 'Country names'!$A$5:$C$53,3,FALSE)","v":"SUI"}]
["Switzerland",{"$f":"VLOOKUP(A36, 'Country names'!$A$5:$C$53,3,FALSE)","v":"SUI"},"14500-14620 and 15230-15350","x",null,null,null,"x",null,"x","x","x",null,null,null,103,null,"ERC/REC 12-07",null,"x",null,7.6,15.3,29.2,-20]
["Switzerland",{"$f":"VLOOKUP(A37, 'Country names'!$A$5:$C$53,3,FALSE)","v":"SUI"}]
["Switzerland",{"$f":"VLOOKUP(A38, 'Country names'!$A$5:$C$53,3,FALSE)","v":"SUI"},"17300-17700",null,null,null,null,null,null,null,null,"x",null,"FSS Feeder Link"]
["Switzerland",{"$f":"VLOOKUP(A39, 'Country names'!$A$5:$C$53,3,FALSE)","v":"SUI"}]
["Switzerland",{"$f":"VLOOKUP(A40, 'Country names'!$A$5:$C$53,3,FALSE)","v":"SUI"},"17700-19700","x",null,null,null,"x",null,"x","x","x",null,null,null,1149,null,"ERC/REC 12-03",null,"x","x",2.4,8.1999999999999993,26.1,200]
["Switzerland",{"$f":"VLOOKUP(A41, 'Country names'!$A$5:$C$53,3,FALSE)","v":"SUI"}]
["Switzerland",{"$f":"VLOOKUP(A42, 'Country names'!$A$5:$C$53,3,FALSE)","v":"SUI"},"21200-22000",null,null,null,null,null,null,null,null,null,null,"PMSE",null,null,null,null,null,null,null,null,null,null,null,null,null,"?? equipment available"]
["Switzerland",{"$f":"VLOOKUP(A43, 'Country names'!$A$5:$C$53,3,FALSE)","v":"SUI"}]
["Switzerland",{"$f":"VLOOKUP(A44, 'Country names'!$A$5:$C$53,3,FALSE)","v":"SUI"},"22000-22600 and 23000-23600","x",null,null,null,"x",null,"x","x","x",null,null,null,873,null,"T/R 13-02 Annexes A1, A2, A3",null,"x",null,1.6,7.2,20.6,50,"> High / Low problems in urban areas"]
["Switzerland",{"$f":"VLOOKUP(A45, 'Country names'!$A$5:$C$53,3,FALSE)","v":"SUI"}]
["Switzerland",{"$f":"VLOOKUP(A46, 'Country names'!$A$5:$C$53,3,FALSE)","v":"SUI"},"22600-23000","(x)",null,null,null,"(x)",null,null,"(x)",null,null,null,null,null,null,null,"(x)",null,null,null,null,null,null,null,null,"(planned narrowband link as a replacement for 1.4 GHz)"]
["Switzerland",{"$f":"VLOOKUP(A47, 'Country names'!$A$5:$C$53,3,FALSE)","v":"SUI"}]
["Switzerland",{"$f":"VLOOKUP(A48, 'Country names'!$A$5:$C$53,3,FALSE)","v":"SUI"},"24250-24500",null,null,null,null,null,null,null,null,null,null,"PMSE"]
["Switzerland",{"$f":"VLOOKUP(A49, 'Country names'!$A$5:$C$53,3,FALSE)","v":"SUI"}]
["Switzerland",{"$f":"VLOOKUP(A50, 'Country names'!$A$5:$C$53,3,FALSE)","v":"SUI"},"24500-26500","x",null,null,null,"x",null,"x","x","x",null,null,null,52,null,"T/R 13-02 Annex B",null,null,"x",0.9,3.9,7.9,200]
["Switzerland",{"$f":"VLOOKUP(A51, 'Country names'!$A$5:$C$53,3,FALSE)","v":"SUI"}]
["Switzerland",{"$f":"VLOOKUP(A52, 'Country names'!$A$5:$C$53,3,FALSE)","v":"SUI"},"26500-27500",null,null,null,null,null,null,null,null,null,"x","No civil use"]
["Switzerland",{"$f":"VLOOKUP(A53, 'Country names'!$A$5:$C$53,3,FALSE)","v":"SUI"}]
["Switzerland",{"$f":"VLOOKUP(A54, 'Country names'!$A$5:$C$53,3,FALSE)","v":"SUI"},"27500-29500","x",null,null,null,"x",null,"x","x","x",null,null,null,540,null,"T/R 13-02 Annex C",null,"x","x",1.8,4.2,6.8,100]
["Switzerland",{"$f":"VLOOKUP(A55, 'Country names'!$A$5:$C$53,3,FALSE)","v":"SUI"}]
["Switzerland",{"$f":"VLOOKUP(A56, 'Country names'!$A$5:$C$53,3,FALSE)","v":"SUI"},"31000-31300",null,null,null,null,null,null,null,null,null,null,null,null,null,null,"ECC/REC/(02)02",null,null,null,null,null,null,null,null,null,"?? equipment available"]
["Switzerland",{"$f":"VLOOKUP(A57, 'Country names'!$A$5:$C$53,3,FALSE)","v":"SUI"}]
["Switzerland",{"$f":"VLOOKUP(A58, 'Country names'!$A$5:$C$53,3,FALSE)","v":"SUI"},"31800-33400","x",null,null,null,"x",null,"x","x","x",null,null,null,775,null,"ERC/REC/(01)02",null,null,"x",0.5,2.2999999999999998,5.7,100]
["Switzerland",{"$f":"VLOOKUP(A59, 'Country names'!$A$5:$C$53,3,FALSE)","v":"SUI"}]
["Switzerland",{"$f":"VLOOKUP(A60, 'Country names'!$A$5:$C$53,3,FALSE)","v":"SUI"},"36000-37000",null,null,null,null,null,null,null,null,null,null,"No civil use"]
["Switzerland",{"$f":"VLOOKUP(A61, 'Country names'!$A$5:$C$53,3,FALSE)","v":"SUI"}]
["Switzerland",{"$f":"VLOOKUP(A62, 'Country names'!$A$5:$C$53,3,FALSE)","v":"SUI"},"37000-39500","x",null,null,null,"x",null,"x","x","x",null,null,null,1036,null,"T/R 12-01",null,"x",null,0.3,2.7,7.9,50,"> High / Low problems in urban areas"]
["Switzerland",{"$f":"VLOOKUP(A63, 'Country names'!$A$5:$C$53,3,FALSE)","v":"SUI"}]
["Switzerland",{"$f":"VLOOKUP(A64, 'Country names'!$A$5:$C$53,3,FALSE)","v":"SUI"},"39500-40500",null,null,null,null,null,null,null,null,null,null,"FSS"]
["Switzerland",{"$f":"VLOOKUP(A65, 'Country names'!$A$5:$C$53,3,FALSE)","v":"SUI"}]
["Switzerland",{"$f":"VLOOKUP(A66, 'Country names'!$A$5:$C$53,3,FALSE)","v":"SUI"},"40500-43500","x",null,null,null,"x",null,"x","x",null,null,null,null,582,null,"ECC/REC/(01)04",null,null,"x",0.5,1.6,3.8,200]
["Switzerland",{"$f":"VLOOKUP(A67, 'Country names'!$A$5:$C$53,3,FALSE)","v":"SUI"}]
["Switzerland",{"$f":"VLOOKUP(A68, 'Country names'!$A$5:$C$53,3,FALSE)","v":"SUI"},"47200-48500",null,null,null,null,null,null,null,null,null,null,"PMSE",null,null,null,null,null,null,null,null,null,null,null,null,null,"?? equipment available"]
["Switzerland",{"$f":"VLOOKUP(A69, 'Country names'!$A$5:$C$53,3,FALSE)","v":"SUI"}]
["Switzerland",{"$f":"VLOOKUP(A70, 'Country names'!$A$5:$C$53,3,FALSE)","v":"SUI"},"48500-50200",null,null,null,null,null,null,null,null,null,null,null,null,null,null,"ERC/REC 12-11",null,null,null,null,null,null,null,null,null,"?? equipment available"]
["Switzerland",{"$f":"VLOOKUP(A71, 'Country names'!$A$5:$C$53,3,FALSE)","v":"SUI"}]
["Switzerland",{"$f":"VLOOKUP(A72, 'Country names'!$A$5:$C$53,3,FALSE)","v":"SUI"},"50400-51400",null,null,null,null,null,null,null,null,null,null,null,null,null,null,null,null,null,null,null,null,null,null,null,null,"?? equipment available"]
["Switzerland",{"$f":"VLOOKUP(A73, 'Country names'!$A$5:$C$53,3,FALSE)","v":"SUI"}]
["Switzerland",{"$f":"VLOOKUP(A74, 'Country names'!$A$5:$C$53,3,FALSE)","v":"SUI"},"51400-52600","x",null,null,null,"x",null,"x","x",null,null,null,null,299,null,"ERC/REC 12-11",null,"x",null,0.15,0.75,2.8,-80,null,null,"> not enough transmission capacity with existing equipment"]
["Switzerland",{"$f":"VLOOKUP(A75, 'Country names'!$A$5:$C$53,3,FALSE)","v":"SUI"}]
["Switzerland",{"$f":"VLOOKUP(A76, 'Country names'!$A$5:$C$53,3,FALSE)","v":"SUI"},"55780-57000","x",null,null,null,"x",null,"x","x",null,null,null,null,0,null,"ERC/REC 12-12",null,null,null,null,null,null,null,null,null,"?? equipment available"]
["Switzerland",{"$f":"VLOOKUP(A77, 'Country names'!$A$5:$C$53,3,FALSE)","v":"SUI"}]
["Switzerland",{"$f":"VLOOKUP(A78, 'Country names'!$A$5:$C$53,3,FALSE)","v":"SUI"},"57000-59000","x",null,null,null,"x",null,"x",null,null,null,null,null,109,null,"ECC/REC/(09)01","x",null,null,0.05,0.3,1,-100,null,null,"> not enough transmission capacity with existing equipment"]
["Switzerland",{"$f":"VLOOKUP(A79, 'Country names'!$A$5:$C$53,3,FALSE)","v":"SUI"}]
["Switzerland",{"$f":"VLOOKUP(A80, 'Country names'!$A$5:$C$53,3,FALSE)","v":"SUI"},"59000-64000",null,null,null,"x","x",null,null,null,null,null,null,null,null,null,"ECC/REC/(09)01"]
["Switzerland",{"$f":"VLOOKUP(A81, 'Country names'!$A$5:$C$53,3,FALSE)","v":"SUI"}]
["Switzerland",{"$f":"VLOOKUP(A82, 'Country names'!$A$5:$C$53,3,FALSE)","v":"SUI"},"64000-66000",null,null,null,"x","x",null,null,null,null,null,null,null,null,null,"ECC/REC/(05)02"]
["Switzerland",{"$f":"VLOOKUP(A83, 'Country names'!$A$5:$C$53,3,FALSE)","v":"SUI"}]
["Switzerland",{"$f":"VLOOKUP(A84, 'Country names'!$A$5:$C$53,3,FALSE)","v":"SUI"},"71000-76000 and 81000-86000","x",null,null,null,"x",null,"x","x",null,null,null,null,333,null,"ECC/REC/(05)07",null,null,"x",0.1,0.8,4.9000000000000004,500]
["Switzerland",{"$f":"VLOOKUP(A85, 'Country names'!$A$5:$C$53,3,FALSE)","v":"SUI"}]
["Switzerland",{"$f":"VLOOKUP(A86, 'Country names'!$A$5:$C$53,3,FALSE)","v":"SUI"},"92000-95000","x",null,null,null,"x",null,"x","x",null,null,null,null,0,null,"ECC/REC (14)01",null,null,"x",null,null,null,"?",null,null,"?? equipment available"]
["Switzerland",{"$f":"VLOOKUP(A87, 'Country names'!$A$5:$C$53,3,FALSE)","v":"SUI"}]
["Switzerland",{"$f":"VLOOKUP(A88, 'Country names'!$A$5:$C$53,3,FALSE)","v":"SUI"}]
["Switzerland",{"$f":"VLOOKUP(A89, 'Country names'!$A$5:$C$53,3,FALSE)","v":"SUI"},"20161010 SUI_BAKOM_Worksheet SE(16)029A3_Questionnaire on revision of ECC Report 173 final"]
["Switzerland",{"$f":"VLOOKUP(A90, 'Country names'!$A$5:$C$53,3,FALSE)","v":"SUI"}]
["Switzerland",{"$f":"VLOOKUP(A91, 'Country names'!$A$5:$C$53,3,FALSE)","v":"SUI"}]
["Switzerland",{"$f":"VLOOKUP(A92, 'Country names'!$A$5:$C$53,3,FALSE)","v":"SUI"},null,null,null,null,null,null,null,null,null,null,null,null,null,{"$f":"SUM(P4:P91)","v":6739}]

{"sheet":"Hungary","index":13,"n_rows":86,"n_cols":29,"rows_kept":86,"cut":false,"hidden":false,"merged":[[0,24,0,27],[3,2,4,2],[5,2,6,2],[7,2,8,2],[0,2,2,2],[0,3,0,6],[1,7,1,8],[1,9,1,10],[1,18,1,20],[1,21,1,23],[0,17,2,17],[0,7,0,8],[0,9,0,13],[0,14,0,15],[0,18,0,23],[9,2,10,2],[11,2,12,2],[37,2,38,2],[15,2,16,2],[17,2,18,2],[19,2,20,2],[21,2,22,2],[23,2,24,2],[25,2,26,2],[27,2,28,2],[29,2,30,2],[31,2,32,2],[33,2,34,2],[35,2,36,2],[13,2,14,2],[61,2,62,2],[39,2,40,2],[41,2,42,2],[43,2,44,2],[45,2,46,2],[47,2,48,2],[49,2,50,2],[51,2,52,2],[53,2,54,2],[55,2,56,2],[57,2,58,2],[59,2,60,2],[85,2,86,2],[63,2,64,2],[65,2,66,2],[67,2,68,2],[69,2,70,2],[71,2,72,2],[73,2,74,2],[75,2,76,2],[77,2,78,2],[79,2,80,2],[81,2,82,2],[83,2,84,2]]}
[null,null,"Frequency band (MHz)","Licensing regime",null,null,null," Topo-logy",null,"Application",null,null,null,null,"Number of P-P links",null,"Number of CS","Channel/Frequency plan used (e.g. ERC/ECC Rec. ITU-R Rec.)","Link characteristics",null,null,null,null,null,"Future trends (e.g. in the next 5 years)"]
[null,null,null,null,null,null,null,"FWA",null,"Network Infrastruc-ture",null,null,null,null,null,null,null,null,"Capacity",null,null,"Hop length (km)"]
[null,null,null,"Link by link","Block","Light licensed","Licence exempt","P-P","P-MP","Mobile backhaul","Others","Broadcasting Infrastructure","No Information available on the application","Other (please indicate)","unidirection","bidirectional (1 bidirectional link counts 1)","(applicable only for P-MP and mesh networks)",null,"LOW (<10 Mbit/s)","MEDIUM (10 to 100 Mbit/s)","HIGH (>100 Mbit/s)","MIN","Typical figure","MAX","Anticipated growth/reduction (+/-%)","Currently congested","Planned reallocation to other service/application","Other (please describe)\n(see Question 3 of the Questionnaire)","Remarks"]
["Hungary",{"$f":"VLOOKUP(A4, 'Country names'!$A$5:$C$53,3,FALSE)","v":"HNG"},"1350-1375 and 1492-1517",null,null,null,null,null,null,null,null,null,null,null,null,null,null,"T/R 13-01 Annex A"]
["Hungary",{"$f":"VLOOKUP(A5, 'Country names'!$A$5:$C$53,3,FALSE)","v":"HNG"}]
["Hungary",{"$f":"VLOOKUP(A6, 'Country names'!$A$5:$C$53,3,FALSE)","v":"HNG"},"1375-1400 and 1427-1452","X",null,null,null,"X",null,null,null,null,null,null,null,0,null,"T/R 13-01 Annex B"]
["Hungary",{"$f":"VLOOKUP(A7, 'Country names'!$A$5:$C$53,3,FALSE)","v":"HNG"}]
["Hungary",{"$f":"VLOOKUP(A8, 'Country names'!$A$5:$C$53,3,FALSE)","v":"HNG"},"2025-2110 and 2200-2290","X",null,null,null,"X",null,null,null,null,null,null,null,0,null,"T/R 13-01 Annex C"]
["Hungary",{"$f":"VLOOKUP(A9, 'Country names'!$A$5:$C$53,3,FALSE)","v":"HNG"}]
["Hungary",{"$f":"VLOOKUP(A10, 'Country names'!$A$5:$C$53,3,FALSE)","v":"HNG"},"3400-3600",null,"X",null,null,"X","X",null,null,null,null,null,null,null,null,"ERC/REC 14-03",null,null,null,null,null,null,null,null,null,null,"Block assignment for MFCN; awarded 2016 summer - currently no usage"]
["Hungary",{"$f":"VLOOKUP(A11, 'Country names'!$A$5:$C$53,3,FALSE)","v":"HNG"}]
["Hungary",{"$f":"VLOOKUP(A12, 'Country names'!$A$5:$C$53,3,FALSE)","v":"HNG"},"3600-4200",null,null,null,null,null,null,null,null,null,null,null,null,17,null,"ERC/REC 12-08",null,null,null,null,null,null,null,null,null,null,"3600-3800 MHz band: awarded 2016 summer; Block assignment for MFCN; currently no usage; 3800-4200 MHz: 17 bidirectional links"]
["Hungary",{"$f":"VLOOKUP(A13, 'Country names'!$A$5:$C$53,3,FALSE)","v":"HNG"}]
["Hungary",{"$f":"VLOOKUP(A14, 'Country names'!$A$5:$C$53,3,FALSE)","v":"HNG"},"4400-5000"]
["Hungary",{"$f":"VLOOKUP(A15, 'Country names'!$A$5:$C$53,3,FALSE)","v":"HNG"}]
["Hungary",{"$f":"VLOOKUP(A16, 'Country names'!$A$5:$C$53,3,FALSE)","v":"HNG"},"5850-5925"]
["Hungary",{"$f":"VLOOKUP(A17, 'Country names'!$A$5:$C$53,3,FALSE)","v":"HNG"}]
["Hungary",{"$f":"VLOOKUP(A18, 'Country names'!$A$5:$C$53,3,FALSE)","v":"HNG"},"5925-7125","X",null,null,null,"X",null,null,null,null,null,null,null,135,null,"ERC/REC 14-01 and ERC/REC 14-02",null,null,"X",null,60]
["Hungary",{"$f":"VLOOKUP(A19, 'Country names'!$A$5:$C$53,3,FALSE)","v":"HNG"}]
["Hungary",{"$f":"VLOOKUP(A20, 'Country names'!$A$5:$C$53,3,FALSE)","v":"HNG"},"7125-7750","X",null,null,null,"X",null,null,"X",null,null,null,null,205,null,"ECC REC (02)06",null,"X",null,null,40,null,null,null,null,null,"7125-7425 MHz subband for non-civil FS, 7427-7725 MHz subband for civil FS"]
["Hungary",{"$f":"VLOOKUP(A21, 'Country names'!$A$5:$C$53,3,FALSE)","v":"HNG"}]
["Hungary",{"$f":"VLOOKUP(A22, 'Country names'!$A$5:$C$53,3,FALSE)","v":"HNG"},"7750-7900","X",null,null,null,"X",null,null,null,"X",null,null,null,0,null,"ECC REC (02)06",null,"X",null,null,40]
["Hungary",{"$f":"VLOOKUP(A23, 'Country names'!$A$5:$C$53,3,FALSE)","v":"HNG"}]
["Hungary",{"$f":"VLOOKUP(A24, 'Country names'!$A$5:$C$53,3,FALSE)","v":"HNG"},"7900-8500","X",null,null,null,"X",null,null,null,null,null,null,null,0,null,"ECC REC (02)06"]
["Hungary",{"$f":"VLOOKUP(A25, 'Country names'!$A$5:$C$53,3,FALSE)","v":"HNG"}]
["Hungary",{"$f":"VLOOKUP(A26, 'Country names'!$A$5:$C$53,3,FALSE)","v":"HNG"},"10000-10680","X",null,null,null,"X",null,null,null,"X",null,null,58,null,null,"ERC/REC 12-05",null,"X",null,null,20]
["Hungary",{"$f":"VLOOKUP(A27, 'Country names'!$A$5:$C$53,3,FALSE)","v":"HNG"}]
["Hungary",{"$f":"VLOOKUP(A28, 'Country names'!$A$5:$C$53,3,FALSE)","v":"HNG"},"10700-11700","X",null,null,null,"X",null,"X",null,null,null,null,null,341,null,"ERC/REC 12-06",null,null,"X",null,40]
["Hungary",{"$f":"VLOOKUP(A29, 'Country names'!$A$5:$C$53,3,FALSE)","v":"HNG"}]
["Hungary",{"$f":"VLOOKUP(A30, 'Country names'!$A$5:$C$53,3,FALSE)","v":"HNG"},"11700-12500",null,null,null,null,null,"X",null,null,"X",null,null,null,null,150,"National plan",null,null,"X",null,null,null,null,null,null,null,"Only 12.3-12.5 GHz band designated for local MVDS"]
["Hungary",{"$f":"VLOOKUP(A31, 'Country names'!$A$5:$C$53,3,FALSE)","v":"HNG"}]
["Hungary",{"$f":"VLOOKUP(A32, 'Country names'!$A$5:$C$53,3,FALSE)","v":"HNG"},"12750-13250","X",null,null,null,"X",null,null,null,null,null,null,null,2806,null,"ERC/REC 12-02",null,null,"X",null,30,null,null,"X",null,null,"Currently congested in big cities"]
["Hungary",{"$f":"VLOOKUP(A33, 'Country names'!$A$5:$C$53,3,FALSE)","v":"HNG"}]
["Hungary",{"$f":"VLOOKUP(A34, 'Country names'!$A$5:$C$53,3,FALSE)","v":"HNG"},"14250-14500"]
["Hungary",{"$f":"VLOOKUP(A35, 'Country names'!$A$5:$C$53,3,FALSE)","v":"HNG"}]
["Hungary",{"$f":"VLOOKUP(A36, 'Country names'!$A$5:$C$53,3,FALSE)","v":"HNG"},"14500-14620 and 15230-15350","X",null,null,null,"X",null,null,null,null,null,null,null,114,null,"ERC/REC 12-07",null,"X",null,null,25,null,null,null,null,null,"Number of civil FS links decreased due to the extension of the subband used for military purposes"]
["Hungary",{"$f":"VLOOKUP(A37, 'Country names'!$A$5:$C$53,3,FALSE)","v":"HNG"}]
["Hungary",{"$f":"VLOOKUP(A38, 'Country names'!$A$5:$C$53,3,FALSE)","v":"HNG"},"17300-17700"]
["Hungary",{"$f":"VLOOKUP(A39, 'Country names'!$A$5:$C$53,3,FALSE)","v":"HNG"}]
["Hungary",{"$f":"VLOOKUP(A40, 'Country names'!$A$5:$C$53,3,FALSE)","v":"HNG"},"17700-19700","X",null,null,null,"X",null,null,null,null,null,null,null,2159,null,"ERC/REC 12-03",null,null,"X",null,20,null,null,"X",null,null,"Currently congested in big cities"]
["Hungary",{"$f":"VLOOKUP(A41, 'Country names'!$A$5:$C$53,3,FALSE)","v":"HNG"}]
["Hungary",{"$f":"VLOOKUP(A42, 'Country names'!$A$5:$C$53,3,FALSE)","v":"HNG"},"21200-22000","X",null,null,null,"X",null,null,null,null,null,null,null,null,null,null,null,null,null,null,null,null,null,null,null,null,"Only the subband 21.2-21.4 GHz is planned for ENG/OB "]
["Hungary",{"$f":"VLOOKUP(A43, 'Country names'!$A$5:$C$53,3,FALSE)","v":"HNG"}]
["Hungary",{"$f":"VLOOKUP(A44, 'Country names'!$A$5:$C$53,3,FALSE)","v":"HNG"},"22000-22600 and 23000-23600","X",null,null,null,"X",null,null,null,null,null,null,null,2209,null,"T/R 13-02 Annex A1",null,"X",null,null,10,null,null,null,null,null,"22-22.45/23-23.45 GHz subband for civil FS, the rest for non-civil FS"]
["Hungary",{"$f":"VLOOKUP(A45, 'Country names'!$A$5:$C$53,3,FALSE)","v":"HNG"}]
["Hungary",{"$f":"VLOOKUP(A46, 'Country names'!$A$5:$C$53,3,FALSE)","v":"HNG"},"22600-23000","X",null,null,null,"X",null,null,null,"X",null,null,1,null,null,"T/R 13-02 Annexes A2 and A3",null,null,null,null,null,null,null,null,null,null,"National plan for analogue ENG/OB "]
["Hungary",{"$f":"VLOOKUP(A47, 'Country names'!$A$5:$C$53,3,FALSE)","v":"HNG"}]
["Hungary",{"$f":"VLOOKUP(A48, 'Country names'!$A$5:$C$53,3,FALSE)","v":"HNG"},"24250-24500","X",null,null,null,"X",null,null,null,"X",null,null,0,null,null,"T/R 13-02",null,null,null,null,null,null,null,null,null,null,"T/R 13-02 van beírva"]
["Hungary",{"$f":"VLOOKUP(A49, 'Country names'!$A$5:$C$53,3,FALSE)","v":"HNG"}]
["Hungary",{"$f":"VLOOKUP(A50, 'Country names'!$A$5:$C$53,3,FALSE)","v":"HNG"},"24500-26500",null,"X",null,null,"X","X","X",null,null,null,null,null,"N/A","N/A","T/R 13-02 Annex B",null,null,"X",null,10,null,null,null,null,null,"Block assignment is applied, the exact number of CS and PP links is not known"]
["Hungary",{"$f":"VLOOKUP(A51, 'Country names'!$A$5:$C$53,3,FALSE)","v":"HNG"}]
["Hungary",{"$f":"VLOOKUP(A52, 'Country names'!$A$5:$C$53,3,FALSE)","v":"HNG"},"26500-27500"]
["Hungary",{"$f":"VLOOKUP(A53, 'Country names'!$A$5:$C$53,3,FALSE)","v":"HNG"}]
["Hungary",{"$f":"VLOOKUP(A54, 'Country names'!$A$5:$C$53,3,FALSE)","v":"HNG"},"27500-29500",null,null,null,null,null,null,null,null,null,null,null,null,null,null,"ECC/DEC/(05)01",null,null,null,null,null,null,null,null,null,null,"Only planned for PP, PMP"]
["Hungary",{"$f":"VLOOKUP(A55, 'Country names'!$A$5:$C$53,3,FALSE)","v":"HNG"}]
["Hungary",{"$f":"VLOOKUP(A56, 'Country names'!$A$5:$C$53,3,FALSE)","v":"HNG"},"31000-31300","X",null,null,null,"X",null,null,null,null,null,null,null,0,null,"ECC/REC/(02)02"]
["Hungary",{"$f":"VLOOKUP(A57, 'Country names'!$A$5:$C$53,3,FALSE)","v":"HNG"}]
["Hungary",{"$f":"VLOOKUP(A58, 'Country names'!$A$5:$C$53,3,FALSE)","v":"HNG"},"31800-33400",null,null,null,null,null,null,null,null,null,null,null,null,null,null,"ERC/REC/(01)02",null,null,null,null,null,null,null,null,null,null,"Only planned for PP, PMP"]
["Hungary",{"$f":"VLOOKUP(A59, 'Country names'!$A$5:$C$53,3,FALSE)","v":"HNG"}]
["Hungary",{"$f":"VLOOKUP(A60, 'Country names'!$A$5:$C$53,3,FALSE)","v":"HNG"},"36000-37000"]
["Hungary",{"$f":"VLOOKUP(A61, 'Country names'!$A$5:$C$53,3,FALSE)","v":"HNG"}]
["Hungary",{"$f":"VLOOKUP(A62, 'Country names'!$A$5:$C$53,3,FALSE)","v":"HNG"},"37000-39500","X",null,null,null,"X",null,"X",null,null,null,null,null,6356,null,"T/R 12-01",null,"X","X",null,5,null,null,"X",null,null,"37.926-38.220/39.186-39.480 GHz subband designated for non-civil FS, the rest for civil FS"]
["Hungary",{"$f":"VLOOKUP(A63, 'Country names'!$A$5:$C$53,3,FALSE)","v":"HNG"},null,null,null,null,null,null,null,null,null,null,null,null,null,null,null,null,null,null,null,null,null,null,null,null,null,null,"Currently congested in big cities"]
["Hungary",{"$f":"VLOOKUP(A64, 'Country names'!$A$5:$C$53,3,FALSE)","v":"HNG"},"39500-40500"]
["Hungary",{"$f":"VLOOKUP(A65, 'Country names'!$A$5:$C$53,3,FALSE)","v":"HNG"}]
["Hungary",{"$f":"VLOOKUP(A66, 'Country names'!$A$5:$C$53,3,FALSE)","v":"HNG"},"40500-43500",null,null,null,null,null,null,null,null,null,null,null,null,null,null,"ERC/DEC/(99)15",null,null,null,null,null,null,null,null,null,null,"Only planned for PP and MWS"]
["Hungary",{"$f":"VLOOKUP(A67, 'Country names'!$A$5:$C$53,3,FALSE)","v":"HNG"}]
["Hungary",{"$f":"VLOOKUP(A68, 'Country names'!$A$5:$C$53,3,FALSE)","v":"HNG"},"47200-48500"]
["Hungary",{"$f":"VLOOKUP(A69, 'Country names'!$A$5:$C$53,3,FALSE)","v":"HNG"}]
["Hungary",{"$f":"VLOOKUP(A70, 'Country names'!$A$5:$C$53,3,FALSE)","v":"HNG"},"48500-50200","X",null,null,null,"X",null,null,null,null,null,null,null,0,null,"ERC/REC 12-10"]
["Hungary",{"$f":"VLOOKUP(A71, 'Country names'!$A$5:$C$53,3,FALSE)","v":"HNG"}]
["Hungary",{"$f":"VLOOKUP(A72, 'Country names'!$A$5:$C$53,3,FALSE)","v":"HNG"},"50400-51400"]
["Hungary",{"$f":"VLOOKUP(A73, 'Country names'!$A$5:$C$53,3,FALSE)","v":"HNG"}]
["Hungary",{"$f":"VLOOKUP(A74, 'Country names'!$A$5:$C$53,3,FALSE)","v":"HNG"},"51400-52600","X",null,null,null,"X",null,null,null,null,null,null,null,0,null,"ERC/REC 12-11"]
["Hungary",{"$f":"VLOOKUP(A75, 'Country names'!$A$5:$C$53,3,FALSE)","v":"HNG"}]
["Hungary",{"$f":"VLOOKUP(A76, 'Country names'!$A$5:$C$53,3,FALSE)","v":"HNG"},"557800-57000","X",null,null,null,"X",null,null,null,null,null,null,null,0,null,"ERC/REC 12-12"]
["Hungary",{"$f":"VLOOKUP(A77, 'Country names'!$A$5:$C$53,3,FALSE)","v":"HNG"}]
["Hungary",{"$f":"VLOOKUP(A78, 'Country names'!$A$5:$C$53,3,FALSE)","v":"HNG"},"57000-59000","X",null,null,null,"X",null,null,"X",null,null,null,null,2,null,"ECC/REC/(09)01",null,null,"X",null,3]
["Hungary",{"$f":"VLOOKUP(A79, 'Country names'!$A$5:$C$53,3,FALSE)","v":"HNG"}]
["Hungary",{"$f":"VLOOKUP(A80, 'Country names'!$A$5:$C$53,3,FALSE)","v":"HNG"},"59000-64000",null,null,"X",null,"X",null,null,null,null,null,null,null,0,null,"ECC/REC/(09)01"]
["Hungary",{"$f":"VLOOKUP(A81, 'Country names'!$A$5:$C$53,3,FALSE)","v":"HNG"}]
["Hungary",{"$f":"VLOOKUP(A82, 'Country names'!$A$5:$C$53,3,FALSE)","v":"HNG"},"64000-66000",null,null,null,null,null,null,null,null,null,null,null,null,null,null,"ECC/REC/(05)02",null,null,null,null,null,null,null,null,null,null,"Only planned for PP"]
["Hungary",{"$f":"VLOOKUP(A83, 'Country names'!$A$5:$C$53,3,FALSE)","v":"HNG"}]
["Hungary",{"$f":"VLOOKUP(A84, 'Country names'!$A$5:$C$53,3,FALSE)","v":"HNG"},"71000-76000 and 81000-86000",null,null,"X",null,"X",null,null,null,null,null,null,null,562,null,"ECC/REC/(05)07",null,null,"X",null,1]
["Hungary",{"$f":"VLOOKUP(A85, 'Country names'!$A$5:$C$53,3,FALSE)","v":"HNG"}]
["Hungary",{"$f":"VLOOKUP(A86, 'Country names'!$A$5:$C$53,3,FALSE)","v":"HNG"},"92000-95000",null,null,null,null,null,null,null,null,null,null,null,null,null,null,"ECC/REC (14)01",null,null,null,null,null,null,null,null,null,null,"Only planned for PP"]

{"sheet":"Latvia","index":14,"n_rows":88,"n_cols":29,"rows_kept":88,"cut":false,"hidden":false,"merged":[[0,2,2,2],[0,3,0,6],[0,7,0,8],[0,9,0,13],[0,14,0,15],[0,18,0,23],[0,24,0,27],[1,7,1,8],[1,9,1,10],[1,18,1,20],[1,21,1,23],[0,17,2,17],[25,2,26,2],[3,2,4,2],[5,2,6,2],[7,2,8,2],[9,2,10,2],[11,2,12,2],[13,2,14,2],[15,2,16,2],[17,2,18,2],[19,2,20,2],[21,2,22,2],[23,2,24,2],[49,2,50,2],[27,2,28,2],[29,2,30,2],[31,2,32,2],[33,2,34,2],[35,2,36,2],[37,2,38,2],[39,2,40,2],[41,2,42,2],[43,2,44,2],[45,2,46,2],[47,2,48,2],[77,2,78,2],[53,2,54,2],[55,2,56,2],[57,2,58,2],[61,2,62,2],[63,2,64,2],[65,2,66,2],[67,2,68,2],[69,2,70,2],[71,2,72,2],[73,2,74,2],[75,2,76,2],[79,2,80,2],[81,2,82,2],[83,2,84,2],[85,2,86,2],[87,2,88,2]]}
[null,null,"Frequency band (MHz)","Licensing regime",null,null,null," Topo-logy",null,"Application",null,null,null,null,"Number of P-P links",null,"Number of CS","Channel/Frequency plan used (e.g. ERC/ECC Rec. ITU-R Rec.)","Link characteristics",null,null,null,null,null,"Future trends (e.g. in the next 5 years)"]
[null,null,null,null,null,null,null,"FWA",null,"Network Infrastruc-ture",null,null,null,null,null,null,null,null,"Capacity",null,null,"Hop length (km)"]
[null,null,null,"Link by link","Block","Light licensed","Licence exempt","P-P","P-MP","Mobile backhaul","Others","Broadcasting Infrastructure","No Information available on the application","Other (please indicate)","unidirection","bidirectional (1 bidirectional link counts 1)","(applicable only for P-MP and mesh networks)",null,"LOW (<10 Mbit/s)","MEDIUM (10 to 100 Mbit/s)","HIGH (>100 Mbit/s)","MIN","Typical figure","MAX","Anticipated growth/reduction (+/-%)","Currently congested","Planned reallocation to other service/application","Other (please describe)\n(see Question 3 of the Questionnaire)","LVA comments"]
["Latvia",{"$f":"VLOOKUP(A4, 'Country names'!$A$5:$C$53,3,FALSE)","v":"LVA"},"1350-1375 and 1492-1517","X",null,null,null,"X",null,null,"X",null,null,null,null,0,null,"T/R 13-01 Annex A",null,null,null,null,null,null,null,null,"X"]
["Latvia",{"$f":"VLOOKUP(A5, 'Country names'!$A$5:$C$53,3,FALSE)","v":"LVA"}]
["Latvia",{"$f":"VLOOKUP(A6, 'Country names'!$A$5:$C$53,3,FALSE)","v":"LVA"},"1492–1506","X",null,null,null,null,"X","X",null,null,null,null,null,null,19,"ITU-R F.701","X",null,null,1,5,10]
["Latvia",{"$f":"VLOOKUP(A7, 'Country names'!$A$5:$C$53,3,FALSE)","v":"LVA"}]
["Latvia",{"$f":"VLOOKUP(A8, 'Country names'!$A$5:$C$53,3,FALSE)","v":"LVA"},"1375-1400 and 1427-1452","X",null,null,null,"X",null,null,"X",null,null,null,null,0,null,"T/R 13-01 Annex B",null,null,null,null,null,null,null,null,"X"]
["Latvia",{"$f":"VLOOKUP(A9, 'Country names'!$A$5:$C$53,3,FALSE)","v":"LVA"}]
["Latvia",{"$f":"VLOOKUP(A10, 'Country names'!$A$5:$C$53,3,FALSE)","v":"LVA"},"2025-2110 and 2200-2290","X",null,null,null,"X",null,null,null,null,"X",null,0,0,null,"T/R 13-01 Annex C",null,null,null,null,null,null,null,null,null,"No changes"]
["Latvia",{"$f":"VLOOKUP(A11, 'Country names'!$A$5:$C$53,3,FALSE)","v":"LVA"}]
["Latvia",{"$f":"VLOOKUP(A12, 'Country names'!$A$5:$C$53,3,FALSE)","v":"LVA"},"3400-3600","X",null,null,null,"X","X","X","X",null,null,null,0,0,31,"ERC/REC 14-03",null,"X",null,1,10,25,0.1]
["Latvia",{"$f":"VLOOKUP(A13, 'Country names'!$A$5:$C$53,3,FALSE)","v":"LVA"},null,null,null,null,null,null,null,null,null,null,null,null,null,null,null,"2014/276/ES"]
["Latvia",{"$f":"VLOOKUP(A14, 'Country names'!$A$5:$C$53,3,FALSE)","v":"LVA"},"3600-4200","X",null,null,null,"X","X","X","X",null,null,null,0,5,106,"ERC/REC 12-08",null,"X",null,1,10,25,0.1]
["Latvia",{"$f":"VLOOKUP(A15, 'Country names'!$A$5:$C$53,3,FALSE)","v":"LVA"},null,null,null,null,null,null,null,null,null,null,null,null,null,null,null,"2014/276/ES"]
["Latvia",{"$f":"VLOOKUP(A16, 'Country names'!$A$5:$C$53,3,FALSE)","v":"LVA"},"4400-5000",null,null,null,null,null,null,null,null,null,null,null,null,null,null,null,null,null,null,null,null,null,null,null,null,null,"Exclusive Military Band Within the Band 4400-5000 MHz"]
["Latvia",{"$f":"VLOOKUP(A17, 'Country names'!$A$5:$C$53,3,FALSE)","v":"LVA"}]
["Latvia",{"$f":"VLOOKUP(A18, 'Country names'!$A$5:$C$53,3,FALSE)","v":"LVA"},"5850-5925",null,null,null,null,null,null,null,null,null,null,null,null,null,null,null,null,null,null,null,null,null,null,null,null,null,"Currently not in use by Fixed service"]
["Latvia",{"$f":"VLOOKUP(A19, 'Country names'!$A$5:$C$53,3,FALSE)","v":"LVA"}]
["Latvia",{"$f":"VLOOKUP(A20, 'Country names'!$A$5:$C$53,3,FALSE)","v":"LVA"},"5925-7125","X",null,null,null,"X",null,"X","X","X",null,null,null,105,null,"ERC/REC 14-01 and ERC/REC 14-02",null,"X","X",20,30,51,0.1]
["Latvia",{"$f":"VLOOKUP(A21, 'Country names'!$A$5:$C$53,3,FALSE)","v":"LVA"}]
["Latvia",{"$f":"VLOOKUP(A22, 'Country names'!$A$5:$C$53,3,FALSE)","v":"LVA"},"7125-7750","X",null,null,null,"X",null,"X","X",null,null,null,null,110,null,"ECC REC (02)06",null,"X","X",10,35,55,0.2]
["Latvia",{"$f":"VLOOKUP(A23, 'Country names'!$A$5:$C$53,3,FALSE)","v":"LVA"}]
["Latvia",{"$f":"VLOOKUP(A24, 'Country names'!$A$5:$C$53,3,FALSE)","v":"LVA"},"7750-7900","X",null,null,null,"X",null,"X","X",null,null,null,null,35,null,"ECC REC (02)06",null,"X","X",10,35,50,0.2]
["Latvia",{"$f":"VLOOKUP(A25, 'Country names'!$A$5:$C$53,3,FALSE)","v":"LVA"}]
["Latvia",{"$f":"VLOOKUP(A26, 'Country names'!$A$5:$C$53,3,FALSE)","v":"LVA"},"7900-8500","X",null,null,null,"X",null,"X","X",null,null,null,null,410,null,"ECC REC (02)06",null,"X","X",8,25,45,0.1]
["Latvia",{"$f":"VLOOKUP(A27, 'Country names'!$A$5:$C$53,3,FALSE)","v":"LVA"}]
["Latvia",{"$f":"VLOOKUP(A28, 'Country names'!$A$5:$C$53,3,FALSE)","v":"LVA"},"10000-10680","X",null,null,null,"X",null,null,"X",null,null,null,null,20,null,"ERC/REC 12-05","X","X",null,5,10,20,-0.2]
["Latvia",{"$f":"VLOOKUP(A29, 'Country names'!$A$5:$C$53,3,FALSE)","v":"LVA"},null,null,"X",null,null,null,"X",null,"X",null,null,null,null,null,65,null,null,"X",null,1,5,15,0.1]
["Latvia",{"$f":"VLOOKUP(A30, 'Country names'!$A$5:$C$53,3,FALSE)","v":"LVA"},"10700-11700","X",null,null,null,"X",null,"X","X","X",null,null,6,0,null,"ERC/REC 12-06",null,"X","X",10,15,30,5]
["Latvia",{"$f":"VLOOKUP(A31, 'Country names'!$A$5:$C$53,3,FALSE)","v":"LVA"}]
["Latvia",{"$f":"VLOOKUP(A32, 'Country names'!$A$5:$C$53,3,FALSE)","v":"LVA"},"11700-12500",null,null,null,null,null,null,null,null,null,null,null,null,null,null,null,null,null,null,null,null,null,null,null,null,null,"Not allocated for Fixed service"]
["Latvia",{"$f":"VLOOKUP(A33, 'Country names'!$A$5:$C$53,3,FALSE)","v":"LVA"}]
["Latvia",{"$f":"VLOOKUP(A34, 'Country names'!$A$5:$C$53,3,FALSE)","v":"LVA"},"12750-13250","X",null,null,null,"X",null,"X","X",null,null,null,null,890,null,"ERC/REC 12-02",null,"X","X",2,20,52,0.1]
["Latvia",{"$f":"VLOOKUP(A35, 'Country names'!$A$5:$C$53,3,FALSE)","v":"LVA"}]
["Latvia",{"$f":"VLOOKUP(A36, 'Country names'!$A$5:$C$53,3,FALSE)","v":"LVA"},"14250-14500",null,null,null,null,null,null,null,null,null,null,null,null,null,null,null,null,null,null,null,null,null,null,null,null,null,"Not allocated for Fixed service, allocation for FSS (Earth to Space)"]
["Latvia",{"$f":"VLOOKUP(A37, 'Country names'!$A$5:$C$53,3,FALSE)","v":"LVA"}]
["Latvia",{"$f":"VLOOKUP(A38, 'Country names'!$A$5:$C$53,3,FALSE)","v":"LVA"},"14500-14620 and 15230-15350","X",null,null,null,"x",null,"X","X",null,null,null,null,44,null,"ERC/REC 12-07",null,"X","X",10,25,41,0.1]
["Latvia",{"$f":"VLOOKUP(A39, 'Country names'!$A$5:$C$53,3,FALSE)","v":"LVA"}]
["Latvia",{"$f":"VLOOKUP(A40, 'Country names'!$A$5:$C$53,3,FALSE)","v":"LVA"},"17300-17700",null,null,null,null,null,null,null,null,null,null,null,null,null,null,"ECC/DEC/(05)08",null,null,null,null,null,null,null,null,null,null,"Not allocated for Fixed service, allocation for FSS (application - HDFSS)"]
["Latvia",{"$f":"VLOOKUP(A41, 'Country names'!$A$5:$C$53,3,FALSE)","v":"LVA"}]
["Latvia",{"$f":"VLOOKUP(A42, 'Country names'!$A$5:$C$53,3,FALSE)","v":"LVA"},"17700-19700","X",null,null,null,"X",null,"X","X",null,null,null,null,550,null,"ERC/REC 12-03",null,"X","X",2,18,27,0.1]
["Latvia",{"$f":"VLOOKUP(A43, 'Country names'!$A$5:$C$53,3,FALSE)","v":"LVA"}]
["Latvia",{"$f":"VLOOKUP(A44, 'Country names'!$A$5:$C$53,3,FALSE)","v":"LVA"},"21200-22000","X",null,null,null,"X",null,null,null,"X",null,null,null,0,null,"ITU-R F.637 Annex 2"]
["Latvia",{"$f":"VLOOKUP(A45, 'Country names'!$A$5:$C$53,3,FALSE)","v":"LVA"}]
["Latvia",{"$f":"VLOOKUP(A46, 'Country names'!$A$5:$C$53,3,FALSE)","v":"LVA"},"22000-22600 and 23000-23600","X",null,null,null,"X",null,"X","X",null,null,null,null,1380,null,"T/R 13-02 Annexes A1, A2, A3",null,"X","X",1,12,23,0.1]
["Latvia",{"$f":"VLOOKUP(A47, 'Country names'!$A$5:$C$53,3,FALSE)","v":"LVA"}]
["Latvia",{"$f":"VLOOKUP(A48, 'Country names'!$A$5:$C$53,3,FALSE)","v":"LVA"},"22600-23000","X",null,null,null,"X",null,null,null,"X",null,null,0,null,null,"T/R 13-02 Annex A2",null,"X","X",null,null,null,0.1]
["Latvia",{"$f":"VLOOKUP(A49, 'Country names'!$A$5:$C$53,3,FALSE)","v":"LVA"}]
["Latvia",{"$f":"VLOOKUP(A50, 'Country names'!$A$5:$C$53,3,FALSE)","v":"LVA"},"24250-24500","X",null,null,null,"X",null,null,null,"X",null,null,0,null,null,"T/R 13-02",null,"X","X",null,null,null,0.1]
["Latvia",{"$f":"VLOOKUP(A51, 'Country names'!$A$5:$C$53,3,FALSE)","v":"LVA"}]
["Latvia",{"$f":"VLOOKUP(A52, 'Country names'!$A$5:$C$53,3,FALSE)","v":"LVA"},"24500–24717/25557–25725","X",null,null,null,"X",null,"X",null,null,null,null,null,33,null,"T/R 13-02",null,"X","X",0.2,2,5,0.1]
["Latvia",{"$f":"VLOOKUP(A53, 'Country names'!$A$5:$C$53,3,FALSE)","v":"LVA"},"24773–25445/25781–26453","X",null,null,null,"X","X","X",null,null,null,null,null,null,43,"T/R 13-02",null,"X","X",0.2,2,5,0.1]
["Latvia",{"$f":"VLOOKUP(A54, 'Country names'!$A$5:$C$53,3,FALSE)","v":"LVA"},"26500-27500",null,null,null,null,null,null,null,null,null,null,null,null,null,null,null,null,null,null,null,null,null,null,null,null,null,"Exclusive Military Band Within the Band 26500-27500 MHz"]
["Latvia",{"$f":"VLOOKUP(A55, 'Country names'!$A$5:$C$53,3,FALSE)","v":"LVA"}]
["Latvia",{"$f":"VLOOKUP(A56, 'Country names'!$A$5:$C$53,3,FALSE)","v":"LVA"},"27828,5–28444,5/28948,5–29452,5","X",null,null,null,"X","X","X","X",null,null,null,null,7,86,"T/R 13-02 ",null,"X","X",0.1,1.5,5,0.1]
["Latvia",{"$f":"VLOOKUP(A57, 'Country names'!$A$5:$C$53,3,FALSE)","v":"LVA"}]
["Latvia",{"$f":"VLOOKUP(A58, 'Country names'!$A$5:$C$53,3,FALSE)","v":"LVA"},"31000-31300","X",null,null,null,"X","X","X",null,null,null,null,null,0,0,"ECC/REC/(02)02"]
["Latvia",{"$f":"VLOOKUP(A59, 'Country names'!$A$5:$C$53,3,FALSE)","v":"LVA"}]
["Latvia",{"$f":"VLOOKUP(A60, 'Country names'!$A$5:$C$53,3,FALSE)","v":"LVA"},"32375–32571/33187–33383","X",null,null,null,"X",null,"X",null,null,null,null,null,0,null,"ERC/REC/(01)02",null,null,null,null,null,null,0.05]
["Latvia",{"$f":"VLOOKUP(A61, 'Country names'!$A$5:$C$53,3,FALSE)","v":"LVA"},"31815–32347/32627–33159","X",null,null,null,"X","X","X",null,null,null,null,null,224,null,"ERC/REC/(01)02",null,"X","X",0.1,1.5,5,0.1]
["Latvia",{"$f":"VLOOKUP(A62, 'Country names'!$A$5:$C$53,3,FALSE)","v":"LVA"},"36000-37000",null,null,null,null,null,null,null,null,null,null,null,null,null,null,null,null,null,null,null,null,null,null,null,null,null,"Exclusive Military Band Within the Band 36000-37000 MHz"]
["Latvia",{"$f":"VLOOKUP(A63, 'Country names'!$A$5:$C$53,3,FALSE)","v":"LVA"}]
["Latvia",{"$f":"VLOOKUP(A64, 'Country names'!$A$5:$C$53,3,FALSE)","v":"LVA"},"37000-39500","X",null,null,null,"X",null,"X","X",null,null,null,null,195,null,"T/R 12-01",null,"X","X","0,3",2,6,0.2]
["Latvia",{"$f":"VLOOKUP(A65, 'Country names'!$A$5:$C$53,3,FALSE)","v":"LVA"}]
["Latvia",{"$f":"VLOOKUP(A66, 'Country names'!$A$5:$C$53,3,FALSE)","v":"LVA"},"39500-40500",null,null,null,null,null,null,null,null,null,null,null,null,null,null,"ERC/DEC/(00)02",null,null,null,null,null,null,null,null,null,null,"Currently not in use by Fixed service"]
["Latvia",{"$f":"VLOOKUP(A67, 'Country names'!$A$5:$C$53,3,FALSE)","v":"LVA"}]
["Latvia",{"$f":"VLOOKUP(A68, 'Country names'!$A$5:$C$53,3,FALSE)","v":"LVA"},"40500-43500","X",null,null,null,"X","X","X",null,null,null,null,null,0,0,"ECC/REC/(01)04",null,"X","X",null,null,null,1]
["Latvia",{"$f":"VLOOKUP(A69, 'Country names'!$A$5:$C$53,3,FALSE)","v":"LVA"}]
["Latvia",{"$f":"VLOOKUP(A70, 'Country names'!$A$5:$C$53,3,FALSE)","v":"LVA"},"47200-48500","X",null,null,null,"X",null,null,null,"X",null,null,0,null,null,"ERC/REC 25-10",null,"X",null,null,null,null,1]
["Latvia",{"$f":"VLOOKUP(A71, 'Country names'!$A$5:$C$53,3,FALSE)","v":"LVA"}]
["Latvia",{"$f":"VLOOKUP(A72, 'Country names'!$A$5:$C$53,3,FALSE)","v":"LVA"},"48500-50200","X",null,null,null,"X",null,"X","X",null,null,null,null,0,null,"ERC/REC 12-11"]
["Latvia",{"$f":"VLOOKUP(A73, 'Country names'!$A$5:$C$53,3,FALSE)","v":"LVA"}]
["Latvia",{"$f":"VLOOKUP(A74, 'Country names'!$A$5:$C$53,3,FALSE)","v":"LVA"},"50400-51400",null,null,null,null,null,null,null,null,null,null,null,null,null,null,null,null,null,null,null,null,null,null,null,null,null,"Currently not in use by Fixed service"]
["Latvia",{"$f":"VLOOKUP(A75, 'Country names'!$A$5:$C$53,3,FALSE)","v":"LVA"}]
["Latvia",{"$f":"VLOOKUP(A76, 'Country names'!$A$5:$C$53,3,FALSE)","v":"LVA"},"51400-52600","X",null,null,null,"X",null,"X","X",null,null,null,null,0,null,"ERC/REC 12-11",null,"X","X",null,null,null,1]
["Latvia",{"$f":"VLOOKUP(A77, 'Country names'!$A$5:$C$53,3,FALSE)","v":"LVA"}]
["Latvia",{"$f":"VLOOKUP(A78, 'Country names'!$A$5:$C$53,3,FALSE)","v":"LVA"},"557800-57000","X",null,null,null,"X",null,"X","X",null,null,null,null,0,null,"ERC/REC 12-12E",null,null,null,null,null,null,1]
["Latvia",{"$f":"VLOOKUP(A79, 'Country names'!$A$5:$C$53,3,FALSE)","v":"LVA"}]
["Latvia",{"$f":"VLOOKUP(A80, 'Country names'!$A$5:$C$53,3,FALSE)","v":"LVA"},"57000-59000","X",null,null,null,"X",null,"X",null,null,null,null,null,0,null,"ECC/REC/(09)01",null,null,null,null,null,null,1]
["Latvia",{"$f":"VLOOKUP(A81, 'Country names'!$A$5:$C$53,3,FALSE)","v":"LVA"}]
["Latvia",{"$f":"VLOOKUP(A82, 'Country names'!$A$5:$C$53,3,FALSE)","v":"LVA"},"59000-61000",null,null,null,null,null,null,null,null,null,null,null,null,null,null,"ECC/REC/(09)01",null,null,null,null,null,null,null,null,"X",null,"Exclusive Military Band Within the Band 59000-61000 MHz; planned reallocation"]
["Latvia",{"$f":"VLOOKUP(A83, 'Country names'!$A$5:$C$53,3,FALSE)","v":"LVA"}]
["Latvia",{"$f":"VLOOKUP(A84, 'Country names'!$A$5:$C$53,3,FALSE)","v":"LVA"},"61000-66000",null,null,null,null,null,null,null,null,null,null,null,null,null,null,null,null,null,null,null,null,null,null,null,"X"]
["Latvia",{"$f":"VLOOKUP(A85, 'Country names'!$A$5:$C$53,3,FALSE)","v":"LVA"}]
["Latvia",{"$f":"VLOOKUP(A86, 'Country names'!$A$5:$C$53,3,FALSE)","v":"LVA"},"74000-76000 and 84000-86000","X",null,null,null,"X",null,"X","X",null,null,null,null,14,null,"ECC/REC/(05)07",null,null,"X","0,1",1,3,5]
["Latvia",{"$f":"VLOOKUP(A87, 'Country names'!$A$5:$C$53,3,FALSE)","v":"LVA"}]
["Latvia",{"$f":"VLOOKUP(A88, 'Country names'!$A$5:$C$53,3,FALSE)","v":"LVA"},"92000-95000"]

{"sheet":"Ireland","index":15,"n_rows":90,"n_cols":28,"rows_kept":90,"cut":false,"hidden":false,"merged":[[0,24,0,27],[3,2,4,2],[5,2,6,2],[7,2,8,2],[0,2,2,2],[0,3,0,6],[1,7,1,8],[1,9,1,10],[1,18,1,20],[1,21,1,23],[0,17,2,17],[0,7,0,8],[0,9,0,13],[0,14,0,15],[0,18,0,23],[9,2,10,2],[11,2,12,2],[37,2,38,2],[15,2,16,2],[17,2,18,2],[19,2,20,2],[21,2,22,2],[23,2,24,2],[25,2,26,2],[27,2,28,2],[29,2,30,2],[31,2,32,2],[33,2,34,2],[35,2,36,2],[13,2,14,2],[65,2,66,2],[39,2,40,2],[41,2,42,2],[43,2,44,2],[45,2,46,2],[47,2,48,2],[49,2,54,2],[55,2,56,2],[57,2,58,2],[59,2,60,2],[61,2,62,2],[63,2,64,2],[89,2,90,2],[67,2,68,2],[69,2,70,2],[71,2,72,2],[73,2,74,2],[75,2,76,2],[77,2,78,2],[79,2,80,2],[81,2,82,2],[83,2,84,2],[85,2,86,2],[87,2,88,2]]}
[null,null,"Frequency band (MHz)","Licensing regime",null,null,null," Topo-logy",null,"Application",null,null,null,null,"Number of P-P links",null,"Number of CS","Channel/Frequency plan used (e.g. ERC/ECC Rec. ITU-R Rec.)","Link characteristics",null,null,null,null,null,"Future trends (e.g. in the next 5 years)"]
[null,null,null,null,null,null,null,"FWA",null,"Network Infrastruc-ture",null,null,null,null,null,null,null,null,"Capacity",null,null,"Hop length (km)"]
[null,null,null,"Link by link","Block","Light licensed","Licence exempt","P-P","P-MP","Mobile backhaul","Others","Broadcasting Infrastructure","No Information available on the application","Other (please indicate)","unidirection","bidirectional (1 bidirectional link counts 1)","(applicable only for P-MP and mesh networks)",null,"LOW (<10 Mbit/s)","MEDIUM (10 to 100 Mbit/s)","HIGH (>100 Mbit/s)","MIN","Typical figure","MAX","Anticipated growth/reduction (+/-%)","Currently congested","Planned reallocation to other service/application","Other (please describe)\n(see Question 3 of the Questionnaire)"]
["Ireland",{"$f":"VLOOKUP(A4, 'Country names'!$A$5:$C$53,3,FALSE)","v":"IRL"},"1350-1375 and 1492-1517","X",null,null,null,"X",null,null,null,null,"X",null,null,76,null,"T/R 13-01 Annex A",76,null,null,"No min. path length policy"]
["Ireland",{"$f":"VLOOKUP(A5, 'Country names'!$A$5:$C$53,3,FALSE)","v":"IRL"}]
["Ireland",{"$f":"VLOOKUP(A6, 'Country names'!$A$5:$C$53,3,FALSE)","v":"IRL"},"1375-1400 and 1427-1452","X",null,null,null,"X",null,null,null,"X",null,null,41,null,null,"T/R 13-01 Annex B",41,null,null,"No min. path length policy"]
["Ireland",{"$f":"VLOOKUP(A7, 'Country names'!$A$5:$C$53,3,FALSE)","v":"IRL"}]
["Ireland",{"$f":"VLOOKUP(A8, 'Country names'!$A$5:$C$53,3,FALSE)","v":"IRL"},"2025-2110 and 2200-2290","X",null,null,null,"X",null,null,null,null,"X",null,null,28,null,"T/R 13-01 Annex C",7,21,null,"25 km"]
["Ireland",{"$f":"VLOOKUP(A9, 'Country names'!$A$5:$C$53,3,FALSE)","v":"IRL"}]
["Ireland",{"$f":"VLOOKUP(A10, 'Country names'!$A$5:$C$53,3,FALSE)","v":"IRL"},"3400-3600","X (FWALA licences issues on case by case basis)",null,null,null,null,"X",null,null,null,null,"Wireless broadband provision",null,null,"268 (3400 - 3800 MHz)","ERC/REC 14-03",null,null,null,"N/A",null,null,null,null,"X "]
["Ireland",{"$f":"VLOOKUP(A11, 'Country names'!$A$5:$C$53,3,FALSE)","v":"IRL"}]
["Ireland",{"$f":"VLOOKUP(A12, 'Country names'!$A$5:$C$53,3,FALSE)","v":"IRL"},"3600-4200","X (FWALA licences issues on case by case basis)",null,null,null,null,"X",null,null,null,null,"Wireless broadband provision",null,null,"268 (3400 - 3800 MHz)","ERC/REC 12-08",null,null,null,"N/A",null,null,null,null,"X "]
["Ireland",{"$f":"VLOOKUP(A13, 'Country names'!$A$5:$C$53,3,FALSE)","v":"IRL"}]
["Ireland",{"$f":"VLOOKUP(A14, 'Country names'!$A$5:$C$53,3,FALSE)","v":"IRL"},"4400-5000"]
["Ireland",{"$f":"VLOOKUP(A15, 'Country names'!$A$5:$C$53,3,FALSE)","v":"IRL"}]
["Ireland",{"$f":"VLOOKUP(A16, 'Country names'!$A$5:$C$53,3,FALSE)","v":"IRL"},"5850-5925",null,null,"X (5725 - 5875 MHz)",null,null,"X",null,"X",null,null,null,null,null,"106 stations registered for use of the entire band 5725 - 5875 MHz",null,null,null,null,"N/A"]
["Ireland",{"$f":"VLOOKUP(A17, 'Country names'!$A$5:$C$53,3,FALSE)","v":"IRL"}]
["Ireland",{"$f":"VLOOKUP(A18, 'Country names'!$A$5:$C$53,3,FALSE)","v":"IRL"},"5925-7125","X",null,null,null,"X",null,null,null,null,"X",null,null,208,null,"ERC/REC 14-01 and ERC/REC 14-02, ECC/REC(14)06",null,null,208,"25 km"]
["Ireland",{"$f":"VLOOKUP(A19, 'Country names'!$A$5:$C$53,3,FALSE)","v":"IRL"}]
["Ireland",{"$f":"VLOOKUP(A20, 'Country names'!$A$5:$C$53,3,FALSE)","v":"IRL"},"7125-7750","X",null,null,null,"X",null,null,null,null,"X",null,null,270,null,"ECC REC (02)06",12,31,227,"25 km"]
["Ireland",{"$f":"VLOOKUP(A21, 'Country names'!$A$5:$C$53,3,FALSE)","v":"IRL"}]
["Ireland",{"$f":"VLOOKUP(A22, 'Country names'!$A$5:$C$53,3,FALSE)","v":"IRL"},"7750-7900","X",null,null,null,"X",null,null,null,null,"X",null,null,208,null,null,null,10,198,"25 km"]
["Ireland",{"$f":"VLOOKUP(A23, 'Country names'!$A$5:$C$53,3,FALSE)","v":"IRL"}]
["Ireland",{"$f":"VLOOKUP(A24, 'Country names'!$A$5:$C$53,3,FALSE)","v":"IRL"},"7900-8500","X",null,null,null,"X",null,null,null,null,"X",null,null,12,null,"ECC REC (02)06",8,4,null,"25 km"]
["Ireland",{"$f":"VLOOKUP(A25, 'Country names'!$A$5:$C$53,3,FALSE)","v":"IRL"}]
["Ireland",{"$f":"VLOOKUP(A26, 'Country names'!$A$5:$C$53,3,FALSE)","v":"IRL"},"10000-10680","X (FWALA licences issues on case by case basis)",null,null,null,null,"X",null,null,null,null,"Wireless broadband provision",null,null,35,"ERC/REC 12-05",null,null,null,"N/A"]
["Ireland",{"$f":"VLOOKUP(A27, 'Country names'!$A$5:$C$53,3,FALSE)","v":"IRL"}]
["Ireland",{"$f":"VLOOKUP(A28, 'Country names'!$A$5:$C$53,3,FALSE)","v":"IRL"},"10700-11700","X",null,null,null,"X",null,null,null,null,"X",null,null,778,null,"ERC/REC 12-06",null,null,778,"10 km"]
["Ireland",{"$f":"VLOOKUP(A29, 'Country names'!$A$5:$C$53,3,FALSE)","v":"IRL"}]
["Ireland",{"$f":"VLOOKUP(A30, 'Country names'!$A$5:$C$53,3,FALSE)","v":"IRL"},"11700-12500"]
["Ireland",{"$f":"VLOOKUP(A31, 'Country names'!$A$5:$C$53,3,FALSE)","v":"IRL"}]
["Ireland",{"$f":"VLOOKUP(A32, 'Country names'!$A$5:$C$53,3,FALSE)","v":"IRL"},"12750-13250","X",null,null,null,"X",null,null,null,null,"X",null,null,1362,null,"ERC/REC 12-02",42,603,717,"9 km",null,null,null,"X"]
["Ireland",{"$f":"VLOOKUP(A33, 'Country names'!$A$5:$C$53,3,FALSE)","v":"IRL"}]
["Ireland",{"$f":"VLOOKUP(A34, 'Country names'!$A$5:$C$53,3,FALSE)","v":"IRL"},"14250-14500"]
["Ireland",{"$f":"VLOOKUP(A35, 'Country names'!$A$5:$C$53,3,FALSE)","v":"IRL"}]
["Ireland",{"$f":"VLOOKUP(A36, 'Country names'!$A$5:$C$53,3,FALSE)","v":"IRL"},"14500-14620 and 15230-15350","X",null,null,null,"X",null,null,null,null,"X",null,null,1752,null,"ERC/REC 12-07",201,7,1544,"9 km",null,null,null,"X"]
["Ireland",{"$f":"VLOOKUP(A37, 'Country names'!$A$5:$C$53,3,FALSE)","v":"IRL"}]
["Ireland",{"$f":"VLOOKUP(A38, 'Country names'!$A$5:$C$53,3,FALSE)","v":"IRL"},"17300-17700"]
["Ireland",{"$f":"VLOOKUP(A39, 'Country names'!$A$5:$C$53,3,FALSE)","v":"IRL"}]
["Ireland",{"$f":"VLOOKUP(A40, 'Country names'!$A$5:$C$53,3,FALSE)","v":"IRL"},"17700-19700","X",null,null,null,"X",null,null,null,null,"X",null,null,1190,null,null,null,13,1177,"6 km for links ≤ 34 MBit/s.",null,null,null,"X"]
["Ireland",{"$f":"VLOOKUP(A41, 'Country names'!$A$5:$C$53,3,FALSE)","v":"IRL"},null,null,null,null,null,null,null,null,null,null,null,null,null,null,null,null,null,null,null,"0 km for links > 34 Mbit/s. "]
["Ireland",{"$f":"VLOOKUP(A42, 'Country names'!$A$5:$C$53,3,FALSE)","v":"IRL"},"21200-22000"]
["Ireland",{"$f":"VLOOKUP(A43, 'Country names'!$A$5:$C$53,3,FALSE)","v":"IRL"}]
["Ireland",{"$f":"VLOOKUP(A44, 'Country names'!$A$5:$C$53,3,FALSE)","v":"IRL"},"22000-22600 and 23000-23600","X",null,null,null,"X",null,null,null,null,"X",null,null,1640,null,"T/R 13-02 Annexes A1, A2, A3",163,758,719,"3 km for links ≤ 34 MBit/s.",null,null,null,"X"]
["Ireland",{"$f":"VLOOKUP(A45, 'Country names'!$A$5:$C$53,3,FALSE)","v":"IRL"},null,null,null,null,null,null,null,null,null,null,null,null,null,null,null,null,null,null,null,"0 km for links > 34 Mbit/s, or 34 Mbit/s in 14 MHz channel spacing. "]
["Ireland",{"$f":"VLOOKUP(A46, 'Country names'!$A$5:$C$53,3,FALSE)","v":"IRL"},"22600-23000"]
["Ireland",{"$f":"VLOOKUP(A47, 'Country names'!$A$5:$C$53,3,FALSE)","v":"IRL"}]
["Ireland",{"$f":"VLOOKUP(A48, 'Country names'!$A$5:$C$53,3,FALSE)","v":"IRL"},"24250-24500"]
["Ireland",{"$f":"VLOOKUP(A49, 'Country names'!$A$5:$C$53,3,FALSE)","v":"IRL"}]
["Ireland",{"$f":"VLOOKUP(A50, 'Country names'!$A$5:$C$53,3,FALSE)","v":"IRL"},"24500-26500",null,"X",null,null,"X",null,null,null,null,null,null,null,"4444 sites registered nationwide for 26 GHz \"block licence\" link deployments. There are therefore a minimum of 2222 links, with potentially many more, depending upon the number of 26 GHz links deployed at each site.",null,null,"X","X","X","3 km for links ≤ 34 MBit/s."]
["Ireland",{"$f":"VLOOKUP(A51, 'Country names'!$A$5:$C$53,3,FALSE)","v":"IRL"},null,null,null,null,null,null,null,null,null,null,null,null,null,null,null,null,null,null,null,"0 km for links > 34 Mbit/s, or 34 Mbit/s in 14 MHz channel spacing. "]
["Ireland",{"$f":"VLOOKUP(A52, 'Country names'!$A$5:$C$53,3,FALSE)","v":"IRL"},null,"X",null,null,null,"X",null,null,null,null,null,null,null,474,null,"T/R 13-02 Annex B",null,null,474,"3 km for links ≤ 34 MBit/s."]
["Ireland",{"$f":"VLOOKUP(A53, 'Country names'!$A$5:$C$53,3,FALSE)","v":"IRL"},null,null,null,null,null,null,null,null,null,null,null,null,null,null,null,null,null,null,null,"0 km for links > 34 Mbit/s, or 34 Mbit/s in 14 MHz channel spacing. "]
["Ireland",{"$f":"VLOOKUP(A54, 'Country names'!$A$5:$C$53,3,FALSE)","v":"IRL"},null,"X (FWALA licences issues on case by case basis)",null,null,null,null,"X",null,null,null,null,"Wireless broadband provision",null,null,3,null,null,null,null,"N/A"]
["Ireland",{"$f":"VLOOKUP(A55, 'Country names'!$A$5:$C$53,3,FALSE)","v":"IRL"}]
["Ireland",{"$f":"VLOOKUP(A56, 'Country names'!$A$5:$C$53,3,FALSE)","v":"IRL"},"26500-27500"]
["Ireland",{"$f":"VLOOKUP(A57, 'Country names'!$A$5:$C$53,3,FALSE)","v":"IRL"}]
["Ireland",{"$f":"VLOOKUP(A58, 'Country names'!$A$5:$C$53,3,FALSE)","v":"IRL"},"27500-29500","X",null,null,null,"X",null,null,null,null,"X",null,null,197,null,"T/R 13-02 Annex C",null,45,153,"3 km for links ≤ 34 MBit/s."]
["Ireland",{"$f":"VLOOKUP(A59, 'Country names'!$A$5:$C$53,3,FALSE)","v":"IRL"},null,null,null,null,null,null,null,null,null,null,null,null,null,null,null,null,null,null,null,"0 km for links > 34 Mbit/s, or 34 Mbit/s in 14 MHz channel spacing. "]
["Ireland",{"$f":"VLOOKUP(A60, 'Country names'!$A$5:$C$53,3,FALSE)","v":"IRL"},"31000-31300","X",null,null,null,null,null,null,null,null,null,null,null,0,null,"ECC/REC/(02)02"]
["Ireland",{"$f":"VLOOKUP(A61, 'Country names'!$A$5:$C$53,3,FALSE)","v":"IRL"}]
["Ireland",{"$f":"VLOOKUP(A62, 'Country names'!$A$5:$C$53,3,FALSE)","v":"IRL"},"31800-33400",null,null,null,null,null,null,null,null,null,null,null,null,null,null,"ERC/REC/(01)02"]
["Ireland",{"$f":"VLOOKUP(A63, 'Country names'!$A$5:$C$53,3,FALSE)","v":"IRL"}]
["Ireland",{"$f":"VLOOKUP(A64, 'Country names'!$A$5:$C$53,3,FALSE)","v":"IRL"},"36000-37000"]
["Ireland",{"$f":"VLOOKUP(A65, 'Country names'!$A$5:$C$53,3,FALSE)","v":"IRL"}]
["Ireland",{"$f":"VLOOKUP(A66, 'Country names'!$A$5:$C$53,3,FALSE)","v":"IRL"},"37000-39500","X",null,null,null,"X",null,null,null,null,"X",null,null,2095,null,"T/R 12-01",245,843,1007,"0 km"]
["Ireland",{"$f":"VLOOKUP(A67, 'Country names'!$A$5:$C$53,3,FALSE)","v":"IRL"}]
["Ireland",{"$f":"VLOOKUP(A68, 'Country names'!$A$5:$C$53,3,FALSE)","v":"IRL"},"39500-40500"]
["Ireland",{"$f":"VLOOKUP(A69, 'Country names'!$A$5:$C$53,3,FALSE)","v":"IRL"}]
["Ireland",{"$f":"VLOOKUP(A70, 'Country names'!$A$5:$C$53,3,FALSE)","v":"IRL"},"40500-43500","X",null,null,null,"X",null,null,null,null,"X",null,null,10,null,"ECC/REC/(01)04",null,null,10,"0 km"]
["Ireland",{"$f":"VLOOKUP(A71, 'Country names'!$A$5:$C$53,3,FALSE)","v":"IRL"}]
["Ireland",{"$f":"VLOOKUP(A72, 'Country names'!$A$5:$C$53,3,FALSE)","v":"IRL"},"47200-48500"]
["Ireland",{"$f":"VLOOKUP(A73, 'Country names'!$A$5:$C$53,3,FALSE)","v":"IRL"}]
["Ireland",{"$f":"VLOOKUP(A74, 'Country names'!$A$5:$C$53,3,FALSE)","v":"IRL"},"48500-50200",null,null,null,null,null,null,null,null,null,null,null,null,null,null,"ERC/REC 12-11"]
["Ireland",{"$f":"VLOOKUP(A75, 'Country names'!$A$5:$C$53,3,FALSE)","v":"IRL"}]
["Ireland",{"$f":"VLOOKUP(A76, 'Country names'!$A$5:$C$53,3,FALSE)","v":"IRL"},"50400-51400"]
["Ireland",{"$f":"VLOOKUP(A77, 'Country names'!$A$5:$C$53,3,FALSE)","v":"IRL"}]
["Ireland",{"$f":"VLOOKUP(A78, 'Country names'!$A$5:$C$53,3,FALSE)","v":"IRL"},"51400-52600",null,null,null,null,null,null,null,null,null,null,null,null,null,null,"ERC/REC 12-11"]
["Ireland",{"$f":"VLOOKUP(A79, 'Country names'!$A$5:$C$53,3,FALSE)","v":"IRL"}]
["Ireland",{"$f":"VLOOKUP(A80, 'Country names'!$A$5:$C$53,3,FALSE)","v":"IRL"},"557800-57000",null,null,null,null,null,null,null,null,null,null,null,null,null,null,"ERC/REC 12-12"]
["Ireland",{"$f":"VLOOKUP(A81, 'Country names'!$A$5:$C$53,3,FALSE)","v":"IRL"}]
["Ireland",{"$f":"VLOOKUP(A82, 'Country names'!$A$5:$C$53,3,FALSE)","v":"IRL"},"57000-59000",null,null,null,null,null,null,null,null,null,null,null,null,null,null,"ECC/REC/(09)01"]
["Ireland",{"$f":"VLOOKUP(A83, 'Country names'!$A$5:$C$53,3,FALSE)","v":"IRL"}]
["Ireland",{"$f":"VLOOKUP(A84, 'Country names'!$A$5:$C$53,3,FALSE)","v":"IRL"},"59000-64000",null,null,null,null,null,null,null,null,null,null,null,null,null,null,"ECC/REC/(09)01"]
["Ireland",{"$f":"VLOOKUP(A85, 'Country names'!$A$5:$C$53,3,FALSE)","v":"IRL"}]
["Ireland",{"$f":"VLOOKUP(A86, 'Country names'!$A$5:$C$53,3,FALSE)","v":"IRL"},"64000-66000",null,null,null,null,null,null,null,null,null,null,null,null,null,null,"ECC/REC/(05)02"]
["Ireland",{"$f":"VLOOKUP(A87, 'Country names'!$A$5:$C$53,3,FALSE)","v":"IRL"}]
["Ireland",{"$f":"VLOOKUP(A88, 'Country names'!$A$5:$C$53,3,FALSE)","v":"IRL"},"71000-76000 and 81000-86000","X",null,null,null,"X",null,null,null,null,"X",null,null,355,null,"ECC/REC/(05)07",355,null,null,"0 km"]
["Ireland",{"$f":"VLOOKUP(A89, 'Country names'!$A$5:$C$53,3,FALSE)","v":"IRL"}]
["Ireland",{"$f":"VLOOKUP(A90, 'Country names'!$A$5:$C$53,3,FALSE)","v":"IRL"},"92000-95000",null,null,null,null,null,null,null,null,null,null,null,null,null,null,"ECC/REC (14)01"]

{"sheet":"Finland","index":16,"n_rows":86,"n_cols":29,"rows_kept":86,"cut":false,"hidden":false,"merged":[[0,24,0,27],[3,2,4,2],[5,2,6,2],[7,2,8,2],[0,2,2,2],[0,3,0,6],[1,7,1,8],[1,9,1,10],[1,18,1,20],[1,21,1,23],[0,17,2,17],[0,7,0,8],[0,9,0,13],[0,14,0,15],[0,18,0,23],[9,2,10,2],[11,2,12,2],[37,2,38,2],[15,2,16,2],[17,2,18,2],[19,2,20,2],[21,2,22,2],[23,2,24,2],[25,2,26,2],[27,2,28,2],[29,2,30,2],[31,2,32,2],[33,2,34,2],[35,2,36,2],[13,2,14,2],[61,2,62,2],[39,2,40,2],[41,2,42,2],[43,2,44,2],[45,2,46,2],[47,2,48,2],[49,2,50,2],[51,2,52,2],[53,2,54,2],[55,2,56,2],[57,2,58,2],[59,2,60,2],[85,2,86,2],[63,2,64,2],[65,2,66,2],[67,2,68,2],[69,2,70,2],[71,2,72,2],[73,2,74,2],[75,2,76,2],[77,2,78,2],[79,2,80,2],[81,2,82,2],[83,2,84,2]]}
[null,null,"Frequency band (MHz)","Licensing regime",null,null,null," Topo-logy",null,"Application",null,null,null,null,"Number of P-P links",null,"Number of CS","Channel/Frequency plan used (e.g. ERC/ECC Rec. ITU-R Rec.)","Link characteristics",null,null,null,null,null,"Future trends (e.g. in the next 5 years)"]
[null,null,null,null,null,null,null,"FWA",null,"Network Infrastruc-ture",null,null,null,null,null,null,null,null,"Capacity",null,null,"Hop length (km)"]
[null,null,null,"Link by link","Block","Light licensed","Licence exempt","P-P","P-MP","Mobile backhaul","Others","Broadcasting Infrastructure","No Information available on the application","Other (please indicate)","unidirection","bidirectional (1 bidirectional link counts 1)","(applicable only for P-MP and mesh networks)",null,"LOW (<10 Mbit/s)","MEDIUM (10 to 100 Mbit/s)","HIGH (>100 Mbit/s)","MIN","Typical figure","MAX","Anticipated growth/reduction (+/-%)","Currently congested","Planned reallocation to other service/application","Other (please describe)\n(see Question 3 of the Questionnaire)"]
["Finland",{"$f":"VLOOKUP(A4, 'Country names'!$A$5:$C$53,3,FALSE)","v":"FIN"},"1350-1375 and 1492-1517",null,null,null,null,null,null,null,null,null,null,null,0,0,null,"(T/R 13-01 Annex A)  1)",null,null,null,null,null,null,null,null,"1)",null,"1) MFCN 1492-1517 MHz planned in the beginning of 2019"]
["Finland",{"$f":"VLOOKUP(A5, 'Country names'!$A$5:$C$53,3,FALSE)","v":"FIN"},null,null,"x",null,null,null,"x",null,"x",null,null,null,null,null,16,"FWA: 1359-1371 MHz, national plan",null,"x",null,null,"N/A"]
["Finland",{"$f":"VLOOKUP(A6, 'Country names'!$A$5:$C$53,3,FALSE)","v":"FIN"},"1375-1400 and 1427-1452"]
["Finland",{"$f":"VLOOKUP(A7, 'Country names'!$A$5:$C$53,3,FALSE)","v":"FIN"},null,null,null,null,null,null,null,null,null,null,null,null,null,null,null,null,null,null,null,null,null,null,null,null,"2)",null,"2) MFCN 1427-1452 MHz planned in the beginning of 2019"]
["Finland",{"$f":"VLOOKUP(A8, 'Country names'!$A$5:$C$53,3,FALSE)","v":"FIN"},"2025-2110 and 2200-2290"]
["Finland",{"$f":"VLOOKUP(A9, 'Country names'!$A$5:$C$53,3,FALSE)","v":"FIN"},null,"x",null,null,null,"x",null,null,"x",null,null,null,"N/A",null,null,"ERC/REC 25-10",null,"x",null,null,"N/A",null,null,null,null,null,"temporary use "]
["Finland",{"$f":"VLOOKUP(A10, 'Country names'!$A$5:$C$53,3,FALSE)","v":"FIN"},"3400-3600"]
["Finland",{"$f":"VLOOKUP(A11, 'Country names'!$A$5:$C$53,3,FALSE)","v":"FIN"},null,null,"x",null,null,null,"x",null,"x",null,null,null,null,null,"ca.250","FWA: 3410-3590 MHz, national plan","x",null,null,null,"<8",null,-35,null,"3)",null,"3) MFCN 3400-3800 MHz planned in the beginning of 2019"]
["Finland",{"$f":"VLOOKUP(A12, 'Country names'!$A$5:$C$53,3,FALSE)","v":"FIN"},"3600-4200","x",null,null,null,"x",null,null,null,"x",null,null,164,32,null,"ERC/REC 12-08",null,"x","x",20,">30",null,null,null,"3)",null,"3) MFCN 3400-3800 MHz planned in the beginning of 2019"]
["Finland",{"$f":"VLOOKUP(A13, 'Country names'!$A$5:$C$53,3,FALSE)","v":"FIN"}]
["Finland",{"$f":"VLOOKUP(A14, 'Country names'!$A$5:$C$53,3,FALSE)","v":"FIN"},"4400-5000"]
["Finland",{"$f":"VLOOKUP(A15, 'Country names'!$A$5:$C$53,3,FALSE)","v":"FIN"}]
["Finland",{"$f":"VLOOKUP(A16, 'Country names'!$A$5:$C$53,3,FALSE)","v":"FIN"},"5850-5925"]
["Finland",{"$f":"VLOOKUP(A17, 'Country names'!$A$5:$C$53,3,FALSE)","v":"FIN"}]
["Finland",{"$f":"VLOOKUP(A18, 'Country names'!$A$5:$C$53,3,FALSE)","v":"FIN"},"5925-7125","x",null,null,null,"x",null,"x","x","x",null,null,0,646,null,"ERC/REC 14-01 and ERC/REC 14-02, ECC/REC(14)06",null,"x","x",10,"19.7","63.1","+ 50","x",null,"upper 6 GHz congested in some areas"]
["Finland",{"$f":"VLOOKUP(A19, 'Country names'!$A$5:$C$53,3,FALSE)","v":"FIN"}]
["Finland",{"$f":"VLOOKUP(A20, 'Country names'!$A$5:$C$53,3,FALSE)","v":"FIN"},"7125-7750","x",null,null,null,"x",null,"x","x",null,null,null,0,363,null,"Modified ITU-R F.385",null,"x","x",10,"29.4","74.9",-25]
["Finland",{"$f":"VLOOKUP(A21, 'Country names'!$A$5:$C$53,3,FALSE)","v":"FIN"}]
["Finland",{"$f":"VLOOKUP(A22, 'Country names'!$A$5:$C$53,3,FALSE)","v":"FIN"},"7750-7900"]
["Finland",{"$f":"VLOOKUP(A23, 'Country names'!$A$5:$C$53,3,FALSE)","v":"FIN"}]
["Finland",{"$f":"VLOOKUP(A24, 'Country names'!$A$5:$C$53,3,FALSE)","v":"FIN"},"7900-8500","x",null,null,null,null,null,"x","x",null,null,null,0,4,null,"ECC REC (02)06",null,null,"x",10,"15.4","17.1"]
["Finland",{"$f":"VLOOKUP(A25, 'Country names'!$A$5:$C$53,3,FALSE)","v":"FIN"},null,null,"x",null,null,null,null,null,null,"x",null,null,"N/A","N/A",null,"video links, national plan",null,"x",null,null,"N/A"]
["Finland",{"$f":"VLOOKUP(A26, 'Country names'!$A$5:$C$53,3,FALSE)","v":"FIN"},"10000-10680","x",null,null,null,"x",null,null,"x","x",null,null,3,0,null,"ERC/REC 12-05",null,null,null,"0.1","5.1","14.2"]
["Finland",{"$f":"VLOOKUP(A27, 'Country names'!$A$5:$C$53,3,FALSE)","v":"FIN"}]
["Finland",{"$f":"VLOOKUP(A28, 'Country names'!$A$5:$C$53,3,FALSE)","v":"FIN"},"10700-11700"]
["Finland",{"$f":"VLOOKUP(A29, 'Country names'!$A$5:$C$53,3,FALSE)","v":"FIN"}]
["Finland",{"$f":"VLOOKUP(A30, 'Country names'!$A$5:$C$53,3,FALSE)","v":"FIN"},"11700-12500"]
["Finland",{"$f":"VLOOKUP(A31, 'Country names'!$A$5:$C$53,3,FALSE)","v":"FIN"}]
["Finland",{"$f":"VLOOKUP(A32, 'Country names'!$A$5:$C$53,3,FALSE)","v":"FIN"},"12750-13250","x",null,null,null,"x",null,"x","x",null,null,null,0,1750,null,"ERC/REC 12-02",null,"x","x","0.24","14.4","34.9",-10]
["Finland",{"$f":"VLOOKUP(A33, 'Country names'!$A$5:$C$53,3,FALSE)","v":"FIN"}]
["Finland",{"$f":"VLOOKUP(A34, 'Country names'!$A$5:$C$53,3,FALSE)","v":"FIN"},"14250-14500"]
["Finland",{"$f":"VLOOKUP(A35, 'Country names'!$A$5:$C$53,3,FALSE)","v":"FIN"}]
["Finland",{"$f":"VLOOKUP(A36, 'Country names'!$A$5:$C$53,3,FALSE)","v":"FIN"},"14500-14620 and 15230-15350","x",null,null,null,"x",null,"x","x",null,null,null,0,414,null,"ITU-R F.636","x","x",null,"0.4","13.8","32.2",-7]
["Finland",{"$f":"VLOOKUP(A37, 'Country names'!$A$5:$C$53,3,FALSE)","v":"FIN"}]
["Finland",{"$f":"VLOOKUP(A38, 'Country names'!$A$5:$C$53,3,FALSE)","v":"FIN"},"17300-17700"]
["Finland",{"$f":"VLOOKUP(A39, 'Country names'!$A$5:$C$53,3,FALSE)","v":"FIN"}]
["Finland",{"$f":"VLOOKUP(A40, 'Country names'!$A$5:$C$53,3,FALSE)","v":"FIN"},"17700-19700","x",null,null,null,"x",null,"x","x",null,null,null,0,2730,null,"ERC/DEC/(00)07; ERC/REC 12-03",null,"x","x","0.1","8.0","26.6","+15"]
["Finland",{"$f":"VLOOKUP(A41, 'Country names'!$A$5:$C$53,3,FALSE)","v":"FIN"}]
["Finland",{"$f":"VLOOKUP(A42, 'Country names'!$A$5:$C$53,3,FALSE)","v":"FIN"},"21200-22000","x",null,null,null,"x",null,null,"x",null,null,null,0,0,null,"ERC/REC 25-10"]
["Finland",{"$f":"VLOOKUP(A43, 'Country names'!$A$5:$C$53,3,FALSE)","v":"FIN"}]
["Finland",{"$f":"VLOOKUP(A44, 'Country names'!$A$5:$C$53,3,FALSE)","v":"FIN"},"22000-22600 and 23000-23600","x",null,null,null,"x",null,"x","x",null,null,null,0,1619,null,"T/R 13-02 Annexes A1, A2, A3","x","x","x","0.6","4.9","17.5","-15 *)",null,null,null,"*) decrease 28 MHz / increase 56 MHz"]
["Finland",{"$f":"VLOOKUP(A45, 'Country names'!$A$5:$C$53,3,FALSE)","v":"FIN"},null,null,null,null,null,null,null,null,null,null,null,null,null,null,null,null,null,null,null,null,null,null,"+2 *)","x",null,"56 MHz channels congested in some areas"]
["Finland",{"$f":"VLOOKUP(A46, 'Country names'!$A$5:$C$53,3,FALSE)","v":"FIN"},"22600-23000","x",null,null,null,"x",null,null,"x",null,null,null,0,0,null,"ERC/REC 25-10"]
["Finland",{"$f":"VLOOKUP(A47, 'Country names'!$A$5:$C$53,3,FALSE)","v":"FIN"}]
["Finland",{"$f":"VLOOKUP(A48, 'Country names'!$A$5:$C$53,3,FALSE)","v":"FIN"},"24250-24500",null,null,null,null,null,null,null,null,null,null,null,null,null,null,null,null,null,null,null,null,null,null,null,"4)",null,"4) Potential 5G candidate band under study"]
["Finland",{"$f":"VLOOKUP(A49, 'Country names'!$A$5:$C$53,3,FALSE)","v":"FIN"}]
["Finland",{"$f":"VLOOKUP(A50, 'Country names'!$A$5:$C$53,3,FALSE)","v":"FIN"},"24500-26500","x",null,null,null,"x",null,null,null,"x",null,null,0,1,null,"T/R 13-02 Annex B",null,"x",null,null,"1.6",null,null,null,"4)"]
["Finland",{"$f":"VLOOKUP(A51, 'Country names'!$A$5:$C$53,3,FALSE)","v":"FIN"}]
["Finland",{"$f":"VLOOKUP(A52, 'Country names'!$A$5:$C$53,3,FALSE)","v":"FIN"},"26500-27500",null,null,null,null,null,null,null,null,null,null,null,null,null,null,null,null,null,null,null,null,null,null,null,"4)"]
["Finland",{"$f":"VLOOKUP(A53, 'Country names'!$A$5:$C$53,3,FALSE)","v":"FIN"}]
["Finland",{"$f":"VLOOKUP(A54, 'Country names'!$A$5:$C$53,3,FALSE)","v":"FIN"},"27500-29500","x",null,null,null,"x",null,"x","x","x",null,null,0,500,null,"T/R 13-02 Annex C",null,"x","x","0.1","1.3","17.3","+2"]
["Finland",{"$f":"VLOOKUP(A55, 'Country names'!$A$5:$C$53,3,FALSE)","v":"FIN"}]
["Finland",{"$f":"VLOOKUP(A56, 'Country names'!$A$5:$C$53,3,FALSE)","v":"FIN"},"31000-31300","x",null,null,null,"x",null,null,"x",null,null,null,0,0,null,"ECC/REC/(02)02"]
["Finland",{"$f":"VLOOKUP(A57, 'Country names'!$A$5:$C$53,3,FALSE)","v":"FIN"}]
["Finland",{"$f":"VLOOKUP(A58, 'Country names'!$A$5:$C$53,3,FALSE)","v":"FIN"},"31800-33400","x",null,null,null,"x",null,"x",null,null,null,null,0,111,null,"ERC/REC/(01)02",null,null,"x","0.1","1.1","7.5","+4",null,"4)"]
["Finland",{"$f":"VLOOKUP(A59, 'Country names'!$A$5:$C$53,3,FALSE)","v":"FIN"}]
["Finland",{"$f":"VLOOKUP(A60, 'Country names'!$A$5:$C$53,3,FALSE)","v":"FIN"},"36000-37000"]
["Finland",{"$f":"VLOOKUP(A61, 'Country names'!$A$5:$C$53,3,FALSE)","v":"FIN"}]
["Finland",{"$f":"VLOOKUP(A62, 'Country names'!$A$5:$C$53,3,FALSE)","v":"FIN"},"37000-39500","x",null,null,null,"x",null,null,"x",null,null,null,0,18,null,"T/R 12-01",null,"x",null,"0.7","1.8","3.7",null,null,"4)"]
["Finland",{"$f":"VLOOKUP(A63, 'Country names'!$A$5:$C$53,3,FALSE)","v":"FIN"}]
["Finland",{"$f":"VLOOKUP(A64, 'Country names'!$A$5:$C$53,3,FALSE)","v":"FIN"},"39500-40500",null,null,null,null,null,null,null,null,null,null,null,null,null,null,null,null,null,null,null,null,null,null,null,"4)"]
["Finland",{"$f":"VLOOKUP(A65, 'Country names'!$A$5:$C$53,3,FALSE)","v":"FIN"}]
["Finland",{"$f":"VLOOKUP(A66, 'Country names'!$A$5:$C$53,3,FALSE)","v":"FIN"},"40500-43500","x",null,null,null,"x",null,null,null,null,null,null,0,0,null,"ECC/REC/(01)04",null,null,null,null,null,null,null,null,"4)"]
["Finland",{"$f":"VLOOKUP(A67, 'Country names'!$A$5:$C$53,3,FALSE)","v":"FIN"}]
["Finland",{"$f":"VLOOKUP(A68, 'Country names'!$A$5:$C$53,3,FALSE)","v":"FIN"},"47200-48500","x",null,null,null,"x",null,null,null,null,null,null,0,0,null,"ERC/REC 12-11",null,null,null,null,null,null,null,null,"4)"]
["Finland",{"$f":"VLOOKUP(A69, 'Country names'!$A$5:$C$53,3,FALSE)","v":"FIN"}]
["Finland",{"$f":"VLOOKUP(A70, 'Country names'!$A$5:$C$53,3,FALSE)","v":"FIN"},"48500-50200","x",null,null,null,"x",null,null,null,null,null,null,0,0,null,"ERC/REC 12-11",null,null,null,null,null,null,null,null,"4)"]
["Finland",{"$f":"VLOOKUP(A71, 'Country names'!$A$5:$C$53,3,FALSE)","v":"FIN"}]
["Finland",{"$f":"VLOOKUP(A72, 'Country names'!$A$5:$C$53,3,FALSE)","v":"FIN"},"50400-51400","x",null,null,null,"x",null,null,null,null,null,null,0,0,null,"no channel plan",null,null,null,null,null,null,null,null,"4)"]
["Finland",{"$f":"VLOOKUP(A73, 'Country names'!$A$5:$C$53,3,FALSE)","v":"FIN"}]
["Finland",{"$f":"VLOOKUP(A74, 'Country names'!$A$5:$C$53,3,FALSE)","v":"FIN"},"51400-52600","x",null,null,null,"x",null,null,null,null,null,null,0,0,null,"ERC/REC 12-11, planned",null,null,null,null,null,null,null,null,"4)"]
["Finland",{"$f":"VLOOKUP(A75, 'Country names'!$A$5:$C$53,3,FALSE)","v":"FIN"}]
["Finland",{"$f":"VLOOKUP(A76, 'Country names'!$A$5:$C$53,3,FALSE)","v":"FIN"},"55780-57000","x",null,null,null,"x",null,null,null,null,null,null,0,0,null,"ERC/REC 12-12, planned"]
["Finland",{"$f":"VLOOKUP(A77, 'Country names'!$A$5:$C$53,3,FALSE)","v":"FIN"}]
["Finland",{"$f":"VLOOKUP(A78, 'Country names'!$A$5:$C$53,3,FALSE)","v":"FIN"},"57000-59000",null,"x",null,null,"x",null,null,"x",null,null,null,null,4,null,"existing use ERC/REC 12-09",null,null,null,null,"N/A"]
["Finland",{"$f":"VLOOKUP(A79, 'Country names'!$A$5:$C$53,3,FALSE)","v":"FIN"},null,null,null,null,null,null,null,null,null,null,null,null,null,null,null,"future use ECC/REC/(09)01"]
["Finland",{"$f":"VLOOKUP(A80, 'Country names'!$A$5:$C$53,3,FALSE)","v":"FIN"},"59000-64000",null,null,null,null,null,null,null,null,null,null,null,null,null,null,"ECC/REC/(09)01"]
["Finland",{"$f":"VLOOKUP(A81, 'Country names'!$A$5:$C$53,3,FALSE)","v":"FIN"}]
["Finland",{"$f":"VLOOKUP(A82, 'Country names'!$A$5:$C$53,3,FALSE)","v":"FIN"},"64000-66000","x",null,null,null,"x",null,null,null,null,null,null,0,0,null,"ECC/REC/(05)02"]
["Finland",{"$f":"VLOOKUP(A83, 'Country names'!$A$5:$C$53,3,FALSE)","v":"FIN"}]
["Finland",{"$f":"VLOOKUP(A84, 'Country names'!$A$5:$C$53,3,FALSE)","v":"FIN"},"71000-76000 and 81000-86000","x",null,null,null,"x",null,null,"x",null,null,null,0,4,null,"ECC/REC/(05)07",null,null,"x","0.1","2.4","2.9",null,null,"4)"]
["Finland",{"$f":"VLOOKUP(A85, 'Country names'!$A$5:$C$53,3,FALSE)","v":"FIN"}]
["Finland",{"$f":"VLOOKUP(A86, 'Country names'!$A$5:$C$53,3,FALSE)","v":"FIN"},"92000-95000","x",null,null,null,"x",null,null,null,null,null,null,0,0,null,"ECC/REC (14)01"]

{"sheet":"Slovenia","index":17,"n_rows":44,"n_cols":28,"rows_kept":44,"cut":false,"hidden":false,"merged":[[0,2,2,2],[0,3,0,6],[0,7,0,8],[0,9,0,13],[0,14,0,15],[0,18,0,23],[0,24,0,27],[1,7,1,8],[1,9,1,10],[1,18,1,20],[1,21,1,23],[0,17,2,17],[25,2,26,2],[3,2,4,2],[5,2,6,2],[7,2,8,2],[9,2,10,2],[11,2,12,2],[13,2,14,2],[15,2,16,2],[17,2,18,2],[19,2,20,2],[21,2,22,2],[23,2,24,2],[39,2,40,2],[41,2,42,2],[43,2,44,2],[27,2,28,2],[29,2,30,2],[31,2,32,2],[33,2,34,2],[35,2,36,2],[37,2,38,2]]}
[null,null,"Frequency band (MHz)","Licensing regime",null,null,null," Topo-logy",null,"Application",null,null,null,null,"Number of P-P links",null,"Number of CS","Channel/Frequency plan used (e.g. ERC/ECC Rec. ITU-R Rec.)","Link characteristics",null,null,null,null,null,"Future trends (e.g. in the next 5 years)"]
[null,null,null,null,null,null,null,"FWA",null,"Network Infrastruc-ture",null,null,null,null,null,null,null,null,"Capacity",null,null,"Hop length (km)"]
[null,null,null,"Link by link","Block","Light licensed","Licence exempt","P-P","P-MP","Mobile backhaul","Others","Broadcasting Infrastructure","No Information available on the application","Other (please indicate)","unidirection","bidirectional (1 bidirectional link counts 1)","(applicable only for P-MP and mesh networks)",null,"LOW (<10 Mbit/s)","MEDIUM (10 to 100 Mbit/s)","HIGH (>100 Mbit/s)","MIN","Typical figure","MAX","Anticipated growth/reduction (+/-%)","Currently congested","Planned reallocation to other service/application","Other (please describe)\n(see Question 3 of the Questionnaire)"]
["Slovenia",{"$f":"VLOOKUP(A4, 'Country names'!$A$5:$C$53,3,FALSE)","v":"SVN"},"1350-1375 and 1492-1517","X",null,null,null,"X",null,null,"X","X",null,null,83,12,null,"T/R 13-01 Annex A","X",null,null,0.6,18,82,null,null,"X","candidate band for mobile broadband"]
["Slovenia",{"$f":"VLOOKUP(A5, 'Country names'!$A$5:$C$53,3,FALSE)","v":"SVN"}]
["Slovenia",{"$f":"VLOOKUP(A6, 'Country names'!$A$5:$C$53,3,FALSE)","v":"SVN"},"1375-1400 and 1427-1452","X",null,null,null,"X",null,null,null,"X",null,null,25,0,null,"T/R 13-01 Annex B","X",null,null,2,15,33,null,null,"X","candidate band for mobile broadband"]
["Slovenia",{"$f":"VLOOKUP(A7, 'Country names'!$A$5:$C$53,3,FALSE)","v":"SVN"}]
["Slovenia",{"$f":"VLOOKUP(A8, 'Country names'!$A$5:$C$53,3,FALSE)","v":"SVN"},"1518-1530","X",null,null,null,"X",null,null,null,"X",null,null,61,0,null,"national plan","X",null,null,1,10,46,"+10%",null,null,"500 kHz analog FM"]
["Slovenia",{"$f":"VLOOKUP(A9, 'Country names'!$A$5:$C$53,3,FALSE)","v":"SVN"}]
["Slovenia",{"$f":"VLOOKUP(A10, 'Country names'!$A$5:$C$53,3,FALSE)","v":"SVN"},"3400-3600",null,"X",null,null,null,"X",null,"X",null,"X",null,null,null,10,"ERC/REC 14-03",null,"X"]
["Slovenia",{"$f":"VLOOKUP(A11, 'Country names'!$A$5:$C$53,3,FALSE)","v":"SVN"}]
["Slovenia",{"$f":"VLOOKUP(A12, 'Country names'!$A$5:$C$53,3,FALSE)","v":"SVN"},"3800-4200","X",null,null,null,"X",null,null,null,"X",null,null,0,19,null,"ERC/REC 12-08",null,null,"X",27,57,69]
["Slovenia",{"$f":"VLOOKUP(A13, 'Country names'!$A$5:$C$53,3,FALSE)","v":"SVN"}]
["Slovenia",{"$f":"VLOOKUP(A14, 'Country names'!$A$5:$C$53,3,FALSE)","v":"SVN"},"5925-6425","X",null,null,null,"X",null,"X","X",null,null,null,0,12,null,"ERC/REC 14-01 ",null,"X","X",10,21,33]
["Slovenia",{"$f":"VLOOKUP(A15, 'Country names'!$A$5:$C$53,3,FALSE)","v":"SVN"}]
["Slovenia",{"$f":"VLOOKUP(A16, 'Country names'!$A$5:$C$53,3,FALSE)","v":"SVN"},"6425-7125","X",null,null,null,"X",null,null,"X",null,null,null,0,1,null,"ERC/REC 14-02",null,"X",null,39,39,39]
["Slovenia",{"$f":"VLOOKUP(A17, 'Country names'!$A$5:$C$53,3,FALSE)","v":"SVN"}]
["Slovenia",{"$f":"VLOOKUP(A18, 'Country names'!$A$5:$C$53,3,FALSE)","v":"SVN"},"7125-7425","X",null,null,null,"X",null,"X",null,"X",null,null,0,85,null,"ECC REC (02)06",null,null,"X",2,29,72]
["Slovenia",{"$f":"VLOOKUP(A19, 'Country names'!$A$5:$C$53,3,FALSE)","v":"SVN"}]
["Slovenia",{"$f":"VLOOKUP(A20, 'Country names'!$A$5:$C$53,3,FALSE)","v":"SVN"},"7425-7725","X",null,null,null,"X",null,"X","X","X",null,null,0,39,null,"ECC REC (02)06",null,"X","X",6,23,53,null,"X"]
["Slovenia",{"$f":"VLOOKUP(A21, 'Country names'!$A$5:$C$53,3,FALSE)","v":"SVN"}]
["Slovenia",{"$f":"VLOOKUP(A22, 'Country names'!$A$5:$C$53,3,FALSE)","v":"SVN"},"7725-8275","X",null,null,null,"X",null,null,null,"X",null,null,0,48,null,"ECC REC (02)06",null,null,"X",2,27,50]
["Slovenia",{"$f":"VLOOKUP(A23, 'Country names'!$A$5:$C$53,3,FALSE)","v":"SVN"}]
["Slovenia",{"$f":"VLOOKUP(A24, 'Country names'!$A$5:$C$53,3,FALSE)","v":"SVN"},"8275-8500","X",null,null,null,"X",null,"X",null,null,null,null,0,1,null,"ECC REC (02)06",null,null,"X",28,28,28]
["Slovenia",{"$f":"VLOOKUP(A25, 'Country names'!$A$5:$C$53,3,FALSE)","v":"SVN"}]
["Slovenia",{"$f":"VLOOKUP(A26, 'Country names'!$A$5:$C$53,3,FALSE)","v":"SVN"},"10000-10680","X",null,null,null,"X",null,null,null,"X","X",null,3,0,null,"ERC/REC 12-05",null,null,"X",4,8,11]
["Slovenia",{"$f":"VLOOKUP(A27, 'Country names'!$A$5:$C$53,3,FALSE)","v":"SVN"},null,null,"X",null,null,null,"X",null,null,null,null,"X",null,null,6,null,null,"X",null,null,null,null,null,null,null,"BWA/MMDS/block assignment for P-P"]
["Slovenia",{"$f":"VLOOKUP(A28, 'Country names'!$A$5:$C$53,3,FALSE)","v":"SVN"},"10700-11700","X",null,null,null,"X",null,null,null,"X",null,null,0,10,null,"ERC/REC 12-06",null,null,"X",4,12,27]
["Slovenia",{"$f":"VLOOKUP(A29, 'Country names'!$A$5:$C$53,3,FALSE)","v":"SVN"}]
["Slovenia",{"$f":"VLOOKUP(A30, 'Country names'!$A$5:$C$53,3,FALSE)","v":"SVN"},"11700-12500",null,"X",null,null,null,"X",null,null,null,null,"X",null,null,30,"national plan",null,"X",null,null,null,null,null,null,null,"MMDS, block of 200MHz"]
["Slovenia",{"$f":"VLOOKUP(A31, 'Country names'!$A$5:$C$53,3,FALSE)","v":"SVN"}]
["Slovenia",{"$f":"VLOOKUP(A32, 'Country names'!$A$5:$C$53,3,FALSE)","v":"SVN"},"12750-13250","X",null,null,null,"X",null,"X","X","X","X",null,0,326,null,"ERC/REC 12-02",null,"X","X",1,13,35,"+10%","X"]
["Slovenia",{"$f":"VLOOKUP(A33, 'Country names'!$A$5:$C$53,3,FALSE)","v":"SVN"}]
["Slovenia",{"$f":"VLOOKUP(A34, 'Country names'!$A$5:$C$53,3,FALSE)","v":"SVN"},"14500-15350","X",null,null,null,"X",null,"X",null,null,null,null,0,83,null,"ERC/REC 12-07 (and ITU F.636)",null,null,"X",4,13,30,null,null,null,"NATO-NJFA frequency band"]
["Slovenia",{"$f":"VLOOKUP(A35, 'Country names'!$A$5:$C$53,3,FALSE)","v":"SVN"}]
["Slovenia",{"$f":"VLOOKUP(A36, 'Country names'!$A$5:$C$53,3,FALSE)","v":"SVN"},"17700-19700","X",null,null,null,"X",null,"X","X","X","X",null,0,459,null,"ERC/REC 12-03",null,"X","X",0.2,8,39,"+10%","X"]
["Slovenia",{"$f":"VLOOKUP(A37, 'Country names'!$A$5:$C$53,3,FALSE)","v":"SVN"}]
["Slovenia",{"$f":"VLOOKUP(A38, 'Country names'!$A$5:$C$53,3,FALSE)","v":"SVN"},"22000-22600 and 23000-23600","X",null,null,null,"X",null,"X",null,null,null,null,0,661,null,"T/R 13-02 Annex A.1",null,"X","X",0.3,5,16,"+10%","X"]
["Slovenia",{"$f":"VLOOKUP(A39, 'Country names'!$A$5:$C$53,3,FALSE)","v":"SVN"}]
["Slovenia",{"$f":"VLOOKUP(A40, 'Country names'!$A$5:$C$53,3,FALSE)","v":"SVN"},"24500-26500","X",null,null,null,"X",null,"X",null,null,null,null,0,204,null,"T/R 13-02 Annex B",null,"X","X",0.3,4,9,"+10%"]
["Slovenia",{"$f":"VLOOKUP(A41, 'Country names'!$A$5:$C$53,3,FALSE)","v":"SVN"}]
["Slovenia",{"$f":"VLOOKUP(A42, 'Country names'!$A$5:$C$53,3,FALSE)","v":"SVN"},"37000-39500","X",null,null,null,"X",null,"X",null,null,null,null,0,504,null,"T/R 12-01",null,"X","X",0.1,2,6,"+10%","X"]
["Slovenia",{"$f":"VLOOKUP(A43, 'Country names'!$A$5:$C$53,3,FALSE)","v":"SVN"}]
["Slovenia",{"$f":"VLOOKUP(A44, 'Country names'!$A$5:$C$53,3,FALSE)","v":"SVN"},"71000-76000 and 81000-86000","X",null,null,null,"X",null,"X","X",null,null,null,0,5,null,"ECC/REC/(05)07",null,null,"X",0.5,2,3,"+10%"]

{"sheet":"Turkey","index":18,"n_rows":86,"n_cols":28,"rows_kept":86,"cut":false,"hidden":false,"merged":[[0,24,0,27],[3,2,4,2],[5,2,6,2],[7,2,8,2],[0,2,2,2],[0,3,0,6],[1,7,1,8],[1,9,1,10],[1,18,1,20],[1,21,1,23],[0,17,2,17],[0,7,0,8],[0,9,0,13],[0,14,0,15],[0,18,0,23],[9,2,10,2],[11,2,12,2],[37,2,38,2],[15,2,16,2],[17,2,18,2],[19,2,20,2],[21,2,22,2],[23,2,24,2],[25,2,26,2],[27,2,28,2],[29,2,30,2],[31,2,32,2],[33,2,34,2],[35,2,36,2],[13,2,14,2],[61,2,62,2],[39,2,40,2],[41,2,42,2],[43,2,44,2],[45,2,46,2],[47,2,48,2],[49,2,50,2],[51,2,52,2],[53,2,54,2],[55,2,56,2],[57,2,58,2],[59,2,60,2],[85,2,86,2],[63,2,64,2],[65,2,66,2],[67,2,68,2],[69,2,70,2],[71,2,72,2],[73,2,74,2],[75,2,76,2],[77,2,78,2],[79,2,80,2],[81,2,82,2],[83,2,84,2]]}
[null,null,"Frequency band (MHz)","Licensing regime",null,null,null," Topo-logy",null,"Application",null,null,null,null,"Number of P-P links",null,"Number of CS","Channel/Frequency plan used (e.g. ERC/ECC Rec. ITU-R Rec.)","Link characteristics",null,null,null,null,null,"Future trends (e.g. in the next 5 years)"]
[null,null,null,null,null,null,null,"FWA",null,"Network Infrastruc-ture",null,null,null,null,null,null,null,null,"Capacity",null,null,"Hop length (km)"]
[null,null,null,"Link by link","Block","Light licensed","Licence exempt","P-P","P-MP","Mobile backhaul","Others","Broadcasting Infrastructure","No Information available on the application","Other (please indicate)","unidirection","bidirectional (1 bidirectional link counts 1)","(applicable only for P-MP and mesh networks)",null,"LOW (<10 Mbit/s)","MEDIUM (10 to 100 Mbit/s)","HIGH (>100 Mbit/s)","MIN","Typical figure","MAX","Anticipated growth/reduction (+/-%)","Currently congested","Planned reallocation to other service/application","Other (please describe)\n(see Question 3 of the Questionnaire)"]
["Turkey",{"$f":"VLOOKUP(A4, 'Country names'!$A$5:$C$53,3,FALSE)","v":"TUR"},"1350-1375 and 1492-1517",null,null,null,null,null,null,null,null,null,null,null,null,null,null,"T/R 13-01 Annex A"]
["Turkey",{"$f":"VLOOKUP(A5, 'Country names'!$A$5:$C$53,3,FALSE)","v":"TUR"}]
["Turkey",{"$f":"VLOOKUP(A6, 'Country names'!$A$5:$C$53,3,FALSE)","v":"TUR"},"1375-1400 and 1427-1452",null,null,null,null,null,null,null,null,null,null,null,null,null,null,"T/R 13-01 Annex B"]
["Turkey",{"$f":"VLOOKUP(A7, 'Country names'!$A$5:$C$53,3,FALSE)","v":"TUR"}]
["Turkey",{"$f":"VLOOKUP(A8, 'Country names'!$A$5:$C$53,3,FALSE)","v":"TUR"},"2025-2110 and 2200-2290",null,null,null,null,null,null,null,null,null,null,null,null,null,null,"T/R 13-01 Annex C"]
["Turkey",{"$f":"VLOOKUP(A9, 'Country names'!$A$5:$C$53,3,FALSE)","v":"TUR"}]
["Turkey",{"$f":"VLOOKUP(A10, 'Country names'!$A$5:$C$53,3,FALSE)","v":"TUR"},"3400-3600",null,"x",null,null,null,"x",null,"x",null,null,null,null,null,1276,"ERC/REC 14-03"]
["Turkey",{"$f":"VLOOKUP(A11, 'Country names'!$A$5:$C$53,3,FALSE)","v":"TUR"}]
["Turkey",{"$f":"VLOOKUP(A12, 'Country names'!$A$5:$C$53,3,FALSE)","v":"TUR"},"3800-4200","x",null,null,null,null,null,null,null,null,null,null,null,172,null,"ERC/REC 12-08",null,null,null,"<1",33,72]
["Turkey",{"$f":"VLOOKUP(A13, 'Country names'!$A$5:$C$53,3,FALSE)","v":"TUR"}]
["Turkey",{"$f":"VLOOKUP(A14, 'Country names'!$A$5:$C$53,3,FALSE)","v":"TUR"},"4400-5000"]
["Turkey",{"$f":"VLOOKUP(A15, 'Country names'!$A$5:$C$53,3,FALSE)","v":"TUR"}]
["Turkey",{"$f":"VLOOKUP(A16, 'Country names'!$A$5:$C$53,3,FALSE)","v":"TUR"},"5850-5925"]
["Turkey",{"$f":"VLOOKUP(A17, 'Country names'!$A$5:$C$53,3,FALSE)","v":"TUR"}]
["Turkey",{"$f":"VLOOKUP(A18, 'Country names'!$A$5:$C$53,3,FALSE)","v":"TUR"},"5925-7125","x",null,null,null,"x",null,null,null,null,null,null,null,1387,null,"ERC/REC 14-01 and ERC/REC 14-02",null,null,null,"<1",35,96]
["Turkey",{"$f":"VLOOKUP(A19, 'Country names'!$A$5:$C$53,3,FALSE)","v":"TUR"}]
["Turkey",{"$f":"VLOOKUP(A20, 'Country names'!$A$5:$C$53,3,FALSE)","v":"TUR"},"7125-7425","x",null,null,null,"x",null,null,null,null,null,null,null,2231,null,"ECC REC (02)06 Annex 2.1"]
["Turkey",{"$f":"VLOOKUP(A21, 'Country names'!$A$5:$C$53,3,FALSE)","v":"TUR"}]
["Turkey",{"$f":"VLOOKUP(A22, 'Country names'!$A$5:$C$53,3,FALSE)","v":"TUR"},"7425-7900","x",null,null,null,"x",null,null,null,null,null,null,null,3766,null,"ECC REC (02)06 Annex 2.2"]
["Turkey",{"$f":"VLOOKUP(A23, 'Country names'!$A$5:$C$53,3,FALSE)","v":"TUR"}]
["Turkey",{"$f":"VLOOKUP(A24, 'Country names'!$A$5:$C$53,3,FALSE)","v":"TUR"},"7900-8500","x",null,null,null,"x",null,null,null,null,null,null,null,1323,null,"ECC REC (02)06 Annex 2.3"]
["Turkey",{"$f":"VLOOKUP(A25, 'Country names'!$A$5:$C$53,3,FALSE)","v":"TUR"}]
["Turkey",{"$f":"VLOOKUP(A26, 'Country names'!$A$5:$C$53,3,FALSE)","v":"TUR"},"10500-10680",null,null,null,null,null,null,null,null,null,null,null,null,null,null,"ITU-R F.747"]
["Turkey",{"$f":"VLOOKUP(A27, 'Country names'!$A$5:$C$53,3,FALSE)","v":"TUR"},null,null,"x",null,null,"x",null,null,null,null,null,null,null,5229,null,"ITU-R F.747"]
["Turkey",{"$f":"VLOOKUP(A28, 'Country names'!$A$5:$C$53,3,FALSE)","v":"TUR"},"10700-11700",null,null,null,null,null,null,null,null,null,null,null,null,null,null,"ERC/REC 12-06"]
["Turkey",{"$f":"VLOOKUP(A29, 'Country names'!$A$5:$C$53,3,FALSE)","v":"TUR"}]
["Turkey",{"$f":"VLOOKUP(A30, 'Country names'!$A$5:$C$53,3,FALSE)","v":"TUR"},"11700-12500"]
["Turkey",{"$f":"VLOOKUP(A31, 'Country names'!$A$5:$C$53,3,FALSE)","v":"TUR"}]
["Turkey",{"$f":"VLOOKUP(A32, 'Country names'!$A$5:$C$53,3,FALSE)","v":"TUR"},"12750-13250",null,null,null,null,null,null,null,null,null,null,null,null,null,null,"ERC/REC 12-02"]
["Turkey",{"$f":"VLOOKUP(A33, 'Country names'!$A$5:$C$53,3,FALSE)","v":"TUR"}]
["Turkey",{"$f":"VLOOKUP(A34, 'Country names'!$A$5:$C$53,3,FALSE)","v":"TUR"},"14250-14500"]
["Turkey",{"$f":"VLOOKUP(A35, 'Country names'!$A$5:$C$53,3,FALSE)","v":"TUR"}]
["Turkey",{"$f":"VLOOKUP(A36, 'Country names'!$A$5:$C$53,3,FALSE)","v":"TUR"},"14500-14620 and 15230-15350","x",null,null,null,"x",null,null,null,null,null,null,null,87,null,"ITU-R F.636.3",null,null,null,1,7,16]
["Turkey",{"$f":"VLOOKUP(A37, 'Country names'!$A$5:$C$53,3,FALSE)","v":"TUR"},null,null,"x",null,null,"x",null,null,null,null,null,null,null,6499,null,"ITU-R F.636.3"]
["Turkey",{"$f":"VLOOKUP(A38, 'Country names'!$A$5:$C$53,3,FALSE)","v":"TUR"},"17300-17700"]
["Turkey",{"$f":"VLOOKUP(A39, 'Country names'!$A$5:$C$53,3,FALSE)","v":"TUR"}]
["Turkey",{"$f":"VLOOKUP(A40, 'Country names'!$A$5:$C$53,3,FALSE)","v":"TUR"},"17700-19700","x",null,null,null,"x",null,null,null,null,null,null,null,6002,null,"ERC/REC 12-03 Annex A"]
["Turkey",{"$f":"VLOOKUP(A41, 'Country names'!$A$5:$C$53,3,FALSE)","v":"TUR"}]
["Turkey",{"$f":"VLOOKUP(A42, 'Country names'!$A$5:$C$53,3,FALSE)","v":"TUR"},"21200-22000"]
["Turkey",{"$f":"VLOOKUP(A43, 'Country names'!$A$5:$C$53,3,FALSE)","v":"TUR"}]
["Turkey",{"$f":"VLOOKUP(A44, 'Country names'!$A$5:$C$53,3,FALSE)","v":"TUR"},"22000-22600 and 23000-23600","x",null,null,null,"x",null,null,null,null,null,null,null,129,null,"T/R 13-02 Annexes A1",null,null,null,"<1",6.5,11]
["Turkey",{"$f":"VLOOKUP(A45, 'Country names'!$A$5:$C$53,3,FALSE)","v":"TUR"},null,null,"x",null,null,"x",null,null,null,null,null,null,null,22714]
["Turkey",{"$f":"VLOOKUP(A46, 'Country names'!$A$5:$C$53,3,FALSE)","v":"TUR"},"22600-23000"]
["Turkey",{"$f":"VLOOKUP(A47, 'Country names'!$A$5:$C$53,3,FALSE)","v":"TUR"}]
["Turkey",{"$f":"VLOOKUP(A48, 'Country names'!$A$5:$C$53,3,FALSE)","v":"TUR"},"24250-24500"]
["Turkey",{"$f":"VLOOKUP(A49, 'Country names'!$A$5:$C$53,3,FALSE)","v":"TUR"}]
["Turkey",{"$f":"VLOOKUP(A50, 'Country names'!$A$5:$C$53,3,FALSE)","v":"TUR"},"24500-26500","x",null,null,null,"x",null,null,null,null,null,null,null,383,null,"T/R 13-02 Annex B",null,null,null,"<1",3,9]
["Turkey",{"$f":"VLOOKUP(A51, 'Country names'!$A$5:$C$53,3,FALSE)","v":"TUR"},null,null,"x",null,null,"x",null,null,null,null,null,null,null,12068]
["Turkey",{"$f":"VLOOKUP(A52, 'Country names'!$A$5:$C$53,3,FALSE)","v":"TUR"},"26500-27500"]
["Turkey",{"$f":"VLOOKUP(A53, 'Country names'!$A$5:$C$53,3,FALSE)","v":"TUR"}]
["Turkey",{"$f":"VLOOKUP(A54, 'Country names'!$A$5:$C$53,3,FALSE)","v":"TUR"},"27500-29500",null,null,null,null,null,null,null,null,null,null,null,null,null,null,"T/R 13-02 Annex C"]
["Turkey",{"$f":"VLOOKUP(A55, 'Country names'!$A$5:$C$53,3,FALSE)","v":"TUR"}]
["Turkey",{"$f":"VLOOKUP(A56, 'Country names'!$A$5:$C$53,3,FALSE)","v":"TUR"},"31000-31300",null,null,null,null,null,null,null,null,null,null,null,null,null,null,"ECC/REC/(02)02"]
["Turkey",{"$f":"VLOOKUP(A57, 'Country names'!$A$5:$C$53,3,FALSE)","v":"TUR"}]
["Turkey",{"$f":"VLOOKUP(A58, 'Country names'!$A$5:$C$53,3,FALSE)","v":"TUR"},"31800-33400",null,null,null,null,null,null,null,null,null,null,null,null,null,null,"ERC/REC/(01)02"]
["Turkey",{"$f":"VLOOKUP(A59, 'Country names'!$A$5:$C$53,3,FALSE)","v":"TUR"}]
["Turkey",{"$f":"VLOOKUP(A60, 'Country names'!$A$5:$C$53,3,FALSE)","v":"TUR"},"36000-37000"]
["Turkey",{"$f":"VLOOKUP(A61, 'Country names'!$A$5:$C$53,3,FALSE)","v":"TUR"}]
["Turkey",{"$f":"VLOOKUP(A62, 'Country names'!$A$5:$C$53,3,FALSE)","v":"TUR"},"37000-39500","x",null,null,null,"x",null,null,null,null,null,null,null,422,null,"T/R 12-01 Annex A",null,null,null,"<1",1.5,5]
["Turkey",{"$f":"VLOOKUP(A63, 'Country names'!$A$5:$C$53,3,FALSE)","v":"TUR"},null,null,"x",null,null,"x",null,null,null,null,null,null,null,15870]
["Turkey",{"$f":"VLOOKUP(A64, 'Country names'!$A$5:$C$53,3,FALSE)","v":"TUR"},"39500-40500"]
["Turkey",{"$f":"VLOOKUP(A65, 'Country names'!$A$5:$C$53,3,FALSE)","v":"TUR"}]
["Turkey",{"$f":"VLOOKUP(A66, 'Country names'!$A$5:$C$53,3,FALSE)","v":"TUR"},"40500-43500",null,null,null,null,null,null,null,null,null,null,null,null,null,null,"ECC/REC/(01)04"]
["Turkey",{"$f":"VLOOKUP(A67, 'Country names'!$A$5:$C$53,3,FALSE)","v":"TUR"}]
["Turkey",{"$f":"VLOOKUP(A68, 'Country names'!$A$5:$C$53,3,FALSE)","v":"TUR"},"47200-48500"]
["Turkey",{"$f":"VLOOKUP(A69, 'Country names'!$A$5:$C$53,3,FALSE)","v":"TUR"}]
["Turkey",{"$f":"VLOOKUP(A70, 'Country names'!$A$5:$C$53,3,FALSE)","v":"TUR"},"48500-50200",null,null,null,null,null,null,null,null,null,null,null,null,null,null,"ERC/REC 12-11"]
["Turkey",{"$f":"VLOOKUP(A71, 'Country names'!$A$5:$C$53,3,FALSE)","v":"TUR"}]
["Turkey",{"$f":"VLOOKUP(A72, 'Country names'!$A$5:$C$53,3,FALSE)","v":"TUR"},"50400-51400"]
["Turkey",{"$f":"VLOOKUP(A73, 'Country names'!$A$5:$C$53,3,FALSE)","v":"TUR"}]
["Turkey",{"$f":"VLOOKUP(A74, 'Country names'!$A$5:$C$53,3,FALSE)","v":"TUR"},"51400-52600",null,null,null,null,null,null,null,null,null,null,null,null,null,null,"ERC/REC 12-11"]
["Turkey",{"$f":"VLOOKUP(A75, 'Country names'!$A$5:$C$53,3,FALSE)","v":"TUR"}]
["Turkey",{"$f":"VLOOKUP(A76, 'Country names'!$A$5:$C$53,3,FALSE)","v":"TUR"},"557800-57000",null,null,null,null,null,null,null,null,null,null,null,null,null,null,"ERC/REC 12-12"]
["Turkey",{"$f":"VLOOKUP(A77, 'Country names'!$A$5:$C$53,3,FALSE)","v":"TUR"}]
["Turkey",{"$f":"VLOOKUP(A78, 'Country names'!$A$5:$C$53,3,FALSE)","v":"TUR"},"57000-59000",null,null,null,null,null,null,null,null,null,null,null,null,null,null,"ECC/REC/(09)01"]
["Turkey",{"$f":"VLOOKUP(A79, 'Country names'!$A$5:$C$53,3,FALSE)","v":"TUR"}]
["Turkey",{"$f":"VLOOKUP(A80, 'Country names'!$A$5:$C$53,3,FALSE)","v":"TUR"},"59000-64000",null,null,null,null,null,null,null,null,null,null,null,null,null,null,"ECC/REC/(09)01"]
["Turkey",{"$f":"VLOOKUP(A81, 'Country names'!$A$5:$C$53,3,FALSE)","v":"TUR"}]
["Turkey",{"$f":"VLOOKUP(A82, 'Country names'!$A$5:$C$53,3,FALSE)","v":"TUR"},"64000-66000",null,null,null,null,null,null,null,null,null,null,null,null,null,null,"ECC/REC/(05)02"]
["Turkey",{"$f":"VLOOKUP(A83, 'Country names'!$A$5:$C$53,3,FALSE)","v":"TUR"}]
["Turkey",{"$f":"VLOOKUP(A84, 'Country names'!$A$5:$C$53,3,FALSE)","v":"TUR"},"71000-76000 and 81000-86000","x",null,null,null,"x",null,null,null,null,null,null,null,581,null,"ECC/REC/(05)07",null,null,null,"<1",1,4]
["Turkey",{"$f":"VLOOKUP(A85, 'Country names'!$A$5:$C$53,3,FALSE)","v":"TUR"}]
["Turkey",{"$f":"VLOOKUP(A86, 'Country names'!$A$5:$C$53,3,FALSE)","v":"TUR"},"92000-95000",null,null,null,null,null,null,null,null,null,null,null,null,null,null,"ECC/REC (14)01"]

{"sheet":"Mobitel EAD Bulgaria","index":19,"n_rows":86,"n_cols":28,"rows_kept":86,"cut":false,"hidden":false,"merged":[[0,24,0,27],[3,2,4,2],[5,2,6,2],[7,2,8,2],[0,2,2,2],[0,3,0,6],[1,7,1,8],[1,9,1,10],[1,18,1,20],[1,21,1,23],[0,17,2,17],[0,7,0,8],[0,9,0,13],[0,14,0,15],[0,18,0,23],[9,2,10,2],[11,2,12,2],[37,2,38,2],[15,2,16,2],[17,2,18,2],[19,2,20,2],[21,2,22,2],[23,2,24,2],[25,2,26,2],[27,2,28,2],[29,2,30,2],[31,2,32,2],[33,2,34,2],[35,2,36,2],[13,2,14,2],[61,2,62,2],[39,2,40,2],[41,2,42,2],[43,2,44,2],[45,2,46,2],[47,2,48,2],[49,2,50,2],[51,2,52,2],[53,2,54,2],[55,2,56,2],[57,2,58,2],[59,2,60,2],[85,2,86,2],[63,2,64,2],[65,2,66,2],[67,2,68,2],[69,2,70,2],[71,2,72,2],[73,2,74,2],[75,2,76,2],[77,2,78,2],[79,2,80,2],[81,2,82,2],[83,2,84,2]]}
[null,null,"Frequency band (MHz)","Licensing regime",null,null,null," Topo-logy",null,"Application",null,null,null,null,"Number of P-P links",null,"Number of CS","Channel/Frequency plan used (e.g. ERC/ECC Rec. ITU-R Rec.)","Link characteristics",null,null,null,null,null,"Future trends (e.g. in the next 5 years)"]
[null,null,null,null,null,null,null,"FWA",null,"Network Infrastruc-ture",null,null,null,null,null,null,null,null,"Capacity",null,null,"Hop length (km)"]
[null,null,null,"Link by link","Block","Light licensed","Licence exempt","P-P","P-MP","Mobile backhaul","Others","Broadcasting Infrastructure","No Information available on the application","Other (please indicate)","unidirection","bidirectional (1 bidirectional link counts 1)","(applicable only for P-MP and mesh networks)",null,"LOW (<10 Mbit/s)","MEDIUM (10 to 100 Mbit/s)","HIGH (>100 Mbit/s)","MIN","Typical figure","MAX","Anticipated growth/reduction (+/-%)","Currently congested","Planned reallocation to other service/application","Other (please describe)\n(see Question 3 of the Questionnaire)"]
["Mobitel EAD Bulgaria",{"$f":"VLOOKUP(A4, 'Country names'!$A$5:$C$53,3,FALSE)","v":{"$error":"#N/A"}},"1350-1375 and 1492-1517",null,null,null,null,null,null,null,null,null,null,null,null,null,null,"T/R 13-01 Annex A"]
["Mobitel EAD Bulgaria",{"$f":"VLOOKUP(A5, 'Country names'!$A$5:$C$53,3,FALSE)","v":{"$error":"#N/A"}}]
["Mobitel EAD Bulgaria",{"$f":"VLOOKUP(A6, 'Country names'!$A$5:$C$53,3,FALSE)","v":{"$error":"#N/A"}},"1375-1400 and 1427-1452",null,null,null,null,null,null,null,null,null,null,null,null,null,null,"T/R 13-01 Annex B"]
["Mobitel EAD Bulgaria",{"$f":"VLOOKUP(A7, 'Country names'!$A$5:$C$53,3,FALSE)","v":{"$error":"#N/A"}}]
["Mobitel EAD Bulgaria",{"$f":"VLOOKUP(A8, 'Country names'!$A$5:$C$53,3,FALSE)","v":{"$error":"#N/A"}},"2025-2110 and 2200-2290",null,null,null,null,null,null,null,null,null,null,null,null,null,null,"T/R 13-01 Annex C"]
["Mobitel EAD Bulgaria",{"$f":"VLOOKUP(A9, 'Country names'!$A$5:$C$53,3,FALSE)","v":{"$error":"#N/A"}}]
["Mobitel EAD Bulgaria",{"$f":"VLOOKUP(A10, 'Country names'!$A$5:$C$53,3,FALSE)","v":{"$error":"#N/A"}},"3400-3600",null,null,null,null,null,null,null,null,null,null,null,null,null,null,"ERC/REC 14-03"]
["Mobitel EAD Bulgaria",{"$f":"VLOOKUP(A11, 'Country names'!$A$5:$C$53,3,FALSE)","v":{"$error":"#N/A"}}]
["Mobitel EAD Bulgaria",{"$f":"VLOOKUP(A12, 'Country names'!$A$5:$C$53,3,FALSE)","v":{"$error":"#N/A"}},"3600-4200",null,null,null,null,null,null,null,null,null,null,null,null,null,null,"ERC/REC 12-08"]
["Mobitel EAD Bulgaria",{"$f":"VLOOKUP(A13, 'Country names'!$A$5:$C$53,3,FALSE)","v":{"$error":"#N/A"}}]
["Mobitel EAD Bulgaria",{"$f":"VLOOKUP(A14, 'Country names'!$A$5:$C$53,3,FALSE)","v":{"$error":"#N/A"}},"4400-5000"]
["Mobitel EAD Bulgaria",{"$f":"VLOOKUP(A15, 'Country names'!$A$5:$C$53,3,FALSE)","v":{"$error":"#N/A"}}]
["Mobitel EAD Bulgaria",{"$f":"VLOOKUP(A16, 'Country names'!$A$5:$C$53,3,FALSE)","v":{"$error":"#N/A"}},"5850-5925"]
["Mobitel EAD Bulgaria",{"$f":"VLOOKUP(A17, 'Country names'!$A$5:$C$53,3,FALSE)","v":{"$error":"#N/A"}}]
["Mobitel EAD Bulgaria",{"$f":"VLOOKUP(A18, 'Country names'!$A$5:$C$53,3,FALSE)","v":{"$error":"#N/A"}},"5925-7125","x",null,null,null,"x",null,"x",null,null,null,null,null,96,null,"ERC/REC 14-01 and ERC/REC 14-02, ECC/REC(14)06",null,null,"x",15.01,25.75,54.03,10]
["Mobitel EAD Bulgaria",{"$f":"VLOOKUP(A19, 'Country names'!$A$5:$C$53,3,FALSE)","v":{"$error":"#N/A"}}]
["Mobitel EAD Bulgaria",{"$f":"VLOOKUP(A20, 'Country names'!$A$5:$C$53,3,FALSE)","v":{"$error":"#N/A"}},"7125-7750",null,null,null,null,null,null,null,null,null,null,null,null,null,null,"ECC REC (02)06"]
["Mobitel EAD Bulgaria",{"$f":"VLOOKUP(A21, 'Country names'!$A$5:$C$53,3,FALSE)","v":{"$error":"#N/A"}}]
["Mobitel EAD Bulgaria",{"$f":"VLOOKUP(A22, 'Country names'!$A$5:$C$53,3,FALSE)","v":{"$error":"#N/A"}},"7750-7900"]
["Mobitel EAD Bulgaria",{"$f":"VLOOKUP(A23, 'Country names'!$A$5:$C$53,3,FALSE)","v":{"$error":"#N/A"}}]
["Mobitel EAD Bulgaria",{"$f":"VLOOKUP(A24, 'Country names'!$A$5:$C$53,3,FALSE)","v":{"$error":"#N/A"}},"7900-8500",null,null,null,null,null,null,null,null,null,null,null,null,null,null,"ECC REC (02)06"]
["Mobitel EAD Bulgaria",{"$f":"VLOOKUP(A25, 'Country names'!$A$5:$C$53,3,FALSE)","v":{"$error":"#N/A"}},null,"x",null,null,null,"x",null,"x",null,null,null,null,null,442,null,null,null,"x",null,15.02,21.77,54.37,10]
["Mobitel EAD Bulgaria",{"$f":"VLOOKUP(A26, 'Country names'!$A$5:$C$53,3,FALSE)","v":{"$error":"#N/A"}},"10000-10680",null,null,null,null,null,null,null,null,null,null,null,null,null,null,"ERC/REC 12-05"]
["Mobitel EAD Bulgaria",{"$f":"VLOOKUP(A27, 'Country names'!$A$5:$C$53,3,FALSE)","v":{"$error":"#N/A"}}]
["Mobitel EAD Bulgaria",{"$f":"VLOOKUP(A28, 'Country names'!$A$5:$C$53,3,FALSE)","v":{"$error":"#N/A"}},"10700-11700",null,null,null,null,null,null,null,null,null,null,null,null,null,null,"ERC/REC 12-06"]
["Mobitel EAD Bulgaria",{"$f":"VLOOKUP(A29, 'Country names'!$A$5:$C$53,3,FALSE)","v":{"$error":"#N/A"}}]
["Mobitel EAD Bulgaria",{"$f":"VLOOKUP(A30, 'Country names'!$A$5:$C$53,3,FALSE)","v":{"$error":"#N/A"}},"11700-12500"]
["Mobitel EAD Bulgaria",{"$f":"VLOOKUP(A31, 'Country names'!$A$5:$C$53,3,FALSE)","v":{"$error":"#N/A"}}]
["Mobitel EAD Bulgaria",{"$f":"VLOOKUP(A32, 'Country names'!$A$5:$C$53,3,FALSE)","v":{"$error":"#N/A"}},"12750-13250"]
["Mobitel EAD Bulgaria",{"$f":"VLOOKUP(A33, 'Country names'!$A$5:$C$53,3,FALSE)","v":{"$error":"#N/A"}},null,"x",null,null,null,"x",null,"x",null,null,null,null,null,267,null,"ERC/REC 12-02",null,"x",null,6.27,12.62,30.75,20]
["Mobitel EAD Bulgaria",{"$f":"VLOOKUP(A34, 'Country names'!$A$5:$C$53,3,FALSE)","v":{"$error":"#N/A"}},"14250-14500"]
["Mobitel EAD Bulgaria",{"$f":"VLOOKUP(A35, 'Country names'!$A$5:$C$53,3,FALSE)","v":{"$error":"#N/A"}}]
["Mobitel EAD Bulgaria",{"$f":"VLOOKUP(A36, 'Country names'!$A$5:$C$53,3,FALSE)","v":{"$error":"#N/A"}},"14500-14620 and 15230-15350",null,null,null,null,null,null,null,null,null,null,null,null,null,null,"ERC/REC 12-07"]
["Mobitel EAD Bulgaria",{"$f":"VLOOKUP(A37, 'Country names'!$A$5:$C$53,3,FALSE)","v":{"$error":"#N/A"}}]
["Mobitel EAD Bulgaria",{"$f":"VLOOKUP(A38, 'Country names'!$A$5:$C$53,3,FALSE)","v":{"$error":"#N/A"}},"17300-17700"]
["Mobitel EAD Bulgaria",{"$f":"VLOOKUP(A39, 'Country names'!$A$5:$C$53,3,FALSE)","v":{"$error":"#N/A"}}]
["Mobitel EAD Bulgaria",{"$f":"VLOOKUP(A40, 'Country names'!$A$5:$C$53,3,FALSE)","v":{"$error":"#N/A"}},"17700-19700"]
["Mobitel EAD Bulgaria",{"$f":"VLOOKUP(A41, 'Country names'!$A$5:$C$53,3,FALSE)","v":{"$error":"#N/A"}},null,"x",null,null,null,"x",null,"x",null,null,null,null,null,666,null,"ERC/REC 12-03",null,"x",null,2.97,8.23,21.01,10]
["Mobitel EAD Bulgaria",{"$f":"VLOOKUP(A42, 'Country names'!$A$5:$C$53,3,FALSE)","v":{"$error":"#N/A"}},"21200-22000"]
["Mobitel EAD Bulgaria",{"$f":"VLOOKUP(A43, 'Country names'!$A$5:$C$53,3,FALSE)","v":{"$error":"#N/A"}}]
["Mobitel EAD Bulgaria",{"$f":"VLOOKUP(A44, 'Country names'!$A$5:$C$53,3,FALSE)","v":{"$error":"#N/A"}},"22000-22600 and 23000-23600",null,null,null,null,null,null,null,null,null,null,null,null,null,null,"T/R 13-02 Annexes A1, A2, A3"]
["Mobitel EAD Bulgaria",{"$f":"VLOOKUP(A45, 'Country names'!$A$5:$C$53,3,FALSE)","v":{"$error":"#N/A"}}]
["Mobitel EAD Bulgaria",{"$f":"VLOOKUP(A46, 'Country names'!$A$5:$C$53,3,FALSE)","v":{"$error":"#N/A"}},"22600-23000"]
["Mobitel EAD Bulgaria",{"$f":"VLOOKUP(A47, 'Country names'!$A$5:$C$53,3,FALSE)","v":{"$error":"#N/A"}}]
["Mobitel EAD Bulgaria",{"$f":"VLOOKUP(A48, 'Country names'!$A$5:$C$53,3,FALSE)","v":{"$error":"#N/A"}},"24250-24500"]
["Mobitel EAD Bulgaria",{"$f":"VLOOKUP(A49, 'Country names'!$A$5:$C$53,3,FALSE)","v":{"$error":"#N/A"}}]
["Mobitel EAD Bulgaria",{"$f":"VLOOKUP(A50, 'Country names'!$A$5:$C$53,3,FALSE)","v":{"$error":"#N/A"}},"24500-26500"]
["Mobitel EAD Bulgaria",{"$f":"VLOOKUP(A51, 'Country names'!$A$5:$C$53,3,FALSE)","v":{"$error":"#N/A"}},null,"x",null,null,null,"x",null,"x",null,null,null,null,null,474,null,"T/R 13-02 Annex B",null,"x",null,1.98,3.69,15.18,20]
["Mobitel EAD Bulgaria",{"$f":"VLOOKUP(A52, 'Country names'!$A$5:$C$53,3,FALSE)","v":{"$error":"#N/A"}},"26500-27500"]
["Mobitel EAD Bulgaria",{"$f":"VLOOKUP(A53, 'Country names'!$A$5:$C$53,3,FALSE)","v":{"$error":"#N/A"}}]
["Mobitel EAD Bulgaria",{"$f":"VLOOKUP(A54, 'Country names'!$A$5:$C$53,3,FALSE)","v":{"$error":"#N/A"}},"27500-29500"]
["Mobitel EAD Bulgaria",{"$f":"VLOOKUP(A55, 'Country names'!$A$5:$C$53,3,FALSE)","v":{"$error":"#N/A"}},null,"x",null,null,null,"x",null,"x",null,null,null,null,null,440,null,"T/R 13-02 Annex C",null,"x",null,7.0000000000000007E-2,1.9,5.67,10]
["Mobitel EAD Bulgaria",{"$f":"VLOOKUP(A56, 'Country names'!$A$5:$C$53,3,FALSE)","v":{"$error":"#N/A"}},"31000-31300",null,null,null,null,null,null,null,null,null,null,null,null,null,null,"ECC/REC/(02)02"]
["Mobitel EAD Bulgaria",{"$f":"VLOOKUP(A57, 'Country names'!$A$5:$C$53,3,FALSE)","v":{"$error":"#N/A"}}]
["Mobitel EAD Bulgaria",{"$f":"VLOOKUP(A58, 'Country names'!$A$5:$C$53,3,FALSE)","v":{"$error":"#N/A"}},"31800-33400",null,null,null,null,null,null,null,null,null,null,null,null,null,null,"ERC/REC/(01)02"]
["Mobitel EAD Bulgaria",{"$f":"VLOOKUP(A59, 'Country names'!$A$5:$C$53,3,FALSE)","v":{"$error":"#N/A"}}]
["Mobitel EAD Bulgaria",{"$f":"VLOOKUP(A60, 'Country names'!$A$5:$C$53,3,FALSE)","v":{"$error":"#N/A"}},"36000-37000"]
["Mobitel EAD Bulgaria",{"$f":"VLOOKUP(A61, 'Country names'!$A$5:$C$53,3,FALSE)","v":{"$error":"#N/A"}}]
["Mobitel EAD Bulgaria",{"$f":"VLOOKUP(A62, 'Country names'!$A$5:$C$53,3,FALSE)","v":{"$error":"#N/A"}},"37000-39500"]
["Mobitel EAD Bulgaria",{"$f":"VLOOKUP(A63, 'Country names'!$A$5:$C$53,3,FALSE)","v":{"$error":"#N/A"}},null,"x",null,null,null,"x",null,"x",null,null,null,null,null,671,null,"T/R 12-01",null,"x",null,0.04,0.79,2.61,-10]
["Mobitel EAD Bulgaria",{"$f":"VLOOKUP(A64, 'Country names'!$A$5:$C$53,3,FALSE)","v":{"$error":"#N/A"}},"39500-40500"]
["Mobitel EAD Bulgaria",{"$f":"VLOOKUP(A65, 'Country names'!$A$5:$C$53,3,FALSE)","v":{"$error":"#N/A"}}]
["Mobitel EAD Bulgaria",{"$f":"VLOOKUP(A66, 'Country names'!$A$5:$C$53,3,FALSE)","v":{"$error":"#N/A"}},"40500-43500",null,null,null,null,null,null,null,null,null,null,null,null,null,null,"ECC/REC/(01)04"]
["Mobitel EAD Bulgaria",{"$f":"VLOOKUP(A67, 'Country names'!$A$5:$C$53,3,FALSE)","v":{"$error":"#N/A"}}]
["Mobitel EAD Bulgaria",{"$f":"VLOOKUP(A68, 'Country names'!$A$5:$C$53,3,FALSE)","v":{"$error":"#N/A"}},"47200-48500"]
["Mobitel EAD Bulgaria",{"$f":"VLOOKUP(A69, 'Country names'!$A$5:$C$53,3,FALSE)","v":{"$error":"#N/A"}}]
["Mobitel EAD Bulgaria",{"$f":"VLOOKUP(A70, 'Country names'!$A$5:$C$53,3,FALSE)","v":{"$error":"#N/A"}},"48500-50200",null,null,null,null,null,null,null,null,null,null,null,null,null,null,"ERC/REC 12-11"]
["Mobitel EAD Bulgaria",{"$f":"VLOOKUP(A71, 'Country names'!$A$5:$C$53,3,FALSE)","v":{"$error":"#N/A"}}]
["Mobitel EAD Bulgaria",{"$f":"VLOOKUP(A72, 'Country names'!$A$5:$C$53,3,FALSE)","v":{"$error":"#N/A"}},"50400-51400"]
["Mobitel EAD Bulgaria",{"$f":"VLOOKUP(A73, 'Country names'!$A$5:$C$53,3,FALSE)","v":{"$error":"#N/A"}}]
["Mobitel EAD Bulgaria",{"$f":"VLOOKUP(A74, 'Country names'!$A$5:$C$53,3,FALSE)","v":{"$error":"#N/A"}},"51400-52600",null,null,null,null,null,null,null,null,null,null,null,null,null,null,"ERC/REC 12-11"]
["Mobitel EAD Bulgaria",{"$f":"VLOOKUP(A75, 'Country names'!$A$5:$C$53,3,FALSE)","v":{"$error":"#N/A"}}]
["Mobitel EAD Bulgaria",{"$f":"VLOOKUP(A76, 'Country names'!$A$5:$C$53,3,FALSE)","v":{"$error":"#N/A"}},"557800-57000",null,null,null,null,null,null,null,null,null,null,null,null,null,null,"ERC/REC 12-12"]
["Mobitel EAD Bulgaria",{"$f":"VLOOKUP(A77, 'Country names'!$A$5:$C$53,3,FALSE)","v":{"$error":"#N/A"}}]
["Mobitel EAD Bulgaria",{"$f":"VLOOKUP(A78, 'Country names'!$A$5:$C$53,3,FALSE)","v":{"$error":"#N/A"}},"57000-59000",null,null,null,null,null,null,null,null,null,null,null,null,null,null,"ECC/REC/(09)01"]
["Mobitel EAD Bulgaria",{"$f":"VLOOKUP(A79, 'Country names'!$A$5:$C$53,3,FALSE)","v":{"$error":"#N/A"}}]
["Mobitel EAD Bulgaria",{"$f":"VLOOKUP(A80, 'Country names'!$A$5:$C$53,3,FALSE)","v":{"$error":"#N/A"}},"59000-64000",null,null,null,null,null,null,null,null,null,null,null,null,null,null,"ECC/REC/(09)01"]
["Mobitel EAD Bulgaria",{"$f":"VLOOKUP(A81, 'Country names'!$A$5:$C$53,3,FALSE)","v":{"$error":"#N/A"}}]
["Mobitel EAD Bulgaria",{"$f":"VLOOKUP(A82, 'Country names'!$A$5:$C$53,3,FALSE)","v":{"$error":"#N/A"}},"64000-66000",null,null,null,null,null,null,null,null,null,null,null,null,null,null,"ECC/REC/(05)02"]
["Mobitel EAD Bulgaria",{"$f":"VLOOKUP(A83, 'Country names'!$A$5:$C$53,3,FALSE)","v":{"$error":"#N/A"}}]
["Mobitel EAD Bulgaria",{"$f":"VLOOKUP(A84, 'Country names'!$A$5:$C$53,3,FALSE)","v":{"$error":"#N/A"}},"71000-76000 and 81000-86000",null,null,null,null,null,null,null,null,null,null,null,null,null,null,"ECC/REC/(05)07"]
["Mobitel EAD Bulgaria",{"$f":"VLOOKUP(A85, 'Country names'!$A$5:$C$53,3,FALSE)","v":{"$error":"#N/A"}}]
["Mobitel EAD Bulgaria",{"$f":"VLOOKUP(A86, 'Country names'!$A$5:$C$53,3,FALSE)","v":{"$error":"#N/A"}},"92000-95000",null,null,null,null,null,null,null,null,null,null,null,null,null,null,"ECC/REC (14)01"]

{"sheet":"Greece","index":20,"n_rows":92,"n_cols":28,"rows_kept":92,"cut":false,"hidden":false,"merged":[[3,2,4,2],[5,2,6,2],[7,2,8,2],[7,4,8,4],[7,8,8,8],[7,13,8,13],[0,18,0,23],[0,24,0,27],[1,7,1,8],[1,9,1,10],[1,18,1,20],[1,21,1,23],[0,2,2,2],[0,3,0,6],[0,7,0,8],[0,9,0,13],[0,14,0,15],[0,17,2,17],[7,14,8,14],[7,16,8,16],[7,17,8,17],[7,24,8,24],[7,27,8,27],[9,2,10,2],[9,3,10,3],[9,11,10,11],[9,14,10,14],[9,17,10,17],[9,26,10,26],[11,2,12,2],[11,3,12,3],[11,10,12,10],[11,15,12,15],[11,17,12,17],[11,18,12,18],[11,19,12,19],[11,21,12,21],[11,22,12,22],[9,18,10,18],[9,19,10,19],[9,21,10,21],[9,22,10,22],[9,23,10,23],[9,24,10,24],[11,23,12,23],[11,24,12,24],[13,26,14,26],[15,2,16,2],[15,3,16,3],[15,10,16,10],[15,15,16,15],[15,17,16,17],[15,19,16,19],[15,20,16,20],[15,21,16,21],[15,22,16,22],[15,23,16,23],[15,24,16,24],[19,24,20,24],[21,23,22,23],[21,24,22,24],[21,19,22,19],[21,20,22,20],[21,21,22,21],[21,22,22,22],[13,2,14,2],[13,4,14,4],[13,7,14,7],[13,8,14,8],[13,14,14,16],[13,17,14,17],[13,24,14,24],[21,15,22,15],[21,17,22,17],[21,2,22,2],[21,3,22,3],[21,9,22,9],[21,10,22,10],[21,11,22,11],[21,14,22,14],[17,2,18,2],[19,2,20,2],[19,5,20,5],[19,7,20,7],[19,8,20,8],[19,16,20,16],[19,17,20,17],[25,22,26,22],[25,23,26,23],[23,20,24,20],[23,21,24,21],[23,22,24,22],[23,23,24,23],[23,24,24,24],[25,2,26,2],[25,3,26,3],[25,10,26,10],[25,11,26,11],[25,14,26,14],[23,2,24,2],[23,3,24,3],[23,9,24,9],[23,10,24,10],[23,11,24,11],[23,14,24,14],[23,15,24,15],[23,17,24,17],[27,3,28,3],[27,9,28,9],[27,10,28,10],[27,15,28,15],[27,17,28,17],[25,15,26,15],[25,17,26,17],[25,18,26,18],[25,21,26,21],[31,2,32,2],[31,3,32,3],[31,9,32,9],[31,10,32,10],[31,15,32,15],[31,17,32,17],[31,18,32,18],[27,24,28,24],[29,2,30,2],[29,3,30,3],[29,9,30,9],[29,10,30,10],[29,15,30,15],[29,17,30,17],[29,19,30,19],[29,20,30,20],[29,21,30,21],[27,18,28,18],[27,19,28,19],[27,20,28,20],[27,21,28,21],[27,22,28,22],[27,23,28,23],[27,2,28,2],[31,19,32,19],[31,20,32,20],[31,21,32,21],[31,22,32,22],[31,23,32,23],[31,24,32,24],[29,22,30,22],[29,23,30,23],[29,24,30,24],[33,24,34,24],[35,2,36,2],[35,3,36,3],[35,9,36,9],[35,10,36,10],[35,15,36,15],[35,17,36,17],[35,20,36,20],[35,21,36,21],[35,22,36,22],[33,17,34,17],[33,18,34,18],[33,19,34,19],[33,21,34,21],[33,22,34,22],[33,23,34,23],[33,2,34,2],[33,3,34,3],[33,9,34,9],[33,10,34,10],[33,11,34,11],[33,14,34,14],[39,22,40,22],[39,23,40,23],[39,24,40,24],[35,23,36,23],[35,24,36,24],[37,2,38,2],[39,2,40,2],[39,3,40,3],[39,9,40,9],[39,10,40,10],[39,15,40,15],[39,17,40,17],[39,18,40,18],[41,2,42,2],[43,2,44,2],[43,3,44,3],[43,9,44,9],[43,10,44,10],[43,15,44,15],[39,19,40,19],[39,20,40,20],[39,21,40,21],[43,23,44,23],[43,24,44,24],[43,25,44,25],[45,2,46,2],[47,2,48,2],[47,3,48,3],[47,9,48,9],[47,10,48,10],[47,15,48,15],[47,17,48,17],[43,17,44,17],[43,18,44,18],[43,19,44,19],[43,20,44,20],[43,21,44,21],[43,22,44,22],[51,22,52,22],[51,23,52,23],[51,24,52,24],[47,24,48,24],[47,25,48,25],[49,2,50,2],[51,2,52,2],[51,3,52,3],[51,9,52,9],[51,10,52,10],[51,15,52,15],[51,17,52,17],[51,18,52,18],[47,18,48,18],[47,19,48,19],[47,20,48,20],[47,21,48,21],[47,22,48,22],[47,23,48,23],[53,2,54,2],[53,11,54,11],[53,17,54,17],[55,2,56,2],[55,11,56,11],[55,17,56,17],[51,19,52,19],[51,20,52,20],[51,21,52,21],[57,17,58,17],[57,24,58,24],[57,26,58,26],[59,2,60,2],[61,2,62,2],[61,4,62,4],[61,7,62,7],[61,8,62,8],[61,14,62,16],[61,17,62,17],[57,2,58,2],[57,4,58,4],[57,7,58,7],[57,8,58,8],[57,9,58,9],[57,14,58,16],[61,24,62,24],[63,2,64,2],[65,2,66,2],[65,3,66,3],[65,9,66,9],[65,10,66,10],[65,15,66,15],[65,17,66,17],[65,19,66,19],[65,20,66,20],[65,21,66,21],[65,22,66,22],[65,23,66,23],[65,24,66,24],[67,2,68,2],[69,2,70,2],[69,3,70,3],[69,9,70,9],[69,10,70,10],[69,15,70,15],[69,23,70,23],[69,24,70,24],[71,2,72,2],[73,2,74,2],[73,3,74,3],[73,17,74,17],[73,24,74,24],[69,17,70,17],[69,18,70,18],[69,19,70,19],[69,20,70,20],[69,21,70,21],[69,22,70,22],[85,2,86,2],[85,3,86,3],[85,17,86,17],[87,2,88,2],[87,3,88,3],[87,17,88,17],[73,25,74,27],[75,2,76,2],[77,2,78,2],[79,2,80,2],[81,2,82,2],[83,2,84,2],[83,3,84,3],[83,17,84,17],[89,20,90,20],[89,21,90,21],[89,22,90,22],[89,23,90,23],[89,24,90,24],[91,2,92,2],[89,2,90,2],[89,3,90,3],[89,9,90,9],[89,10,90,10],[89,15,90,15],[89,17,90,17]]}
[null,null,"Frequency band (MHz)","Licensing regime",null,null,null," Topo-logy",null,"Application",null,null,null,null,"Number of P-P links",null,"Number of CS","Channel/Frequency plan used (e.g. ERC/ECC Rec. ITU-R Rec.)","Link characteristics",null,null,null,null,null,"Future trends (e.g. in the next 5 years)"]
[null,null,null,null,null,null,null,"FWA",null,"Network Infrastruc-ture",null,null,null,null,null,null,null,null,"Capacity",null,null,"Hop length (km)"]
[null,null,null,"Link by link","Block","Light licensed","Licence exempt","P-P","P-MP","Mobile backhaul","Others","Broadcasting Infrastructure","No Information available on the application","Other (please indicate)","unidirection","bidirectional (1 bidirectional link counts 1)","(applicable only for P-MP and mesh networks)",null,"LOW (<10 Mbit/s)","MEDIUM (10 to 100 Mbit/s)","HIGH (>100 Mbit/s)","MIN","Typical figure","MAX","Anticipated growth/reduction (+/-%)","Currently congested","Planned reallocation to other service/application","Other (please describe)\n(see Question 3 of the Questionnaire)"]
["Greece",{"$f":"VLOOKUP(A4, 'Country names'!$A$5:$C$53,3,FALSE)","v":"GRC"},"1350-1375 and 1492-1517",null,null,null,null,null,null,null,null,null,null,null,null,null,null,"T/R 13-01 Annex A"]
["Greece",{"$f":"VLOOKUP(A5, 'Country names'!$A$5:$C$53,3,FALSE)","v":"GRC"}]
["Greece",{"$f":"VLOOKUP(A6, 'Country names'!$A$5:$C$53,3,FALSE)","v":"GRC"},"1375-1400 and 1427-1452",null,null,null,null,null,null,null,null,null,null,null,null,null,null,"T/R 13-01 Annex B"]
["Greece",{"$f":"VLOOKUP(A7, 'Country names'!$A$5:$C$53,3,FALSE)","v":"GRC"}]
["Greece",{"$f":"VLOOKUP(A8, 'Country names'!$A$5:$C$53,3,FALSE)","v":"GRC"},"1437,5-1465,5 and 1486,5-1514,5",null,"X",null,null,null,"X",null,null,null,null,"rural networks",null,null,null,"National Plan",null,null,null,null,null,null,"reduction",null,null,"licenses expire at 2020"]
["Greece",{"$f":"VLOOKUP(A9, 'Country names'!$A$5:$C$53,3,FALSE)","v":"GRC"}]
["Greece",{"$f":"VLOOKUP(A10, 'Country names'!$A$5:$C$53,3,FALSE)","v":"GRC"},"1700-1709 and 1786-1800","X",null,null,null,null,null,null,null,"X",null,null,192,null,null,"National Plan","X","X",null,"0.7",17,90,"reduction",null,"reallocate the 1785-1800 MHz band for PMSE applications (2014/641/EC)"]
["Greece",{"$f":"VLOOKUP(A11, 'Country names'!$A$5:$C$53,3,FALSE)","v":"GRC"}]
["Greece",{"$f":"VLOOKUP(A12, 'Country names'!$A$5:$C$53,3,FALSE)","v":"GRC"},"2025-2110 and 2200-2290","X",null,null,null,null,null,null,"X",null,null,null,null,41,null,"T/R 13-01 Annex C","X","X",null,"0.6",22,60,"reduction"]
["Greece",{"$f":"VLOOKUP(A13, 'Country names'!$A$5:$C$53,3,FALSE)","v":"GRC"}]
["Greece",{"$f":"VLOOKUP(A14, 'Country names'!$A$5:$C$53,3,FALSE)","v":"GRC"},"3400-3600",null,"X",null,null,"X","X",null,null,null,null,null,"1 National Coverage License             (2x30 MHz)",null,null,"ECC/DEC/(11)06",null,null,null,null,null,null,"growth",null,"potential future use of the band for 5G networks"]
["Greece",{"$f":"VLOOKUP(A15, 'Country names'!$A$5:$C$53,3,FALSE)","v":"GRC"}]
["Greece",{"$f":"VLOOKUP(A16, 'Country names'!$A$5:$C$53,3,FALSE)","v":"GRC"},"3800-4200","Χ",null,null,null,null,null,null,"X",null,null,null,null,144,null,"ERC/REC 12-08",null,"X","Χ",11,64,101,"reduction"]
["Greece",{"$f":"VLOOKUP(A17, 'Country names'!$A$5:$C$53,3,FALSE)","v":"GRC"}]
["Greece",{"$f":"VLOOKUP(A18, 'Country names'!$A$5:$C$53,3,FALSE)","v":"GRC"},"4400-5000"]
["Greece",{"$f":"VLOOKUP(A19, 'Country names'!$A$5:$C$53,3,FALSE)","v":"GRC"}]
["Greece",{"$f":"VLOOKUP(A20, 'Country names'!$A$5:$C$53,3,FALSE)","v":"GRC"},"5725-5795",null,null,"X",null,"X","X",null,null,null,null,null,null,null,25,"ECC/DEC/(06)04",null,null,null,null,null,null,"growth"]
["Greece",{"$f":"VLOOKUP(A21, 'Country names'!$A$5:$C$53,3,FALSE)","v":"GRC"}]
["Greece",{"$f":"VLOOKUP(A22, 'Country names'!$A$5:$C$53,3,FALSE)","v":"GRC"},"5925-6425","X",null,null,null,null,null,"X","X","X",null,null,7,324,null,"ERC/REC 14-01 ",null,"X","X",7,40,98,"growth"]
["Greece",{"$f":"VLOOKUP(A23, 'Country names'!$A$5:$C$53,3,FALSE)","v":"GRC"}]
["Greece",{"$f":"VLOOKUP(A24, 'Country names'!$A$5:$C$53,3,FALSE)","v":"GRC"},"6425-7110","X",null,null,null,null,null,"X","X","X",null,null,9,367,null,"ERC/REC 14-02",null,null,"X",7,45,123,"growth"]
["Greece",{"$f":"VLOOKUP(A25, 'Country names'!$A$5:$C$53,3,FALSE)","v":"GRC"}]
["Greece",{"$f":"VLOOKUP(A26, 'Country names'!$A$5:$C$53,3,FALSE)","v":"GRC"},"7125-7425","X",null,null,null,null,null,null,"X","X",null,null,10,16,null,"ITU-R REC F.385-10","X",null,null,0.5,16,56]
["Greece",{"$f":"VLOOKUP(A27, 'Country names'!$A$5:$C$53,3,FALSE)","v":"GRC"}]
["Greece",{"$f":"VLOOKUP(A28, 'Country names'!$A$5:$C$53,3,FALSE)","v":"GRC"},"7425-7725","X",null,null,null,null,null,"X","X",null,null,null,null,1057,null,"ECC REC (02)06","X","X","X",0.6,30,98,"stable"]
["Greece",{"$f":"VLOOKUP(A29, 'Country names'!$A$5:$C$53,3,FALSE)","v":"GRC"}]
["Greece",{"$f":"VLOOKUP(A30, 'Country names'!$A$5:$C$53,3,FALSE)","v":"GRC"},"7725-8275","X",null,null,null,null,null,"X","X",null,null,null,null,1058,null,"ITU-R REC F.386-9",null,"X","X",5,43,102,"reduction"]
["Greece",{"$f":"VLOOKUP(A31, 'Country names'!$A$5:$C$53,3,FALSE)","v":"GRC"}]
["Greece",{"$f":"VLOOKUP(A32, 'Country names'!$A$5:$C$53,3,FALSE)","v":"GRC"},"8275-8500","X",null,null,null,null,null,"X","X",null,null,null,null,111,null,"ECC REC (02)06","X","X","X",9,35,79,"reduction"]
["Greece",{"$f":"VLOOKUP(A33, 'Country names'!$A$5:$C$53,3,FALSE)","v":"GRC"}]
["Greece",{"$f":"VLOOKUP(A34, 'Country names'!$A$5:$C$53,3,FALSE)","v":"GRC"},"10000-10680","X",null,null,null,null,null,null,null,"X",null,null,74,null,null,"National Plan","X","X",null,3,14,40,"reduction"]
["Greece",{"$f":"VLOOKUP(A35, 'Country names'!$A$5:$C$53,3,FALSE)","v":"GRC"}]
["Greece",{"$f":"VLOOKUP(A36, 'Country names'!$A$5:$C$53,3,FALSE)","v":"GRC"},"10700-11700","X",null,null,null,null,null,"X","X",null,null,null,null,934,null,"ERC/REC 12-06",null,null,"X",1.7,19,71,"growth"]
["Greece",{"$f":"VLOOKUP(A37, 'Country names'!$A$5:$C$53,3,FALSE)","v":"GRC"}]
["Greece",{"$f":"VLOOKUP(A38, 'Country names'!$A$5:$C$53,3,FALSE)","v":"GRC"},"11700-12500"]
["Greece",{"$f":"VLOOKUP(A39, 'Country names'!$A$5:$C$53,3,FALSE)","v":"GRC"}]
["Greece",{"$f":"VLOOKUP(A40, 'Country names'!$A$5:$C$53,3,FALSE)","v":"GRC"},"12750-13250","X",null,null,null,null,null,"X","X",null,null,null,null,1408,null,"ERC/REC 12-02","X","X","X",1,17,58,"high growth"]
["Greece",{"$f":"VLOOKUP(A41, 'Country names'!$A$5:$C$53,3,FALSE)","v":"GRC"}]
["Greece",{"$f":"VLOOKUP(A42, 'Country names'!$A$5:$C$53,3,FALSE)","v":"GRC"},"14250-14500"]
["Greece",{"$f":"VLOOKUP(A43, 'Country names'!$A$5:$C$53,3,FALSE)","v":"GRC"}]
["Greece",{"$f":"VLOOKUP(A44, 'Country names'!$A$5:$C$53,3,FALSE)","v":"GRC"},"14500-15350","X",null,null,null,null,null,"X","X",null,null,null,null,2867,null,"National Plan","X","X","X",0.2,14,57,"growth","heavily used"]
["Greece",{"$f":"VLOOKUP(A45, 'Country names'!$A$5:$C$53,3,FALSE)","v":"GRC"}]
["Greece",{"$f":"VLOOKUP(A46, 'Country names'!$A$5:$C$53,3,FALSE)","v":"GRC"},"17300-17700"]
["Greece",{"$f":"VLOOKUP(A47, 'Country names'!$A$5:$C$53,3,FALSE)","v":"GRC"}]
["Greece",{"$f":"VLOOKUP(A48, 'Country names'!$A$5:$C$53,3,FALSE)","v":"GRC"},"17700-19700","X",null,null,null,null,null,"X","X",null,null,null,null,3026,null,"ERC/REC 12-03","X","X","X",0.1,8,40,"growth","heavily used"]
["Greece",{"$f":"VLOOKUP(A49, 'Country names'!$A$5:$C$53,3,FALSE)","v":"GRC"}]
["Greece",{"$f":"VLOOKUP(A50, 'Country names'!$A$5:$C$53,3,FALSE)","v":"GRC"},"21200-22000"]
["Greece",{"$f":"VLOOKUP(A51, 'Country names'!$A$5:$C$53,3,FALSE)","v":"GRC"}]
["Greece",{"$f":"VLOOKUP(A52, 'Country names'!$A$5:$C$53,3,FALSE)","v":"GRC"},"22000-23600","X",null,null,null,null,null,"X","X",null,null,null,null,2086,null,"T/R 13-02 Annex A","X","X","X",0.1,4,15,"growth"]
["Greece",{"$f":"VLOOKUP(A53, 'Country names'!$A$5:$C$53,3,FALSE)","v":"GRC"}]
["Greece",{"$f":"VLOOKUP(A54, 'Country names'!$A$5:$C$53,3,FALSE)","v":"GRC"},"22600-23000",null,null,null,null,null,null,null,null,"X",null,null,null,null,null,"National Plan"]
["Greece",{"$f":"VLOOKUP(A55, 'Country names'!$A$5:$C$53,3,FALSE)","v":"GRC"}]
["Greece",{"$f":"VLOOKUP(A56, 'Country names'!$A$5:$C$53,3,FALSE)","v":"GRC"},"24250-24500",null,null,null,null,null,null,null,null,"X",null,null,null,null,null,"National Plan"]
["Greece",{"$f":"VLOOKUP(A57, 'Country names'!$A$5:$C$53,3,FALSE)","v":"GRC"}]
["Greece",{"$f":"VLOOKUP(A58, 'Country names'!$A$5:$C$53,3,FALSE)","v":"GRC"},"24500-26500",null,"X",null,null,"X","X","X",null,null,null,null,"4 National Coverage Licenses                         (2x56 MHz, 2x56 MHz, 2x56 MHz,            2x112 MHz)",null,null,"ERC/REC 13-02",null,null,null,null,null,null,"growth",null,"potential future use of the band for 5G networks"]
["Greece",{"$f":"VLOOKUP(A59, 'Country names'!$A$5:$C$53,3,FALSE)","v":"GRC"}]
["Greece",{"$f":"VLOOKUP(A60, 'Country names'!$A$5:$C$53,3,FALSE)","v":"GRC"},"26500-27500"]
["Greece",{"$f":"VLOOKUP(A61, 'Country names'!$A$5:$C$53,3,FALSE)","v":"GRC"}]
["Greece",{"$f":"VLOOKUP(A62, 'Country names'!$A$5:$C$53,3,FALSE)","v":"GRC"},"27500-29500",null,"X",null,null,"X","X",null,null,null,null,null,"7  Regional Coverage Licenses            ",null,null,"ECC/DEC/(05)01, ECC/REC/(11)01",null,null,null,null,null,null,"growth"]
["Greece",{"$f":"VLOOKUP(A63, 'Country names'!$A$5:$C$53,3,FALSE)","v":"GRC"}]
["Greece",{"$f":"VLOOKUP(A64, 'Country names'!$A$5:$C$53,3,FALSE)","v":"GRC"},"31000-31300",null,null,null,null,null,null,null,null,null,null,null,null,null,null,"ECC/REC/(02)02"]
["Greece",{"$f":"VLOOKUP(A65, 'Country names'!$A$5:$C$53,3,FALSE)","v":"GRC"}]
["Greece",{"$f":"VLOOKUP(A66, 'Country names'!$A$5:$C$53,3,FALSE)","v":"GRC"},"31800-33400","X",null,null,null,null,null,"X","X",null,null,null,null,28,null,"ERC/REC/(01)02",null,"X","X",0.4,2,5,"growth"]
["Greece",{"$f":"VLOOKUP(A67, 'Country names'!$A$5:$C$53,3,FALSE)","v":"GRC"}]
["Greece",{"$f":"VLOOKUP(A68, 'Country names'!$A$5:$C$53,3,FALSE)","v":"GRC"},"36000-37000"]
["Greece",{"$f":"VLOOKUP(A69, 'Country names'!$A$5:$C$53,3,FALSE)","v":"GRC"}]
["Greece",{"$f":"VLOOKUP(A70, 'Country names'!$A$5:$C$53,3,FALSE)","v":"GRC"},"37000-39500","X",null,null,null,null,null,"X","X",null,null,null,null,1035,null,"T/R 12-01","X","X","X",0.02,1.6,6.8,"growth"]
["Greece",{"$f":"VLOOKUP(A71, 'Country names'!$A$5:$C$53,3,FALSE)","v":"GRC"}]
["Greece",{"$f":"VLOOKUP(A72, 'Country names'!$A$5:$C$53,3,FALSE)","v":"GRC"},"39500-40500"]
["Greece",{"$f":"VLOOKUP(A73, 'Country names'!$A$5:$C$53,3,FALSE)","v":"GRC"}]
["Greece",{"$f":"VLOOKUP(A74, 'Country names'!$A$5:$C$53,3,FALSE)","v":"GRC"},"40500-43500","X",null,null,null,null,null,null,null,null,null,null,null,null,null,"ECC/REC/(01)04",null,null,null,null,null,null,"growth","Allocation of the 41334-42000 paired with 42834-43500  for P-P links. Potential fututre block allocation of the rest of the band"]
["Greece",{"$f":"VLOOKUP(A75, 'Country names'!$A$5:$C$53,3,FALSE)","v":"GRC"}]
["Greece",{"$f":"VLOOKUP(A76, 'Country names'!$A$5:$C$53,3,FALSE)","v":"GRC"},"47200-48500"]
["Greece",{"$f":"VLOOKUP(A77, 'Country names'!$A$5:$C$53,3,FALSE)","v":"GRC"}]
["Greece",{"$f":"VLOOKUP(A78, 'Country names'!$A$5:$C$53,3,FALSE)","v":"GRC"},"48500-50200",null,null,null,null,null,null,null,null,null,null,null,null,null,null,"ERC/REC 12-11"]
["Greece",{"$f":"VLOOKUP(A79, 'Country names'!$A$5:$C$53,3,FALSE)","v":"GRC"}]
["Greece",{"$f":"VLOOKUP(A80, 'Country names'!$A$5:$C$53,3,FALSE)","v":"GRC"},"50400-51400"]
["Greece",{"$f":"VLOOKUP(A81, 'Country names'!$A$5:$C$53,3,FALSE)","v":"GRC"}]
["Greece",{"$f":"VLOOKUP(A82, 'Country names'!$A$5:$C$53,3,FALSE)","v":"GRC"},"51400-52600",null,null,null,null,null,null,null,null,null,null,null,null,null,null,"ERC/REC 12-11"]
["Greece",{"$f":"VLOOKUP(A83, 'Country names'!$A$5:$C$53,3,FALSE)","v":"GRC"}]
["Greece",{"$f":"VLOOKUP(A84, 'Country names'!$A$5:$C$53,3,FALSE)","v":"GRC"},"55780-57000","X",null,null,null,null,null,null,null,null,null,null,null,null,null,"ERC/REC 12-12"]
["Greece",{"$f":"VLOOKUP(A85, 'Country names'!$A$5:$C$53,3,FALSE)","v":"GRC"}]
["Greece",{"$f":"VLOOKUP(A86, 'Country names'!$A$5:$C$53,3,FALSE)","v":"GRC"},"57000-63000","X",null,null,null,null,null,null,null,null,null,null,null,null,null,"ECC/REC/(09)01"]
["Greece",{"$f":"VLOOKUP(A87, 'Country names'!$A$5:$C$53,3,FALSE)","v":"GRC"}]
["Greece",{"$f":"VLOOKUP(A88, 'Country names'!$A$5:$C$53,3,FALSE)","v":"GRC"},"64000-66000","X",null,null,null,null,null,null,null,null,null,null,null,null,null,"ECC/REC/(05)02"]
["Greece",{"$f":"VLOOKUP(A89, 'Country names'!$A$5:$C$53,3,FALSE)","v":"GRC"}]
["Greece",{"$f":"VLOOKUP(A90, 'Country names'!$A$5:$C$53,3,FALSE)","v":"GRC"},"71000-76000 and 81000-86000","X",null,null,null,null,null,"X","X",null,null,null,null,191,null,"ECC/REC/(05)07",null,null,"X",0.02,1.3,4,"high growth"]
["Greece",{"$f":"VLOOKUP(A91, 'Country names'!$A$5:$C$53,3,FALSE)","v":"GRC"}]
["Greece",{"$f":"VLOOKUP(A92, 'Country names'!$A$5:$C$53,3,FALSE)","v":"GRC"},"92000-95000",null,null,null,null,null,null,null,null,null,null,null,null,null,null,"ECC/REC (14)01"]

{"sheet":"UK","index":21,"n_rows":90,"n_cols":28,"rows_kept":90,"cut":false,"hidden":false,"merged":[[0,18,0,23],[0,24,0,27],[1,7,1,8],[1,9,1,10],[1,18,1,20],[1,21,1,23],[0,2,2,2],[0,3,0,6],[0,7,0,8],[0,9,0,13],[0,14,0,15],[0,17,2,17],[3,20,6,20],[3,21,6,21],[3,22,6,22],[3,23,6,23],[5,2,6,2],[7,2,8,2],[7,14,8,14],[7,15,8,15],[7,16,8,16],[7,18,8,18],[3,2,4,2],[3,14,6,14],[3,15,6,15],[3,16,6,16],[3,18,6,18],[3,19,6,19],[7,21,8,21],[7,22,8,22],[7,23,8,23],[15,23,16,23],[17,2,18,2],[19,2,20,2],[9,22,10,22],[9,23,10,23],[11,2,12,2],[13,2,14,2],[15,2,16,2],[15,14,16,14],[15,16,16,16],[15,18,16,18],[15,19,16,19],[9,2,10,2],[9,14,10,14],[9,15,10,15],[9,18,10,18],[9,19,10,19],[9,20,10,20],[9,21,10,21],[15,21,16,21],[23,23,26,23],[25,2,26,2],[27,2,28,2],[23,2,24,2],[23,16,26,16],[23,18,26,18],[23,19,26,19],[29,2,30,2],[31,2,32,2],[31,14,32,14],[31,15,32,15],[31,18,32,18],[31,19,32,19],[23,20,26,20],[23,21,26,21],[23,22,26,22],[31,20,32,20],[31,21,32,21],[31,22,32,22],[31,23,32,23],[33,2,34,2],[35,2,36,2],[35,14,36,14],[35,15,36,15],[35,18,36,18],[35,19,36,19],[35,20,36,20],[35,21,36,21],[35,22,36,22],[35,23,36,23],[37,2,38,2],[37,14,38,14],[37,15,38,15],[37,18,38,18],[37,19,38,19],[37,20,38,20],[37,21,38,21],[37,22,38,22],[37,23,38,23],[39,2,40,2],[39,14,40,14],[39,15,40,15],[39,18,40,18],[39,19,40,19],[39,20,40,20],[39,21,40,21],[39,22,40,22],[39,23,40,23],[41,2,42,2],[41,14,42,14],[41,15,42,15],[41,18,42,18],[41,19,42,19],[41,20,42,20],[41,21,42,21],[41,22,42,22],[41,23,42,23],[43,2,44,2],[43,14,44,14],[43,15,44,15],[43,18,44,18],[43,19,44,19],[43,20,44,20],[43,21,44,21],[43,22,44,22],[43,23,44,23],[45,21,46,21],[45,22,46,22],[45,23,46,23],[47,2,48,2],[49,2,50,2],[51,2,52,2],[45,2,46,2],[45,14,46,14],[45,15,46,15],[45,18,46,18],[45,19,46,19],[45,20,46,20],[53,21,54,21],[53,22,54,22],[53,23,54,23],[55,2,56,2],[57,2,58,2],[59,2,60,2],[53,2,54,2],[53,14,54,14],[53,15,54,15],[53,18,54,18],[53,19,54,19],[53,20,54,20],[65,19,66,19],[65,20,66,20],[65,21,66,21],[65,22,66,22],[65,23,66,23],[67,2,68,2],[61,2,62,2],[63,2,64,2],[65,2,66,2],[65,14,66,14],[65,15,66,15],[65,18,66,18],[73,18,74,18],[73,19,74,19],[73,20,74,20],[73,21,74,21],[73,22,74,22],[73,23,74,23],[69,2,70,2],[71,2,72,2],[73,2,74,2],[73,14,74,14],[73,15,74,15],[73,16,74,16],[87,2,88,2],[89,2,90,2],[91,2,92,2],[75,2,76,2],[77,2,78,2],[79,2,80,2],[81,2,82,2],[83,2,84,2],[85,2,86,2]]}
[null,null,"Frequency band (MHz)","Licensing regime",null,null,null," Topo-logy",null,"Application",null,null,null,null,"Number of P-P links",null,"Number of CS","Channel/Frequency plan used (e.g. ERC/ECC Rec. ITU-R Rec.)","Link characteristics",null,null,null,null,null,"Future trends (e.g. in the next 5 years)"]
[null,null,null,null,null,null,null,"FWA",null,"Network Infrastruc-ture",null,null,null,null,null,null,null,null,"Capacity",null,null,"Hop length (km)"]
[null,null,null,"Link by link","Block","Light licensed","Licence exempt","P-P","P-MP","Mobile backhaul","Others","Broadcasting Infrastructure","No Information available on the application","Other (please indicate)","unidirection","bidirectional (1 bidirectional link counts 1)","(applicable only for P-MP and mesh networks)",null,"LOW (<10 Mbit/s)","MEDIUM (10 to 100 Mbit/s)","HIGH (>100 Mbit/s)","MIN","Typical figure","MAX","Anticipated growth/reduction (+/-%)","Currently congested","Planned reallocation to other service/application","Other (please describe)\n(see Question 3 of the Questionnaire)"]
["UK",{"$f":"VLOOKUP(A4, 'Country names'!$A$5:$C$53,3,FALSE)","v":"G"},"1350-1375 and 1492-1517",null,null,null,null,null,null,null,null,null,null,null,null,820,null,"T/R 13-01 Annex A","X",null,null,null,15]
["UK",{"$f":"VLOOKUP(A5, 'Country names'!$A$5:$C$53,3,FALSE)","v":"G"},null,"X",null,null,null,"X",null,null,"X","X"]
["UK",{"$f":"VLOOKUP(A6, 'Country names'!$A$5:$C$53,3,FALSE)","v":"G"}]
["UK",{"$f":"VLOOKUP(A7, 'Country names'!$A$5:$C$53,3,FALSE)","v":"G"}]
["UK",{"$f":"VLOOKUP(A8, 'Country names'!$A$5:$C$53,3,FALSE)","v":"G"},"1672 - 1690",null,null,null,null,"X",null,null,"X",null,null,null,null,2,null,null,"X"]
["UK",{"$f":"VLOOKUP(A9, 'Country names'!$A$5:$C$53,3,FALSE)","v":"G"}]
["UK",{"$f":"VLOOKUP(A10, 'Country names'!$A$5:$C$53,3,FALSE)","v":"G"},"1900-2690","X",null,null,null,null,null,"X","X",null,null,null,null,3,null,null,"X",null,null,null,8]
["UK",{"$f":"VLOOKUP(A11, 'Country names'!$A$5:$C$53,3,FALSE)","v":"G"}]
["UK",{"$f":"VLOOKUP(A12, 'Country names'!$A$5:$C$53,3,FALSE)","v":"G"},"3480 – 3500//3580 – 3600; 3605 – 3689//3925 – 4009\n\n\n",null,"X"]
["UK",{"$f":"VLOOKUP(A13, 'Country names'!$A$5:$C$53,3,FALSE)","v":"G"}]
["UK",{"$f":"VLOOKUP(A14, 'Country names'!$A$5:$C$53,3,FALSE)","v":"G"}]
["UK",{"$f":"VLOOKUP(A15, 'Country names'!$A$5:$C$53,3,FALSE)","v":"G"}]
["UK",{"$f":"VLOOKUP(A16, 'Country names'!$A$5:$C$53,3,FALSE)","v":"G"},"3689-3875//4009-4195","x",null,null,null,"x",null,"X","X","X",null,null,null,65,null,"ERC/REC 12-08 Annex A Part 2",null,null,"X",null,37]
["UK",{"$f":"VLOOKUP(A17, 'Country names'!$A$5:$C$53,3,FALSE)","v":"G"}]
["UK",{"$f":"VLOOKUP(A18, 'Country names'!$A$5:$C$53,3,FALSE)","v":"G"}]
["UK",{"$f":"VLOOKUP(A19, 'Country names'!$A$5:$C$53,3,FALSE)","v":"G"}]
["UK",{"$f":"VLOOKUP(A20, 'Country names'!$A$5:$C$53,3,FALSE)","v":"G"}]
["UK",{"$f":"VLOOKUP(A21, 'Country names'!$A$5:$C$53,3,FALSE)","v":"G"}]
["UK",{"$f":"VLOOKUP(A22, 'Country names'!$A$5:$C$53,3,FALSE)","v":"G"},"5925 - 6425","X",null,null,null,"X",null,"X","X","X",null,null,31,305,null,"ERC/REC 14-01 ",null,"X","X",null,40]
["UK",{"$f":"VLOOKUP(A23, 'Country names'!$A$5:$C$53,3,FALSE)","v":"G"},"6425 - 7125 ","X",null,null,null,"X",null,"X","X","X",null,null,23,519,null,"ERC/REC 14-02, ITU-R Rec. F.384",null,"X","X",null,34]
["UK",{"$f":"VLOOKUP(A24, 'Country names'!$A$5:$C$53,3,FALSE)","v":"G"},"7425 - 7900","X",null,null,null,"X",null,"X","X","X",null,null,51,1097,null,"ITU-R REC. F.385-9 Annex 4","X","X","X",null,32]
["UK",{"$f":"VLOOKUP(A25, 'Country names'!$A$5:$C$53,3,FALSE)","v":"G"}]
["UK",{"$f":"VLOOKUP(A26, 'Country names'!$A$5:$C$53,3,FALSE)","v":"G"}]
["UK",{"$f":"VLOOKUP(A27, 'Country names'!$A$5:$C$53,3,FALSE)","v":"G"}]
["UK",{"$f":"VLOOKUP(A28, 'Country names'!$A$5:$C$53,3,FALSE)","v":"G"}]
["UK",{"$f":"VLOOKUP(A29, 'Country names'!$A$5:$C$53,3,FALSE)","v":"G"}]
["UK",{"$f":"VLOOKUP(A30, 'Country names'!$A$5:$C$53,3,FALSE)","v":"G"},"\n10125 – 10205 GHz//10475 – 10555;  10205 – 10225//10555 – 10575\n \n ",null,"X"]
["UK",{"$f":"VLOOKUP(A31, 'Country names'!$A$5:$C$53,3,FALSE)","v":"G"}]
["UK",{"$f":"VLOOKUP(A32, 'Country names'!$A$5:$C$53,3,FALSE)","v":"G"},"10700-11700","X",null,null,null,"X",null,null,"X",null,null,null,8,6,null,null,null,null,"X",null,46]
["UK",{"$f":"VLOOKUP(A33, 'Country names'!$A$5:$C$53,3,FALSE)","v":"G"}]
["UK",{"$f":"VLOOKUP(A34, 'Country names'!$A$5:$C$53,3,FALSE)","v":"G"},"11700-12500"]
["UK",{"$f":"VLOOKUP(A35, 'Country names'!$A$5:$C$53,3,FALSE)","v":"G"}]
["UK",{"$f":"VLOOKUP(A36, 'Country names'!$A$5:$C$53,3,FALSE)","v":"G"},"12750-13250","X",null,null,null,"X",null,"X","X","X",null,null,37,3271,null,"ERC/REC 12-02 Annex A","X","X","X",null,19]
["UK",{"$f":"VLOOKUP(A37, 'Country names'!$A$5:$C$53,3,FALSE)","v":"G"}]
["UK",{"$f":"VLOOKUP(A38, 'Country names'!$A$5:$C$53,3,FALSE)","v":"G"},"14250-14500","X",null,null,null,"X",null,"X","X","X",null,null,2,162,null,null,"X","X",null,null,22]
["UK",{"$f":"VLOOKUP(A39, 'Country names'!$A$5:$C$53,3,FALSE)","v":"G"}]
["UK",{"$f":"VLOOKUP(A40, 'Country names'!$A$5:$C$53,3,FALSE)","v":"G"},"14500-15350","X",null,null,null,"X",null,"X","X","X",null,null,1,2910,null,"ERC/REC 12-07","X","X","X",null,15]
["UK",{"$f":"VLOOKUP(A41, 'Country names'!$A$5:$C$53,3,FALSE)","v":"G"}]
["UK",{"$f":"VLOOKUP(A42, 'Country names'!$A$5:$C$53,3,FALSE)","v":"G"},"17300-17700","X",null,null,null,"X",null,null,"X",null,null,null,0,1,null,null,null,null,"X",null,0.5]
["UK",{"$f":"VLOOKUP(A43, 'Country names'!$A$5:$C$53,3,FALSE)","v":"G"}]
["UK",{"$f":"VLOOKUP(A44, 'Country names'!$A$5:$C$53,3,FALSE)","v":"G"},"17700-19700","X",null,null,null,"X",null,"X","X","X",null,null,9,7629,null,"ERC/REC 12-03, ITU-R Rec. F.595","X","X","X",null,9]
["UK",{"$f":"VLOOKUP(A45, 'Country names'!$A$5:$C$53,3,FALSE)","v":"G"}]
["UK",{"$f":"VLOOKUP(A46, 'Country names'!$A$5:$C$53,3,FALSE)","v":"G"},"21200-22000","X",null,null,null,"X",null,"X",null,null,null,null,null,220,null,null,"X","X",null,null,5]
["UK",{"$f":"VLOOKUP(A47, 'Country names'!$A$5:$C$53,3,FALSE)","v":"G"}]
["UK",{"$f":"VLOOKUP(A48, 'Country names'!$A$5:$C$53,3,FALSE)","v":"G"},"22000-23600","X",null,null,null,"X",null,"X","X","X",null,null,11,3797,null,"T/R 13-02 Annexes A","X","X","X",null,8]
["UK",{"$f":"VLOOKUP(A49, 'Country names'!$A$5:$C$53,3,FALSE)","v":"G"}]
["UK",{"$f":"VLOOKUP(A50, 'Country names'!$A$5:$C$53,3,FALSE)","v":"G"}]
["UK",{"$f":"VLOOKUP(A51, 'Country names'!$A$5:$C$53,3,FALSE)","v":"G"}]
["UK",{"$f":"VLOOKUP(A52, 'Country names'!$A$5:$C$53,3,FALSE)","v":"G"}]
["UK",{"$f":"VLOOKUP(A53, 'Country names'!$A$5:$C$53,3,FALSE)","v":"G"}]
["UK",{"$f":"VLOOKUP(A54, 'Country names'!$A$5:$C$53,3,FALSE)","v":"G"},"24500-26500","X",null,null,null,"X",null,"X","X","X",null,null,0,2889,null,"T/R 13-02 Annex B","X","X","X",null,6]
["UK",{"$f":"VLOOKUP(A55, 'Country names'!$A$5:$C$53,3,FALSE)","v":"G"}]
["UK",{"$f":"VLOOKUP(A56, 'Country names'!$A$5:$C$53,3,FALSE)","v":"G"}]
["UK",{"$f":"VLOOKUP(A57, 'Country names'!$A$5:$C$53,3,FALSE)","v":"G"}]
["UK",{"$f":"VLOOKUP(A58, 'Country names'!$A$5:$C$53,3,FALSE)","v":"G"},"27500-29500",null,"X"]
["UK",{"$f":"VLOOKUP(A59, 'Country names'!$A$5:$C$53,3,FALSE)","v":"G"}]
["UK",{"$f":"VLOOKUP(A60, 'Country names'!$A$5:$C$53,3,FALSE)","v":"G"},"31000-31800","X",null,null,null,"X",null,null,"X",null,null,null,null,450,null,"National Plan"]
["UK",{"$f":"VLOOKUP(A61, 'Country names'!$A$5:$C$53,3,FALSE)","v":"G"}]
["UK",{"$f":"VLOOKUP(A62, 'Country names'!$A$5:$C$53,3,FALSE)","v":"G"},"31800-33400",null,"X"]
["UK",{"$f":"VLOOKUP(A63, 'Country names'!$A$5:$C$53,3,FALSE)","v":"G"}]
["UK",{"$f":"VLOOKUP(A64, 'Country names'!$A$5:$C$53,3,FALSE)","v":"G"}]
["UK",{"$f":"VLOOKUP(A65, 'Country names'!$A$5:$C$53,3,FALSE)","v":"G"}]
["UK",{"$f":"VLOOKUP(A66, 'Country names'!$A$5:$C$53,3,FALSE)","v":"G"},"37000-39500","X",null,null,null,"X",null,"X","X","X",null,null,1,6091,null,"T/R 12-01","X","X","X",null,3]
["UK",{"$f":"VLOOKUP(A67, 'Country names'!$A$5:$C$53,3,FALSE)","v":"G"}]
["UK",{"$f":"VLOOKUP(A68, 'Country names'!$A$5:$C$53,3,FALSE)","v":"G"}]
["UK",{"$f":"VLOOKUP(A69, 'Country names'!$A$5:$C$53,3,FALSE)","v":"G"}]
["UK",{"$f":"VLOOKUP(A70, 'Country names'!$A$5:$C$53,3,FALSE)","v":"G"},"40500-43500",null,"X"]
["UK",{"$f":"VLOOKUP(A71, 'Country names'!$A$5:$C$53,3,FALSE)","v":"G"}]
["UK",{"$f":"VLOOKUP(A72, 'Country names'!$A$5:$C$53,3,FALSE)","v":"G"}]
["UK",{"$f":"VLOOKUP(A73, 'Country names'!$A$5:$C$53,3,FALSE)","v":"G"}]
["UK",{"$f":"VLOOKUP(A74, 'Country names'!$A$5:$C$53,3,FALSE)","v":"G"},"49200 - 50200","X",null,null,null,"X",null,"X",null,null,null,null,0,30,null,null,"X",null,null,null,2]
["UK",{"$f":"VLOOKUP(A75, 'Country names'!$A$5:$C$53,3,FALSE)","v":"G"}]
["UK",{"$f":"VLOOKUP(A76, 'Country names'!$A$5:$C$53,3,FALSE)","v":"G"}]
["UK",{"$f":"VLOOKUP(A77, 'Country names'!$A$5:$C$53,3,FALSE)","v":"G"}]
["UK",{"$f":"VLOOKUP(A78, 'Country names'!$A$5:$C$53,3,FALSE)","v":"G"},"51400-52600","X",null,null,null,"X",null,null,null,null,null,null,0,0,null,"ERC/REC 12-11"]
["UK",{"$f":"VLOOKUP(A79, 'Country names'!$A$5:$C$53,3,FALSE)","v":"G"}]
["UK",{"$f":"VLOOKUP(A80, 'Country names'!$A$5:$C$53,3,FALSE)","v":"G"},"557800-57000","X",null,null,null,"X",null,null,null,null,null,null,0,0,null,"ERC/REC 12-12"]
["UK",{"$f":"VLOOKUP(A81, 'Country names'!$A$5:$C$53,3,FALSE)","v":"G"}]
["UK",{"$f":"VLOOKUP(A82, 'Country names'!$A$5:$C$53,3,FALSE)","v":"G"},"57000-59000",null,null,null,"X",null,null,null,null,null,null,null,null,null,null,"ECC/REC/(09)01"]
["UK",{"$f":"VLOOKUP(A83, 'Country names'!$A$5:$C$53,3,FALSE)","v":"G"}]
["UK",{"$f":"VLOOKUP(A84, 'Country names'!$A$5:$C$53,3,FALSE)","v":"G"},"59000-64000",null,null,null,"X",null,null,null,null,null,null,null,null,null,null,"ECC/REC/(09)01"]
["UK",{"$f":"VLOOKUP(A85, 'Country names'!$A$5:$C$53,3,FALSE)","v":"G"}]
["UK",{"$f":"VLOOKUP(A86, 'Country names'!$A$5:$C$53,3,FALSE)","v":"G"},"64000-66000",null,null,"X",null,"X",null,null,null,null,null,null,0,0,null,"no channel plan in the UK"]
["UK",{"$f":"VLOOKUP(A87, 'Country names'!$A$5:$C$53,3,FALSE)","v":"G"}]
["UK",{"$f":"VLOOKUP(A88, 'Country names'!$A$5:$C$53,3,FALSE)","v":"G"},"71125-73125 and 81125-83125","X",null,null,null,"X",null,"X","X",null,null,null,null,320,null,"ECC/REC/(05)07",null,null,"X",null,1.5]
["UK",{"$f":"VLOOKUP(A89, 'Country names'!$A$5:$C$53,3,FALSE)","v":"G"}]
["UK",{"$f":"VLOOKUP(A90, 'Country names'!$A$5:$C$53,3,FALSE)","v":"G"},"73375-75875 and 83375-85875",null,null,"X",null,"X",null,null,"X",null,null,"X",null,2400,null,"no channel plan in the UK",null,"X","X",null,4]

{"sheet":"Sweden","index":22,"n_rows":86,"n_cols":28,"rows_kept":86,"cut":false,"hidden":false,"merged":[[0,24,0,27],[3,2,4,2],[5,2,6,2],[7,2,8,2],[0,2,2,2],[0,3,0,6],[1,7,1,8],[1,9,1,10],[1,18,1,20],[1,21,1,23],[0,17,2,17],[0,7,0,8],[0,9,0,13],[0,14,0,15],[0,18,0,23],[9,2,10,2],[11,2,12,2],[37,2,38,2],[15,2,16,2],[17,2,18,2],[19,2,20,2],[21,2,22,2],[23,2,24,2],[25,2,26,2],[27,2,28,2],[29,2,30,2],[31,2,32,2],[33,2,34,2],[35,2,36,2],[13,2,14,2],[61,2,62,2],[39,2,40,2],[41,2,42,2],[43,2,44,2],[45,2,46,2],[47,2,48,2],[49,2,50,2],[51,2,52,2],[53,2,54,2],[55,2,56,2],[57,2,58,2],[59,2,60,2],[85,2,86,2],[63,2,64,2],[65,2,66,2],[67,2,68,2],[69,2,70,2],[71,2,72,2],[73,2,74,2],[75,2,76,2],[77,2,78,2],[79,2,80,2],[81,2,82,2],[83,2,84,2]]}
[null,null,"Frequency band (MHz)","Licensing regime",null,null,null," Topo-logy",null,"Application",null,null,null,null,"Number of P-P links",null,"Number of CS","Channel/Frequency plan used (e.g. ERC/ECC Rec. ITU-R Rec.)","Link characteristics",null,null,null,null,null,"Future trends (e.g. in the next 5 years)"]
[null,null,null,null,null,null,null,"FWA",null,"Network Infrastruc-ture",null,null,null,null,null,null,null,null,"Capacity",null,null,"Hop length (km)"]
[null,null,null,"Link by link","Block","Light licensed","Licence exempt","P-P","P-MP","Mobile backhaul","Others","Broadcasting Infrastructure","No Information available on the application","Other (please indicate)","unidirection","bidirectional (1 bidirectional link counts 1)","(applicable only for P-MP and mesh networks)",null,"LOW (<10 Mbit/s)","MEDIUM (10 to 100 Mbit/s)","HIGH (>100 Mbit/s)","MIN","Typical figure","MAX","Anticipated growth/reduction (+/-%)","Currently congested","Planned reallocation to other service/application","Other (please describe)\n(see Question 3 of the Questionnaire)"]
["Sweden",{"$f":"VLOOKUP(A4, 'Country names'!$A$5:$C$53,3,FALSE)","v":"S"},"1350-1375 and 1492-1517",null,null,null,null,null,null,null,null,null,null,null,null,null,null,"T/R 13-01 Annex A"]
["Sweden",{"$f":"VLOOKUP(A5, 'Country names'!$A$5:$C$53,3,FALSE)","v":"S"}]
["Sweden",{"$f":"VLOOKUP(A6, 'Country names'!$A$5:$C$53,3,FALSE)","v":"S"},"1375-1400 and 1427-1452","X",null,null,null,null,null,null,"X",null,null,null,42,34,null,"T/R 13-01 Annex B","X",null,null,0.8,11.5,61.4,-100,null,"X"]
["Sweden",{"$f":"VLOOKUP(A7, 'Country names'!$A$5:$C$53,3,FALSE)","v":"S"}]
["Sweden",{"$f":"VLOOKUP(A8, 'Country names'!$A$5:$C$53,3,FALSE)","v":"S"},"2025-2110 and 2200-2290",null,null,null,null,null,null,null,null,null,null,null,null,null,null,"T/R 13-01 Annex C"]
["Sweden",{"$f":"VLOOKUP(A9, 'Country names'!$A$5:$C$53,3,FALSE)","v":"S"}]
["Sweden",{"$f":"VLOOKUP(A10, 'Country names'!$A$5:$C$53,3,FALSE)","v":"S"},"3400-3600",null,"X",null,null,null,null,null,null,null,null,null,null,"N/A",null,"ERC/REC 14-03"]
["Sweden",{"$f":"VLOOKUP(A11, 'Country names'!$A$5:$C$53,3,FALSE)","v":"S"}]
["Sweden",{"$f":"VLOOKUP(A12, 'Country names'!$A$5:$C$53,3,FALSE)","v":"S"},"3600-4200",null,"X",null,null,null,null,null,null,null,null,null,null,"N/A",null,"ERC/REC 12-08",null,null,null,null,null,null,null,null,"?"]
["Sweden",{"$f":"VLOOKUP(A13, 'Country names'!$A$5:$C$53,3,FALSE)","v":"S"}]
["Sweden",{"$f":"VLOOKUP(A14, 'Country names'!$A$5:$C$53,3,FALSE)","v":"S"},"4400-5000"]
["Sweden",{"$f":"VLOOKUP(A15, 'Country names'!$A$5:$C$53,3,FALSE)","v":"S"}]
["Sweden",{"$f":"VLOOKUP(A16, 'Country names'!$A$5:$C$53,3,FALSE)","v":"S"},"5850-5925"]
["Sweden",{"$f":"VLOOKUP(A17, 'Country names'!$A$5:$C$53,3,FALSE)","v":"S"}]
["Sweden",{"$f":"VLOOKUP(A18, 'Country names'!$A$5:$C$53,3,FALSE)","v":"S"},"5925-7125","X",null,null,null,null,null,null,null,"X",null,null,null,928,null,"ERC/REC 14-01 and ERC/REC 14-02, ECC/REC(14)06",null,null,"X",9.3000000000000007,42.2,85.95,50,null,null,"X"]
["Sweden",{"$f":"VLOOKUP(A19, 'Country names'!$A$5:$C$53,3,FALSE)","v":"S"}]
["Sweden",{"$f":"VLOOKUP(A20, 'Country names'!$A$5:$C$53,3,FALSE)","v":"S"},"7125-7750","X",null,null,null,null,null,"X","X","X",null,null,null,509,null,"ECC REC (02)06","X","X","X",4.2,27.7,70.5,25,"X"]
["Sweden",{"$f":"VLOOKUP(A21, 'Country names'!$A$5:$C$53,3,FALSE)","v":"S"}]
["Sweden",{"$f":"VLOOKUP(A22, 'Country names'!$A$5:$C$53,3,FALSE)","v":"S"},"7750-7900",null,null,null,null,null,null,null,null,null,null,null,null,null,null,"Not in use for FS"]
["Sweden",{"$f":"VLOOKUP(A23, 'Country names'!$A$5:$C$53,3,FALSE)","v":"S"}]
["Sweden",{"$f":"VLOOKUP(A24, 'Country names'!$A$5:$C$53,3,FALSE)","v":"S"},"7900-8500","X",null,null,null,null,null,"X","X","X",null,null,null,1823,null,"ECC REC (02)06",null,"X","X",5.4,24.8,79.599999999999994,25,"X"]
["Sweden",{"$f":"VLOOKUP(A25, 'Country names'!$A$5:$C$53,3,FALSE)","v":"S"}]
["Sweden",{"$f":"VLOOKUP(A26, 'Country names'!$A$5:$C$53,3,FALSE)","v":"S"},"10000-10680",null,"X",null,null,null,null,"X","X",null,null,null,null,"N/A",null,"ERC/REC 12-05"]
["Sweden",{"$f":"VLOOKUP(A27, 'Country names'!$A$5:$C$53,3,FALSE)","v":"S"}]
["Sweden",{"$f":"VLOOKUP(A28, 'Country names'!$A$5:$C$53,3,FALSE)","v":"S"},"10700-11700",null,null,null,null,null,null,null,null,null,null,null,null,null,null,"ERC/REC 12-06"]
["Sweden",{"$f":"VLOOKUP(A29, 'Country names'!$A$5:$C$53,3,FALSE)","v":"S"}]
["Sweden",{"$f":"VLOOKUP(A30, 'Country names'!$A$5:$C$53,3,FALSE)","v":"S"},"11700-12500"]
["Sweden",{"$f":"VLOOKUP(A31, 'Country names'!$A$5:$C$53,3,FALSE)","v":"S"}]
["Sweden",{"$f":"VLOOKUP(A32, 'Country names'!$A$5:$C$53,3,FALSE)","v":"S"},"12750-13250","X",null,null,null,null,null,"X","X","X",null,null,null,1007,null,"ERC/REC 12-02","X","X","X",2.1,17.899999999999999,49.5,0,"X"]
["Sweden",{"$f":"VLOOKUP(A33, 'Country names'!$A$5:$C$53,3,FALSE)","v":"S"}]
["Sweden",{"$f":"VLOOKUP(A34, 'Country names'!$A$5:$C$53,3,FALSE)","v":"S"},"14250-14500"]
["Sweden",{"$f":"VLOOKUP(A35, 'Country names'!$A$5:$C$53,3,FALSE)","v":"S"}]
["Sweden",{"$f":"VLOOKUP(A36, 'Country names'!$A$5:$C$53,3,FALSE)","v":"S"},"14500-14620 and 15230-15350","X",null,null,null,null,null,"X","X","X",null,null,null,3652,null,"National Channel Plan","X","X","X",0.3,14.9,74.900000000000006,0,"X"]
["Sweden",{"$f":"VLOOKUP(A37, 'Country names'!$A$5:$C$53,3,FALSE)","v":"S"}]
["Sweden",{"$f":"VLOOKUP(A38, 'Country names'!$A$5:$C$53,3,FALSE)","v":"S"},"17300-17700"]
["Sweden",{"$f":"VLOOKUP(A39, 'Country names'!$A$5:$C$53,3,FALSE)","v":"S"}]
["Sweden",{"$f":"VLOOKUP(A40, 'Country names'!$A$5:$C$53,3,FALSE)","v":"S"},"17700-19700","X",null,null,null,null,null,"X","X","X",null,null,null,6047,null,"ERC/REC 12-03","X","X","X",0.2,10,43.5,0]
["Sweden",{"$f":"VLOOKUP(A41, 'Country names'!$A$5:$C$53,3,FALSE)","v":"S"}]
["Sweden",{"$f":"VLOOKUP(A42, 'Country names'!$A$5:$C$53,3,FALSE)","v":"S"},"21200-22000"]
["Sweden",{"$f":"VLOOKUP(A43, 'Country names'!$A$5:$C$53,3,FALSE)","v":"S"}]
["Sweden",{"$f":"VLOOKUP(A44, 'Country names'!$A$5:$C$53,3,FALSE)","v":"S"},"22000-22600 and 23000-23600","X",null,null,null,null,null,"X","X",null,null,null,null,1082,null,"T/R 13-02 Annexes A1, A2, A3","X","X","X",0.4,7.8,31.7,-25]
["Sweden",{"$f":"VLOOKUP(A45, 'Country names'!$A$5:$C$53,3,FALSE)","v":"S"}]
["Sweden",{"$f":"VLOOKUP(A46, 'Country names'!$A$5:$C$53,3,FALSE)","v":"S"},"22600-23000"]
["Sweden",{"$f":"VLOOKUP(A47, 'Country names'!$A$5:$C$53,3,FALSE)","v":"S"}]
["Sweden",{"$f":"VLOOKUP(A48, 'Country names'!$A$5:$C$53,3,FALSE)","v":"S"},"24250-24500"]
["Sweden",{"$f":"VLOOKUP(A49, 'Country names'!$A$5:$C$53,3,FALSE)","v":"S"}]
["Sweden",{"$f":"VLOOKUP(A50, 'Country names'!$A$5:$C$53,3,FALSE)","v":"S"},"24500-26500","X","X",null,null,null,null,null,null,null,null,null,null,3314,null,"T/R 13-02 Annex B","X","X","X",0,6.4,46.3,-25]
["Sweden",{"$f":"VLOOKUP(A51, 'Country names'!$A$5:$C$53,3,FALSE)","v":"S"}]
["Sweden",{"$f":"VLOOKUP(A52, 'Country names'!$A$5:$C$53,3,FALSE)","v":"S"},"26500-27500"]
["Sweden",{"$f":"VLOOKUP(A53, 'Country names'!$A$5:$C$53,3,FALSE)","v":"S"}]
["Sweden",{"$f":"VLOOKUP(A54, 'Country names'!$A$5:$C$53,3,FALSE)","v":"S"},"27500-29500",null,"X",null,null,null,null,null,null,null,null,null,null,"N/A",null,"T/R 13-02 Annex C"]
["Sweden",{"$f":"VLOOKUP(A55, 'Country names'!$A$5:$C$53,3,FALSE)","v":"S"}]
["Sweden",{"$f":"VLOOKUP(A56, 'Country names'!$A$5:$C$53,3,FALSE)","v":"S"},"31000-31300",null,null,null,null,null,null,null,null,null,null,null,null,null,null,"ECC/REC/(02)02"]
["Sweden",{"$f":"VLOOKUP(A57, 'Country names'!$A$5:$C$53,3,FALSE)","v":"S"}]
["Sweden",{"$f":"VLOOKUP(A58, 'Country names'!$A$5:$C$53,3,FALSE)","v":"S"},"31800-33400","X",null,null,null,null,null,null,null,null,null,null,null,2137,null,"ERC/REC/(01)02","X","X","X",0,2.2000000000000002,11.1,-25]
["Sweden",{"$f":"VLOOKUP(A59, 'Country names'!$A$5:$C$53,3,FALSE)","v":"S"}]
["Sweden",{"$f":"VLOOKUP(A60, 'Country names'!$A$5:$C$53,3,FALSE)","v":"S"},"36000-37000"]
["Sweden",{"$f":"VLOOKUP(A61, 'Country names'!$A$5:$C$53,3,FALSE)","v":"S"}]
["Sweden",{"$f":"VLOOKUP(A62, 'Country names'!$A$5:$C$53,3,FALSE)","v":"S"},"37000-39500","X",null,null,null,null,null,null,null,null,null,null,null,3542,null,"T/R 12-01","X","X","X",0,2,10,-25]
["Sweden",{"$f":"VLOOKUP(A63, 'Country names'!$A$5:$C$53,3,FALSE)","v":"S"}]
["Sweden",{"$f":"VLOOKUP(A64, 'Country names'!$A$5:$C$53,3,FALSE)","v":"S"},"39500-40500"]
["Sweden",{"$f":"VLOOKUP(A65, 'Country names'!$A$5:$C$53,3,FALSE)","v":"S"}]
["Sweden",{"$f":"VLOOKUP(A66, 'Country names'!$A$5:$C$53,3,FALSE)","v":"S"},"40500-43500",null,null,null,null,null,null,null,null,null,null,null,null,null,null,"ECC/REC/(01)04"]
["Sweden",{"$f":"VLOOKUP(A67, 'Country names'!$A$5:$C$53,3,FALSE)","v":"S"}]
["Sweden",{"$f":"VLOOKUP(A68, 'Country names'!$A$5:$C$53,3,FALSE)","v":"S"},"47200-48500"]
["Sweden",{"$f":"VLOOKUP(A69, 'Country names'!$A$5:$C$53,3,FALSE)","v":"S"}]
["Sweden",{"$f":"VLOOKUP(A70, 'Country names'!$A$5:$C$53,3,FALSE)","v":"S"},"48500-50200",null,null,null,null,null,null,null,null,null,null,null,null,null,null,"ERC/REC 12-11"]
["Sweden",{"$f":"VLOOKUP(A71, 'Country names'!$A$5:$C$53,3,FALSE)","v":"S"}]
["Sweden",{"$f":"VLOOKUP(A72, 'Country names'!$A$5:$C$53,3,FALSE)","v":"S"},"50400-51400"]
["Sweden",{"$f":"VLOOKUP(A73, 'Country names'!$A$5:$C$53,3,FALSE)","v":"S"}]
["Sweden",{"$f":"VLOOKUP(A74, 'Country names'!$A$5:$C$53,3,FALSE)","v":"S"},"51400-52600",null,null,null,null,null,null,null,null,null,null,null,null,null,null,"ERC/REC 12-11"]
["Sweden",{"$f":"VLOOKUP(A75, 'Country names'!$A$5:$C$53,3,FALSE)","v":"S"}]
["Sweden",{"$f":"VLOOKUP(A76, 'Country names'!$A$5:$C$53,3,FALSE)","v":"S"},"557800-57000",null,null,null,null,null,null,null,null,null,null,null,null,null,null,"ERC/REC 12-12"]
["Sweden",{"$f":"VLOOKUP(A77, 'Country names'!$A$5:$C$53,3,FALSE)","v":"S"}]
["Sweden",{"$f":"VLOOKUP(A78, 'Country names'!$A$5:$C$53,3,FALSE)","v":"S"},"57000-59000",null,null,null,"X",null,null,null,null,null,null,null,null,null,null,"ECC/REC/(09)01"]
["Sweden",{"$f":"VLOOKUP(A79, 'Country names'!$A$5:$C$53,3,FALSE)","v":"S"}]
["Sweden",{"$f":"VLOOKUP(A80, 'Country names'!$A$5:$C$53,3,FALSE)","v":"S"},"59000-64000",null,null,null,"X",null,null,null,null,null,null,null,null,null,null,"ECC/REC/(09)01"]
["Sweden",{"$f":"VLOOKUP(A81, 'Country names'!$A$5:$C$53,3,FALSE)","v":"S"}]
["Sweden",{"$f":"VLOOKUP(A82, 'Country names'!$A$5:$C$53,3,FALSE)","v":"S"},"64000-66000",null,null,null,"X",null,null,null,null,null,null,null,null,null,null,"ECC/REC/(05)02"]
["Sweden",{"$f":"VLOOKUP(A83, 'Country names'!$A$5:$C$53,3,FALSE)","v":"S"}]
["Sweden",{"$f":"VLOOKUP(A84, 'Country names'!$A$5:$C$53,3,FALSE)","v":"S"},"71000-76000 and 81000-86000","X",null,null,null,null,null,null,null,null,null,null,null,4,null,"ECC/REC/(05)07",null,null,"X",0,2,2.9,100]
["Sweden",{"$f":"VLOOKUP(A85, 'Country names'!$A$5:$C$53,3,FALSE)","v":"S"}]
["Sweden",{"$f":"VLOOKUP(A86, 'Country names'!$A$5:$C$53,3,FALSE)","v":"S"},"92000-95000",null,null,null,null,null,null,null,null,null,null,null,null,null,null,"ECC/REC (14)01"]

{"sheet":"Germany","index":23,"n_rows":86,"n_cols":28,"rows_kept":86,"cut":false,"hidden":false,"merged":[[0,24,0,27],[3,2,4,2],[5,2,6,2],[7,2,8,2],[0,2,2,2],[0,3,0,6],[1,7,1,8],[1,9,1,10],[1,18,1,20],[1,21,1,23],[0,17,2,17],[0,7,0,8],[0,9,0,13],[0,14,0,15],[0,18,0,23],[9,2,10,2],[11,2,12,2],[37,2,38,2],[15,2,16,2],[17,2,18,2],[19,2,20,2],[21,2,22,2],[23,2,24,2],[25,2,26,2],[27,2,28,2],[29,2,30,2],[31,2,32,2],[33,2,34,2],[35,2,36,2],[13,2,14,2],[61,2,62,2],[39,2,40,2],[41,2,42,2],[43,2,44,2],[45,2,46,2],[47,2,48,2],[49,2,50,2],[51,2,52,2],[53,2,54,2],[55,2,56,2],[57,2,58,2],[59,2,60,2],[85,2,86,2],[63,2,64,2],[65,2,66,2],[67,2,68,2],[69,2,70,2],[71,2,72,2],[73,2,74,2],[75,2,76,2],[77,2,78,2],[79,2,80,2],[81,2,82,2],[83,2,84,2]]}
[null,null,"Frequency band (MHz)","Licensing regime",null,null,null," Topo-logy",null,"Application",null,null,null,null,"Number of P-P links",null,"Number of CS","Channel/Frequency plan used (e.g. ERC/ECC Rec. ITU-R Rec.)","Link characteristics",null,null,null,null,null,"Future trends (e.g. in the next 5 years)"]
[null,null,null,null,null,null,null,"FWA",null,"Network Infrastruc-ture",null,null,null,null,null,null,null,null,"Capacity",null,null,"Hop length (km)"]
[null,null,null,"Link by link","Block","Light licensed","Licence exempt","P-P","P-MP","Mobile backhaul","Others","Broadcasting Infrastructure","No Information available on the application","Other (please indicate)","unidirection","bidirectional (1 bidirectional link counts 1)","(applicable only for P-MP and mesh networks)",null,"LOW (<10 Mbit/s)","MEDIUM (10 to 100 Mbit/s)","HIGH (>100 Mbit/s)","MIN","Typical figure","MAX","Anticipated growth/reduction (+/-%)","Currently congested","Planned reallocation to other service/application","Other (please describe)\n(see Question 3 of the Questionnaire)"]
["Germany",{"$f":"VLOOKUP(A4, 'Country names'!$A$5:$C$53,3,FALSE)","v":"D"},"1350-1375 and 1492-1517",null,null,null,null,null,null,null,null,null,null,null,null,null,null,"T/R 13-01 Annex A"]
["Germany",{"$f":"VLOOKUP(A5, 'Country names'!$A$5:$C$53,3,FALSE)","v":"D"}]
["Germany",{"$f":"VLOOKUP(A6, 'Country names'!$A$5:$C$53,3,FALSE)","v":"D"},"1375-1400 and 1427-1452",null,null,null,null,null,null,null,null,null,null,null,null,null,null,"T/R 13-01 Annex B"]
["Germany",{"$f":"VLOOKUP(A7, 'Country names'!$A$5:$C$53,3,FALSE)","v":"D"}]
["Germany",{"$f":"VLOOKUP(A8, 'Country names'!$A$5:$C$53,3,FALSE)","v":"D"},"2025-2110 and 2200-2290",null,null,null,null,null,null,null,null,null,null,null,null,null,null,"T/R 13-01 Annex C"]
["Germany",{"$f":"VLOOKUP(A9, 'Country names'!$A$5:$C$53,3,FALSE)","v":"D"}]
["Germany",{"$f":"VLOOKUP(A10, 'Country names'!$A$5:$C$53,3,FALSE)","v":"D"},"3400-3600",null,"x",null,null,null,"x",null,null,null,null,null,null,null,840,"ERC/REC 14-03",null,"x","x",null,null,null,null,null,"x"]
["Germany",{"$f":"VLOOKUP(A11, 'Country names'!$A$5:$C$53,3,FALSE)","v":"D"}]
["Germany",{"$f":"VLOOKUP(A12, 'Country names'!$A$5:$C$53,3,FALSE)","v":"D"},"3600-4200",null,"x",null,null,null,"x",null,null,null,null,null,null,null,110,"ERC/REC 12-08",null,"x","x",null,null,null,null,null,"x"]
["Germany",{"$f":"VLOOKUP(A13, 'Country names'!$A$5:$C$53,3,FALSE)","v":"D"},null,"x",null,null,null,"x",null,null,null,null,null,null,null,90,null,null,null,null,"x",20,42,65,"-"]
["Germany",{"$f":"VLOOKUP(A14, 'Country names'!$A$5:$C$53,3,FALSE)","v":"D"},"4400-5000"," ",null,null,null," "]
["Germany",{"$f":"VLOOKUP(A15, 'Country names'!$A$5:$C$53,3,FALSE)","v":"D"}]
["Germany",{"$f":"VLOOKUP(A16, 'Country names'!$A$5:$C$53,3,FALSE)","v":"D"},"5850-5925"]
["Germany",{"$f":"VLOOKUP(A17, 'Country names'!$A$5:$C$53,3,FALSE)","v":"D"}]
["Germany",{"$f":"VLOOKUP(A18, 'Country names'!$A$5:$C$53,3,FALSE)","v":"D"},"5925-7125","x",null,null,null,"x",null,null,null,null,null,null,null,3500,null,"ERC/REC 14-01 and ERC/REC 14-02, ECC/REC(14)06",null,"x","x",15,40,67,null,"x"]
["Germany",{"$f":"VLOOKUP(A19, 'Country names'!$A$5:$C$53,3,FALSE)","v":"D"}]
["Germany",{"$f":"VLOOKUP(A20, 'Country names'!$A$5:$C$53,3,FALSE)","v":"D"},"7125-7750","x",null,null,null,"x",null,null,null,null,null,null,null,4430,null,"ECC REC (02)06",null,"x","x",15,28,90,null,"x"]
["Germany",{"$f":"VLOOKUP(A21, 'Country names'!$A$5:$C$53,3,FALSE)","v":"D"}]
["Germany",{"$f":"VLOOKUP(A22, 'Country names'!$A$5:$C$53,3,FALSE)","v":"D"},"7750-7900"]
["Germany",{"$f":"VLOOKUP(A23, 'Country names'!$A$5:$C$53,3,FALSE)","v":"D"}]
["Germany",{"$f":"VLOOKUP(A24, 'Country names'!$A$5:$C$53,3,FALSE)","v":"D"},"7900-8500",null,null,null,null,null,null,null,null,null,null,null,null,null,null,"ECC REC (02)06"]
["Germany",{"$f":"VLOOKUP(A25, 'Country names'!$A$5:$C$53,3,FALSE)","v":"D"}]
["Germany",{"$f":"VLOOKUP(A26, 'Country names'!$A$5:$C$53,3,FALSE)","v":"D"},"10000-10680",null,null,null,null,null,null,null,null,null,null,null,null,null,null,"ERC/REC 12-05"]
["Germany",{"$f":"VLOOKUP(A27, 'Country names'!$A$5:$C$53,3,FALSE)","v":"D"}]
["Germany",{"$f":"VLOOKUP(A28, 'Country names'!$A$5:$C$53,3,FALSE)","v":"D"},"10700-11700",null,null,null,null,null,null,null,null,null,null,null,null,null,null,"ERC/REC 12-06"]
["Germany",{"$f":"VLOOKUP(A29, 'Country names'!$A$5:$C$53,3,FALSE)","v":"D"}]
["Germany",{"$f":"VLOOKUP(A30, 'Country names'!$A$5:$C$53,3,FALSE)","v":"D"},"11700-12500"]
["Germany",{"$f":"VLOOKUP(A31, 'Country names'!$A$5:$C$53,3,FALSE)","v":"D"}]
["Germany",{"$f":"VLOOKUP(A32, 'Country names'!$A$5:$C$53,3,FALSE)","v":"D"},"12750-13250","x",null,null,null,"x",null,null,null,null,null,null,null,9370,null,"ERC/REC 12-02",null,null,"x",7.5,12,49,null,"x"]
["Germany",{"$f":"VLOOKUP(A33, 'Country names'!$A$5:$C$53,3,FALSE)","v":"D"}]
["Germany",{"$f":"VLOOKUP(A34, 'Country names'!$A$5:$C$53,3,FALSE)","v":"D"},"14250-14500"]
["Germany",{"$f":"VLOOKUP(A35, 'Country names'!$A$5:$C$53,3,FALSE)","v":"D"}]
["Germany",{"$f":"VLOOKUP(A36, 'Country names'!$A$5:$C$53,3,FALSE)","v":"D"},"14500-14620 and 15230-15350","x",null,null,null,"x",null,null,null,null,null,null,null,6200,null,"ERC/REC 12-07",null,"x","x",5,14,55,null,"x"]
["Germany",{"$f":"VLOOKUP(A37, 'Country names'!$A$5:$C$53,3,FALSE)","v":"D"}]
["Germany",{"$f":"VLOOKUP(A38, 'Country names'!$A$5:$C$53,3,FALSE)","v":"D"},"17300-17700"]
["Germany",{"$f":"VLOOKUP(A39, 'Country names'!$A$5:$C$53,3,FALSE)","v":"D"}]
["Germany",{"$f":"VLOOKUP(A40, 'Country names'!$A$5:$C$53,3,FALSE)","v":"D"},"17700-19700","x",null,null,null,"x",null,null,null,null,null,null,null,20220,null,"ERC/REC 12-03",null,null,"x",4,9,38,"+"]
["Germany",{"$f":"VLOOKUP(A41, 'Country names'!$A$5:$C$53,3,FALSE)","v":"D"}]
["Germany",{"$f":"VLOOKUP(A42, 'Country names'!$A$5:$C$53,3,FALSE)","v":"D"},"21200-22000"]
["Germany",{"$f":"VLOOKUP(A43, 'Country names'!$A$5:$C$53,3,FALSE)","v":"D"}]
["Germany",{"$f":"VLOOKUP(A44, 'Country names'!$A$5:$C$53,3,FALSE)","v":"D"},"22000-22600 and 23000-23600","x",null,null,null,"x",null,null,null,null,null,null,null,18650,null,"T/R 13-02 Annexes A1, A2, A3",null,"x","x",4,8,51]
["Germany",{"$f":"VLOOKUP(A45, 'Country names'!$A$5:$C$53,3,FALSE)","v":"D"}]
["Germany",{"$f":"VLOOKUP(A46, 'Country names'!$A$5:$C$53,3,FALSE)","v":"D"},"22600-23000"]
["Germany",{"$f":"VLOOKUP(A47, 'Country names'!$A$5:$C$53,3,FALSE)","v":"D"}]
["Germany",{"$f":"VLOOKUP(A48, 'Country names'!$A$5:$C$53,3,FALSE)","v":"D"},"24250-24500"]
["Germany",{"$f":"VLOOKUP(A49, 'Country names'!$A$5:$C$53,3,FALSE)","v":"D"}]
["Germany",{"$f":"VLOOKUP(A50, 'Country names'!$A$5:$C$53,3,FALSE)","v":"D"},"24500-26500","x",null,null,null,"x",null,null,null,null,null,null,null,18620,null,"T/R 13-02 Annex B",null,"x","x",2,4,11,null,"x"]
["Germany",{"$f":"VLOOKUP(A51, 'Country names'!$A$5:$C$53,3,FALSE)","v":"D"},null,"x",null,null,null,null,"x",null,null,null,null,null,null,null,2600]
["Germany",{"$f":"VLOOKUP(A52, 'Country names'!$A$5:$C$53,3,FALSE)","v":"D"},"26500-27500"]
["Germany",{"$f":"VLOOKUP(A53, 'Country names'!$A$5:$C$53,3,FALSE)","v":"D"},null," "]
["Germany",{"$f":"VLOOKUP(A54, 'Country names'!$A$5:$C$53,3,FALSE)","v":"D"},"27500-29500","x",null,null,null,"x",null,null,null,null,null,null,null,1900,null,"T/R 13-02 Annex C",null,"x","x",2,3,13,"+"]
["Germany",{"$f":"VLOOKUP(A55, 'Country names'!$A$5:$C$53,3,FALSE)","v":"D"},null," ","x",null,null,null,"x",null,null,null,null,null,null,null,80]
["Germany",{"$f":"VLOOKUP(A56, 'Country names'!$A$5:$C$53,3,FALSE)","v":"D"},"31000-31300",null,null,null,null,null,null,null,null,null,null,null,null,null,null,"ECC/REC/(02)02"]
["Germany",{"$f":"VLOOKUP(A57, 'Country names'!$A$5:$C$53,3,FALSE)","v":"D"}]
["Germany",{"$f":"VLOOKUP(A58, 'Country names'!$A$5:$C$53,3,FALSE)","v":"D"},"31800-33400","x",null,null,null,"x",null,null,null,null,null,null,null,9110,null,"ERC/REC/(01)02",null,"x","x",1,2,7,"+"]
["Germany",{"$f":"VLOOKUP(A59, 'Country names'!$A$5:$C$53,3,FALSE)","v":"D"}]
["Germany",{"$f":"VLOOKUP(A60, 'Country names'!$A$5:$C$53,3,FALSE)","v":"D"},"36000-37000"]
["Germany",{"$f":"VLOOKUP(A61, 'Country names'!$A$5:$C$53,3,FALSE)","v":"D"}]
["Germany",{"$f":"VLOOKUP(A62, 'Country names'!$A$5:$C$53,3,FALSE)","v":"D"},"37000-39500","x",null,null,null,"x",null,null,null,null,null,null,null,30750,null,"T/R 12-01",null,"x","x",1,2,13,"+"]
["Germany",{"$f":"VLOOKUP(A63, 'Country names'!$A$5:$C$53,3,FALSE)","v":"D"}]
["Germany",{"$f":"VLOOKUP(A64, 'Country names'!$A$5:$C$53,3,FALSE)","v":"D"},"39500-40500"]
["Germany",{"$f":"VLOOKUP(A65, 'Country names'!$A$5:$C$53,3,FALSE)","v":"D"}]
["Germany",{"$f":"VLOOKUP(A66, 'Country names'!$A$5:$C$53,3,FALSE)","v":"D"},"40500-43500","x",null,null,null,"x",null,null,null,null,null,null,null,3020,null,"ECC/REC/(01)04",null,null,"x",null,null,null,"+"]
["Germany",{"$f":"VLOOKUP(A67, 'Country names'!$A$5:$C$53,3,FALSE)","v":"D"}]
["Germany",{"$f":"VLOOKUP(A68, 'Country names'!$A$5:$C$53,3,FALSE)","v":"D"},"47200-48500"]
["Germany",{"$f":"VLOOKUP(A69, 'Country names'!$A$5:$C$53,3,FALSE)","v":"D"}]
["Germany",{"$f":"VLOOKUP(A70, 'Country names'!$A$5:$C$53,3,FALSE)","v":"D"},"48500-50200",null,null,null,null,null,null,null,null,null,null,null,null,null,null,"ERC/REC 12-11"]
["Germany",{"$f":"VLOOKUP(A71, 'Country names'!$A$5:$C$53,3,FALSE)","v":"D"}]
["Germany",{"$f":"VLOOKUP(A72, 'Country names'!$A$5:$C$53,3,FALSE)","v":"D"},"50400-51400"]
["Germany",{"$f":"VLOOKUP(A73, 'Country names'!$A$5:$C$53,3,FALSE)","v":"D"}]
["Germany",{"$f":"VLOOKUP(A74, 'Country names'!$A$5:$C$53,3,FALSE)","v":"D"},"51400-52600","x",null,null,null,"x",null,null,null,null,null,null,null,0,null,"ERC/REC 12-11"]
["Germany",{"$f":"VLOOKUP(A75, 'Country names'!$A$5:$C$53,3,FALSE)","v":"D"}]
["Germany",{"$f":"VLOOKUP(A76, 'Country names'!$A$5:$C$53,3,FALSE)","v":"D"},"557800-57000",null,null,null,null,null,null,null,null,null,null,null,null,null,null,"ERC/REC 12-12"]
["Germany",{"$f":"VLOOKUP(A77, 'Country names'!$A$5:$C$53,3,FALSE)","v":"D"}]
["Germany",{"$f":"VLOOKUP(A78, 'Country names'!$A$5:$C$53,3,FALSE)","v":"D"},"57000-59000",null,null,null,"x","x",null,null,null,null,null,null,null,null,null,"ECC/REC/(09)01"]
["Germany",{"$f":"VLOOKUP(A79, 'Country names'!$A$5:$C$53,3,FALSE)","v":"D"}]
["Germany",{"$f":"VLOOKUP(A80, 'Country names'!$A$5:$C$53,3,FALSE)","v":"D"},"59000-64000",null,null,null,"x","x",null,null,null,null,null,null,null,null,null,"ECC/REC/(09)01"]
["Germany",{"$f":"VLOOKUP(A81, 'Country names'!$A$5:$C$53,3,FALSE)","v":"D"}]
["Germany",{"$f":"VLOOKUP(A82, 'Country names'!$A$5:$C$53,3,FALSE)","v":"D"},"64000-66000",null,null,null,null,null,null,null,null,null,null,null,null,null,null,"ECC/REC/(05)02"]
["Germany",{"$f":"VLOOKUP(A83, 'Country names'!$A$5:$C$53,3,FALSE)","v":"D"}]
["Germany",{"$f":"VLOOKUP(A84, 'Country names'!$A$5:$C$53,3,FALSE)","v":"D"},"71000-76000 and 81000-86000","x",null,null,null,"x",null,null,null,null,null,null,null,510,null,"ECC/REC/(05)07",null,null,"x"]
["Germany",{"$f":"VLOOKUP(A85, 'Country names'!$A$5:$C$53,3,FALSE)","v":"D"}]
["Germany",{"$f":"VLOOKUP(A86, 'Country names'!$A$5:$C$53,3,FALSE)","v":"D"},"92000-95000",null,null,null,null,null,null,null,null,null,null,null,null,null,null,"ECC/REC (14)01"]

{"sheet":"Russia","index":24,"n_rows":28,"n_cols":28,"rows_kept":28,"cut":false,"hidden":false,"merged":[[0,2,2,2],[0,3,0,6],[0,7,0,8],[0,9,0,13],[0,14,0,15],[0,18,0,23],[0,24,0,27],[1,7,1,8],[1,9,1,10],[1,18,1,20],[1,21,1,23],[0,17,2,17]]}
[null,null,"Frequency band (MHz)","Licensing regime",null,null,null," Topo-logy",null,"Application",null,null,null,null,"Number of P-P links",null,"Number of CS","Channel/Frequency plan used (e.g. ERC/ECC Rec. ITU-R Rec.)","Link characteristics",null,null,null,null,null,"Future trends (e.g. in the next 5 years)"]
[null,null,null,null,null,null,null,"FWA",null,"Network Infrastruc-ture",null,null,null,null,null,null,null,null,"Capacity",null,null,"Hop length (km)"]
[null,null,null,"Link by link","Block","Light licensed","Licence exempt","P-P","P-MP","Mobile backhaul","Others","Broadcasting Infrastructure","No Information available on the application","Other (please indicate)","unidirection","bidirectional (1 bidirectional link counts 1)","(applicable only for P-MP and mesh networks)",null,"LOW (<10 Mbit/s)","MEDIUM (10 to 100 Mbit/s)","HIGH (>100 Mbit/s)","MIN","Typical figure","MAX","Anticipated growth/reduction (+/-%)","Currently congested","Planned reallocation to other service/application","Other (please describe)\n(see Question 3 of the Questionnaire)"]
["Russia",{"$f":"VLOOKUP(A4, 'Country names'!$A$5:$C$53,3,FALSE)","v":"RUS"},"2400-2483.5","X",null,null,"X","X","X",null,null,null,null,"X\nTelecom operators, industrial process communications",null,8922,4108,null,"X","X","X",0.05,20,70,null,null,null,"Increase of use in P-P FWA networks (TDD). Increase of use in P-MP FWA networks (TDD)of small telecom operators' networks.\n"]
["Russia",{"$f":"VLOOKUP(A5, 'Country names'!$A$5:$C$53,3,FALSE)","v":"RUS"},"3400-3600","X",null,null,null,"X","X",null,null,"X",null,"WiMAX","under 0.1%",200,4000,"For RRLs - National Plan","X","X",null,20,50,80,null,null,null,"Use in telecom operators' infrastructure, broadcasting infrastructure, and industrial process communications. The number of RRL station is expected to decrease because the frequency band 3400-3600 MHz has been identified for IMT. "]
["Russia",{"$f":"VLOOKUP(A6, 'Country names'!$A$5:$C$53,3,FALSE)","v":"RUS"},"3600-4200","X",null,null,null,"X",null,"X","X","X",null,"X\nTelecom operators, industrial process communications",null,400,null,"For RRLs - ITU-R Rec.\nF.635\nF.382","X","X","X",20,50,80,null,null,null,"Increase of  use in long-distance multi-hop links in mobile backhaul, broadcasting and telecom operators' infrastructure, and for industrial process communications."]
["Russia",{"$f":"VLOOKUP(A7, 'Country names'!$A$5:$C$53,3,FALSE)","v":"RUS"},"4400-5000","X",null,null,null,"X",null,null,"X",null,null,"X\nTelecom operators, industrial process communications",null,310,null," ITU-R Rec. F.1099\nF.746",null,null,"X",10,45,80,null,null,null,"Use in telecom operators' infrastructure and industrial process communications. \nThe increase of the total number of RRLs is expected to stop becuase the frequency band 4800-4990 MHz has been identified for IMT. "]
["Russia",{"$f":"VLOOKUP(A8, 'Country names'!$A$5:$C$53,3,FALSE)","v":"RUS"},"5150-5350","Х",null,null,null,"Х","Х",null,null,null,null,"X\nTelecom operators, industrial process communications",null,1282,5419,null,"X","X","X",0.5,20,30,null,null,null,"Increase of  use in P-P FWA networks (TDD).\nIncrease of  use in P-MP FWA networks (TDD) in small telecom operators' networks."]
["Russia",{"$f":"VLOOKUP(A9, 'Country names'!$A$5:$C$53,3,FALSE)","v":"RUS"},"5650-5850","Х",null,null,null,"Х","Х",null,null,null,null,"X\nTelecom operators, industrial process communications",null,2258,3802,"For RRLs - National Plan","X","X","X",0.05,20,32,null,null,null,"Increase of  use in P-P FWA networks (TDD).\nIncrease of  use in P-MP FWA networks (TDD) in small telecom operators' networks."]
["Russia",{"$f":"VLOOKUP(A10, 'Country names'!$A$5:$C$53,3,FALSE)","v":"RUS"},"5850-5925","X",null,null,null,"X","X",null,null,null,null,"X\nTelecom operators, industrial process communications",null,800,1150,"For RRLs - National Plan","X","X","X",1,10,40,null,null,null,"Increase of  use in P-P FWA networks (TDD).\nIncrease of  use in P-MP FWA networks (TDD) in small telecom operators' networks."]
["Russia",{"$f":"VLOOKUP(A11, 'Country names'!$A$5:$C$53,3,FALSE)","v":"RUS"},"5925-6425","X",null,null,null,"X","X","X",null,null,null,"X\nTelecom operators, industrial process communications",null,4500,5300,"Для РРЛ- ITU-R Rec. F.383","X","X","X",1,10,50,null,null,null,"Increase of use in P-P FWA networks (TDD).\nIncrease of use in P-MP FWA networks (TDD) in small telecom operators' networks.\nModerate use in mobile backhaul (outside major populated areas), in telecom operators' infrastructure, and for industrial process communications.\n"]
["Russia",{"$f":"VLOOKUP(A12, 'Country names'!$A$5:$C$53,3,FALSE)","v":"RUS"},"6425-7125","X",null,null,null,"X",null,"X","X",null,null,"X\nTelecom operators, industrial process communications",null,1050,null,"ITU-R Rec. F.384",null,null,"X",5,40,70,null,null,null,"Increase of use in long-distance multi-hop links in mobile backhaul, telecom operators' infrastructure, and for industrial process communications. "]
["Russia",{"$f":"VLOOKUP(A13, 'Country names'!$A$5:$C$53,3,FALSE)","v":"RUS"},"7250-7550","X",null,null,null,"X",null,"X","X","X",null,"X\nTelecom operators, industrial process communications",null,10890,null,"ITU-R Rec. F.385","X","X","X",1,35,65,null,null,null,"Increase of use, most of all in mobile backhaul (outside major populated areas) and in telecom operators' infrastructure and in industrial process communications."]
["Russia",{"$f":"VLOOKUP(A14, 'Country names'!$A$5:$C$53,3,FALSE)","v":"RUS"},"7900-8400","X",null,null,null,"X",null,"X","X","X",null,"X\nTelecom operators, industrial process communications",null,11540,null,"ITU-R Rec. F.386","X","X","X",1,35,65,null,null,null,"Increase of use, most of all in mobile backhaul (outside major populated areas) and in telecom operators' infrastructure and in industrial process communications."]
["Russia",{"$f":"VLOOKUP(A15, 'Country names'!$A$5:$C$53,3,FALSE)","v":"RUS"},"10000-10680","X",null,null,null,"X","X",null,null,null,null,"X\nTelecom operators",null,230,600,"For RRLs - ITU-R Rec. \nF.747,\nfor FWA - ITU-R Rec. F.1568, СЕPТ/ERC/REC 12-05Е","X","X","X",1,25,45,null,null,null,"Use in existing telecom operators' communications networks."]
["Russia",{"$f":"VLOOKUP(A16, 'Country names'!$A$5:$C$53,3,FALSE)","v":"RUS"},"10700-11700","X",null,null,null,"X",null,"X","X","X",null,"X\nTelecom operators, industrial process communications","under 0.1%",1440,null,"ITU-R Rec. F.387","X","X","X",1,25,45,null,null,null,"Increase of use, most of all in mobile backhaul (outside major populated areas) and in telecom operators' infrastructure and in industrial process communications."]
["Russia",{"$f":"VLOOKUP(A17, 'Country names'!$A$5:$C$53,3,FALSE)","v":"RUS"},"12750-13250","X",null,null,null,"X",null,"X","X","X",null,"X\nTelecom operators, industrial process communications","under 0.1%",23800,null,"ITU-R Rec. F.497","X","X","X",1,20,35,null,null,null,"Increase of use, most of all in mobile backhaul (outside major populated areas) and in telecom operators' infrastructure and in industrial process communications."]
["Russia",{"$f":"VLOOKUP(A18, 'Country names'!$A$5:$C$53,3,FALSE)","v":"RUS"},"14250-14500","X",null,null,null,"X",null,null,null,"X",null,"X\nTelecom operators, industrial process communications",null,30,null,"ITU-R Rec. F.636","X","X",null,1,15,30,null,null,null,"Used for industrial process communications until the frequency licenses expire. \nNo new networks are built."]
["Russia",{"$f":"VLOOKUP(A19, 'Country names'!$A$5:$C$53,3,FALSE)","v":"RUS"},"14500-15350","X",null,null,null,"X",null,"X","X","X",null,"X\nTelecom operators, industrial process communications","under 0.1%",23940,null,"ITU-R Rec. F.636","X","X","X",1,15,30,null,null,null,"Increase of use, most of all in mobile backhaul (outside major populated areas) and in telecom operators' infrastructure and in industrial process communications."]
["Russia",{"$f":"VLOOKUP(A20, 'Country names'!$A$5:$C$53,3,FALSE)","v":"RUS"},"17700-19700","X",null,null,null,"X",null,"X","X","X",null,"X\nTelecom operators, industrial process communications","under 0.1%",41070,null,"ITU-R Rec. F.595","X","X","X",1,5,20,null,null,null,"Increase of use, most of all in mobile backhaul and in telecom operators' infrastructure and in industrial process communications."]
["Russia",{"$f":"VLOOKUP(A21, 'Country names'!$A$5:$C$53,3,FALSE)","v":"RUS"},"21200-23600","X",null,null,null,"X",null,"X","X",null,null,"X\nTelecom operators, industrial process communications",null,29200,null,"ITU-R Rec. F.637","X","X","X",1,3,15,null,null,null,"Increase of use, most of all in mobile backhaul and in telecom operators' infrastructure."]
["Russia",{"$f":"VLOOKUP(A22, 'Country names'!$A$5:$C$53,3,FALSE)","v":"RUS"},"24250-29500","X",null,null,null,"X","X","X","X",null,null,"X\nTelecom operators",null,350,330,"For RRLs - ITU-R Rec. F.748","X","X","X",1,3,10,null,null,null,"Minor increase of use in mobile backhaul and in telecom operators' infrastructure."]
["Russia",{"$f":"VLOOKUP(A23, 'Country names'!$A$5:$C$53,3,FALSE)","v":"RUS"},"37000-39500","X",null,null,null,"X",null,"X","X",null,null,"X\nTelecom operators, industrial process communications","under 0.1%",26520,null,"ITU-R Rec. F.749","X","X","X",1,2,5,null,null,null,"Increase of use, most of all in mobile backhaul and in telecom operators' infrastructure and in industrial process communications."]
["Russia",{"$f":"VLOOKUP(A24, 'Country names'!$A$5:$C$53,3,FALSE)","v":"RUS"},"40500-43500","X",null,null,null,"X","X",null,"X",null,null,"X\nTelecom operators, industrial process communications",null,160,16,"ITU-R Rec. F.2005",null,null,"X",0.1,3,6,null,null,null,"Use in existing telecom operators' communications networks."]
["Russia",{"$f":"VLOOKUP(A25, 'Country names'!$A$5:$C$53,3,FALSE)","v":"RUS"},"57200-58200","X",null,null,null,"X",null,"X",null,null,null,null,0,220,null,"ITU-R Rec. F.1497","X","X",null,0.1,1,2,null,null,null,"Minor increase of use in mobile backhaul."]
["Russia",{"$f":"VLOOKUP(A26, 'Country names'!$A$5:$C$53,3,FALSE)","v":"RUS"},"58250-63250",null,null,null,"X","X",null,null,null,null,null,null,null,null,null,"National Plan (59.5 GHz;\n62 GHz)",null,null,"X",0.1,1,2]
["Russia",{"$f":"VLOOKUP(A27, 'Country names'!$A$5:$C$53,3,FALSE)","v":"RUS"},"71000-76000/81000-86000",null,null,null,"X","X",null,"X","X",null,null,"X\nTelecom operators",0,"> 1000",null,"ITU-R Rec. F.2006",null,null,"X",0.1,0.5,1,null,null,null,"Increase of use, most of all in mobile backhaul and in telecom operators' infrastructure."]
["Russia",{"$f":"VLOOKUP(A28, 'Country names'!$A$5:$C$53,3,FALSE)","v":"RUS"},"92000-95000",null,null,null,"X","X",null,null,null,null,null,null,null,null,null,"ITU-R Rec. F.2004",null,null,"X",0.1,0.5,1]

{"sheet":"Bosnia and Herzegovina","index":25,"n_rows":86,"n_cols":28,"rows_kept":86,"cut":false,"hidden":false,"merged":[[0,24,0,27],[3,2,4,2],[5,2,6,2],[7,2,8,2],[0,2,2,2],[0,3,0,6],[1,7,1,8],[1,9,1,10],[1,18,1,20],[1,21,1,23],[0,17,2,17],[0,7,0,8],[0,9,0,13],[0,14,0,15],[0,18,0,23],[9,2,10,2],[11,2,12,2],[37,2,38,2],[15,2,16,2],[17,2,18,2],[19,2,20,2],[21,2,22,2],[23,2,24,2],[25,2,26,2],[27,2,28,2],[29,2,30,2],[31,2,32,2],[33,2,34,2],[35,2,36,2],[13,2,14,2],[61,2,62,2],[39,2,40,2],[41,2,42,2],[43,2,44,2],[45,2,46,2],[47,2,48,2],[49,2,50,2],[51,2,52,2],[53,2,54,2],[55,2,56,2],[57,2,58,2],[59,2,60,2],[85,2,86,2],[63,2,64,2],[65,2,66,2],[67,2,68,2],[69,2,70,2],[71,2,72,2],[73,2,74,2],[75,2,76,2],[77,2,78,2],[79,2,80,2],[81,2,82,2],[83,2,84,2]]}
[null,null,"Frequency band (MHz)","Licensing regime",null,null,null," Topo-logy",null,"Application",null,null,null,null,"Number of P-P links",null,"Number of CS","Channel/Frequency plan used (e.g. ERC/ECC Rec. ITU-R Rec.)","Link characteristics",null,null,null,null,null,"Future trends (e.g. in the next 5 years)"]
[null,null,null,null,null,null,null,"FWA",null,"Network Infrastruc-ture",null,null,null,null,null,null,null,null,"Capacity",null,null,"Hop length (km)"]
[null,null,null,"Link by link","Block","Light licensed","Licence exempt","P-P","P-MP","Mobile backhaul","Others","Broadcasting Infrastructure","No Information available on the application","Other (please indicate)","unidirection","bidirectional (1 bidirectional link counts 1)","(applicable only for P-MP and mesh networks)",null,"LOW (<10 Mbit/s)","MEDIUM (10 to 100 Mbit/s)","HIGH (>100 Mbit/s)","MIN","Typical figure","MAX","Anticipated growth/reduction (+/-%)","Currently congested","Planned reallocation to other service/application","Other (please describe)\n(see Question 3 of the Questionnaire)"]
["Bosnia and Herzegovina",{"$f":"VLOOKUP(A4, 'Country names'!$A$5:$C$53,3,FALSE)","v":"BIH"},"1350-1375 and 1492-1517","X",null,null,null,"X",null,null,null,"X",null,null,53,null,null,"T/R 13-01 Annex A","X",null,null,4,30,70]
["Bosnia and Herzegovina",{"$f":"VLOOKUP(A5, 'Country names'!$A$5:$C$53,3,FALSE)","v":"BIH"}]
["Bosnia and Herzegovina",{"$f":"VLOOKUP(A6, 'Country names'!$A$5:$C$53,3,FALSE)","v":"BIH"},"1375-1400 and 1427-1452","X",null,null,null,"X",null,null,null,"X",null,null,5,null,null,"T/R 13-01 Annex B","X",null,null,0.4,25,70]
["Bosnia and Herzegovina",{"$f":"VLOOKUP(A7, 'Country names'!$A$5:$C$53,3,FALSE)","v":"BIH"}]
["Bosnia and Herzegovina",{"$f":"VLOOKUP(A8, 'Country names'!$A$5:$C$53,3,FALSE)","v":"BIH"},"2025-2110 and 2200-2290","X",null,null,null,"X",null,null,null,"X",null,null,25,null,null,"T/R 13-01 Annex C","X","X",null,2,18,55]
["Bosnia and Herzegovina",{"$f":"VLOOKUP(A9, 'Country names'!$A$5:$C$53,3,FALSE)","v":"BIH"}]
["Bosnia and Herzegovina",{"$f":"VLOOKUP(A10, 'Country names'!$A$5:$C$53,3,FALSE)","v":"BIH"},"3400-3600","X",null,null,null,"X",null,null,null,"X",null,null,10,1,null,"ERC/REC 14-03",null,"X","X",2,35,140,null,null,"X"]
["Bosnia and Herzegovina",{"$f":"VLOOKUP(A11, 'Country names'!$A$5:$C$53,3,FALSE)","v":"BIH"}]
["Bosnia and Herzegovina",{"$f":"VLOOKUP(A12, 'Country names'!$A$5:$C$53,3,FALSE)","v":"BIH"},"3600-4200","X",null,null,null,"X",null,null,null,"X",null,null,27,28,null,"ERC/REC 12-08",null,null,"X",9,60,99,"+50"]
["Bosnia and Herzegovina",{"$f":"VLOOKUP(A13, 'Country names'!$A$5:$C$53,3,FALSE)","v":"BIH"}]
["Bosnia and Herzegovina",{"$f":"VLOOKUP(A14, 'Country names'!$A$5:$C$53,3,FALSE)","v":"BIH"},"4400-5000"]
["Bosnia and Herzegovina",{"$f":"VLOOKUP(A15, 'Country names'!$A$5:$C$53,3,FALSE)","v":"BIH"}]
["Bosnia and Herzegovina",{"$f":"VLOOKUP(A16, 'Country names'!$A$5:$C$53,3,FALSE)","v":"BIH"},"5850-5925"]
["Bosnia and Herzegovina",{"$f":"VLOOKUP(A17, 'Country names'!$A$5:$C$53,3,FALSE)","v":"BIH"}]
["Bosnia and Herzegovina",{"$f":"VLOOKUP(A18, 'Country names'!$A$5:$C$53,3,FALSE)","v":"BIH"},"5925-7125","X",null,null,null,"X",null,null,"X",null,null,null,5,216,null,"ERC/REC 14-01 and ERC/REC 14-02, ECC/REC(14)06",null,null,"X",2,58,140]
["Bosnia and Herzegovina",{"$f":"VLOOKUP(A19, 'Country names'!$A$5:$C$53,3,FALSE)","v":"BIH"}]
["Bosnia and Herzegovina",{"$f":"VLOOKUP(A20, 'Country names'!$A$5:$C$53,3,FALSE)","v":"BIH"},"7125-7750","X",null,null,null,"X",null,null,"X",null,null,null,12,144,null,"ECC REC (02)06",null,null,"X",4,30,53,"+5"]
["Bosnia and Herzegovina",{"$f":"VLOOKUP(A21, 'Country names'!$A$5:$C$53,3,FALSE)","v":"BIH"}]
["Bosnia and Herzegovina",{"$f":"VLOOKUP(A22, 'Country names'!$A$5:$C$53,3,FALSE)","v":"BIH"},"7750-7900","X",null,null,null,"X",null,"X","X",null,null,null,40,156,null,"ECC REC (02)06",null,null,"X",3,50,80,"+8"]
["Bosnia and Herzegovina",{"$f":"VLOOKUP(A23, 'Country names'!$A$5:$C$53,3,FALSE)","v":"BIH"}]
["Bosnia and Herzegovina",{"$f":"VLOOKUP(A24, 'Country names'!$A$5:$C$53,3,FALSE)","v":"BIH"},"7900-8500",null,null,null,null,null,null,null,null,null,null,null,null,null,null,"ECC REC (02)06",null,null,null,null,null,null,null,null,null,"NOTE!"]
["Bosnia and Herzegovina",{"$f":"VLOOKUP(A25, 'Country names'!$A$5:$C$53,3,FALSE)","v":"BIH"}]
["Bosnia and Herzegovina",{"$f":"VLOOKUP(A26, 'Country names'!$A$5:$C$53,3,FALSE)","v":"BIH"},"10000-10680","X",null,null,null,"X",null,null,null,"X",null,null,87,null,null,"ERC/REC 12-05","X","X",null,0.3,25,99,"+10"]
["Bosnia and Herzegovina",{"$f":"VLOOKUP(A27, 'Country names'!$A$5:$C$53,3,FALSE)","v":"BIH"}]
["Bosnia and Herzegovina",{"$f":"VLOOKUP(A28, 'Country names'!$A$5:$C$53,3,FALSE)","v":"BIH"},"10700-11700","X",null,null,null,"X",null,null,"X","X",null,null,34,116,null,"ERC/REC 12-06",null,"X","X",0.6,25,65,"-5"]
["Bosnia and Herzegovina",{"$f":"VLOOKUP(A29, 'Country names'!$A$5:$C$53,3,FALSE)","v":"BIH"}]
["Bosnia and Herzegovina",{"$f":"VLOOKUP(A30, 'Country names'!$A$5:$C$53,3,FALSE)","v":"BIH"},"11700-12500",null,"X",null,null,null,"X",null,null,null,null,null,null,null,72]
["Bosnia and Herzegovina",{"$f":"VLOOKUP(A31, 'Country names'!$A$5:$C$53,3,FALSE)","v":"BIH"}]
["Bosnia and Herzegovina",{"$f":"VLOOKUP(A32, 'Country names'!$A$5:$C$53,3,FALSE)","v":"BIH"},"12750-13250","X",null,null,null,"X",null,"X","X",null,null,null,null,120,null,"ERC/REC 12-02","X","X","X",1,23,57,"+10"]
["Bosnia and Herzegovina",{"$f":"VLOOKUP(A33, 'Country names'!$A$5:$C$53,3,FALSE)","v":"BIH"}]
["Bosnia and Herzegovina",{"$f":"VLOOKUP(A34, 'Country names'!$A$5:$C$53,3,FALSE)","v":"BIH"},"14250-14500"]
["Bosnia and Herzegovina",{"$f":"VLOOKUP(A35, 'Country names'!$A$5:$C$53,3,FALSE)","v":"BIH"}]
["Bosnia and Herzegovina",{"$f":"VLOOKUP(A36, 'Country names'!$A$5:$C$53,3,FALSE)","v":"BIH"},"14500-14620 and 15230-15350","X",null,null,null,"X",null,"X","X",null,null,null,null,290,null,"ERC/REC 12-07","X","X","X",0.4,15,48,"+3"]
["Bosnia and Herzegovina",{"$f":"VLOOKUP(A37, 'Country names'!$A$5:$C$53,3,FALSE)","v":"BIH"}]
["Bosnia and Herzegovina",{"$f":"VLOOKUP(A38, 'Country names'!$A$5:$C$53,3,FALSE)","v":"BIH"},"17300-17700"]
["Bosnia and Herzegovina",{"$f":"VLOOKUP(A39, 'Country names'!$A$5:$C$53,3,FALSE)","v":"BIH"}]
["Bosnia and Herzegovina",{"$f":"VLOOKUP(A40, 'Country names'!$A$5:$C$53,3,FALSE)","v":"BIH"},"17700-19700","X",null,null,null,"X",null,"X",null,null,null,null,null,808,null,"ERC/REC 12-03","X","X","X",0.3,10,34,"+10"]
["Bosnia and Herzegovina",{"$f":"VLOOKUP(A41, 'Country names'!$A$5:$C$53,3,FALSE)","v":"BIH"}]
["Bosnia and Herzegovina",{"$f":"VLOOKUP(A42, 'Country names'!$A$5:$C$53,3,FALSE)","v":"BIH"},"21200-22000"]
["Bosnia and Herzegovina",{"$f":"VLOOKUP(A43, 'Country names'!$A$5:$C$53,3,FALSE)","v":"BIH"}]
["Bosnia and Herzegovina",{"$f":"VLOOKUP(A44, 'Country names'!$A$5:$C$53,3,FALSE)","v":"BIH"},"22000-22600 and 23000-23600","X",null,null,null,"X",null,"X",null,null,null,null,null,701,null,"T/R 13-02 Annexes A1, A2, A3","X","X","X",0.15,7,30,"+10"]
["Bosnia and Herzegovina",{"$f":"VLOOKUP(A45, 'Country names'!$A$5:$C$53,3,FALSE)","v":"BIH"}]
["Bosnia and Herzegovina",{"$f":"VLOOKUP(A46, 'Country names'!$A$5:$C$53,3,FALSE)","v":"BIH"},"22600-23000"]
["Bosnia and Herzegovina",{"$f":"VLOOKUP(A47, 'Country names'!$A$5:$C$53,3,FALSE)","v":"BIH"}]
["Bosnia and Herzegovina",{"$f":"VLOOKUP(A48, 'Country names'!$A$5:$C$53,3,FALSE)","v":"BIH"},"24250-24500"]
["Bosnia and Herzegovina",{"$f":"VLOOKUP(A49, 'Country names'!$A$5:$C$53,3,FALSE)","v":"BIH"}]
["Bosnia and Herzegovina",{"$f":"VLOOKUP(A50, 'Country names'!$A$5:$C$53,3,FALSE)","v":"BIH"},"24500-26500","X","X",null,null,"X","X","X","X",null,null,null,null,148,0,"T/R 13-02 Annex B","X","X","X",0.2,4,13]
["Bosnia and Herzegovina",{"$f":"VLOOKUP(A51, 'Country names'!$A$5:$C$53,3,FALSE)","v":"BIH"}]
["Bosnia and Herzegovina",{"$f":"VLOOKUP(A52, 'Country names'!$A$5:$C$53,3,FALSE)","v":"BIH"},"26500-27500"]
["Bosnia and Herzegovina",{"$f":"VLOOKUP(A53, 'Country names'!$A$5:$C$53,3,FALSE)","v":"BIH"}]
["Bosnia and Herzegovina",{"$f":"VLOOKUP(A54, 'Country names'!$A$5:$C$53,3,FALSE)","v":"BIH"},"27500-29500","X","X",null,null,"X","X","X","X",null,null,null,null,0,0,"T/R 13-02 Annex C"]
["Bosnia and Herzegovina",{"$f":"VLOOKUP(A55, 'Country names'!$A$5:$C$53,3,FALSE)","v":"BIH"}]
["Bosnia and Herzegovina",{"$f":"VLOOKUP(A56, 'Country names'!$A$5:$C$53,3,FALSE)","v":"BIH"},"31000-31300","X",null,null,null,"X",null,null,null,null,null,null,null,0,null,"ECC/REC/(02)02"]
["Bosnia and Herzegovina",{"$f":"VLOOKUP(A57, 'Country names'!$A$5:$C$53,3,FALSE)","v":"BIH"}]
["Bosnia and Herzegovina",{"$f":"VLOOKUP(A58, 'Country names'!$A$5:$C$53,3,FALSE)","v":"BIH"},"31800-33400","X",null,null,null,"X",null,null,null,null,null,null,null,0,null,"ERC/REC/(01)02"]
["Bosnia and Herzegovina",{"$f":"VLOOKUP(A59, 'Country names'!$A$5:$C$53,3,FALSE)","v":"BIH"}]
["Bosnia and Herzegovina",{"$f":"VLOOKUP(A60, 'Country names'!$A$5:$C$53,3,FALSE)","v":"BIH"},"36000-37000"]
["Bosnia and Herzegovina",{"$f":"VLOOKUP(A61, 'Country names'!$A$5:$C$53,3,FALSE)","v":"BIH"}]
["Bosnia and Herzegovina",{"$f":"VLOOKUP(A62, 'Country names'!$A$5:$C$53,3,FALSE)","v":"BIH"},"37000-39500","X",null,null,null,"X",null,"X",null,null,null,null,null,12,null,"T/R 12-01","X","X","X",0.2,1.5,5]
["Bosnia and Herzegovina",{"$f":"VLOOKUP(A63, 'Country names'!$A$5:$C$53,3,FALSE)","v":"BIH"}]
["Bosnia and Herzegovina",{"$f":"VLOOKUP(A64, 'Country names'!$A$5:$C$53,3,FALSE)","v":"BIH"},"39500-40500"]
["Bosnia and Herzegovina",{"$f":"VLOOKUP(A65, 'Country names'!$A$5:$C$53,3,FALSE)","v":"BIH"}]
["Bosnia and Herzegovina",{"$f":"VLOOKUP(A66, 'Country names'!$A$5:$C$53,3,FALSE)","v":"BIH"},"40500-43500","X",null,null,null,"X",null,null,null,null,null,null,null,0,null,"ECC/REC/(01)04"]
["Bosnia and Herzegovina",{"$f":"VLOOKUP(A67, 'Country names'!$A$5:$C$53,3,FALSE)","v":"BIH"}]
["Bosnia and Herzegovina",{"$f":"VLOOKUP(A68, 'Country names'!$A$5:$C$53,3,FALSE)","v":"BIH"},"47200-48500"]
["Bosnia and Herzegovina",{"$f":"VLOOKUP(A69, 'Country names'!$A$5:$C$53,3,FALSE)","v":"BIH"}]
["Bosnia and Herzegovina",{"$f":"VLOOKUP(A70, 'Country names'!$A$5:$C$53,3,FALSE)","v":"BIH"},"48500-50200","X",null,null,null,"X",null,null,null,null,null,null,null,0,null,"ERC/REC 12-10"]
["Bosnia and Herzegovina",{"$f":"VLOOKUP(A71, 'Country names'!$A$5:$C$53,3,FALSE)","v":"BIH"}]
["Bosnia and Herzegovina",{"$f":"VLOOKUP(A72, 'Country names'!$A$5:$C$53,3,FALSE)","v":"BIH"},"50400-51400"]
["Bosnia and Herzegovina",{"$f":"VLOOKUP(A73, 'Country names'!$A$5:$C$53,3,FALSE)","v":"BIH"}]
["Bosnia and Herzegovina",{"$f":"VLOOKUP(A74, 'Country names'!$A$5:$C$53,3,FALSE)","v":"BIH"},"51400-52600","X",null,null,null,"X",null,null,null,null,null,null,null,null,null,"ERC/REC 12-11"]
["Bosnia and Herzegovina",{"$f":"VLOOKUP(A75, 'Country names'!$A$5:$C$53,3,FALSE)","v":"BIH"}]
["Bosnia and Herzegovina",{"$f":"VLOOKUP(A76, 'Country names'!$A$5:$C$53,3,FALSE)","v":"BIH"},"557800-57000","X",null,null,null,"X",null,null,null,null,null,null,null,0,null,"ERC/REC 12-12"]
["Bosnia and Herzegovina",{"$f":"VLOOKUP(A77, 'Country names'!$A$5:$C$53,3,FALSE)","v":"BIH"}]
["Bosnia and Herzegovina",{"$f":"VLOOKUP(A78, 'Country names'!$A$5:$C$53,3,FALSE)","v":"BIH"},"57000-59000","X",null,null,null,"X",null,null,null,null,null,null,null,0,null,"ECC/REC/(09)01"]
["Bosnia and Herzegovina",{"$f":"VLOOKUP(A79, 'Country names'!$A$5:$C$53,3,FALSE)","v":"BIH"}]
["Bosnia and Herzegovina",{"$f":"VLOOKUP(A80, 'Country names'!$A$5:$C$53,3,FALSE)","v":"BIH"},"59000-64000",null,null,null,null,null,null,null,null,null,null,null,null,null,null,"ECC/REC/(09)01"]
["Bosnia and Herzegovina",{"$f":"VLOOKUP(A81, 'Country names'!$A$5:$C$53,3,FALSE)","v":"BIH"}]
["Bosnia and Herzegovina",{"$f":"VLOOKUP(A82, 'Country names'!$A$5:$C$53,3,FALSE)","v":"BIH"},"64000-66000","X",null,null,null,"X",null,null,null,null,null,null,null,0,null,"ECC/REC/(05)02"]
["Bosnia and Herzegovina",{"$f":"VLOOKUP(A83, 'Country names'!$A$5:$C$53,3,FALSE)","v":"BIH"}]
["Bosnia and Herzegovina",{"$f":"VLOOKUP(A84, 'Country names'!$A$5:$C$53,3,FALSE)","v":"BIH"},"71000-76000 and 81000-86000","X",null,null,null,"X",null,null,null,null,null,null,null,0,null,"ECC/REC/(05)07"]
["Bosnia and Herzegovina",{"$f":"VLOOKUP(A85, 'Country names'!$A$5:$C$53,3,FALSE)","v":"BIH"}]
["Bosnia and Herzegovina",{"$f":"VLOOKUP(A86, 'Country names'!$A$5:$C$53,3,FALSE)","v":"BIH"},"92000-95000",null,null,null,null,null,null,null,null,null,null,null,null,null,null,"ECC/REC (14)01"]

{"sheet":"Slovak Republic","index":26,"n_rows":86,"n_cols":28,"rows_kept":86,"cut":false,"hidden":false,"merged":[[0,24,0,27],[3,2,4,2],[5,2,6,2],[7,2,8,2],[0,2,2,2],[0,3,0,6],[1,7,1,8],[1,9,1,10],[1,18,1,20],[1,21,1,23],[0,17,2,17],[0,7,0,8],[0,9,0,13],[0,14,0,15],[0,18,0,23],[9,2,10,2],[11,2,12,2],[37,2,38,2],[15,2,16,2],[17,2,18,2],[19,2,20,2],[21,2,22,2],[23,2,24,2],[25,2,26,2],[27,2,28,2],[29,2,30,2],[31,2,32,2],[33,2,34,2],[35,2,36,2],[13,2,14,2],[61,2,62,2],[39,2,40,2],[41,2,42,2],[43,2,44,2],[45,2,46,2],[47,2,48,2],[49,2,50,2],[51,2,52,2],[53,2,54,2],[55,2,56,2],[57,2,58,2],[59,2,60,2],[85,2,86,2],[63,2,64,2],[65,2,66,2],[67,2,68,2],[69,2,70,2],[71,2,72,2],[73,2,74,2],[75,2,76,2],[77,2,78,2],[79,2,80,2],[81,2,82,2],[83,2,84,2]]}
[null,null,"Frequency band (MHz)","Licensing regime",null,null,null," Topo-logy",null,"Application",null,null,null,null,"Number of P-P links",null,"Number of CS","Channel/Frequency plan used (e.g. ERC/ECC Rec. ITU-R Rec.)","Link characteristics",null,null,null,null,null,"Future trends (e.g. in the next 5 years)"]
[null,null,null,null,null,null,null,"FWA",null,"Network Infrastruc-ture",null,null,null,null,null,null,null,null,"Capacity",null,null,"Hop length (km)"]
[null,null,null,"Link by link","Block","Light licensed","Licence exempt","P-P","P-MP","Mobile backhaul","Others","Broadcasting Infrastructure","No Information available on the application","Other (please indicate)","unidirection","bidirectional (1 bidirectional link counts 1)","(applicable only for P-MP and mesh networks)",null,"LOW (<10 Mbit/s)","MEDIUM (10 to 100 Mbit/s)","HIGH (>100 Mbit/s)","MIN","Typical figure","MAX","Anticipated growth/reduction (+/-%)","Currently congested","Planned reallocation to other service/application","Other (please describe)\n(see Question 3 of the Questionnaire)"]
["Slovak Republic",{"$f":"VLOOKUP(A4, 'Country names'!$A$5:$C$53,3,FALSE)","v":"SVK"},"1350-1375 and 1492-1517",null,null,null,null,null,null,null,null,null,null,null,null,null,null,"T/R 13-01 Annex A"]
["Slovak Republic",{"$f":"VLOOKUP(A5, 'Country names'!$A$5:$C$53,3,FALSE)","v":"SVK"},null,null,null,null,null,null,null,null,null,null,null,null,null,null,null,null,null,null,null,null,null,null,null,null,null,"SDL"]
["Slovak Republic",{"$f":"VLOOKUP(A6, 'Country names'!$A$5:$C$53,3,FALSE)","v":"SVK"},"1375-1400 and 1427-1452",null,null,null,null,null,null,null,null,null,null,null,null,null,null,"T/R 13-01 Annex B"]
["Slovak Republic",{"$f":"VLOOKUP(A7, 'Country names'!$A$5:$C$53,3,FALSE)","v":"SVK"},null,null,null,null,null,null,null,null,null,null,null,null,null,null,null,null,null,null,null,null,null,null,null,null,null,"SDL"]
["Slovak Republic",{"$f":"VLOOKUP(A8, 'Country names'!$A$5:$C$53,3,FALSE)","v":"SVK"},"2025-2110 and 2200-2290",null,null,null,null,null,null,null,null,null,null,null,null,null,null,"T/R 13-01 Annex C"]
["Slovak Republic",{"$f":"VLOOKUP(A9, 'Country names'!$A$5:$C$53,3,FALSE)","v":"SVK"}]
["Slovak Republic",{"$f":"VLOOKUP(A10, 'Country names'!$A$5:$C$53,3,FALSE)","v":"SVK"},"3400-3600",null,"X",null,null,null,"X",null,null,null,null,null,null,null,450,"ERC/REC 14-03",null,"X"]
["Slovak Republic",{"$f":"VLOOKUP(A11, 'Country names'!$A$5:$C$53,3,FALSE)","v":"SVK"}]
["Slovak Republic",{"$f":"VLOOKUP(A12, 'Country names'!$A$5:$C$53,3,FALSE)","v":"SVK"},"3600-4200",null,"X",null,null,null,"X",null,null,null,null,null,null,null,668,"ERC/REC 12-08",null,"X"]
["Slovak Republic",{"$f":"VLOOKUP(A13, 'Country names'!$A$5:$C$53,3,FALSE)","v":"SVK"}]
["Slovak Republic",{"$f":"VLOOKUP(A14, 'Country names'!$A$5:$C$53,3,FALSE)","v":"SVK"},"4400-5000"]
["Slovak Republic",{"$f":"VLOOKUP(A15, 'Country names'!$A$5:$C$53,3,FALSE)","v":"SVK"}]
["Slovak Republic",{"$f":"VLOOKUP(A16, 'Country names'!$A$5:$C$53,3,FALSE)","v":"SVK"},"5850-5925"]
["Slovak Republic",{"$f":"VLOOKUP(A17, 'Country names'!$A$5:$C$53,3,FALSE)","v":"SVK"}]
["Slovak Republic",{"$f":"VLOOKUP(A18, 'Country names'!$A$5:$C$53,3,FALSE)","v":"SVK"},"5925-7125","X",null,null,null,"X",null,"X",null,null,null,null,null,null,70,"ERC/REC 14-01 and ERC/REC 14-02, ECC/REC(14)06",null,null,"X",8,25,54.6,5]
["Slovak Republic",{"$f":"VLOOKUP(A19, 'Country names'!$A$5:$C$53,3,FALSE)","v":"SVK"}]
["Slovak Republic",{"$f":"VLOOKUP(A20, 'Country names'!$A$5:$C$53,3,FALSE)","v":"SVK"},"7125-7750","X",null,null,null,"X",null,null,null,null,null,null,null,97,null,"ECC REC (02)06","X","X","X",13.2,25,59.3,30]
["Slovak Republic",{"$f":"VLOOKUP(A21, 'Country names'!$A$5:$C$53,3,FALSE)","v":"SVK"}]
["Slovak Republic",{"$f":"VLOOKUP(A22, 'Country names'!$A$5:$C$53,3,FALSE)","v":"SVK"},"7750-7900","X",null,null,null,"X",null,null,null,null,null,null,null,23,null,"ccir rec 385-6","X","X",null,11.45,25,55.2,40]
["Slovak Republic",{"$f":"VLOOKUP(A23, 'Country names'!$A$5:$C$53,3,FALSE)","v":"SVK"}]
["Slovak Republic",{"$f":"VLOOKUP(A24, 'Country names'!$A$5:$C$53,3,FALSE)","v":"SVK"},"7900-8500",null,null,null,null,null,null,null,null,null,null,null,null,null,null,"ECC REC (02)06"]
["Slovak Republic",{"$f":"VLOOKUP(A25, 'Country names'!$A$5:$C$53,3,FALSE)","v":"SVK"}]
["Slovak Republic",{"$f":"VLOOKUP(A26, 'Country names'!$A$5:$C$53,3,FALSE)","v":"SVK"},"10000-10680","X","X",null,null,"X","X",null,"X",null,null,null,4,54,184,"ERC/REC 12-05","X","X",null,0.4,5,13.2,25]
["Slovak Republic",{"$f":"VLOOKUP(A27, 'Country names'!$A$5:$C$53,3,FALSE)","v":"SVK"}]
["Slovak Republic",{"$f":"VLOOKUP(A28, 'Country names'!$A$5:$C$53,3,FALSE)","v":"SVK"},"10700-11700","X",null,null,null,"X",null,null,"X",null,null,null,null,187,null,"ERC/REC 12-06",null,"X","X",5,13,38.5,20]
["Slovak Republic",{"$f":"VLOOKUP(A29, 'Country names'!$A$5:$C$53,3,FALSE)","v":"SVK"}]
["Slovak Republic",{"$f":"VLOOKUP(A30, 'Country names'!$A$5:$C$53,3,FALSE)","v":"SVK"},"11700-12500"]
["Slovak Republic",{"$f":"VLOOKUP(A31, 'Country names'!$A$5:$C$53,3,FALSE)","v":"SVK"}]
["Slovak Republic",{"$f":"VLOOKUP(A32, 'Country names'!$A$5:$C$53,3,FALSE)","v":"SVK"},"12750-13250","X",null,null,null,"X",null,null,null,null,null,null,null,523,null,"ERC/REC 12-02","X","X","X",3,10,44,5]
["Slovak Republic",{"$f":"VLOOKUP(A33, 'Country names'!$A$5:$C$53,3,FALSE)","v":"SVK"}]
["Slovak Republic",{"$f":"VLOOKUP(A34, 'Country names'!$A$5:$C$53,3,FALSE)","v":"SVK"},"14250-14500"]
["Slovak Republic",{"$f":"VLOOKUP(A35, 'Country names'!$A$5:$C$53,3,FALSE)","v":"SVK"}]
["Slovak Republic",{"$f":"VLOOKUP(A36, 'Country names'!$A$5:$C$53,3,FALSE)","v":"SVK"},"14500-14620 and 15230-15350","X",null,null,null,"X",null,null,null,null,null,null,null,203,null,"ERC/REC 12-07","X","X",null,6,15,48,5]
["Slovak Republic",{"$f":"VLOOKUP(A37, 'Country names'!$A$5:$C$53,3,FALSE)","v":"SVK"}]
["Slovak Republic",{"$f":"VLOOKUP(A38, 'Country names'!$A$5:$C$53,3,FALSE)","v":"SVK"},"17300-17700"]
["Slovak Republic",{"$f":"VLOOKUP(A39, 'Country names'!$A$5:$C$53,3,FALSE)","v":"SVK"}]
["Slovak Republic",{"$f":"VLOOKUP(A40, 'Country names'!$A$5:$C$53,3,FALSE)","v":"SVK"},"17700-19700","x",null,null,null,"x",null,null,null,null,null,null,null,2330,null,null,"x","x","x",4,15,38,10]
["Slovak Republic",{"$f":"VLOOKUP(A41, 'Country names'!$A$5:$C$53,3,FALSE)","v":"SVK"}]
["Slovak Republic",{"$f":"VLOOKUP(A42, 'Country names'!$A$5:$C$53,3,FALSE)","v":"SVK"},"21200-22000"]
["Slovak Republic",{"$f":"VLOOKUP(A43, 'Country names'!$A$5:$C$53,3,FALSE)","v":"SVK"}]
["Slovak Republic",{"$f":"VLOOKUP(A44, 'Country names'!$A$5:$C$53,3,FALSE)","v":"SVK"},"22000-22600 and 23000-23600","X",null,null,null,"X",null,"X",null,null,null,null,null,1183,null,"T/R 13-02 Annexes A1, A2, A3","X","X","X",0.5,5,16,5]
["Slovak Republic",{"$f":"VLOOKUP(A45, 'Country names'!$A$5:$C$53,3,FALSE)","v":"SVK"}]
["Slovak Republic",{"$f":"VLOOKUP(A46, 'Country names'!$A$5:$C$53,3,FALSE)","v":"SVK"},"22600-23000"]
["Slovak Republic",{"$f":"VLOOKUP(A47, 'Country names'!$A$5:$C$53,3,FALSE)","v":"SVK"}]
["Slovak Republic",{"$f":"VLOOKUP(A48, 'Country names'!$A$5:$C$53,3,FALSE)","v":"SVK"},"24250-24500"]
["Slovak Republic",{"$f":"VLOOKUP(A49, 'Country names'!$A$5:$C$53,3,FALSE)","v":"SVK"}]
["Slovak Republic",{"$f":"VLOOKUP(A50, 'Country names'!$A$5:$C$53,3,FALSE)","v":"SVK"},"24500-26500","X","X",null,null,"X","X","X","X",null,null,null,null,1998,15,"T/R 13-02 Annex B","x","x","x",0.04,1.5,8,20]
["Slovak Republic",{"$f":"VLOOKUP(A51, 'Country names'!$A$5:$C$53,3,FALSE)","v":"SVK"}]
["Slovak Republic",{"$f":"VLOOKUP(A52, 'Country names'!$A$5:$C$53,3,FALSE)","v":"SVK"},"26500-27500"]
["Slovak Republic",{"$f":"VLOOKUP(A53, 'Country names'!$A$5:$C$53,3,FALSE)","v":"SVK"}]
["Slovak Republic",{"$f":"VLOOKUP(A54, 'Country names'!$A$5:$C$53,3,FALSE)","v":"SVK"},"27500-29500",null,null,null,null,null,null,null,null,null,null,null,null,null,null,"T/R 13-02 Annex C"]
["Slovak Republic",{"$f":"VLOOKUP(A55, 'Country names'!$A$5:$C$53,3,FALSE)","v":"SVK"},null,"x",null,null,null,"x","x",null,null,null,null,null,null,244,null,"ECC/DEC/(05)01","x","x","x",0.05,1.2,4.2,15]
["Slovak Republic",{"$f":"VLOOKUP(A56, 'Country names'!$A$5:$C$53,3,FALSE)","v":"SVK"},"31000-31300",null,null,null,null,null,null,null,null,null,null,null,null,null,null,"ECC/REC/(02)02"]
["Slovak Republic",{"$f":"VLOOKUP(A57, 'Country names'!$A$5:$C$53,3,FALSE)","v":"SVK"}]
["Slovak Republic",{"$f":"VLOOKUP(A58, 'Country names'!$A$5:$C$53,3,FALSE)","v":"SVK"},"31800-33400","x",null,null,null,"x",null,null,null,null,null,null,null,397,null,"ERC/REC/(01)02",null,"x","x",0.13,1,5.0999999999999996,20]
["Slovak Republic",{"$f":"VLOOKUP(A59, 'Country names'!$A$5:$C$53,3,FALSE)","v":"SVK"}]
["Slovak Republic",{"$f":"VLOOKUP(A60, 'Country names'!$A$5:$C$53,3,FALSE)","v":"SVK"},"36000-37000"]
["Slovak Republic",{"$f":"VLOOKUP(A61, 'Country names'!$A$5:$C$53,3,FALSE)","v":"SVK"}]
["Slovak Republic",{"$f":"VLOOKUP(A62, 'Country names'!$A$5:$C$53,3,FALSE)","v":"SVK"},"37000-39500","x",null,null,null,"x",null,null,null,null,null,null,null,1775,null,"T/R 12-01","x","x","x",0.05,2,7,10]
["Slovak Republic",{"$f":"VLOOKUP(A63, 'Country names'!$A$5:$C$53,3,FALSE)","v":"SVK"}]
["Slovak Republic",{"$f":"VLOOKUP(A64, 'Country names'!$A$5:$C$53,3,FALSE)","v":"SVK"},"39500-40500"]
["Slovak Republic",{"$f":"VLOOKUP(A65, 'Country names'!$A$5:$C$53,3,FALSE)","v":"SVK"}]
["Slovak Republic",{"$f":"VLOOKUP(A66, 'Country names'!$A$5:$C$53,3,FALSE)","v":"SVK"},"40500-43500",null,null,null,null,null,null,null,null,null,null,null,null,null,null,"ECC/REC/(01)04",null,null,null,null,null,null,null,null,null,"operation "]
["Slovak Republic",{"$f":"VLOOKUP(A67, 'Country names'!$A$5:$C$53,3,FALSE)","v":"SVK"},null,null,null,null,null,null,null,null,null,null,null,null,null,null,null,null,null,null,null,null,null,null,null,null,null,"expected"]
["Slovak Republic",{"$f":"VLOOKUP(A68, 'Country names'!$A$5:$C$53,3,FALSE)","v":"SVK"},"47200-48500"]
["Slovak Republic",{"$f":"VLOOKUP(A69, 'Country names'!$A$5:$C$53,3,FALSE)","v":"SVK"}]
["Slovak Republic",{"$f":"VLOOKUP(A70, 'Country names'!$A$5:$C$53,3,FALSE)","v":"SVK"},"48500-50200",null,null,null,null,null,null,null,null,null,null,null,null,null,null,"ERC/REC 12-11"]
["Slovak Republic",{"$f":"VLOOKUP(A71, 'Country names'!$A$5:$C$53,3,FALSE)","v":"SVK"}]
["Slovak Republic",{"$f":"VLOOKUP(A72, 'Country names'!$A$5:$C$53,3,FALSE)","v":"SVK"},"50400-51400"]
["Slovak Republic",{"$f":"VLOOKUP(A73, 'Country names'!$A$5:$C$53,3,FALSE)","v":"SVK"}]
["Slovak Republic",{"$f":"VLOOKUP(A74, 'Country names'!$A$5:$C$53,3,FALSE)","v":"SVK"},"51400-52600",null,null,null,null,null,null,null,null,null,null,null,null,null,null,"ERC/REC 12-11"]
["Slovak Republic",{"$f":"VLOOKUP(A75, 'Country names'!$A$5:$C$53,3,FALSE)","v":"SVK"}]
["Slovak Republic",{"$f":"VLOOKUP(A76, 'Country names'!$A$5:$C$53,3,FALSE)","v":"SVK"},"557800-57000",null,null,null,null,null,null,null,null,null,null,null,null,null,null,"ERC/REC 12-12"]
["Slovak Republic",{"$f":"VLOOKUP(A77, 'Country names'!$A$5:$C$53,3,FALSE)","v":"SVK"}]
["Slovak Republic",{"$f":"VLOOKUP(A78, 'Country names'!$A$5:$C$53,3,FALSE)","v":"SVK"},"57000-59000",null,null,null,null,null,null,null,null,null,null,null,null,null,null,"ECC/REC/(09)01"]
["Slovak Republic",{"$f":"VLOOKUP(A79, 'Country names'!$A$5:$C$53,3,FALSE)","v":"SVK"}]
["Slovak Republic",{"$f":"VLOOKUP(A80, 'Country names'!$A$5:$C$53,3,FALSE)","v":"SVK"},"59000-64000",null,null,null,null,null,null,null,null,null,null,null,null,null,null,"ECC/REC/(09)01"]
["Slovak Republic",{"$f":"VLOOKUP(A81, 'Country names'!$A$5:$C$53,3,FALSE)","v":"SVK"}]
["Slovak Republic",{"$f":"VLOOKUP(A82, 'Country names'!$A$5:$C$53,3,FALSE)","v":"SVK"},"64000-66000",null,null,null,null,null,null,null,null,null,null,null,null,null,null,"ECC/REC/(05)02"]
["Slovak Republic",{"$f":"VLOOKUP(A83, 'Country names'!$A$5:$C$53,3,FALSE)","v":"SVK"}]
["Slovak Republic",{"$f":"VLOOKUP(A84, 'Country names'!$A$5:$C$53,3,FALSE)","v":"SVK"},"71000-76000 and 81000-86000",null,null,null,null,null,null,null,null,null,null,null,null,null,null,"ECC/REC/(05)07"]
["Slovak Republic",{"$f":"VLOOKUP(A85, 'Country names'!$A$5:$C$53,3,FALSE)","v":"SVK"}]
["Slovak Republic",{"$f":"VLOOKUP(A86, 'Country names'!$A$5:$C$53,3,FALSE)","v":"SVK"},"92000-95000",null,null,null,null,null,null,null,null,null,null,null,null,null,null,"ECC/REC (14)01"]

{"sheet":"France","index":27,"n_rows":86,"n_cols":28,"rows_kept":86,"cut":false,"hidden":false,"merged":[[0,24,0,27],[3,2,4,2],[5,2,6,2],[7,2,8,2],[0,2,2,2],[0,3,0,6],[1,7,1,8],[1,9,1,10],[1,18,1,20],[1,21,1,23],[0,17,2,17],[0,7,0,8],[0,9,0,13],[0,14,0,15],[0,18,0,23],[9,2,10,2],[11,2,12,2],[37,2,38,2],[15,2,16,2],[17,2,18,2],[19,2,20,2],[21,2,22,2],[23,2,24,2],[25,2,26,2],[27,2,28,2],[29,2,30,2],[31,2,32,2],[33,2,34,2],[35,2,36,2],[13,2,14,2],[61,2,62,2],[39,2,40,2],[41,2,42,2],[43,2,44,2],[45,2,46,2],[47,2,48,2],[49,2,50,2],[51,2,52,2],[53,2,54,2],[55,2,56,2],[57,2,58,2],[59,2,60,2],[85,2,86,2],[63,2,64,2],[65,2,66,2],[67,2,68,2],[69,2,70,2],[71,2,72,2],[73,2,74,2],[75,2,76,2],[77,2,78,2],[79,2,80,2],[81,2,82,2],[83,2,84,2]]}
[null,null,"Frequency band (MHz)","Licensing regime",null,null,null," Topo-logy",null,"Application",null,null,null,null,"Number of P-P links",null,"Number of CS","Channel/Frequency plan used (e.g. ERC/ECC Rec. ITU-R Rec.)","Link characteristics",null,null,null,null,null,"Future trends (e.g. in the next 5 years)"]
[null,null,null,null,null,null,null,"FWA",null,"Network Infrastruc-ture",null,null,null,null,null,null,null,null,"Capacity",null,null,"Hop length (km)"]
[null,null,null,"Link by link","Block","Light licensed","Licence exempt","P-P","P-MP","Mobile backhaul","Others","Broadcasting Infrastructure","No Information available on the application","Other (please indicate)","unidirection","bidirectional (1 bidirectional link counts 1)","(applicable only for P-MP and mesh networks)",null,"LOW (<10 Mbit/s)","MEDIUM (10 to 100 Mbit/s)","HIGH (>100 Mbit/s)","MIN","Typical figure","MAX","Anticipated growth/reduction (+/-%)","Currently congested","Planned reallocation to other service/application","Other (please describe)\n(see Question 3 of the Questionnaire)"]
["France",{"$f":"VLOOKUP(A4, 'Country names'!$A$5:$C$53,3,FALSE)","v":"F"},"1350-1375 and 1492-1517",null,null,null,null,null,null,null,null,null,null,null,null,null,null,"T/R 13-01 Annex A"]
["France",{"$f":"VLOOKUP(A5, 'Country names'!$A$5:$C$53,3,FALSE)","v":"F"}]
["France",{"$f":"VLOOKUP(A6, 'Country names'!$A$5:$C$53,3,FALSE)","v":"F"},"1375-1400 and 1427-1452",1827,null,null,null,"X",null,null,"X",null,null,null,null,"X",null,"T/R 13-01 Annex B","X",null,null,0.08,20.5,152,null,null,null,"Due to the results of WRC-15, the future use of this band is currently under consideration."]
["France",{"$f":"VLOOKUP(A7, 'Country names'!$A$5:$C$53,3,FALSE)","v":"F"},null,28,null,null,null,null,null,null,null,null,null,null,"X",null,null,null,"X",null,null,null,7]
["France",{"$f":"VLOOKUP(A8, 'Country names'!$A$5:$C$53,3,FALSE)","v":"F"},"2025-2110 and 2200-2290",null,null,null,null,null,null,null,null,null,null,null,null,null,null,"T/R 13-01 Annex C"]
["France",{"$f":"VLOOKUP(A9, 'Country names'!$A$5:$C$53,3,FALSE)","v":"F"}]
["France",{"$f":"VLOOKUP(A10, 'Country names'!$A$5:$C$53,3,FALSE)","v":"F"},"3400-3600",84,null,null,null,"X",null,"X",null,null,null,null,"X",null,null,"ERC/REC 14-03",null,null,null,null,null,null,null,null,"X"]
["France",{"$f":"VLOOKUP(A11, 'Country names'!$A$5:$C$53,3,FALSE)","v":"F"}]
["France",{"$f":"VLOOKUP(A12, 'Country names'!$A$5:$C$53,3,FALSE)","v":"F"},"3600-4200",null,null,null,null,null,null,null,null,null,null,null,null,null,null,"ERC/REC 12-08"]
["France",{"$f":"VLOOKUP(A13, 'Country names'!$A$5:$C$53,3,FALSE)","v":"F"}]
["France",{"$f":"VLOOKUP(A14, 'Country names'!$A$5:$C$53,3,FALSE)","v":"F"},"4400-5000"]
["France",{"$f":"VLOOKUP(A15, 'Country names'!$A$5:$C$53,3,FALSE)","v":"F"}]
["France",{"$f":"VLOOKUP(A16, 'Country names'!$A$5:$C$53,3,FALSE)","v":"F"},"5850-5925"]
["France",{"$f":"VLOOKUP(A17, 'Country names'!$A$5:$C$53,3,FALSE)","v":"F"}]
["France",{"$f":"VLOOKUP(A18, 'Country names'!$A$5:$C$53,3,FALSE)","v":"F"},"5925-7125",4171,null,null,null,"X",null,"X","X",null,null,null,null,"X",null,"ERC/REC 14-01 and ERC/REC 14-02, ECC/REC(14)06",null,"X","X",2,29,109,null,"X"]
["France",{"$f":"VLOOKUP(A19, 'Country names'!$A$5:$C$53,3,FALSE)","v":"F"}]
["France",{"$f":"VLOOKUP(A20, 'Country names'!$A$5:$C$53,3,FALSE)","v":"F"},"7125-7750",null,null,null,null,null,null,null,null,null,null,null,null,null,null,"ECC REC (02)06"]
["France",{"$f":"VLOOKUP(A21, 'Country names'!$A$5:$C$53,3,FALSE)","v":"F"}]
["France",{"$f":"VLOOKUP(A22, 'Country names'!$A$5:$C$53,3,FALSE)","v":"F"},"7750-7900"]
["France",{"$f":"VLOOKUP(A23, 'Country names'!$A$5:$C$53,3,FALSE)","v":"F"}]
["France",{"$f":"VLOOKUP(A24, 'Country names'!$A$5:$C$53,3,FALSE)","v":"F"},"7900-8500",2331,null,null,null,"X",null,"X","X","X",null,null,null,"X",null,"ECC REC (02)06","X","X","X",0.15,18,81]
["France",{"$f":"VLOOKUP(A25, 'Country names'!$A$5:$C$53,3,FALSE)","v":"F"}]
["France",{"$f":"VLOOKUP(A26, 'Country names'!$A$5:$C$53,3,FALSE)","v":"F"},"10000-10680",null,null,null,null,null,null,null,null,null,null,null,null,null,null,"ERC/REC 12-05"]
["France",{"$f":"VLOOKUP(A27, 'Country names'!$A$5:$C$53,3,FALSE)","v":"F"}]
["France",{"$f":"VLOOKUP(A28, 'Country names'!$A$5:$C$53,3,FALSE)","v":"F"},"10700-11700",3276,null,null,null,"X",null,"X",null,null,null,null,null,"X",null,"ERC/REC 12-06",null,"X","X",1.45,13,54,null,"X"]
["France",{"$f":"VLOOKUP(A29, 'Country names'!$A$5:$C$53,3,FALSE)","v":"F"}]
["France",{"$f":"VLOOKUP(A30, 'Country names'!$A$5:$C$53,3,FALSE)","v":"F"},"11700-12500"]
["France",{"$f":"VLOOKUP(A31, 'Country names'!$A$5:$C$53,3,FALSE)","v":"F"}]
["France",{"$f":"VLOOKUP(A32, 'Country names'!$A$5:$C$53,3,FALSE)","v":"F"},"12750-13250",9004,null,null,null,"X",null,"X","X",null,null,null,null,"X",null,"ERC/REC 12-02","X","X","X",0.31,14.12,79.430000000000007,null,"X"]
["France",{"$f":"VLOOKUP(A33, 'Country names'!$A$5:$C$53,3,FALSE)","v":"F"}]
["France",{"$f":"VLOOKUP(A34, 'Country names'!$A$5:$C$53,3,FALSE)","v":"F"},"14250-14500",141,null,null,null,"X",null,null,null,null,null,null,null,"X",null,null,null,null,null,1.3,12,35,null,null,null,"Decrease of number of links - No new license delivered"]
["France",{"$f":"VLOOKUP(A35, 'Country names'!$A$5:$C$53,3,FALSE)","v":"F"}]
["France",{"$f":"VLOOKUP(A36, 'Country names'!$A$5:$C$53,3,FALSE)","v":"F"},"14500-14620 and 15230-15350",null,null,null,null,null,null,null,null,null,null,null,null,null,null,"ERC/REC 12-07"]
["France",{"$f":"VLOOKUP(A37, 'Country names'!$A$5:$C$53,3,FALSE)","v":"F"}]
["France",{"$f":"VLOOKUP(A38, 'Country names'!$A$5:$C$53,3,FALSE)","v":"F"},"17300-17700"]
["France",{"$f":"VLOOKUP(A39, 'Country names'!$A$5:$C$53,3,FALSE)","v":"F"}]
["France",{"$f":"VLOOKUP(A40, 'Country names'!$A$5:$C$53,3,FALSE)","v":"F"},"17700-19700",9272,null,null,null,"X",null,"X","X",null,null,null,null,"X",null,"ERC/REC 12-03","X","X","X",0.11,7.98,76]
["France",{"$f":"VLOOKUP(A41, 'Country names'!$A$5:$C$53,3,FALSE)","v":"F"}]
["France",{"$f":"VLOOKUP(A42, 'Country names'!$A$5:$C$53,3,FALSE)","v":"F"},"21200-22000"]
["France",{"$f":"VLOOKUP(A43, 'Country names'!$A$5:$C$53,3,FALSE)","v":"F"}]
["France",{"$f":"VLOOKUP(A44, 'Country names'!$A$5:$C$53,3,FALSE)","v":"F"},"22000-22600 and 23000-23600",12745,null,null,null,"X",null,null,null,null,null,null,null,"X",null,"T/R13-02","X","X","X",0.12,6.63,30.43,null,"X",null,"New regulation put in place in 2013 in order to offer more capacity to backhaul needs with higher bandwidth"]
["France",{"$f":"VLOOKUP(A45, 'Country names'!$A$5:$C$53,3,FALSE)","v":"F"}]
["France",{"$f":"VLOOKUP(A46, 'Country names'!$A$5:$C$53,3,FALSE)","v":"F"},"22600-23000",8,null,null,null,null,null,null,null,null,null,null,null,"X",null,null,null,"X",null,null,8]
["France",{"$f":"VLOOKUP(A47, 'Country names'!$A$5:$C$53,3,FALSE)","v":"F"}]
["France",{"$f":"VLOOKUP(A48, 'Country names'!$A$5:$C$53,3,FALSE)","v":"F"},"24250-24500"]
["France",{"$f":"VLOOKUP(A49, 'Country names'!$A$5:$C$53,3,FALSE)","v":"F"}]
["France",{"$f":"VLOOKUP(A50, 'Country names'!$A$5:$C$53,3,FALSE)","v":"F"},"24500-26500",3984,null,null,null,"X",null,"X",null,null,null,null,null,"X",null,"T/R 13-02 Annex B",null,"X","X",0.06,3.47,15.42,null,null,null,"New regulation put in place in 2013 in order to offer more capacity to backhaul needs with higher bandwidth"]
["France",{"$f":"VLOOKUP(A51, 'Country names'!$A$5:$C$53,3,FALSE)","v":"F"}]
["France",{"$f":"VLOOKUP(A52, 'Country names'!$A$5:$C$53,3,FALSE)","v":"F"},"26500-27500"]
["France",{"$f":"VLOOKUP(A53, 'Country names'!$A$5:$C$53,3,FALSE)","v":"F"}]
["France",{"$f":"VLOOKUP(A54, 'Country names'!$A$5:$C$53,3,FALSE)","v":"F"},"27500-29500",null,null,null,null,null,null,null,null,null,null,null,null,null,null,"T/R 13-02 Annex C"]
["France",{"$f":"VLOOKUP(A55, 'Country names'!$A$5:$C$53,3,FALSE)","v":"F"}]
["France",{"$f":"VLOOKUP(A56, 'Country names'!$A$5:$C$53,3,FALSE)","v":"F"},"31000-31300",null,null,null,null,null,null,null,null,null,null,null,null,null,null,"ECC/REC/(02)02"]
["France",{"$f":"VLOOKUP(A57, 'Country names'!$A$5:$C$53,3,FALSE)","v":"F"}]
["France",{"$f":"VLOOKUP(A58, 'Country names'!$A$5:$C$53,3,FALSE)","v":"F"},"31800-33400",530,null,null,null,"X",null,"X",null,null,null,null,null,"X",null,"ERC/REC/(01)02",null,"X","X",0.28999999999999998,2.71,8]
["France",{"$f":"VLOOKUP(A59, 'Country names'!$A$5:$C$53,3,FALSE)","v":"F"}]
["France",{"$f":"VLOOKUP(A60, 'Country names'!$A$5:$C$53,3,FALSE)","v":"F"},"36000-37000"]
["France",{"$f":"VLOOKUP(A61, 'Country names'!$A$5:$C$53,3,FALSE)","v":"F"}]
["France",{"$f":"VLOOKUP(A62, 'Country names'!$A$5:$C$53,3,FALSE)","v":"F"},"37000-39500",7079,null,null,null,"X",null,"X",null,null,null,null,null,"X",null,"T/R 12-01","X","X","X",0.04,2.48,11.39,7.0000000000000007E-2,"X",null,"New regulation put in place in 2013 in order to offer more capacity to backhaul needs with higher bandwidth"]
["France",{"$f":"VLOOKUP(A63, 'Country names'!$A$5:$C$53,3,FALSE)","v":"F"}]
["France",{"$f":"VLOOKUP(A64, 'Country names'!$A$5:$C$53,3,FALSE)","v":"F"},"39500-40500"]
["France",{"$f":"VLOOKUP(A65, 'Country names'!$A$5:$C$53,3,FALSE)","v":"F"}]
["France",{"$f":"VLOOKUP(A66, 'Country names'!$A$5:$C$53,3,FALSE)","v":"F"},"40500-43500",null,null,null,null,null,null,null,null,null,null,null,null,null,null,"ECC/REC/(01)04"]
["France",{"$f":"VLOOKUP(A67, 'Country names'!$A$5:$C$53,3,FALSE)","v":"F"}]
["France",{"$f":"VLOOKUP(A68, 'Country names'!$A$5:$C$53,3,FALSE)","v":"F"},"47200-48500"]
["France",{"$f":"VLOOKUP(A69, 'Country names'!$A$5:$C$53,3,FALSE)","v":"F"}]
["France",{"$f":"VLOOKUP(A70, 'Country names'!$A$5:$C$53,3,FALSE)","v":"F"},"48500-50200",null,null,null,null,null,null,null,null,null,null,null,null,null,null,"ERC/REC 12-11"]
["France",{"$f":"VLOOKUP(A71, 'Country names'!$A$5:$C$53,3,FALSE)","v":"F"}]
["France",{"$f":"VLOOKUP(A72, 'Country names'!$A$5:$C$53,3,FALSE)","v":"F"},"50400-51400"]
["France",{"$f":"VLOOKUP(A73, 'Country names'!$A$5:$C$53,3,FALSE)","v":"F"}]
["France",{"$f":"VLOOKUP(A74, 'Country names'!$A$5:$C$53,3,FALSE)","v":"F"},"51400-52600",null,null,null,null,null,null,null,null,null,null,null,null,null,null,"ERC/REC 12-11"]
["France",{"$f":"VLOOKUP(A75, 'Country names'!$A$5:$C$53,3,FALSE)","v":"F"}]
["France",{"$f":"VLOOKUP(A76, 'Country names'!$A$5:$C$53,3,FALSE)","v":"F"},"557800-57000",null,null,null,null,null,null,null,null,null,null,null,null,null,null,"ERC/REC 12-12"]
["France",{"$f":"VLOOKUP(A77, 'Country names'!$A$5:$C$53,3,FALSE)","v":"F"}]
["France",{"$f":"VLOOKUP(A78, 'Country names'!$A$5:$C$53,3,FALSE)","v":"F"},"57000-59000",null,null,null,null,null,null,null,null,null,null,null,null,null,null,"ECC/REC/(09)01"]
["France",{"$f":"VLOOKUP(A79, 'Country names'!$A$5:$C$53,3,FALSE)","v":"F"}]
["France",{"$f":"VLOOKUP(A80, 'Country names'!$A$5:$C$53,3,FALSE)","v":"F"},"59000-64000",null,null,null,null,null,null,null,null,null,null,null,null,null,null,"ECC/REC/(09)01"]
["France",{"$f":"VLOOKUP(A81, 'Country names'!$A$5:$C$53,3,FALSE)","v":"F"}]
["France",{"$f":"VLOOKUP(A82, 'Country names'!$A$5:$C$53,3,FALSE)","v":"F"},"64000-66000",null,null,null,null,null,null,null,null,null,null,null,null,null,null,"ECC/REC/(05)02"]
["France",{"$f":"VLOOKUP(A83, 'Country names'!$A$5:$C$53,3,FALSE)","v":"F"}]
["France",{"$f":"VLOOKUP(A84, 'Country names'!$A$5:$C$53,3,FALSE)","v":"F"},"71000-76000 and 81000-86000",537,null,null,null,"X",null,"X",null,null,null,null,null,"X",null,"ECC/REC/(05)07",null,null,"X",0.1,1.94,7.2,0.5]
["France",{"$f":"VLOOKUP(A85, 'Country names'!$A$5:$C$53,3,FALSE)","v":"F"}]
["France",{"$f":"VLOOKUP(A86, 'Country names'!$A$5:$C$53,3,FALSE)","v":"F"},"92000-95000",null,null,null,null,null,null,null,null,null,null,null,null,null,null,"ECC/REC (14)01"]

{"sheet":"Telenor Bulgaria","index":28,"n_rows":86,"n_cols":28,"rows_kept":86,"cut":false,"hidden":false,"merged":[[0,24,0,27],[3,2,4,2],[5,2,6,2],[7,2,8,2],[0,2,2,2],[0,3,0,6],[1,7,1,8],[1,9,1,10],[1,18,1,20],[1,21,1,23],[0,17,2,17],[0,7,0,8],[0,9,0,13],[0,14,0,15],[0,18,0,23],[9,2,10,2],[11,2,12,2],[37,2,38,2],[15,2,16,2],[17,2,18,2],[19,2,20,2],[21,2,22,2],[23,2,24,2],[25,2,26,2],[27,2,28,2],[29,2,30,2],[31,2,32,2],[33,2,34,2],[35,2,36,2],[13,2,14,2],[61,2,62,2],[39,2,40,2],[41,2,42,2],[43,2,44,2],[45,2,46,2],[47,2,48,2],[49,2,50,2],[51,2,52,2],[53,2,54,2],[55,2,56,2],[57,2,58,2],[59,2,60,2],[85,2,86,2],[63,2,64,2],[65,2,66,2],[67,2,68,2],[69,2,70,2],[71,2,72,2],[73,2,74,2],[75,2,76,2],[77,2,78,2],[79,2,80,2],[81,2,82,2],[83,2,84,2]]}
[null,null,"Frequency band (MHz)","Licensing regime",null,null,null," Topo-logy",null,"Application",null,null,null,null,"Number of P-P links",null,"Number of CS","Channel/Frequency plan used (e.g. ERC/ECC Rec. ITU-R Rec.)","Link characteristics",null,null,null,null,null,"Future trends (e.g. in the next 5 years)"]
[null,null,null,null,null,null,null,"FWA",null,"Network Infrastruc-ture",null,null,null,null,null,null,null,null,"Capacity",null,null,"Hop length (km)"]
[null,null,null,"Link by link","Block","Light licensed","Licence exempt","P-P","P-MP","Mobile backhaul","Others","Broadcasting Infrastructure","No Information available on the application","Other (please indicate)","unidirection","bidirectional (1 bidirectional link counts 1)","(applicable only for P-MP and mesh networks)",null,"LOW (<10 Mbit/s)","MEDIUM (10 to 100 Mbit/s)","HIGH (>100 Mbit/s)","MIN","Typical figure","MAX","Anticipated growth/reduction (+/-%)","Currently congested","Planned reallocation to other service/application","Other (please describe)\n(see Question 3 of the Questionnaire)"]
["Telenor Bulgaria",{"$f":"VLOOKUP(A4, 'Country names'!$A$5:$C$53,3,FALSE)","v":{"$error":"#N/A"}},"1350-1375 and 1492-1517",null,null,null,null,null,null,null,null,null,null,null,null,null,null,"T/R 13-01 Annex A"]
["Telenor Bulgaria",{"$f":"VLOOKUP(A5, 'Country names'!$A$5:$C$53,3,FALSE)","v":{"$error":"#N/A"}}]
["Telenor Bulgaria",{"$f":"VLOOKUP(A6, 'Country names'!$A$5:$C$53,3,FALSE)","v":{"$error":"#N/A"}},"1375-1400 and 1427-1452",null,null,null,null,null,null,null,null,null,null,null,null,null,null,"T/R 13-01 Annex B"]
["Telenor Bulgaria",{"$f":"VLOOKUP(A7, 'Country names'!$A$5:$C$53,3,FALSE)","v":{"$error":"#N/A"}}]
["Telenor Bulgaria",{"$f":"VLOOKUP(A8, 'Country names'!$A$5:$C$53,3,FALSE)","v":{"$error":"#N/A"}},"2025-2110 and 2200-2290",null,null,null,null,null,null,null,null,null,null,null,null,null,null,"T/R 13-01 Annex C"]
["Telenor Bulgaria",{"$f":"VLOOKUP(A9, 'Country names'!$A$5:$C$53,3,FALSE)","v":{"$error":"#N/A"}}]
["Telenor Bulgaria",{"$f":"VLOOKUP(A10, 'Country names'!$A$5:$C$53,3,FALSE)","v":{"$error":"#N/A"}},"3400-3600",null,null,null,null,null,null,null,null,null,null,null,null,null,null,"ERC/REC 14-03"]
["Telenor Bulgaria",{"$f":"VLOOKUP(A11, 'Country names'!$A$5:$C$53,3,FALSE)","v":{"$error":"#N/A"}}]
["Telenor Bulgaria",{"$f":"VLOOKUP(A12, 'Country names'!$A$5:$C$53,3,FALSE)","v":{"$error":"#N/A"}},"3600-4200",null,null,null,null,null,null,null,null,null,null,null,null,null,null,"ERC/REC 12-08"]
["Telenor Bulgaria",{"$f":"VLOOKUP(A13, 'Country names'!$A$5:$C$53,3,FALSE)","v":{"$error":"#N/A"}}]
["Telenor Bulgaria",{"$f":"VLOOKUP(A14, 'Country names'!$A$5:$C$53,3,FALSE)","v":{"$error":"#N/A"}},"4400-5000"]
["Telenor Bulgaria",{"$f":"VLOOKUP(A15, 'Country names'!$A$5:$C$53,3,FALSE)","v":{"$error":"#N/A"}}]
["Telenor Bulgaria",{"$f":"VLOOKUP(A16, 'Country names'!$A$5:$C$53,3,FALSE)","v":{"$error":"#N/A"}},"5850-5925"]
["Telenor Bulgaria",{"$f":"VLOOKUP(A17, 'Country names'!$A$5:$C$53,3,FALSE)","v":{"$error":"#N/A"}}]
["Telenor Bulgaria",{"$f":"VLOOKUP(A18, 'Country names'!$A$5:$C$53,3,FALSE)","v":{"$error":"#N/A"}},"5925-7125","X",null,null,null,"X",null,"X",null,null,null,null,null,7,null,"ERC/REC 14-01 and ERC/REC 14-02, ECC/REC(14)06",null,null,"X",25,40,58]
["Telenor Bulgaria",{"$f":"VLOOKUP(A19, 'Country names'!$A$5:$C$53,3,FALSE)","v":{"$error":"#N/A"}}]
["Telenor Bulgaria",{"$f":"VLOOKUP(A20, 'Country names'!$A$5:$C$53,3,FALSE)","v":{"$error":"#N/A"}},"7125-7750","X",null,null,null,"X",null,"X",null,null,null,null,null,111,null,"ECC REC (02)06",null,null,"X",20,35,45]
["Telenor Bulgaria",{"$f":"VLOOKUP(A21, 'Country names'!$A$5:$C$53,3,FALSE)","v":{"$error":"#N/A"}}]
["Telenor Bulgaria",{"$f":"VLOOKUP(A22, 'Country names'!$A$5:$C$53,3,FALSE)","v":{"$error":"#N/A"}},"7750-7900"]
["Telenor Bulgaria",{"$f":"VLOOKUP(A23, 'Country names'!$A$5:$C$53,3,FALSE)","v":{"$error":"#N/A"}}]
["Telenor Bulgaria",{"$f":"VLOOKUP(A24, 'Country names'!$A$5:$C$53,3,FALSE)","v":{"$error":"#N/A"}},"7900-8500",null,null,null,null,null,null,null,null,null,null,null,null,null,null,"ECC REC (02)06"]
["Telenor Bulgaria",{"$f":"VLOOKUP(A25, 'Country names'!$A$5:$C$53,3,FALSE)","v":{"$error":"#N/A"}}]
["Telenor Bulgaria",{"$f":"VLOOKUP(A26, 'Country names'!$A$5:$C$53,3,FALSE)","v":{"$error":"#N/A"}},"10000-10680",null,null,null,null,null,null,null,null,null,null,null,null,null,null,"ERC/REC 12-05"]
["Telenor Bulgaria",{"$f":"VLOOKUP(A27, 'Country names'!$A$5:$C$53,3,FALSE)","v":{"$error":"#N/A"}}]
["Telenor Bulgaria",{"$f":"VLOOKUP(A28, 'Country names'!$A$5:$C$53,3,FALSE)","v":{"$error":"#N/A"}},"10700-11700","X",null,null,null,"X",null,"X",null,null,null,null,null,33,null,"ERC/REC 12-06",null,null,"X",9,18,33]
["Telenor Bulgaria",{"$f":"VLOOKUP(A29, 'Country names'!$A$5:$C$53,3,FALSE)","v":{"$error":"#N/A"}}]
["Telenor Bulgaria",{"$f":"VLOOKUP(A30, 'Country names'!$A$5:$C$53,3,FALSE)","v":{"$error":"#N/A"}},"11700-12500"]
["Telenor Bulgaria",{"$f":"VLOOKUP(A31, 'Country names'!$A$5:$C$53,3,FALSE)","v":{"$error":"#N/A"}}]
["Telenor Bulgaria",{"$f":"VLOOKUP(A32, 'Country names'!$A$5:$C$53,3,FALSE)","v":{"$error":"#N/A"}},"12750-13250","X",null,null,null,"X",null,"X",null,null,null,null,null,86,null,"ERC/REC 12-02",null,null,"X",9,19,31]
["Telenor Bulgaria",{"$f":"VLOOKUP(A33, 'Country names'!$A$5:$C$53,3,FALSE)","v":{"$error":"#N/A"}}]
["Telenor Bulgaria",{"$f":"VLOOKUP(A34, 'Country names'!$A$5:$C$53,3,FALSE)","v":{"$error":"#N/A"}},"14250-14500"]
["Telenor Bulgaria",{"$f":"VLOOKUP(A35, 'Country names'!$A$5:$C$53,3,FALSE)","v":{"$error":"#N/A"}}]
["Telenor Bulgaria",{"$f":"VLOOKUP(A36, 'Country names'!$A$5:$C$53,3,FALSE)","v":{"$error":"#N/A"}},"14500-14620 and 15230-15350",null,null,null,null,null,null,null,null,null,null,null,null,null,null,"ERC/REC 12-07"]
["Telenor Bulgaria",{"$f":"VLOOKUP(A37, 'Country names'!$A$5:$C$53,3,FALSE)","v":{"$error":"#N/A"}}]
["Telenor Bulgaria",{"$f":"VLOOKUP(A38, 'Country names'!$A$5:$C$53,3,FALSE)","v":{"$error":"#N/A"}},"17300-17700"]
["Telenor Bulgaria",{"$f":"VLOOKUP(A39, 'Country names'!$A$5:$C$53,3,FALSE)","v":{"$error":"#N/A"}}]
["Telenor Bulgaria",{"$f":"VLOOKUP(A40, 'Country names'!$A$5:$C$53,3,FALSE)","v":{"$error":"#N/A"}},"17700-19700","X",null,null,null,"X",null,"X",null,null,null,null,null,779,null,"ERC/REC 12-03",null,null,"X",5.14,12,26.5,null,"X"]
["Telenor Bulgaria",{"$f":"VLOOKUP(A41, 'Country names'!$A$5:$C$53,3,FALSE)","v":{"$error":"#N/A"}}]
["Telenor Bulgaria",{"$f":"VLOOKUP(A42, 'Country names'!$A$5:$C$53,3,FALSE)","v":{"$error":"#N/A"}},"21200-22000"]
["Telenor Bulgaria",{"$f":"VLOOKUP(A43, 'Country names'!$A$5:$C$53,3,FALSE)","v":{"$error":"#N/A"}}]
["Telenor Bulgaria",{"$f":"VLOOKUP(A44, 'Country names'!$A$5:$C$53,3,FALSE)","v":{"$error":"#N/A"}},"22000-22600 and 23000-23600","X",null,null,null,"X",null,"X",null,null,null,null,null,224,null,"T/R 13-02 Annexes A1, A2, A3",null,null,"X",2.2999999999999998,5,21.3]
["Telenor Bulgaria",{"$f":"VLOOKUP(A45, 'Country names'!$A$5:$C$53,3,FALSE)","v":{"$error":"#N/A"}}]
["Telenor Bulgaria",{"$f":"VLOOKUP(A46, 'Country names'!$A$5:$C$53,3,FALSE)","v":{"$error":"#N/A"}},"22600-23000"]
["Telenor Bulgaria",{"$f":"VLOOKUP(A47, 'Country names'!$A$5:$C$53,3,FALSE)","v":{"$error":"#N/A"}}]
["Telenor Bulgaria",{"$f":"VLOOKUP(A48, 'Country names'!$A$5:$C$53,3,FALSE)","v":{"$error":"#N/A"}},"24250-24500"]
["Telenor Bulgaria",{"$f":"VLOOKUP(A49, 'Country names'!$A$5:$C$53,3,FALSE)","v":{"$error":"#N/A"}}]
["Telenor Bulgaria",{"$f":"VLOOKUP(A50, 'Country names'!$A$5:$C$53,3,FALSE)","v":{"$error":"#N/A"}},"24500-26500",null,"X",null,null,"X",null,"X",null,null,null,null,null,727,null,"T/R 13-02 Annex B",null,null,"X",0.1,3.5,12]
["Telenor Bulgaria",{"$f":"VLOOKUP(A51, 'Country names'!$A$5:$C$53,3,FALSE)","v":{"$error":"#N/A"}}]
["Telenor Bulgaria",{"$f":"VLOOKUP(A52, 'Country names'!$A$5:$C$53,3,FALSE)","v":{"$error":"#N/A"}},"26500-27500"]
["Telenor Bulgaria",{"$f":"VLOOKUP(A53, 'Country names'!$A$5:$C$53,3,FALSE)","v":{"$error":"#N/A"}}]
["Telenor Bulgaria",{"$f":"VLOOKUP(A54, 'Country names'!$A$5:$C$53,3,FALSE)","v":{"$error":"#N/A"}},"27500-29500","X",null,null,null,"X",null,"X",null,null,null,null,null,79,null,"T/R 13-02 Annex C",null,null,"X",0.28000000000000003,2.2999999999999998,10]
["Telenor Bulgaria",{"$f":"VLOOKUP(A55, 'Country names'!$A$5:$C$53,3,FALSE)","v":{"$error":"#N/A"}}]
["Telenor Bulgaria",{"$f":"VLOOKUP(A56, 'Country names'!$A$5:$C$53,3,FALSE)","v":{"$error":"#N/A"}},"31000-31300",null,null,null,null,null,null,null,null,null,null,null,null,null,null,"ECC/REC/(02)02"]
["Telenor Bulgaria",{"$f":"VLOOKUP(A57, 'Country names'!$A$5:$C$53,3,FALSE)","v":{"$error":"#N/A"}}]
["Telenor Bulgaria",{"$f":"VLOOKUP(A58, 'Country names'!$A$5:$C$53,3,FALSE)","v":{"$error":"#N/A"}},"31800-33400",null,null,null,null,null,null,null,null,null,null,null,null,null,null,"ERC/REC/(01)02"]
["Telenor Bulgaria",{"$f":"VLOOKUP(A59, 'Country names'!$A$5:$C$53,3,FALSE)","v":{"$error":"#N/A"}}]
["Telenor Bulgaria",{"$f":"VLOOKUP(A60, 'Country names'!$A$5:$C$53,3,FALSE)","v":{"$error":"#N/A"}},"36000-37000"]
["Telenor Bulgaria",{"$f":"VLOOKUP(A61, 'Country names'!$A$5:$C$53,3,FALSE)","v":{"$error":"#N/A"}}]
["Telenor Bulgaria",{"$f":"VLOOKUP(A62, 'Country names'!$A$5:$C$53,3,FALSE)","v":{"$error":"#N/A"}},"37000-39500","X",null,null,null,"X",null,"X",null,null,null,null,null,309,null,"T/R 12-01",null,null,"X",0.03,1.3,5.14]
["Telenor Bulgaria",{"$f":"VLOOKUP(A63, 'Country names'!$A$5:$C$53,3,FALSE)","v":{"$error":"#N/A"}}]
["Telenor Bulgaria",{"$f":"VLOOKUP(A64, 'Country names'!$A$5:$C$53,3,FALSE)","v":{"$error":"#N/A"}},"39500-40500"]
["Telenor Bulgaria",{"$f":"VLOOKUP(A65, 'Country names'!$A$5:$C$53,3,FALSE)","v":{"$error":"#N/A"}}]
["Telenor Bulgaria",{"$f":"VLOOKUP(A66, 'Country names'!$A$5:$C$53,3,FALSE)","v":{"$error":"#N/A"}},"40500-43500",null,null,null,null,null,null,null,null,null,null,null,null,null,null,"ECC/REC/(01)04"]
["Telenor Bulgaria",{"$f":"VLOOKUP(A67, 'Country names'!$A$5:$C$53,3,FALSE)","v":{"$error":"#N/A"}}]
["Telenor Bulgaria",{"$f":"VLOOKUP(A68, 'Country names'!$A$5:$C$53,3,FALSE)","v":{"$error":"#N/A"}},"47200-48500"]
["Telenor Bulgaria",{"$f":"VLOOKUP(A69, 'Country names'!$A$5:$C$53,3,FALSE)","v":{"$error":"#N/A"}}]
["Telenor Bulgaria",{"$f":"VLOOKUP(A70, 'Country names'!$A$5:$C$53,3,FALSE)","v":{"$error":"#N/A"}},"48500-50200",null,null,null,null,null,null,null,null,null,null,null,null,null,null,"ERC/REC 12-11"]
["Telenor Bulgaria",{"$f":"VLOOKUP(A71, 'Country names'!$A$5:$C$53,3,FALSE)","v":{"$error":"#N/A"}}]
["Telenor Bulgaria",{"$f":"VLOOKUP(A72, 'Country names'!$A$5:$C$53,3,FALSE)","v":{"$error":"#N/A"}},"50400-51400"]
["Telenor Bulgaria",{"$f":"VLOOKUP(A73, 'Country names'!$A$5:$C$53,3,FALSE)","v":{"$error":"#N/A"}}]
["Telenor Bulgaria",{"$f":"VLOOKUP(A74, 'Country names'!$A$5:$C$53,3,FALSE)","v":{"$error":"#N/A"}},"51400-52600",null,null,null,null,null,null,null,null,null,null,null,null,null,null,"ERC/REC 12-11"]
["Telenor Bulgaria",{"$f":"VLOOKUP(A75, 'Country names'!$A$5:$C$53,3,FALSE)","v":{"$error":"#N/A"}}]
["Telenor Bulgaria",{"$f":"VLOOKUP(A76, 'Country names'!$A$5:$C$53,3,FALSE)","v":{"$error":"#N/A"}},"557800-57000",null,null,null,null,null,null,null,null,null,null,null,null,null,null,"ERC/REC 12-12"]
["Telenor Bulgaria",{"$f":"VLOOKUP(A77, 'Country names'!$A$5:$C$53,3,FALSE)","v":{"$error":"#N/A"}}]
["Telenor Bulgaria",{"$f":"VLOOKUP(A78, 'Country names'!$A$5:$C$53,3,FALSE)","v":{"$error":"#N/A"}},"57000-59000",null,null,null,null,null,null,null,null,null,null,null,null,null,null,"ECC/REC/(09)01"]
["Telenor Bulgaria",{"$f":"VLOOKUP(A79, 'Country names'!$A$5:$C$53,3,FALSE)","v":{"$error":"#N/A"}}]
["Telenor Bulgaria",{"$f":"VLOOKUP(A80, 'Country names'!$A$5:$C$53,3,FALSE)","v":{"$error":"#N/A"}},"59000-64000",null,null,null,null,null,null,null,null,null,null,null,null,null,null,"ECC/REC/(09)01"]
["Telenor Bulgaria",{"$f":"VLOOKUP(A81, 'Country names'!$A$5:$C$53,3,FALSE)","v":{"$error":"#N/A"}}]
["Telenor Bulgaria",{"$f":"VLOOKUP(A82, 'Country names'!$A$5:$C$53,3,FALSE)","v":{"$error":"#N/A"}},"64000-66000",null,null,null,null,null,null,null,null,null,null,null,null,null,null,"ECC/REC/(05)02"]
["Telenor Bulgaria",{"$f":"VLOOKUP(A83, 'Country names'!$A$5:$C$53,3,FALSE)","v":{"$error":"#N/A"}}]
["Telenor Bulgaria",{"$f":"VLOOKUP(A84, 'Country names'!$A$5:$C$53,3,FALSE)","v":{"$error":"#N/A"}},"71000-76000 and 81000-86000",null,null,null,null,null,null,null,null,null,null,null,null,null,null,"ECC/REC/(05)07"]
["Telenor Bulgaria",{"$f":"VLOOKUP(A85, 'Country names'!$A$5:$C$53,3,FALSE)","v":{"$error":"#N/A"}}]
["Telenor Bulgaria",{"$f":"VLOOKUP(A86, 'Country names'!$A$5:$C$53,3,FALSE)","v":{"$error":"#N/A"}},"92000-95000",null,null,null,null,null,null,null,null,null,null,null,null,null,null,"ECC/REC (14)01"]

{"sheet":"Estonia","index":29,"n_rows":86,"n_cols":28,"rows_kept":86,"cut":false,"hidden":false,"merged":[[0,24,0,27],[3,2,4,2],[5,2,6,2],[7,2,8,2],[0,2,2,2],[0,3,0,6],[1,7,1,8],[1,9,1,10],[1,18,1,20],[1,21,1,23],[0,17,2,17],[0,7,0,8],[0,9,0,13],[0,14,0,15],[0,18,0,23],[9,2,10,2],[11,2,12,2],[37,2,38,2],[15,2,16,2],[17,2,18,2],[19,2,20,2],[21,2,22,2],[23,2,24,2],[25,2,26,2],[27,2,28,2],[29,2,30,2],[31,2,32,2],[33,2,34,2],[35,2,36,2],[13,2,14,2],[61,2,62,2],[39,2,40,2],[41,2,42,2],[43,2,44,2],[45,2,46,2],[47,2,48,2],[49,2,50,2],[51,2,52,2],[53,2,54,2],[55,2,56,2],[57,2,58,2],[59,2,60,2],[85,2,86,2],[63,2,64,2],[65,2,66,2],[67,2,68,2],[69,2,70,2],[71,2,72,2],[73,2,74,2],[75,2,76,2],[77,2,78,2],[79,2,80,2],[81,2,82,2],[83,2,84,2]]}
[null,null,"Frequency band (MHz)","Licensing regime",null,null,null," Topo-logy",null,"Application",null,null,null,null,"Number of P-P links",null,"Number of CS","Channel/Frequency plan used (e.g. ERC/ECC Rec. ITU-R Rec.)","Link characteristics",null,null,null,null,null,"Future trends (e.g. in the next 5 years)"]
[null,null,null,null,null,null,null,"FWA",null,"Network Infrastruc-ture",null,null,null,null,null,null,null,null,"Capacity",null,null,"Hop length (km)"]
[null,null,null,"Link by link","Block","Light licensed","Licence exempt","P-P","P-MP","Mobile backhaul","Others","Broadcasting Infrastructure","No Information available on the application","Other (please indicate)","unidirection","bidirectional (1 bidirectional link counts 1)","(applicable only for P-MP and mesh networks)",null,"LOW (<10 Mbit/s)","MEDIUM (10 to 100 Mbit/s)","HIGH (>100 Mbit/s)","MIN","Typical figure","MAX","Anticipated growth/reduction (+/-%)","Currently congested","Planned reallocation to other service/application","Other (please describe)\n(see Question 3 of the Questionnaire)"]
["Estonia",{"$f":"VLOOKUP(A4, 'Country names'!$A$5:$C$53,3,FALSE)","v":"EST"},"1350-1375 and 1492-1517","x",null,null,null,"x",null,null,null,null,null,null,null,null,null,"T/R 13-01 Annex A"]
["Estonia",{"$f":"VLOOKUP(A5, 'Country names'!$A$5:$C$53,3,FALSE)","v":"EST"},null,"not in use"]
["Estonia",{"$f":"VLOOKUP(A6, 'Country names'!$A$5:$C$53,3,FALSE)","v":"EST"},"1375-1400 and 1427-1452","x",null,null,null,"x",null,null,null,null,null,null,null,null,null,"T/R 13-01 Annex B"]
["Estonia",{"$f":"VLOOKUP(A7, 'Country names'!$A$5:$C$53,3,FALSE)","v":"EST"},null,"not in use"]
["Estonia",{"$f":"VLOOKUP(A8, 'Country names'!$A$5:$C$53,3,FALSE)","v":"EST"},"2025-2110 and 2200-2290","x",null,null,null,"x",null,null,null,"x",null,null,4,null,null,"T/R 13-01 Annex C","x","x",null,"SAP/SAB"]
["Estonia",{"$f":"VLOOKUP(A9, 'Country names'!$A$5:$C$53,3,FALSE)","v":"EST"}]
["Estonia",{"$f":"VLOOKUP(A10, 'Country names'!$A$5:$C$53,3,FALSE)","v":"EST"},"3400-3600",null,"x",null,null,null,"x",null,"x",null,null,null,null,null,"no info","ERC/REC 14-03"]
["Estonia",{"$f":"VLOOKUP(A11, 'Country names'!$A$5:$C$53,3,FALSE)","v":"EST"}]
["Estonia",{"$f":"VLOOKUP(A12, 'Country names'!$A$5:$C$53,3,FALSE)","v":"EST"},"3600-4200",null,"x",null,null,null,"x",null,"x",null,null,null,null,null,"no info","ERC/REC 12-08"]
["Estonia",{"$f":"VLOOKUP(A13, 'Country names'!$A$5:$C$53,3,FALSE)","v":"EST"}]
["Estonia",{"$f":"VLOOKUP(A14, 'Country names'!$A$5:$C$53,3,FALSE)","v":"EST"},"4400-5000","x"]
["Estonia",{"$f":"VLOOKUP(A15, 'Country names'!$A$5:$C$53,3,FALSE)","v":"EST"}]
["Estonia",{"$f":"VLOOKUP(A16, 'Country names'!$A$5:$C$53,3,FALSE)","v":"EST"},"5850-5925",null,"x"]
["Estonia",{"$f":"VLOOKUP(A17, 'Country names'!$A$5:$C$53,3,FALSE)","v":"EST"},null,"not in use",null,null,null,null,"x"]
["Estonia",{"$f":"VLOOKUP(A18, 'Country names'!$A$5:$C$53,3,FALSE)","v":"EST"},"5925-7125","x",null,null,null,"x",null,"x",null,null,null,null,5,null,null,"ERC/REC 14-01 and ERC/REC 14-02, ECC/REC(14)06",null,"x",null,null,80]
["Estonia",{"$f":"VLOOKUP(A19, 'Country names'!$A$5:$C$53,3,FALSE)","v":"EST"}]
["Estonia",{"$f":"VLOOKUP(A20, 'Country names'!$A$5:$C$53,3,FALSE)","v":"EST"},"7125-7750","x",null,null,null,"x",null,"x",null,null,null,null,43,null,null,"ECC REC (02)06",null,"x",null,10,30,55]
["Estonia",{"$f":"VLOOKUP(A21, 'Country names'!$A$5:$C$53,3,FALSE)","v":"EST"}]
["Estonia",{"$f":"VLOOKUP(A22, 'Country names'!$A$5:$C$53,3,FALSE)","v":"EST"},"7750-7900","x",null,null,null,"x"]
["Estonia",{"$f":"VLOOKUP(A23, 'Country names'!$A$5:$C$53,3,FALSE)","v":"EST"}]
["Estonia",{"$f":"VLOOKUP(A24, 'Country names'!$A$5:$C$53,3,FALSE)","v":"EST"},"7900-8500","x",null,null,null,"x",null,"x",null,null,null,null,22,null,null,"ECC REC (02)06",null,"x",null,7,28,47]
["Estonia",{"$f":"VLOOKUP(A25, 'Country names'!$A$5:$C$53,3,FALSE)","v":"EST"}]
["Estonia",{"$f":"VLOOKUP(A26, 'Country names'!$A$5:$C$53,3,FALSE)","v":"EST"},"10000-10680","not in use",null,null,null,null,null,null,null,null,null,null,null,null,null,"ERC/REC 12-05"]
["Estonia",{"$f":"VLOOKUP(A27, 'Country names'!$A$5:$C$53,3,FALSE)","v":"EST"}]
["Estonia",{"$f":"VLOOKUP(A28, 'Country names'!$A$5:$C$53,3,FALSE)","v":"EST"},"10700-11700","not in use",null,null,null,null,null,null,null,null,null,null,null,null,null,"ERC/REC 12-06"]
["Estonia",{"$f":"VLOOKUP(A29, 'Country names'!$A$5:$C$53,3,FALSE)","v":"EST"}]
["Estonia",{"$f":"VLOOKUP(A30, 'Country names'!$A$5:$C$53,3,FALSE)","v":"EST"},"11700-12500","not in use"]
["Estonia",{"$f":"VLOOKUP(A31, 'Country names'!$A$5:$C$53,3,FALSE)","v":"EST"}]
["Estonia",{"$f":"VLOOKUP(A32, 'Country names'!$A$5:$C$53,3,FALSE)","v":"EST"},"12750-13250","x",null,null,null,"x",null,"x",null,null,null,null,null,null,null,"ERC/REC 12-02"]
["Estonia",{"$f":"VLOOKUP(A33, 'Country names'!$A$5:$C$53,3,FALSE)","v":"EST"}]
["Estonia",{"$f":"VLOOKUP(A34, 'Country names'!$A$5:$C$53,3,FALSE)","v":"EST"},"14250-14500","not in use"]
["Estonia",{"$f":"VLOOKUP(A35, 'Country names'!$A$5:$C$53,3,FALSE)","v":"EST"}]
["Estonia",{"$f":"VLOOKUP(A36, 'Country names'!$A$5:$C$53,3,FALSE)","v":"EST"},"14500-14620 and 15230-15350","x",null,null,null,"x",null,"x",null,null,null,null,360,null,null,"ERC/REC 12-07","x","x",null,2,20,32]
["Estonia",{"$f":"VLOOKUP(A37, 'Country names'!$A$5:$C$53,3,FALSE)","v":"EST"}]
["Estonia",{"$f":"VLOOKUP(A38, 'Country names'!$A$5:$C$53,3,FALSE)","v":"EST"},"17300-17700","not in use"]
["Estonia",{"$f":"VLOOKUP(A39, 'Country names'!$A$5:$C$53,3,FALSE)","v":"EST"}]
["Estonia",{"$f":"VLOOKUP(A40, 'Country names'!$A$5:$C$53,3,FALSE)","v":"EST"},"17700-19700","x",null,null,null,"x",null,"x",null,null,null,null,535,null,null,"ERC/REC 12-03","x","x",null,2,null,38]
["Estonia",{"$f":"VLOOKUP(A41, 'Country names'!$A$5:$C$53,3,FALSE)","v":"EST"}]
["Estonia",{"$f":"VLOOKUP(A42, 'Country names'!$A$5:$C$53,3,FALSE)","v":"EST"},"21200-22000","not in use"]
["Estonia",{"$f":"VLOOKUP(A43, 'Country names'!$A$5:$C$53,3,FALSE)","v":"EST"}]
["Estonia",{"$f":"VLOOKUP(A44, 'Country names'!$A$5:$C$53,3,FALSE)","v":"EST"},"22000-22600 and 23000-23600","x",null,null,null,"x",null,"x",null,null,null,null,550,null,null,"T/R 13-02 Annexes A1, A2, A3","x","x",null,0.5,null,21]
["Estonia",{"$f":"VLOOKUP(A45, 'Country names'!$A$5:$C$53,3,FALSE)","v":"EST"}]
["Estonia",{"$f":"VLOOKUP(A46, 'Country names'!$A$5:$C$53,3,FALSE)","v":"EST"},"22600-23000","not in use"]
["Estonia",{"$f":"VLOOKUP(A47, 'Country names'!$A$5:$C$53,3,FALSE)","v":"EST"}]
["Estonia",{"$f":"VLOOKUP(A48, 'Country names'!$A$5:$C$53,3,FALSE)","v":"EST"},"24250-24500","not in use"]
["Estonia",{"$f":"VLOOKUP(A49, 'Country names'!$A$5:$C$53,3,FALSE)","v":"EST"}]
["Estonia",{"$f":"VLOOKUP(A50, 'Country names'!$A$5:$C$53,3,FALSE)","v":"EST"},"24500-26500","x",null,null,null,"x",null,"x",null,null,null,null,17,null,null,"T/R 13-02 Annex B",null,"x",null,0.5,3,8]
["Estonia",{"$f":"VLOOKUP(A51, 'Country names'!$A$5:$C$53,3,FALSE)","v":"EST"}]
["Estonia",{"$f":"VLOOKUP(A52, 'Country names'!$A$5:$C$53,3,FALSE)","v":"EST"},"26500-27500","not in use"]
["Estonia",{"$f":"VLOOKUP(A53, 'Country names'!$A$5:$C$53,3,FALSE)","v":"EST"}]
["Estonia",{"$f":"VLOOKUP(A54, 'Country names'!$A$5:$C$53,3,FALSE)","v":"EST"},"27500-29500","not in use",null,null,null,null,null,null,null,null,null,null,null,null,null,"T/R 13-02 Annex C"]
["Estonia",{"$f":"VLOOKUP(A55, 'Country names'!$A$5:$C$53,3,FALSE)","v":"EST"}]
["Estonia",{"$f":"VLOOKUP(A56, 'Country names'!$A$5:$C$53,3,FALSE)","v":"EST"},"31000-31300","not in use",null,null,null,null,null,null,null,null,null,null,null,null,null,"ECC/REC/(02)02"]
["Estonia",{"$f":"VLOOKUP(A57, 'Country names'!$A$5:$C$53,3,FALSE)","v":"EST"}]
["Estonia",{"$f":"VLOOKUP(A58, 'Country names'!$A$5:$C$53,3,FALSE)","v":"EST"},"31800-33400","not in use",null,null,null,null,null,null,null,null,null,null,null,null,null,"ERC/REC/(01)02"]
["Estonia",{"$f":"VLOOKUP(A59, 'Country names'!$A$5:$C$53,3,FALSE)","v":"EST"}]
["Estonia",{"$f":"VLOOKUP(A60, 'Country names'!$A$5:$C$53,3,FALSE)","v":"EST"},"36000-37000","not in use"]
["Estonia",{"$f":"VLOOKUP(A61, 'Country names'!$A$5:$C$53,3,FALSE)","v":"EST"}]
["Estonia",{"$f":"VLOOKUP(A62, 'Country names'!$A$5:$C$53,3,FALSE)","v":"EST"},"37000-39500","x",null,null,null,"x",null,"x",null,null,null,null,225,null,null,"T/R 12-01","x","x",null,0.05,null,12]
["Estonia",{"$f":"VLOOKUP(A63, 'Country names'!$A$5:$C$53,3,FALSE)","v":"EST"}]
["Estonia",{"$f":"VLOOKUP(A64, 'Country names'!$A$5:$C$53,3,FALSE)","v":"EST"},"39500-40500","not in use"]
["Estonia",{"$f":"VLOOKUP(A65, 'Country names'!$A$5:$C$53,3,FALSE)","v":"EST"}]
["Estonia",{"$f":"VLOOKUP(A66, 'Country names'!$A$5:$C$53,3,FALSE)","v":"EST"},"40500-43500","not in use",null,null,null,null,null,null,null,null,null,null,null,null,null,"ECC/REC/(01)04"]
["Estonia",{"$f":"VLOOKUP(A67, 'Country names'!$A$5:$C$53,3,FALSE)","v":"EST"}]
["Estonia",{"$f":"VLOOKUP(A68, 'Country names'!$A$5:$C$53,3,FALSE)","v":"EST"},"47200-48500","not in use"]
["Estonia",{"$f":"VLOOKUP(A69, 'Country names'!$A$5:$C$53,3,FALSE)","v":"EST"}]
["Estonia",{"$f":"VLOOKUP(A70, 'Country names'!$A$5:$C$53,3,FALSE)","v":"EST"},"48500-50200","not in use",null,null,null,null,null,null,null,null,null,null,null,null,null,"ERC/REC 12-11"]
["Estonia",{"$f":"VLOOKUP(A71, 'Country names'!$A$5:$C$53,3,FALSE)","v":"EST"}]
["Estonia",{"$f":"VLOOKUP(A72, 'Country names'!$A$5:$C$53,3,FALSE)","v":"EST"},"50400-51400","not in use, no any interest"]
["Estonia",{"$f":"VLOOKUP(A73, 'Country names'!$A$5:$C$53,3,FALSE)","v":"EST"}]
["Estonia",{"$f":"VLOOKUP(A74, 'Country names'!$A$5:$C$53,3,FALSE)","v":"EST"},"51400-52600","not in use, no any interest",null,null,null,null,null,null,null,null,null,null,null,null,null,"ERC/REC 12-11"]
["Estonia",{"$f":"VLOOKUP(A75, 'Country names'!$A$5:$C$53,3,FALSE)","v":"EST"}]
["Estonia",{"$f":"VLOOKUP(A76, 'Country names'!$A$5:$C$53,3,FALSE)","v":"EST"},"557800-57000","not in use, no any interest",null,null,null,null,null,null,null,null,null,null,null,null,null,"ERC/REC 12-12"]
["Estonia",{"$f":"VLOOKUP(A77, 'Country names'!$A$5:$C$53,3,FALSE)","v":"EST"}]
["Estonia",{"$f":"VLOOKUP(A78, 'Country names'!$A$5:$C$53,3,FALSE)","v":"EST"},"57000-59000","not in use, no any interest",null,null,null,null,null,null,null,null,null,null,null,null,null,"ECC/REC/(09)01"]
["Estonia",{"$f":"VLOOKUP(A79, 'Country names'!$A$5:$C$53,3,FALSE)","v":"EST"}]
["Estonia",{"$f":"VLOOKUP(A80, 'Country names'!$A$5:$C$53,3,FALSE)","v":"EST"},"59000-64000","not in use, no any interest",null,null,null,null,null,null,null,null,null,null,null,null,null,"ECC/REC/(09)01"]
["Estonia",{"$f":"VLOOKUP(A81, 'Country names'!$A$5:$C$53,3,FALSE)","v":"EST"}]
["Estonia",{"$f":"VLOOKUP(A82, 'Country names'!$A$5:$C$53,3,FALSE)","v":"EST"},"64000-66000","not in use, no any interest",null,null,null,null,null,null,null,null,null,null,null,null,null,"ECC/REC/(05)02"]
["Estonia",{"$f":"VLOOKUP(A83, 'Country names'!$A$5:$C$53,3,FALSE)","v":"EST"}]
["Estonia",{"$f":"VLOOKUP(A84, 'Country names'!$A$5:$C$53,3,FALSE)","v":"EST"},"71000-76000 and 81000-86000","not in use, no any interest",null,null,null,null,null,null,null,null,null,null,null,null,null,"ECC/REC/(05)07"]
["Estonia",{"$f":"VLOOKUP(A85, 'Country names'!$A$5:$C$53,3,FALSE)","v":"EST"}]
["Estonia",{"$f":"VLOOKUP(A86, 'Country names'!$A$5:$C$53,3,FALSE)","v":"EST"},"92000-95000","not in use, no any interest",null,null,null,null,null,null,null,null,null,null,null,null,null,"ECC/REC (14)01"]

{"sheet":"Magyar Telecom Hungary","index":30,"n_rows":88,"n_cols":28,"rows_kept":88,"cut":false,"hidden":false,"merged":[[0,2,2,2],[0,3,0,6],[0,7,0,8],[0,9,0,13],[0,14,0,15],[0,18,0,23],[0,24,0,27],[1,7,1,8],[1,9,1,10],[1,18,1,20],[1,21,1,23],[0,17,2,17],[25,2,26,2],[3,2,4,2],[5,2,6,2],[7,2,8,2],[9,2,10,2],[11,2,12,2],[13,2,14,2],[15,2,16,2],[17,2,18,2],[19,2,20,2],[21,2,22,2],[23,2,24,2],[49,2,50,2],[27,2,28,2],[29,2,30,2],[31,2,32,2],[33,2,34,2],[35,2,36,2],[37,2,38,2],[39,2,40,2],[41,2,42,2],[43,2,44,2],[45,2,46,2],[47,2,48,2],[73,2,74,2],[51,2,52,2],[53,2,54,2],[55,2,56,2],[57,2,58,2],[59,2,60,2],[61,2,62,2],[63,2,64,2],[65,2,66,2],[67,2,68,2],[69,2,70,2],[71,2,72,2],[87,2,88,2],[75,2,76,2],[77,2,78,2],[79,2,80,2],[81,2,82,2],[83,2,84,2],[85,2,86,2]]}
[null,null,"Frequency band (MHz)","Licensing regime",null,null,null," Topo-logy",null,"Application",null,null,null,null,"Number of P-P links",null,"Number of CS","Channel/Frequency plan used (e.g. ERC/ECC Rec. ITU-R Rec.)","Link characteristics",null,null,null,null,null,"Future trends (e.g. in the next 5 years)"]
[null,null,null,null,null,null,null,"FWA",null,"Network Infrastruc-ture",null,null,null,null,null,null,null,null,"Capacity",null,null,"Hop length (km)"]
[null,null,null,"Link by link","Block","Light licensed","Licence exempt","P-P","P-MP","Mobile backhaul","Others","Broadcasting Infrastructure","No Information available on the application","Other (please indicate)","unidirection","bidirectional (1 bidirectional link counts 1)","(applicable only for P-MP and mesh networks)",null,"LOW (<10 Mbit/s)","MEDIUM (10 to 100 Mbit/s)","HIGH (>100 Mbit/s)","MIN","Typical figure","MAX","Anticipated growth/reduction (+/-%)","Currently congested","Planned reallocation to other service/application","Other (please describe)\n(see Question 3 of the Questionnaire)"]
["Magyar Telecom Hungary",{"$f":"VLOOKUP(A4, 'Country names'!$A$5:$C$53,3,FALSE)","v":{"$error":"#N/A"}},"1350-1375 and 1492-1517",null,null,null,null,null,null,null,null,null,null,null,null,null,null,"T/R 13-01 Annex A"]
["Magyar Telecom Hungary",{"$f":"VLOOKUP(A5, 'Country names'!$A$5:$C$53,3,FALSE)","v":{"$error":"#N/A"}}]
["Magyar Telecom Hungary",{"$f":"VLOOKUP(A6, 'Country names'!$A$5:$C$53,3,FALSE)","v":{"$error":"#N/A"}},"1375-1400 and 1427-1452",null,null,null,null,null,null,null,null,null,null,null,null,null,null,"T/R 13-01 Annex B"]
["Magyar Telecom Hungary",{"$f":"VLOOKUP(A7, 'Country names'!$A$5:$C$53,3,FALSE)","v":{"$error":"#N/A"}}]
["Magyar Telecom Hungary",{"$f":"VLOOKUP(A8, 'Country names'!$A$5:$C$53,3,FALSE)","v":{"$error":"#N/A"}},"2025-2110 and 2200-2290",null,null,null,null,null,null,null,null,null,null,null,null,null,null,"T/R 13-01 Annex C"]
["Magyar Telecom Hungary",{"$f":"VLOOKUP(A9, 'Country names'!$A$5:$C$53,3,FALSE)","v":{"$error":"#N/A"}},null,"    "]
["Magyar Telecom Hungary",{"$f":"VLOOKUP(A10, 'Country names'!$A$5:$C$53,3,FALSE)","v":{"$error":"#N/A"}},"3400-3600",null,null,null,null,null,null,null,null,null,null,null,null,null,null,"ERC/REC 14-03"]
["Magyar Telecom Hungary",{"$f":"VLOOKUP(A11, 'Country names'!$A$5:$C$53,3,FALSE)","v":{"$error":"#N/A"}}]
["Magyar Telecom Hungary",{"$f":"VLOOKUP(A12, 'Country names'!$A$5:$C$53,3,FALSE)","v":{"$error":"#N/A"}},"3600-4200",null,null,null,null,null,null,null,null,null,null,null,null,null,null,"ERC/REC 12-08"]
["Magyar Telecom Hungary",{"$f":"VLOOKUP(A13, 'Country names'!$A$5:$C$53,3,FALSE)","v":{"$error":"#N/A"}}]
["Magyar Telecom Hungary",{"$f":"VLOOKUP(A14, 'Country names'!$A$5:$C$53,3,FALSE)","v":{"$error":"#N/A"}},"4400-5000"]
["Magyar Telecom Hungary",{"$f":"VLOOKUP(A15, 'Country names'!$A$5:$C$53,3,FALSE)","v":{"$error":"#N/A"}}]
["Magyar Telecom Hungary",{"$f":"VLOOKUP(A16, 'Country names'!$A$5:$C$53,3,FALSE)","v":{"$error":"#N/A"}},"5850-5925"]
["Magyar Telecom Hungary",{"$f":"VLOOKUP(A17, 'Country names'!$A$5:$C$53,3,FALSE)","v":{"$error":"#N/A"}}]
["Magyar Telecom Hungary",{"$f":"VLOOKUP(A18, 'Country names'!$A$5:$C$53,3,FALSE)","v":{"$error":"#N/A"}},"5925-7125",null,null,null,null,null,null,null,null,null,null,null,null,null,null,"ERC/REC 14-01 and ERC/REC 14-02, ECC/REC(14)06"]
["Magyar Telecom Hungary",{"$f":"VLOOKUP(A19, 'Country names'!$A$5:$C$53,3,FALSE)","v":{"$error":"#N/A"}}]
["Magyar Telecom Hungary",{"$f":"VLOOKUP(A20, 'Country names'!$A$5:$C$53,3,FALSE)","v":{"$error":"#N/A"}},"7125-7750",null,null,null,null,null,null,null,null,null,null,null,null,null,null,"ECC REC (02)06"]
["Magyar Telecom Hungary",{"$f":"VLOOKUP(A21, 'Country names'!$A$5:$C$53,3,FALSE)","v":{"$error":"#N/A"}}]
["Magyar Telecom Hungary",{"$f":"VLOOKUP(A22, 'Country names'!$A$5:$C$53,3,FALSE)","v":{"$error":"#N/A"}},"7750-7900"]
["Magyar Telecom Hungary",{"$f":"VLOOKUP(A23, 'Country names'!$A$5:$C$53,3,FALSE)","v":{"$error":"#N/A"}}]
["Magyar Telecom Hungary",{"$f":"VLOOKUP(A24, 'Country names'!$A$5:$C$53,3,FALSE)","v":{"$error":"#N/A"}},"7900-8500",null,null,null,null,null,null,null,null,null,null,null,null,null,null,"ECC REC (02)06"]
["Magyar Telecom Hungary",{"$f":"VLOOKUP(A25, 'Country names'!$A$5:$C$53,3,FALSE)","v":{"$error":"#N/A"}}]
["Magyar Telecom Hungary",{"$f":"VLOOKUP(A26, 'Country names'!$A$5:$C$53,3,FALSE)","v":{"$error":"#N/A"}},"10000-10680",null,null,null,null,null,null,null,null,null,null,null,null,null,null,"ERC/REC 12-05"]
["Magyar Telecom Hungary",{"$f":"VLOOKUP(A27, 'Country names'!$A$5:$C$53,3,FALSE)","v":{"$error":"#N/A"}}]
["Magyar Telecom Hungary",{"$f":"VLOOKUP(A28, 'Country names'!$A$5:$C$53,3,FALSE)","v":{"$error":"#N/A"}},"10700-11700",null,null,null,null,null,null,null,null,null,null,null,null,null,null,"ERC/REC 12-06"]
["Magyar Telecom Hungary",{"$f":"VLOOKUP(A29, 'Country names'!$A$5:$C$53,3,FALSE)","v":{"$error":"#N/A"}}]
["Magyar Telecom Hungary",{"$f":"VLOOKUP(A30, 'Country names'!$A$5:$C$53,3,FALSE)","v":{"$error":"#N/A"}},"11700-12500"]
["Magyar Telecom Hungary",{"$f":"VLOOKUP(A31, 'Country names'!$A$5:$C$53,3,FALSE)","v":{"$error":"#N/A"}}]
["Magyar Telecom Hungary",{"$f":"VLOOKUP(A32, 'Country names'!$A$5:$C$53,3,FALSE)","v":{"$error":"#N/A"}},"12750-13250","X",null,null,null,"X",null,"X",null,null,null,null,null,913,null,"ERC/REC 12-02",16,427,470,1.7,15,46.2,0.15]
["Magyar Telecom Hungary",{"$f":"VLOOKUP(A33, 'Country names'!$A$5:$C$53,3,FALSE)","v":{"$error":"#N/A"}}]
["Magyar Telecom Hungary",{"$f":"VLOOKUP(A34, 'Country names'!$A$5:$C$53,3,FALSE)","v":{"$error":"#N/A"}},"14250-14500"]
["Magyar Telecom Hungary",{"$f":"VLOOKUP(A35, 'Country names'!$A$5:$C$53,3,FALSE)","v":{"$error":"#N/A"}}]
["Magyar Telecom Hungary",{"$f":"VLOOKUP(A36, 'Country names'!$A$5:$C$53,3,FALSE)","v":{"$error":"#N/A"}},"14500-14620 and 15230-15350",null,null,null,null,null,null,null,null,null,null,null,null,null,null,"ERC/REC 12-07"]
["Magyar Telecom Hungary",{"$f":"VLOOKUP(A37, 'Country names'!$A$5:$C$53,3,FALSE)","v":{"$error":"#N/A"}}]
["Magyar Telecom Hungary",{"$f":"VLOOKUP(A38, 'Country names'!$A$5:$C$53,3,FALSE)","v":{"$error":"#N/A"}},"14923-15180","X",null,null,null,"X",null,"X","X",null,null,null,null,12,null,"ITU-R F 636-3",5,7,0,3.1,12,18.600000000000001,-1,null,null,"Till 31.12.2018"]
["Magyar Telecom Hungary",{"$f":"VLOOKUP(A39, 'Country names'!$A$5:$C$53,3,FALSE)","v":{"$error":"#N/A"}}]
["Magyar Telecom Hungary",{"$f":"VLOOKUP(A40, 'Country names'!$A$5:$C$53,3,FALSE)","v":{"$error":"#N/A"}},"17300-17700"]
["Magyar Telecom Hungary",{"$f":"VLOOKUP(A41, 'Country names'!$A$5:$C$53,3,FALSE)","v":{"$error":"#N/A"}}]
["Magyar Telecom Hungary",{"$f":"VLOOKUP(A42, 'Country names'!$A$5:$C$53,3,FALSE)","v":{"$error":"#N/A"}},"17700-19700","X",null,null,null,"X",null,"X",null,null,null,null,null,338,null,"ERC/REC 12-03",0,34,304,0.2,10,31.7,0.15]
["Magyar Telecom Hungary",{"$f":"VLOOKUP(A43, 'Country names'!$A$5:$C$53,3,FALSE)","v":{"$error":"#N/A"}}]
["Magyar Telecom Hungary",{"$f":"VLOOKUP(A44, 'Country names'!$A$5:$C$53,3,FALSE)","v":{"$error":"#N/A"}},"21200-22000"]
["Magyar Telecom Hungary",{"$f":"VLOOKUP(A45, 'Country names'!$A$5:$C$53,3,FALSE)","v":{"$error":"#N/A"}}]
["Magyar Telecom Hungary",{"$f":"VLOOKUP(A46, 'Country names'!$A$5:$C$53,3,FALSE)","v":{"$error":"#N/A"}},"22000-22600 and 23000-23600","X",null,null,null,"X",null,"X","X",null,null,null,null,330,null,"T/R 13-02 Annexes A1, A2, A3",15,227,88,0.3,5,15.4,-0.2]
["Magyar Telecom Hungary",{"$f":"VLOOKUP(A47, 'Country names'!$A$5:$C$53,3,FALSE)","v":{"$error":"#N/A"}}]
["Magyar Telecom Hungary",{"$f":"VLOOKUP(A48, 'Country names'!$A$5:$C$53,3,FALSE)","v":{"$error":"#N/A"}},"22600-23000"]
["Magyar Telecom Hungary",{"$f":"VLOOKUP(A49, 'Country names'!$A$5:$C$53,3,FALSE)","v":{"$error":"#N/A"}}]
["Magyar Telecom Hungary",{"$f":"VLOOKUP(A50, 'Country names'!$A$5:$C$53,3,FALSE)","v":{"$error":"#N/A"}},"24250-24500"]
["Magyar Telecom Hungary",{"$f":"VLOOKUP(A51, 'Country names'!$A$5:$C$53,3,FALSE)","v":{"$error":"#N/A"}}]
["Magyar Telecom Hungary",{"$f":"VLOOKUP(A52, 'Country names'!$A$5:$C$53,3,FALSE)","v":{"$error":"#N/A"}},"24500-26500",null,"X",null,null,"X",null,"X","X",null,null,null,null,1480,null,"T/R 13-02 Annex B",0,721,759,0.03,3,28.7,0.3]
["Magyar Telecom Hungary",{"$f":"VLOOKUP(A53, 'Country names'!$A$5:$C$53,3,FALSE)","v":{"$error":"#N/A"}},null,null,"X",null,null,null,"X",null,"X",null,null,null,null,null,31,null,0,267,0,0.1,1.6,3.9,0]
["Magyar Telecom Hungary",{"$f":"VLOOKUP(A54, 'Country names'!$A$5:$C$53,3,FALSE)","v":{"$error":"#N/A"}},"26500-27500"]
["Magyar Telecom Hungary",{"$f":"VLOOKUP(A55, 'Country names'!$A$5:$C$53,3,FALSE)","v":{"$error":"#N/A"}}]
["Magyar Telecom Hungary",{"$f":"VLOOKUP(A56, 'Country names'!$A$5:$C$53,3,FALSE)","v":{"$error":"#N/A"}},"27500-29500",null,null,null,null,null,null,null,null,null,null,null,null,null,null,"T/R 13-02 Annex C"]
["Magyar Telecom Hungary",{"$f":"VLOOKUP(A57, 'Country names'!$A$5:$C$53,3,FALSE)","v":{"$error":"#N/A"}}]
["Magyar Telecom Hungary",{"$f":"VLOOKUP(A58, 'Country names'!$A$5:$C$53,3,FALSE)","v":{"$error":"#N/A"}},"31000-31300",null,null,null,null,null,null,null,null,null,null,null,null,null,null,"ECC/REC/(02)02"]
["Magyar Telecom Hungary",{"$f":"VLOOKUP(A59, 'Country names'!$A$5:$C$53,3,FALSE)","v":{"$error":"#N/A"}}]
["Magyar Telecom Hungary",{"$f":"VLOOKUP(A60, 'Country names'!$A$5:$C$53,3,FALSE)","v":{"$error":"#N/A"}},"31800-33400",null,null,null,null,null,null,null,null,null,null,null,null,null,null,"ERC/REC/(01)02"]
["Magyar Telecom Hungary",{"$f":"VLOOKUP(A61, 'Country names'!$A$5:$C$53,3,FALSE)","v":{"$error":"#N/A"}}]
["Magyar Telecom Hungary",{"$f":"VLOOKUP(A62, 'Country names'!$A$5:$C$53,3,FALSE)","v":{"$error":"#N/A"}},"36000-37000"]
["Magyar Telecom Hungary",{"$f":"VLOOKUP(A63, 'Country names'!$A$5:$C$53,3,FALSE)","v":{"$error":"#N/A"}}]
["Magyar Telecom Hungary",{"$f":"VLOOKUP(A64, 'Country names'!$A$5:$C$53,3,FALSE)","v":{"$error":"#N/A"}},"37000-39500","X",null,null,null,"X",null,"X","X",null,null,null,null,1182,null,"T/R 12-01",150,885,147,0.06,1.7,13.3,-0.1]
["Magyar Telecom Hungary",{"$f":"VLOOKUP(A65, 'Country names'!$A$5:$C$53,3,FALSE)","v":{"$error":"#N/A"}}]
["Magyar Telecom Hungary",{"$f":"VLOOKUP(A66, 'Country names'!$A$5:$C$53,3,FALSE)","v":{"$error":"#N/A"}},"39500-40500"]
["Magyar Telecom Hungary",{"$f":"VLOOKUP(A67, 'Country names'!$A$5:$C$53,3,FALSE)","v":{"$error":"#N/A"}}]
["Magyar Telecom Hungary",{"$f":"VLOOKUP(A68, 'Country names'!$A$5:$C$53,3,FALSE)","v":{"$error":"#N/A"}},"40500-43500",null,null,null,null,null,null,null,null,null,null,null,null,null,null,"ECC/REC/(01)04"]
["Magyar Telecom Hungary",{"$f":"VLOOKUP(A69, 'Country names'!$A$5:$C$53,3,FALSE)","v":{"$error":"#N/A"}}]
["Magyar Telecom Hungary",{"$f":"VLOOKUP(A70, 'Country names'!$A$5:$C$53,3,FALSE)","v":{"$error":"#N/A"}},"47200-48500"]
["Magyar Telecom Hungary",{"$f":"VLOOKUP(A71, 'Country names'!$A$5:$C$53,3,FALSE)","v":{"$error":"#N/A"}}]
["Magyar Telecom Hungary",{"$f":"VLOOKUP(A72, 'Country names'!$A$5:$C$53,3,FALSE)","v":{"$error":"#N/A"}},"48500-50200",null,null,null,null,null,null,null,null,null,null,null,null,null,null,"ERC/REC 12-11"]
["Magyar Telecom Hungary",{"$f":"VLOOKUP(A73, 'Country names'!$A$5:$C$53,3,FALSE)","v":{"$error":"#N/A"}}]
["Magyar Telecom Hungary",{"$f":"VLOOKUP(A74, 'Country names'!$A$5:$C$53,3,FALSE)","v":{"$error":"#N/A"}},"50400-51400"]
["Magyar Telecom Hungary",{"$f":"VLOOKUP(A75, 'Country names'!$A$5:$C$53,3,FALSE)","v":{"$error":"#N/A"}}]
["Magyar Telecom Hungary",{"$f":"VLOOKUP(A76, 'Country names'!$A$5:$C$53,3,FALSE)","v":{"$error":"#N/A"}},"51400-52600",null,null,null,null,null,null,null,null,null,null,null,null,null,null,"ERC/REC 12-11"]
["Magyar Telecom Hungary",{"$f":"VLOOKUP(A77, 'Country names'!$A$5:$C$53,3,FALSE)","v":{"$error":"#N/A"}}]
["Magyar Telecom Hungary",{"$f":"VLOOKUP(A78, 'Country names'!$A$5:$C$53,3,FALSE)","v":{"$error":"#N/A"}},"557800-57000",null,null,null,null,null,null,null,null,null,null,null,null,null,null,"ERC/REC 12-12"]
["Magyar Telecom Hungary",{"$f":"VLOOKUP(A79, 'Country names'!$A$5:$C$53,3,FALSE)","v":{"$error":"#N/A"}}]
["Magyar Telecom Hungary",{"$f":"VLOOKUP(A80, 'Country names'!$A$5:$C$53,3,FALSE)","v":{"$error":"#N/A"}},"57000-59000",null,null,null,null,null,null,null,null,null,null,null,null,null,null,"ECC/REC/(09)01"]
["Magyar Telecom Hungary",{"$f":"VLOOKUP(A81, 'Country names'!$A$5:$C$53,3,FALSE)","v":{"$error":"#N/A"}}]
["Magyar Telecom Hungary",{"$f":"VLOOKUP(A82, 'Country names'!$A$5:$C$53,3,FALSE)","v":{"$error":"#N/A"}},"59000-64000",null,null,null,null,null,null,null,null,null,null,null,null,null,null,"ECC/REC/(09)01"]
["Magyar Telecom Hungary",{"$f":"VLOOKUP(A83, 'Country names'!$A$5:$C$53,3,FALSE)","v":{"$error":"#N/A"}}]
["Magyar Telecom Hungary",{"$f":"VLOOKUP(A84, 'Country names'!$A$5:$C$53,3,FALSE)","v":{"$error":"#N/A"}},"64000-66000",null,null,null,null,null,null,null,null,null,null,null,null,null,null,"ECC/REC/(05)02"]
["Magyar Telecom Hungary",{"$f":"VLOOKUP(A85, 'Country names'!$A$5:$C$53,3,FALSE)","v":{"$error":"#N/A"}}]
["Magyar Telecom Hungary",{"$f":"VLOOKUP(A86, 'Country names'!$A$5:$C$53,3,FALSE)","v":{"$error":"#N/A"}},"71000-76000 and 81000-86000",null,null,"X",null,"X",null,"X","X",null,null,null,null,405,null,"ECC/REC/(05)07",0,0,405,0.03,0.8,2.9,0.5]
["Magyar Telecom Hungary",{"$f":"VLOOKUP(A87, 'Country names'!$A$5:$C$53,3,FALSE)","v":{"$error":"#N/A"}}]
["Magyar Telecom Hungary",{"$f":"VLOOKUP(A88, 'Country names'!$A$5:$C$53,3,FALSE)","v":{"$error":"#N/A"}},"92000-95000",null,null,null,null,null,null,null,null,null,null,null,null,null,null,"ECC/REC (14)01"]

{"sheet":"Austria","index":31,"n_rows":86,"n_cols":28,"rows_kept":86,"cut":false,"hidden":false,"merged":[[0,24,0,27],[3,2,4,2],[5,2,6,2],[7,2,8,2],[0,2,2,2],[0,3,0,6],[1,7,1,8],[1,9,1,10],[1,18,1,20],[1,21,1,23],[0,17,2,17],[0,7,0,8],[0,9,0,13],[0,14,0,15],[0,18,0,23],[9,2,10,2],[11,2,12,2],[37,2,38,2],[15,2,16,2],[17,2,18,2],[19,2,20,2],[21,2,22,2],[23,2,24,2],[25,2,26,2],[27,2,28,2],[29,2,30,2],[31,2,32,2],[33,2,34,2],[35,2,36,2],[13,2,14,2],[61,2,62,2],[39,2,40,2],[41,2,42,2],[43,2,44,2],[45,2,46,2],[47,2,48,2],[49,2,50,2],[51,2,52,2],[53,2,54,2],[55,2,56,2],[57,2,58,2],[59,2,60,2],[85,2,86,2],[63,2,64,2],[65,2,66,2],[67,2,68,2],[69,2,70,2],[71,2,72,2],[73,2,74,2],[75,2,76,2],[77,2,78,2],[79,2,80,2],[81,2,82,2],[83,2,84,2]]}
[null,null,"Frequency band (MHz)","Licensing regime",null,null,null," Topo-logy",null,"Application",null,null,null,null,"Number of P-P links",null,"Number of CS","Channel/Frequency plan used (e.g. ERC/ECC Rec. ITU-R Rec.)","Link characteristics",null,null,null,null,null,"Future trends (e.g. in the next 5 years)"]
[null,null,null,null,null,null,null,"FWA",null,"Network Infrastruc-ture",null,null,null,null,null,null,null,null,"Capacity",null,null,"Hop length (km)"]
[null,null,null,"Link by link","Block","Light licensed","Licence exempt","P-P","P-MP","Mobile backhaul","Others","Broadcasting Infrastructure","No Information available on the application","Other (please indicate)","unidirection","bidirectional (1 bidirectional link counts 1)","(applicable only for P-MP and mesh networks)",null,"LOW (<10 Mbit/s)","MEDIUM (10 to 100 Mbit/s)","HIGH (>100 Mbit/s)","MIN","Typical figure","MAX","Anticipated growth/reduction (+/-%)","Currently congested","Planned reallocation to other service/application","Other (please describe)\n(see Question 3 of the Questionnaire)"]
["Austria",{"$f":"VLOOKUP(A4, 'Country names'!$A$5:$C$53,3,FALSE)","v":"AUT"},"1350-1375 and 1492-1517","X",null,null,null,"X",null,null,"X",null,null,null,null,57,null,"T/R 13-01 Annex A","X","X",null,3,20,60]
["Austria",{"$f":"VLOOKUP(A5, 'Country names'!$A$5:$C$53,3,FALSE)","v":"AUT"}]
["Austria",{"$f":"VLOOKUP(A6, 'Country names'!$A$5:$C$53,3,FALSE)","v":"AUT"},"1375-1400 and 1427-1452","X",null,null,null,"X",null,null,"X",null,null,null,null,41,null,"T/R 13-01 Annex B","X","X",null,3,20,60]
["Austria",{"$f":"VLOOKUP(A7, 'Country names'!$A$5:$C$53,3,FALSE)","v":"AUT"}]
["Austria",{"$f":"VLOOKUP(A8, 'Country names'!$A$5:$C$53,3,FALSE)","v":"AUT"},"2025-2110 and 2200-2290","X",null,null,null,"X",null,null,"X","X",null,null,8,null,null,"T/R 13-01 Annex C",null,null,null,null,null,290]
["Austria",{"$f":"VLOOKUP(A9, 'Country names'!$A$5:$C$53,3,FALSE)","v":"AUT"},null,null,null,null,null,null,null,null,null,null,null,null,null,null,null,"national"]
["Austria",{"$f":"VLOOKUP(A10, 'Country names'!$A$5:$C$53,3,FALSE)","v":"AUT"},"3400-3600","X",null,null,null,null,"X",null,"X",null,null,null,null,null,355,"ERC/REC 14-03","X","X",null,3,15,30]
["Austria",{"$f":"VLOOKUP(A11, 'Country names'!$A$5:$C$53,3,FALSE)","v":"AUT"}]
["Austria",{"$f":"VLOOKUP(A12, 'Country names'!$A$5:$C$53,3,FALSE)","v":"AUT"},"3600-4200","X",null,null,null,"X",null,"X",null,null,null,null,null,34,null,"ERC/REC 12-08",null,"X",null,13,50,100]
["Austria",{"$f":"VLOOKUP(A13, 'Country names'!$A$5:$C$53,3,FALSE)","v":"AUT"}]
["Austria",{"$f":"VLOOKUP(A14, 'Country names'!$A$5:$C$53,3,FALSE)","v":"AUT"},"4400-5000","X",null,null,null,null,null,null,null,"X",null,"X",10,1,null,"national",null,"X",null,22,22,22]
["Austria",{"$f":"VLOOKUP(A15, 'Country names'!$A$5:$C$53,3,FALSE)","v":"AUT"}]
["Austria",{"$f":"VLOOKUP(A16, 'Country names'!$A$5:$C$53,3,FALSE)","v":"AUT"},"5850-5925","X",null,null,null,"X",null,"X",null,null,null,null,null,13,null,"national",null,"X",null,4,42,68]
["Austria",{"$f":"VLOOKUP(A17, 'Country names'!$A$5:$C$53,3,FALSE)","v":"AUT"}]
["Austria",{"$f":"VLOOKUP(A18, 'Country names'!$A$5:$C$53,3,FALSE)","v":"AUT"},"5925-7125","X",null,null,null,"X",null,"X","X","X",null,null,null,313,null,"ERC/REC 14-01 and ERC/REC 14-02, ECC/REC(14)06",null,null,"X",5,45,70]
["Austria",{"$f":"VLOOKUP(A19, 'Country names'!$A$5:$C$53,3,FALSE)","v":"AUT"}]
["Austria",{"$f":"VLOOKUP(A20, 'Country names'!$A$5:$C$53,3,FALSE)","v":"AUT"},"7125-7750","X",null,null,null,"X",null,"X","X","X",null,null,null,530,null,"ECC REC (02)06",null,"X","X",1,40,78]
["Austria",{"$f":"VLOOKUP(A21, 'Country names'!$A$5:$C$53,3,FALSE)","v":"AUT"}]
["Austria",{"$f":"VLOOKUP(A22, 'Country names'!$A$5:$C$53,3,FALSE)","v":"AUT"},"7750-7900",null,null,null,null,null,null,null,null,null,null,null,0,0,0,"national"]
["Austria",{"$f":"VLOOKUP(A23, 'Country names'!$A$5:$C$53,3,FALSE)","v":"AUT"}]
["Austria",{"$f":"VLOOKUP(A24, 'Country names'!$A$5:$C$53,3,FALSE)","v":"AUT"},"7900-8500","X",null,null,null,"X",null,"X","X","X",null,null,null,306,null,"ECC REC (02)06",null,"X","X",1,35,60]
["Austria",{"$f":"VLOOKUP(A25, 'Country names'!$A$5:$C$53,3,FALSE)","v":"AUT"}]
["Austria",{"$f":"VLOOKUP(A26, 'Country names'!$A$5:$C$53,3,FALSE)","v":"AUT"},"10000-10680","X",null,null,null,"X",null,"X","X","X",null,null,null,133,null,"ERC/REC 12-05",null,"X",null,1,30,80]
["Austria",{"$f":"VLOOKUP(A27, 'Country names'!$A$5:$C$53,3,FALSE)","v":"AUT"}]
["Austria",{"$f":"VLOOKUP(A28, 'Country names'!$A$5:$C$53,3,FALSE)","v":"AUT"},"10700-11700",null,null,null,null,null,null,null,null,null,null,null,0,0,0,"ERC/REC 12-06"]
["Austria",{"$f":"VLOOKUP(A29, 'Country names'!$A$5:$C$53,3,FALSE)","v":"AUT"}]
["Austria",{"$f":"VLOOKUP(A30, 'Country names'!$A$5:$C$53,3,FALSE)","v":"AUT"},"11700-12500",null,null,null,null,null,null,null,null,null,null,null,0,0,0]
["Austria",{"$f":"VLOOKUP(A31, 'Country names'!$A$5:$C$53,3,FALSE)","v":"AUT"}]
["Austria",{"$f":"VLOOKUP(A32, 'Country names'!$A$5:$C$53,3,FALSE)","v":"AUT"},"12750-13250","X",null,null,null,"X",null,"X","X","X",null,null,null,663,null,"ERC/REC 12-02",null,null,"X",3,25,52]
["Austria",{"$f":"VLOOKUP(A33, 'Country names'!$A$5:$C$53,3,FALSE)","v":"AUT"}]
["Austria",{"$f":"VLOOKUP(A34, 'Country names'!$A$5:$C$53,3,FALSE)","v":"AUT"},"14250-14500",null,null,null,null,null,null,null,null,null,null,null,0,0,0]
["Austria",{"$f":"VLOOKUP(A35, 'Country names'!$A$5:$C$53,3,FALSE)","v":"AUT"}]
["Austria",{"$f":"VLOOKUP(A36, 'Country names'!$A$5:$C$53,3,FALSE)","v":"AUT"},"14500-14620 and 15230-15350","X",null,null,null,"X",null,"X","X","X",null,null,null,752,null,"ERC/REC 12-07","X","X","X",1,15,44]
["Austria",{"$f":"VLOOKUP(A37, 'Country names'!$A$5:$C$53,3,FALSE)","v":"AUT"}]
["Austria",{"$f":"VLOOKUP(A38, 'Country names'!$A$5:$C$53,3,FALSE)","v":"AUT"},"17300-17700",null,null,null,null,null,null,null,null,null,null,null,0,0,0]
["Austria",{"$f":"VLOOKUP(A39, 'Country names'!$A$5:$C$53,3,FALSE)","v":"AUT"}]
["Austria",{"$f":"VLOOKUP(A40, 'Country names'!$A$5:$C$53,3,FALSE)","v":"AUT"},"17700-19700","X",null,null,null,"X",null,"X","X","X",null,null,null,1308,null,"ERC/REC 12-03",null,null,"X",1,10,19]
["Austria",{"$f":"VLOOKUP(A41, 'Country names'!$A$5:$C$53,3,FALSE)","v":"AUT"}]
["Austria",{"$f":"VLOOKUP(A42, 'Country names'!$A$5:$C$53,3,FALSE)","v":"AUT"},"21200-22000",null,null,null,null,null,null,null,null,null,null,null,0,0,0,"national"]
["Austria",{"$f":"VLOOKUP(A43, 'Country names'!$A$5:$C$53,3,FALSE)","v":"AUT"}]
["Austria",{"$f":"VLOOKUP(A44, 'Country names'!$A$5:$C$53,3,FALSE)","v":"AUT"},"22000-22600 and 23000-23600","X",null,null,null,"X",null,"X","X",null,null,null,null,2796,null,"T/R 13-02 Annexes A1, A2, A3","X","X","X",1,10,20]
["Austria",{"$f":"VLOOKUP(A45, 'Country names'!$A$5:$C$53,3,FALSE)","v":"AUT"}]
["Austria",{"$f":"VLOOKUP(A46, 'Country names'!$A$5:$C$53,3,FALSE)","v":"AUT"},"22600-23000",null,null,null,null,null,null,null,null,null,null,null,0,0,0]
["Austria",{"$f":"VLOOKUP(A47, 'Country names'!$A$5:$C$53,3,FALSE)","v":"AUT"}]
["Austria",{"$f":"VLOOKUP(A48, 'Country names'!$A$5:$C$53,3,FALSE)","v":"AUT"},"24250-24500",null,null,null,null,null,null,null,null,null,null,null,0,0,0]
["Austria",{"$f":"VLOOKUP(A49, 'Country names'!$A$5:$C$53,3,FALSE)","v":"AUT"}]
["Austria",{"$f":"VLOOKUP(A50, 'Country names'!$A$5:$C$53,3,FALSE)","v":"AUT"},"24500-26500","X",null,null,null,"X","X","X","X",null,null,null,null,2083,null,"T/R 13-02 Annex B","X","X","X",1,6,24]
["Austria",{"$f":"VLOOKUP(A51, 'Country names'!$A$5:$C$53,3,FALSE)","v":"AUT"}]
["Austria",{"$f":"VLOOKUP(A52, 'Country names'!$A$5:$C$53,3,FALSE)","v":"AUT"},"26500-27500",null,null,null,null,null,null,null,null,null,null,null,0,0,0]
["Austria",{"$f":"VLOOKUP(A53, 'Country names'!$A$5:$C$53,3,FALSE)","v":"AUT"}]
["Austria",{"$f":"VLOOKUP(A54, 'Country names'!$A$5:$C$53,3,FALSE)","v":"AUT"},"27500-29500","X",null,null,null,"X","X","X",null,null,null,null,null,1339,null,"T/R 13-02 Annex C",null,null,"X",1,2,4]
["Austria",{"$f":"VLOOKUP(A55, 'Country names'!$A$5:$C$53,3,FALSE)","v":"AUT"}]
["Austria",{"$f":"VLOOKUP(A56, 'Country names'!$A$5:$C$53,3,FALSE)","v":"AUT"},"31000-31300",null,null,null,null,null,null,null,null,null,null,null,0,0,0,"ECC/REC/(02)02"]
["Austria",{"$f":"VLOOKUP(A57, 'Country names'!$A$5:$C$53,3,FALSE)","v":"AUT"}]
["Austria",{"$f":"VLOOKUP(A58, 'Country names'!$A$5:$C$53,3,FALSE)","v":"AUT"},"31800-33400","X",null,null,null,"X",null,"X",null,null,null,null,null,566,null,"ERC/REC/(01)02",null,"X",null,1,3,5]
["Austria",{"$f":"VLOOKUP(A59, 'Country names'!$A$5:$C$53,3,FALSE)","v":"AUT"}]
["Austria",{"$f":"VLOOKUP(A60, 'Country names'!$A$5:$C$53,3,FALSE)","v":"AUT"},"36000-37000",null,null,null,null,null,null,null,null,null,null,null,0,0,0]
["Austria",{"$f":"VLOOKUP(A61, 'Country names'!$A$5:$C$53,3,FALSE)","v":"AUT"}]
["Austria",{"$f":"VLOOKUP(A62, 'Country names'!$A$5:$C$53,3,FALSE)","v":"AUT"},"37000-39500","X",null,null,null,"X",null,"X","X",null,null,null,null,3642,null,"T/R 12-01","X","X","X",1,5,17]
["Austria",{"$f":"VLOOKUP(A63, 'Country names'!$A$5:$C$53,3,FALSE)","v":"AUT"}]
["Austria",{"$f":"VLOOKUP(A64, 'Country names'!$A$5:$C$53,3,FALSE)","v":"AUT"},"39500-40500",null,null,null,null,null,null,null,null,null,null,null,0,0,0]
["Austria",{"$f":"VLOOKUP(A65, 'Country names'!$A$5:$C$53,3,FALSE)","v":"AUT"}]
["Austria",{"$f":"VLOOKUP(A66, 'Country names'!$A$5:$C$53,3,FALSE)","v":"AUT"},"40500-43500","X",null,null,null,"X",null,"X",null,null,null,null,null,53,null,"ECC/REC/(01)04",null,"X",null,1,3,5]
["Austria",{"$f":"VLOOKUP(A67, 'Country names'!$A$5:$C$53,3,FALSE)","v":"AUT"}]
["Austria",{"$f":"VLOOKUP(A68, 'Country names'!$A$5:$C$53,3,FALSE)","v":"AUT"},"47200-48500",null,null,null,null,null,null,null,null,null,null,null,0,0,0]
["Austria",{"$f":"VLOOKUP(A69, 'Country names'!$A$5:$C$53,3,FALSE)","v":"AUT"}]
["Austria",{"$f":"VLOOKUP(A70, 'Country names'!$A$5:$C$53,3,FALSE)","v":"AUT"},"48500-50200",null,null,null,null,null,null,null,null,null,null,null,0,0,0,"ERC/REC 12-11"]
["Austria",{"$f":"VLOOKUP(A71, 'Country names'!$A$5:$C$53,3,FALSE)","v":"AUT"}]
["Austria",{"$f":"VLOOKUP(A72, 'Country names'!$A$5:$C$53,3,FALSE)","v":"AUT"},"50400-51400",null,null,null,null,null,null,null,null,null,null,null,0,0,0]
["Austria",{"$f":"VLOOKUP(A73, 'Country names'!$A$5:$C$53,3,FALSE)","v":"AUT"}]
["Austria",{"$f":"VLOOKUP(A74, 'Country names'!$A$5:$C$53,3,FALSE)","v":"AUT"},"51400-52600",null,null,null,null,null,null,null,null,null,null,null,0,0,0,"ERC/REC 12-11"]
["Austria",{"$f":"VLOOKUP(A75, 'Country names'!$A$5:$C$53,3,FALSE)","v":"AUT"}]
["Austria",{"$f":"VLOOKUP(A76, 'Country names'!$A$5:$C$53,3,FALSE)","v":"AUT"},"557800-57000",null,null,null,null,null,null,null,null,null,null,null,0,0,0,"ERC/REC 12-12"]
["Austria",{"$f":"VLOOKUP(A77, 'Country names'!$A$5:$C$53,3,FALSE)","v":"AUT"}]
["Austria",{"$f":"VLOOKUP(A78, 'Country names'!$A$5:$C$53,3,FALSE)","v":"AUT"},"57000-59000",null,null,null,null,null,null,null,null,null,null,null,0,0,0,"ECC/REC/(09)01"]
["Austria",{"$f":"VLOOKUP(A79, 'Country names'!$A$5:$C$53,3,FALSE)","v":"AUT"}]
["Austria",{"$f":"VLOOKUP(A80, 'Country names'!$A$5:$C$53,3,FALSE)","v":"AUT"},"59000-64000",null,null,null,null,null,null,null,null,null,null,null,0,0,0,"ECC/REC/(09)01"]
["Austria",{"$f":"VLOOKUP(A81, 'Country names'!$A$5:$C$53,3,FALSE)","v":"AUT"}]
["Austria",{"$f":"VLOOKUP(A82, 'Country names'!$A$5:$C$53,3,FALSE)","v":"AUT"},"64000-66000",null,null,null,null,null,null,null,null,null,null,null,0,0,0,"ECC/REC/(05)02"]
["Austria",{"$f":"VLOOKUP(A83, 'Country names'!$A$5:$C$53,3,FALSE)","v":"AUT"}]
["Austria",{"$f":"VLOOKUP(A84, 'Country names'!$A$5:$C$53,3,FALSE)","v":"AUT"},"71000-76000 and 81000-86000","X",null,null,null,"X",null,null,null,null,null,null,null,1269,null,"ECC/REC/(05)07",null,"X","X",1,3,6]
["Austria",{"$f":"VLOOKUP(A85, 'Country names'!$A$5:$C$53,3,FALSE)","v":"AUT"}]
["Austria",{"$f":"VLOOKUP(A86, 'Country names'!$A$5:$C$53,3,FALSE)","v":"AUT"},"92000-95000",null,null,null,null,null,null,null,null,null,null,null,null,null,null,"ECC/REC (14)01"]

{"sheet":"Czech Republic","index":32,"n_rows":88,"n_cols":28,"rows_kept":88,"cut":false,"hidden":false,"merged":[[0,24,0,27],[3,2,4,2],[5,2,6,2],[7,2,8,2],[0,2,2,2],[0,3,0,6],[1,7,1,8],[1,9,1,10],[1,18,1,20],[1,21,1,23],[0,17,2,17],[0,7,0,8],[0,9,0,13],[0,14,0,15],[0,18,0,23],[9,2,10,2],[11,2,12,2],[38,2,39,2],[15,2,16,2],[17,2,18,2],[19,2,20,2],[21,2,22,2],[23,2,24,2],[25,2,27,2],[28,2,29,2],[30,2,31,2],[32,2,33,2],[34,2,35,2],[36,2,37,2],[13,2,14,2],[62,2,63,2],[40,2,41,2],[42,2,43,2],[44,2,45,2],[46,2,47,2],[48,2,49,2],[50,2,51,2],[52,2,53,2],[54,2,55,2],[56,2,57,2],[58,2,59,2],[60,2,61,2],[86,2,87,2],[64,2,65,2],[66,2,67,2],[68,2,69,2],[70,2,71,2],[72,2,73,2],[74,2,75,2],[76,2,77,2],[78,2,79,2],[80,2,81,2],[82,2,83,2],[84,2,85,2]]}
[null,null,"Frequency band (MHz)","Licensing regime",null,null,null," Topo-logy",null,"Application",null,null,null,null,"Number of P-P links",null,"Number of CS","Channel/Frequency plan used (e.g. ERC/ECC Rec. ITU-R Rec.)","Link characteristics",null,null,null,null,null,"Future trends (e.g. in the next 5 years)"]
[null,null,null,null,null,null,null,"FWA",null,"Network Infrastruc-ture",null,null,null,null,null,null,null,null,"Capacity",null,null,"Hop length (km)"]
[null,null,null,"Link by link","Block","Light licensed","Licence exempt","P-P","P-MP","Mobile backhaul","Others","Broadcasting Infrastructure","No Information available on the application","Other (please indicate)","unidirection","bidirectional (1 bidirectional link counts 1)","(applicable only for P-MP and mesh networks)",null,"LOW (<10 Mbit/s)","MEDIUM (10 to 100 Mbit/s)","HIGH (>100 Mbit/s)","MIN","Typical figure","MAX","Anticipated growth/reduction (+/-%)","Currently congested","Planned reallocation to other service/application","Other (please describe)\n(see Question 3 of the Questionnaire)"]
["Czech Republic",{"$f":"VLOOKUP(A4, 'Country names'!$A$5:$C$53,3,FALSE)","v":"CZE"},"1350-1375 and 1492-1517",null,null,null,null,null,null,null,null,null,null,null,null,null,null,null,"N/A","N/A","N/A"]
["Czech Republic",{"$f":"VLOOKUP(A5, 'Country names'!$A$5:$C$53,3,FALSE)","v":"CZE"},null,null,null,null,null,null,null,null,null,null,null,null,null,null,null,null,"N/A","N/A","N/A"]
["Czech Republic",{"$f":"VLOOKUP(A6, 'Country names'!$A$5:$C$53,3,FALSE)","v":"CZE"},"1375-1400 and 1427-1452",null,null,null,null,null,null,null,null,null,null,null,null,null,null,null,"N/A","N/A","N/A"]
["Czech Republic",{"$f":"VLOOKUP(A7, 'Country names'!$A$5:$C$53,3,FALSE)","v":"CZE"},null,null,null,null,null,null,null,null,null,null,null,null,null,null,null,null,"N/A","N/A","N/A"]
["Czech Republic",{"$f":"VLOOKUP(A8, 'Country names'!$A$5:$C$53,3,FALSE)","v":"CZE"},"2025-2110 and 2200-2290",null,null,null,null,null,null,null,"ENG/OB",null,null,null,null,null,null,"T/R 13-01 Annex C","N/A","N/A","N/A"]
["Czech Republic",{"$f":"VLOOKUP(A9, 'Country names'!$A$5:$C$53,3,FALSE)","v":"CZE"},null,null,null,null,null,null,null,null,"ENG/OB",null,null,null,null,null,null,null,"N/A","N/A","N/A"]
["Czech Republic",{"$f":"VLOOKUP(A10, 'Country names'!$A$5:$C$53,3,FALSE)","v":"CZE"},"3400-3600","X",null,null,null,null,"X",null,null,null,null,null,null,null,236,"see the EFIS","N/A","N/A","N/A"]
["Czech Republic",{"$f":"VLOOKUP(A11, 'Country names'!$A$5:$C$53,3,FALSE)","v":"CZE"},null,null,null,null,null,null,null,null,null,null,null,null,null,null,null,null,"N/A","N/A","N/A"]
["Czech Republic",{"$f":"VLOOKUP(A12, 'Country names'!$A$5:$C$53,3,FALSE)","v":"CZE"},"3600-4200","X",null,null,null,"X",null,null,null,null,null,null,null,209,null,"see the EFIS","N/A","N/A","N/A",null,"31.7km"]
["Czech Republic",{"$f":"VLOOKUP(A13, 'Country names'!$A$5:$C$53,3,FALSE)","v":"CZE"},null,null,"X",null,null,null,"X",null,null,null,null,"auction in preparation",null,null,0,null,"N/A","N/A","N/A"]
["Czech Republic",{"$f":"VLOOKUP(A14, 'Country names'!$A$5:$C$53,3,FALSE)","v":"CZE"},"4400-5000",null,null,null,null,null,null,null,"SAP/SAB",null,null,null,null,null,null,null,"N/A","N/A","N/A"]
["Czech Republic",{"$f":"VLOOKUP(A15, 'Country names'!$A$5:$C$53,3,FALSE)","v":"CZE"},null,null,null,null,null,null,null,null,"SAP/SAB",null,null,null,null,null,null,null,"N/A","N/A","N/A"]
["Czech Republic",{"$f":"VLOOKUP(A16, 'Country names'!$A$5:$C$53,3,FALSE)","v":"CZE"},"5850-5925",null,null,null,null,null,null,null,null,null,null,null,null,null,null,null,"N/A","N/A","N/A"]
["Czech Republic",{"$f":"VLOOKUP(A17, 'Country names'!$A$5:$C$53,3,FALSE)","v":"CZE"},null,null,null,null,null,null,null,null,null,null,null,null,null,null,null,null,"N/A","N/A","N/A"]
["Czech Republic",{"$f":"VLOOKUP(A18, 'Country names'!$A$5:$C$53,3,FALSE)","v":"CZE"},"5925-7125","X",null,null,null,"X",null,null,null,null,null,null,null,582,null,"see the EFIS","N/A","N/A","N/A",null,"31.5km"]
["Czech Republic",{"$f":"VLOOKUP(A19, 'Country names'!$A$5:$C$53,3,FALSE)","v":"CZE"},null,null,null,null,null,null,null,null,null,null,null,null,null,null,null,null,"N/A","N/A","N/A"]
["Czech Republic",{"$f":"VLOOKUP(A20, 'Country names'!$A$5:$C$53,3,FALSE)","v":"CZE"},"7125-7750","X",null,null,null,"X",null,null,null,null,null,null,null,446,null,"see the EFIS","N/A","N/A","N/A",null,"24.4km"]
["Czech Republic",{"$f":"VLOOKUP(A21, 'Country names'!$A$5:$C$53,3,FALSE)","v":"CZE"},null,null,null,null,null,null,null,null,null,null,null,null,null,null,null,null,"N/A","N/A","N/A"]
["Czech Republic",{"$f":"VLOOKUP(A22, 'Country names'!$A$5:$C$53,3,FALSE)","v":"CZE"},"7750-7900",null,null,null,null,null,null,null,null,null,null,null,null,null,null,null,"N/A","N/A","N/A"]
["Czech Republic",{"$f":"VLOOKUP(A23, 'Country names'!$A$5:$C$53,3,FALSE)","v":"CZE"},null,null,null,null,null,null,null,null,null,null,null,null,null,null,null,null,"N/A","N/A","N/A"]
["Czech Republic",{"$f":"VLOOKUP(A24, 'Country names'!$A$5:$C$53,3,FALSE)","v":"CZE"},"7900-8500",null,null,null,null,null,null,null,null,null,null,null,null,null,null,null,"N/A","N/A","N/A"]
["Czech Republic",{"$f":"VLOOKUP(A25, 'Country names'!$A$5:$C$53,3,FALSE)","v":"CZE"},null,null,null,null,null,null,null,null,null,null,null,null,null,null,null,null,"N/A","N/A","N/A"]
["Czech Republic",{"$f":"VLOOKUP(A26, 'Country names'!$A$5:$C$53,3,FALSE)","v":"CZE"},"10000-10680",null,null,null,"X",null,null,null,null,null,null,null,null,"N/A",null,"national plan for 10,301–10,42 GHz and 10,476–10,588 GHz","N/A","N/A","N/A"]
["Czech Republic",{"$f":"VLOOKUP(A27, 'Country names'!$A$5:$C$53,3,FALSE)","v":"CZE"},null,null,null,null,null,null,null,null,"ENG/OB",null,null,null,null,null,null,"10,42–10,476 GHz and 10,588–10,644 GHz","N/A","N/A","N/A"]
["Czech Republic",{"$f":"VLOOKUP(A28, 'Country names'!$A$5:$C$53,3,FALSE)","v":"CZE"},null,"X",null,null,null,"X",null,null,null,null,null,null,1,null,null,"see the EFIS","N/A","N/A","N/A"]
["Czech Republic",{"$f":"VLOOKUP(A29, 'Country names'!$A$5:$C$53,3,FALSE)","v":"CZE"},"10700-11700","X",null,null,null,"X",null,null,null,null,null,null,null,1693,null,"see the EFIS","N/A","N/A","N/A",null,"13.4km"]
["Czech Republic",{"$f":"VLOOKUP(A30, 'Country names'!$A$5:$C$53,3,FALSE)","v":"CZE"},null,null,null,null,null,null,null,null,null,null,null,null,null,null,null,null,"N/A","N/A","N/A"]
["Czech Republic",{"$f":"VLOOKUP(A31, 'Country names'!$A$5:$C$53,3,FALSE)","v":"CZE"},"11700-12500",null,null,null,null,null,null,null,null,null,null,null,null,null,null,null,"N/A","N/A","N/A"]
["Czech Republic",{"$f":"VLOOKUP(A32, 'Country names'!$A$5:$C$53,3,FALSE)","v":"CZE"},null,null,null,null,null,null,null,null,null,null,null,null,null,null,null,null,"N/A","N/A","N/A"]
["Czech Republic",{"$f":"VLOOKUP(A33, 'Country names'!$A$5:$C$53,3,FALSE)","v":"CZE"},"12750-13250","X",null,null,null,"X",null,null,null,null,null,null,null,968,null,"see the EFIS","N/A","N/A","N/A",null,"14.5km"]
["Czech Republic",{"$f":"VLOOKUP(A34, 'Country names'!$A$5:$C$53,3,FALSE)","v":"CZE"},null,null,null,null,null,null,null,null,null,null,null,null,null,null,null,null,"N/A","N/A","N/A"]
["Czech Republic",{"$f":"VLOOKUP(A35, 'Country names'!$A$5:$C$53,3,FALSE)","v":"CZE"},"14250-14500",null,null,null,null,null,null,null,null,null,null,null,null,null,null,null,"N/A","N/A","N/A"]
["Czech Republic",{"$f":"VLOOKUP(A36, 'Country names'!$A$5:$C$53,3,FALSE)","v":"CZE"},null,null,null,null,null,null,null,null,null,null,null,null,null,null,null,null,"N/A","N/A","N/A"]
["Czech Republic",{"$f":"VLOOKUP(A37, 'Country names'!$A$5:$C$53,3,FALSE)","v":"CZE"},"14500-14620 and 15230-15350","X",null,null,null,"X",null,null,null,null,null,null,null,289,null,"see the EFIS","N/A","N/A","N/A",null,"12.3km"]
["Czech Republic",{"$f":"VLOOKUP(A38, 'Country names'!$A$5:$C$53,3,FALSE)","v":"CZE"},null,null,null,null,null,null,null,null,null,null,null,null,null,null,null,null,"N/A","N/A","N/A"]
["Czech Republic",{"$f":"VLOOKUP(A39, 'Country names'!$A$5:$C$53,3,FALSE)","v":"CZE"},"17300-17700",null,null,null,null,null,null,null,null,null,null,null,null,null,null,null,"N/A","N/A","N/A"]
["Czech Republic",{"$f":"VLOOKUP(A40, 'Country names'!$A$5:$C$53,3,FALSE)","v":"CZE"},null,null,null,null,null,null,null,null,null,null,null,null,null,null,null,null,"N/A","N/A","N/A"]
["Czech Republic",{"$f":"VLOOKUP(A41, 'Country names'!$A$5:$C$53,3,FALSE)","v":"CZE"},"17700-19700","X",null,null,null,"X",null,null,null,null,null,null,null,4312,null,"see the EFIS","N/A","N/A","N/A",null,"11.2km"]
["Czech Republic",{"$f":"VLOOKUP(A42, 'Country names'!$A$5:$C$53,3,FALSE)","v":"CZE"},null,null,null,null,null,null,null,null,null,null,null,null,null,null,null,null,"N/A","N/A","N/A"]
["Czech Republic",{"$f":"VLOOKUP(A43, 'Country names'!$A$5:$C$53,3,FALSE)","v":"CZE"},"21200-22000",null,null,null,null,null,null,null,null,null,null,null,null,null,null,null,"N/A","N/A","N/A"]
["Czech Republic",{"$f":"VLOOKUP(A44, 'Country names'!$A$5:$C$53,3,FALSE)","v":"CZE"},null,null,null,null,null,null,null,null,null,null,null,null,null,null,null,null,"N/A","N/A","N/A"]
["Czech Republic",{"$f":"VLOOKUP(A45, 'Country names'!$A$5:$C$53,3,FALSE)","v":"CZE"},"22000-22600 and 23000-23600","X",null,null,null,"X",null,null,null,null,null,null,null,4244,null,"see the EFIS","N/A","N/A","N/A",null,"6km"]
["Czech Republic",{"$f":"VLOOKUP(A46, 'Country names'!$A$5:$C$53,3,FALSE)","v":"CZE"},null,null,null,null,null,null,null,null,"ENG/OB",null,null,null,null,null,null,"22,592–22,704 GHz","N/A","N/A","N/A"]
["Czech Republic",{"$f":"VLOOKUP(A47, 'Country names'!$A$5:$C$53,3,FALSE)","v":"CZE"},"22600-23000",null,null,null,null,null,null,null,null,null,null,null,null,null,null,null,"N/A","N/A","N/A"]
["Czech Republic",{"$f":"VLOOKUP(A48, 'Country names'!$A$5:$C$53,3,FALSE)","v":"CZE"},null,null,null,null,null,null,null,null,null,null,null,null,null,null,null,null,"N/A","N/A","N/A"]
["Czech Republic",{"$f":"VLOOKUP(A49, 'Country names'!$A$5:$C$53,3,FALSE)","v":"CZE"},"24250-24500",null,null,null,null,null,null,null,"ENG/OB",null,null,null,null,null,null,"24,25–24,5 GHz","N/A","N/A","N/A"]
["Czech Republic",{"$f":"VLOOKUP(A50, 'Country names'!$A$5:$C$53,3,FALSE)","v":"CZE"},null,null,null,null,null,null,null,null,null,null,null,null,null,null,null,null,"N/A","N/A","N/A"]
["Czech Republic",{"$f":"VLOOKUP(A51, 'Country names'!$A$5:$C$53,3,FALSE)","v":"CZE"},"24500-26500",null,"X",null,null,null,"X",null,null,null,null,null,null,null,89,"see the EFIS","N/A","N/A","N/A"]
["Czech Republic",{"$f":"VLOOKUP(A52, 'Country names'!$A$5:$C$53,3,FALSE)","v":"CZE"},null,"X",null,null,null,"X",null,null,null,null,null,null,null,3964,null,null,"N/A","N/A","N/A",null,"3.6km"]
["Czech Republic",{"$f":"VLOOKUP(A53, 'Country names'!$A$5:$C$53,3,FALSE)","v":"CZE"},"26500-27500",null,null,null,null,null,null,null,null,null,null,null,null,null,null,null,"N/A","N/A","N/A"]
["Czech Republic",{"$f":"VLOOKUP(A54, 'Country names'!$A$5:$C$53,3,FALSE)","v":"CZE"},null,null,null,null,null,null,null,null,null,null,null,null,null,null,null,null,"N/A","N/A","N/A"]
["Czech Republic",{"$f":"VLOOKUP(A55, 'Country names'!$A$5:$C$53,3,FALSE)","v":"CZE"},"27500-29500",null,"X",null,null,null,"X",null,null,null,null,null,null,null,137,"see the EFIS","N/A","N/A","N/A"]
["Czech Republic",{"$f":"VLOOKUP(A56, 'Country names'!$A$5:$C$53,3,FALSE)","v":"CZE"},null,"X",null,null,null,null,"X",null,null,null,null,null,null,null,60,null,"N/A","N/A","N/A"]
["Czech Republic",{"$f":"VLOOKUP(A57, 'Country names'!$A$5:$C$53,3,FALSE)","v":"CZE"},"31000-31300","X",null,null,null,"X",null,null,null,null,null,null,null,0,null,"see the EFIS","N/A","N/A","N/A"]
["Czech Republic",{"$f":"VLOOKUP(A58, 'Country names'!$A$5:$C$53,3,FALSE)","v":"CZE"},null,null,null,null,null,null,null,null,null,null,null,null,null,null,null,null,"N/A","N/A","N/A"]
["Czech Republic",{"$f":"VLOOKUP(A59, 'Country names'!$A$5:$C$53,3,FALSE)","v":"CZE"},"31800-33400","X",null,null,null,"X",null,null,null,null,null,null,null,1374,null,"see the EFIS","N/A","N/A","N/A",null,"1.7km"]
["Czech Republic",{"$f":"VLOOKUP(A60, 'Country names'!$A$5:$C$53,3,FALSE)","v":"CZE"},null,null,null,null,null,null,null,null,null,null,null,null,null,null,null,null,"N/A","N/A","N/A"]
["Czech Republic",{"$f":"VLOOKUP(A61, 'Country names'!$A$5:$C$53,3,FALSE)","v":"CZE"},"36000-37000",null,null,null,null,null,null,null,null,null,null,null,null,null,null,null,"N/A","N/A","N/A"]
["Czech Republic",{"$f":"VLOOKUP(A62, 'Country names'!$A$5:$C$53,3,FALSE)","v":"CZE"},null,null,null,null,null,null,null,null,null,null,null,null,null,null,null,null,"N/A","N/A","N/A"]
["Czech Republic",{"$f":"VLOOKUP(A63, 'Country names'!$A$5:$C$53,3,FALSE)","v":"CZE"},"37000-39500","X",null,null,null,"X",null,null,null,null,null,null,null,6123,null,"see the EFIS","N/A","N/A","N/A",null,"1.2km"]
["Czech Republic",{"$f":"VLOOKUP(A64, 'Country names'!$A$5:$C$53,3,FALSE)","v":"CZE"},null,null,null,null,null,null,null,null,null,null,null,null,null,null,null,null,"N/A","N/A","N/A"]
["Czech Republic",{"$f":"VLOOKUP(A65, 'Country names'!$A$5:$C$53,3,FALSE)","v":"CZE"},"39500-40500",null,null,null,null,null,null,null,null,null,null,null,null,null,null,null,"N/A","N/A","N/A"]
["Czech Republic",{"$f":"VLOOKUP(A66, 'Country names'!$A$5:$C$53,3,FALSE)","v":"CZE"},null,null,null,null,null,null,null,null,null,null,null,null,null,null,null,null,"N/A","N/A","N/A"]
["Czech Republic",{"$f":"VLOOKUP(A67, 'Country names'!$A$5:$C$53,3,FALSE)","v":"CZE"},"40500-43500","X",null,null,null,"X",null,null,null,null,null,null,null,54,null,"see the EFIS","N/A","N/A","N/A",null,"0.6km"]
["Czech Republic",{"$f":"VLOOKUP(A68, 'Country names'!$A$5:$C$53,3,FALSE)","v":"CZE"},null,null,null,null,null,null,null,null,null,null,null,null,null,null,null,null,"N/A","N/A","N/A"]
["Czech Republic",{"$f":"VLOOKUP(A69, 'Country names'!$A$5:$C$53,3,FALSE)","v":"CZE"},"47200-48500",null,null,null,null,null,null,null,"ENG/OB",null,null,null,null,null,null,"47.2 GHz- 50.2 GHz","N/A","N/A","N/A"]
["Czech Republic",{"$f":"VLOOKUP(A70, 'Country names'!$A$5:$C$53,3,FALSE)","v":"CZE"},null,null,null,null,null,null,null,null,null,null,null,null,null,null,null,null,"N/A","N/A","N/A"]
["Czech Republic",{"$f":"VLOOKUP(A71, 'Country names'!$A$5:$C$53,3,FALSE)","v":"CZE"},"48500-50200",null,null,null,null,null,null,null,"ENG/OB",null,null,null,null,null,null,"47.2 GHz- 50.2 GHz","N/A","N/A","N/A"]
["Czech Republic",{"$f":"VLOOKUP(A72, 'Country names'!$A$5:$C$53,3,FALSE)","v":"CZE"},null,null,null,null,null,null,null,null,null,null,null,null,null,null,null,null,"N/A","N/A","N/A"]
["Czech Republic",{"$f":"VLOOKUP(A73, 'Country names'!$A$5:$C$53,3,FALSE)","v":"CZE"},"50400-51400",null,null,null,null,null,null,null,null,null,null,null,null,null,null,null,"N/A","N/A","N/A"]
["Czech Republic",{"$f":"VLOOKUP(A74, 'Country names'!$A$5:$C$53,3,FALSE)","v":"CZE"},null,null,null,null,null,null,null,null,null,null,null,null,null,null,null,null,"N/A","N/A","N/A"]
["Czech Republic",{"$f":"VLOOKUP(A75, 'Country names'!$A$5:$C$53,3,FALSE)","v":"CZE"},"51400-52600",null,null,null,null,null,null,null,null,null,null,null,null,null,null,null,"N/A","N/A","N/A"]
["Czech Republic",{"$f":"VLOOKUP(A76, 'Country names'!$A$5:$C$53,3,FALSE)","v":"CZE"},null,null,null,null,null,null,null,null,null,null,null,null,null,null,null,null,"N/A","N/A","N/A"]
["Czech Republic",{"$f":"VLOOKUP(A77, 'Country names'!$A$5:$C$53,3,FALSE)","v":"CZE"},"55780-57000",null,null,null,null,null,null,null,null,null,null,null,null,null,null,null,"N/A","N/A","N/A"]
["Czech Republic",{"$f":"VLOOKUP(A78, 'Country names'!$A$5:$C$53,3,FALSE)","v":"CZE"},null,null,null,null,null,null,null,null,null,null,null,null,null,null,null,null,"N/A","N/A","N/A"]
["Czech Republic",{"$f":"VLOOKUP(A79, 'Country names'!$A$5:$C$53,3,FALSE)","v":"CZE"},"57000-59000","X",null,null,null,"X",null,null,null,null,null,null,null,3,null,"see the EFIS","N/A","N/A","N/A"]
["Czech Republic",{"$f":"VLOOKUP(A80, 'Country names'!$A$5:$C$53,3,FALSE)","v":"CZE"},null,null,null,null,null,null,null,null,null,null,null,null,null,null,null,null,"N/A","N/A","N/A"]
["Czech Republic",{"$f":"VLOOKUP(A81, 'Country names'!$A$5:$C$53,3,FALSE)","v":"CZE"},"59000-64000",null,null,null,null,null,null,null,null,null,null,null,null,null,null,null,"N/A","N/A","N/A"]
["Czech Republic",{"$f":"VLOOKUP(A82, 'Country names'!$A$5:$C$53,3,FALSE)","v":"CZE"},null,null,null,null,null,null,null,null,null,null,null,null,null,null,null,null,"N/A","N/A","N/A"]
["Czech Republic",{"$f":"VLOOKUP(A83, 'Country names'!$A$5:$C$53,3,FALSE)","v":"CZE"},"64000-66000",null,null,null,null,null,null,null,null,null,null,null,null,null,null,null,"N/A","N/A","N/A"]
["Czech Republic",{"$f":"VLOOKUP(A84, 'Country names'!$A$5:$C$53,3,FALSE)","v":"CZE"},null,null,null,null,null,null,null,null,null,null,null,null,null,null,null,null,"N/A","N/A","N/A"]
["Czech Republic",{"$f":"VLOOKUP(A85, 'Country names'!$A$5:$C$53,3,FALSE)","v":"CZE"},"71000-76000 and 81000-86000",null,null,"X",null,"X",null,null,null,null,null,null,null,1245,null,"see the EFIS","N/A","N/A","N/A"]
["Czech Republic",{"$f":"VLOOKUP(A86, 'Country names'!$A$5:$C$53,3,FALSE)","v":"CZE"},null,null,null,null,null,null,null,null,null,null,null,null,null,null,null,null,"N/A","N/A","N/A"]
["Czech Republic",{"$f":"VLOOKUP(A87, 'Country names'!$A$5:$C$53,3,FALSE)","v":"CZE"},"92000-95000",null,null,null,null,null,null,null,null,null,null,null,null,null,null,null,"N/A","N/A","N/A"]
["Czech Republic",{"$f":"VLOOKUP(A88, 'Country names'!$A$5:$C$53,3,FALSE)","v":"CZE"},null,null,null,null,null,null,null,null,null,null,null,null,null,null,null,null,"N/A","N/A","N/A"]

{"sheet":"Croatia","index":33,"n_rows":86,"n_cols":28,"rows_kept":86,"cut":false,"hidden":false,"merged":[[0,24,0,27],[3,2,4,2],[5,2,6,2],[9,2,10,2],[0,2,2,2],[0,3,0,6],[1,7,1,8],[1,9,1,10],[1,18,1,20],[1,21,1,23],[0,17,2,17],[0,7,0,8],[0,9,0,13],[0,14,0,15],[0,18,0,23],[13,2,14,2],[15,2,16,2],[45,2,46,2],[23,2,24,2],[25,2,26,2],[27,2,28,2],[29,2,30,2],[31,2,32,2],[33,2,34,2],[35,2,36,2],[37,2,38,2],[39,2,40,2],[41,2,42,2],[43,2,44,2],[21,2,22,2],[69,2,70,2],[47,2,48,2],[49,2,50,2],[51,2,52,2],[53,2,54,2],[55,2,56,2],[57,2,58,2],[59,2,60,2],[61,2,62,2],[63,2,64,2],[65,2,66,2],[67,2,68,2],[83,2,84,2],[85,2,86,2],[71,2,72,2],[73,2,74,2],[75,2,76,2],[77,2,78,2],[79,2,80,2],[81,2,82,2]]}
[null,null,"Frequency band (MHz)","Licensing regime",null,null,null," Topo-logy",null,"Application",null,null,null,null,"Number of P-P links",null,"Number of CS","Channel/Frequency plan used (e.g. ERC/ECC Rec. ITU-R Rec.)","Link characteristics",null,null,null,null,null,"Future trends (e.g. in the next 5 years)"]
[null,null,null,null,null,null,null,"FWA",null,"Network Infrastruc-ture",null,null,null,null,null,null,null,null,"Capacity",null,null,"Hop length (km)"]
[null,null,null,"Link by link","Block","Light licensed","Licence exempt","P-P","P-MP","Mobile backhaul","Others","Broadcasting Infrastructure","No Information available on the application","Other (please indicate)","unidirection","bidirectional (1 bidirectional link counts 1)","(applicable only for P-MP and mesh networks)",null,"LOW (<10 Mbit/s)","MEDIUM (10 to 100 Mbit/s)","HIGH (>100 Mbit/s)","MIN","Typical figure","MAX","Anticipated growth/reduction (+/-%)","Currently congested","Planned reallocation to other service/application","Other (please describe)\n(see Question 3 of the Questionnaire)"]
["Croatia",{"$f":"VLOOKUP(A4, 'Country names'!$A$5:$C$53,3,FALSE)","v":"HRV"},"1350-1375 and 1492-1517",null,null,null,null,null,null,null,null,null,null,null,null,null,null,"T/R 13-01 Annex A"]
["Croatia",{"$f":"VLOOKUP(A5, 'Country names'!$A$5:$C$53,3,FALSE)","v":"HRV"},null,"X",null,null,null,"X",null,null,null,null,null,"X",1,null,null,"National plan","X",null,null,9.33,9.33,9.33,-100,null,"X"]
["Croatia",{"$f":"VLOOKUP(A6, 'Country names'!$A$5:$C$53,3,FALSE)","v":"HRV"},"1375-1400 and 1427-1452",null,null,null,null,null,null,null,null,null,null,null,null,null,null,"T/R 13-01 Annex B"]
["Croatia",{"$f":"VLOOKUP(A7, 'Country names'!$A$5:$C$53,3,FALSE)","v":"HRV"},null,"X",null,null,null,"X",null,null,null,null,null,"X",1,null,null,"National plan","X",null,null,9.33,9.33,9.33,-100,null,"X"]
["Croatia",{"$f":"VLOOKUP(A8, 'Country names'!$A$5:$C$53,3,FALSE)","v":"HRV"},"2025-2110 and 2200-2290",null,null,null,null,null,null,null,null,null,null,null,null,null,null,"T/R 13-01 Annex C"]
["Croatia",{"$f":"VLOOKUP(A9, 'Country names'!$A$5:$C$53,3,FALSE)","v":"HRV"},"2085-2110","X",null,null,null,"X",null,null,null,"X",null,null,189,null,null,"National plan","ANALOG",null,null,0.09,9.5399999999999991,55.74,2]
["Croatia",{"$f":"VLOOKUP(A10, 'Country names'!$A$5:$C$53,3,FALSE)","v":"HRV"},"3400-3600",null,"X",null,null,null,"X",null,null,null,null,null,null,null,5,"ERC/REC 14-03",null,"X",null,null,null,null,null,null,"X"]
["Croatia",{"$f":"VLOOKUP(A11, 'Country names'!$A$5:$C$53,3,FALSE)","v":"HRV"}]
["Croatia",{"$f":"VLOOKUP(A12, 'Country names'!$A$5:$C$53,3,FALSE)","v":"HRV"},"3800-4200","X",null,null,null,"X",null,null,null,"X",null,null,null,67,null,"ERC/REC 12-08",null,null,"X",20.27,60.33,91.57]
["Croatia",{"$f":"VLOOKUP(A13, 'Country names'!$A$5:$C$53,3,FALSE)","v":"HRV"},"3600-3800","X",null,null,null,"X",null,null,null,null,null,"ENG/OB",null,7,null,"National plan",null,"X",null,null,null,null,-100,null,"X"]
["Croatia",{"$f":"VLOOKUP(A14, 'Country names'!$A$5:$C$53,3,FALSE)","v":"HRV"},"4400-5000"]
["Croatia",{"$f":"VLOOKUP(A15, 'Country names'!$A$5:$C$53,3,FALSE)","v":"HRV"}]
["Croatia",{"$f":"VLOOKUP(A16, 'Country names'!$A$5:$C$53,3,FALSE)","v":"HRV"},"5850-5925"]
["Croatia",{"$f":"VLOOKUP(A17, 'Country names'!$A$5:$C$53,3,FALSE)","v":"HRV"}]
["Croatia",{"$f":"VLOOKUP(A18, 'Country names'!$A$5:$C$53,3,FALSE)","v":"HRV"},"5925-6425","X",null,null,null,"X",null,"X",null,"X",null,null,null,74,null,"ERC/REC 14-01",null,null,"X",10.7,33.72,70.930000000000007]
["Croatia",{"$f":"VLOOKUP(A19, 'Country names'!$A$5:$C$53,3,FALSE)","v":"HRV"},"6425-7125","X",null,null,null,"X",null,"X",null,"X",null,null,null,29,null,"ERC/REC 14-02",null,null,"X",16.12,40.5,71.33]
["Croatia",{"$f":"VLOOKUP(A20, 'Country names'!$A$5:$C$53,3,FALSE)","v":"HRV"},"7125-7425","X",null,null,null,"X",null,null,"X",null,null,null,null,14,null,"ECC REC (02)06","X","X",null,3.76,37.159999999999997,85.56]
["Croatia",{"$f":"VLOOKUP(A21, 'Country names'!$A$5:$C$53,3,FALSE)","v":"HRV"},"7425-7725","X",null,null,null,"X",null,"X","X","X",null,null,null,181,null,"ECC REC (02)06",null,"X","X",7.08,32,88.87,20,"X"]
["Croatia",{"$f":"VLOOKUP(A22, 'Country names'!$A$5:$C$53,3,FALSE)","v":"HRV"},"7725-8275","X",null,null,null,"X",null,null,null,"X",null,null,null,137,null,"ECC REC (02)06",null,null,"X",21.14,52.3,91.57,2]
["Croatia",{"$f":"VLOOKUP(A23, 'Country names'!$A$5:$C$53,3,FALSE)","v":"HRV"}]
["Croatia",{"$f":"VLOOKUP(A24, 'Country names'!$A$5:$C$53,3,FALSE)","v":"HRV"},"8275-8500","X",null,null,null,"X",null,null,"X","X",null,null,null,10,null,"ECC REC (02)06",null,"X","X",22.07,44,64.66]
["Croatia",{"$f":"VLOOKUP(A25, 'Country names'!$A$5:$C$53,3,FALSE)","v":"HRV"}]
["Croatia",{"$f":"VLOOKUP(A26, 'Country names'!$A$5:$C$53,3,FALSE)","v":"HRV"},"10000-10680",null,null,null,null,null,null,null,null,null,null,null,null,null,null,"ERC/REC 12-05"]
["Croatia",{"$f":"VLOOKUP(A27, 'Country names'!$A$5:$C$53,3,FALSE)","v":"HRV"}]
["Croatia",{"$f":"VLOOKUP(A28, 'Country names'!$A$5:$C$53,3,FALSE)","v":"HRV"},"10700-11700","X",null,null,null,"X",null,"X","X","X",null,null,null,10,null,"ERC/REC 12-06",null,null,"X",7.49,21.84,29.87]
["Croatia",{"$f":"VLOOKUP(A29, 'Country names'!$A$5:$C$53,3,FALSE)","v":"HRV"}]
["Croatia",{"$f":"VLOOKUP(A30, 'Country names'!$A$5:$C$53,3,FALSE)","v":"HRV"},"11700-12500"]
["Croatia",{"$f":"VLOOKUP(A31, 'Country names'!$A$5:$C$53,3,FALSE)","v":"HRV"}]
["Croatia",{"$f":"VLOOKUP(A32, 'Country names'!$A$5:$C$53,3,FALSE)","v":"HRV"},"12750-13250","X",null,null,null,"X",null,"X","X","X",null,null,null,437,null,"ERC/REC 12-02",null,"X","X",1.62,17.39,49.27,20,"X"]
["Croatia",{"$f":"VLOOKUP(A33, 'Country names'!$A$5:$C$53,3,FALSE)","v":"HRV"}]
["Croatia",{"$f":"VLOOKUP(A34, 'Country names'!$A$5:$C$53,3,FALSE)","v":"HRV"},"14250-14500"]
["Croatia",{"$f":"VLOOKUP(A35, 'Country names'!$A$5:$C$53,3,FALSE)","v":"HRV"}]
["Croatia",{"$f":"VLOOKUP(A36, 'Country names'!$A$5:$C$53,3,FALSE)","v":"HRV"},"14500-14620 and 15230-15350","X",null,null,null,"X",null,null,null,"X",null,null,1,null,null,"ERC/REC 12-07","ANALOG",null,null,12.95,12.95,12.95,-100]
["Croatia",{"$f":"VLOOKUP(A37, 'Country names'!$A$5:$C$53,3,FALSE)","v":"HRV"}]
["Croatia",{"$f":"VLOOKUP(A38, 'Country names'!$A$5:$C$53,3,FALSE)","v":"HRV"},"17300-17700"]
["Croatia",{"$f":"VLOOKUP(A39, 'Country names'!$A$5:$C$53,3,FALSE)","v":"HRV"}]
["Croatia",{"$f":"VLOOKUP(A40, 'Country names'!$A$5:$C$53,3,FALSE)","v":"HRV"},"17700-19700","X",null,null,null,"X",null,"X","X","X",null,null,null,720,null,"ERC/REC 12-03","X","X","X",0.53,9.67,24.64,20]
["Croatia",{"$f":"VLOOKUP(A41, 'Country names'!$A$5:$C$53,3,FALSE)","v":"HRV"}]
["Croatia",{"$f":"VLOOKUP(A42, 'Country names'!$A$5:$C$53,3,FALSE)","v":"HRV"},"21200-22000"]
["Croatia",{"$f":"VLOOKUP(A43, 'Country names'!$A$5:$C$53,3,FALSE)","v":"HRV"}]
["Croatia",{"$f":"VLOOKUP(A44, 'Country names'!$A$5:$C$53,3,FALSE)","v":"HRV"},"22000-22600 and 23000-23600","X",null,null,null,"X",null,"X","X","X",null,null,null,1373,null,"T/R 13-02 Annexes A1, A2, A3","X","X","X",0.14000000000000001,5.16,16.63,10]
["Croatia",{"$f":"VLOOKUP(A45, 'Country names'!$A$5:$C$53,3,FALSE)","v":"HRV"}]
["Croatia",{"$f":"VLOOKUP(A46, 'Country names'!$A$5:$C$53,3,FALSE)","v":"HRV"},"22600-23000"]
["Croatia",{"$f":"VLOOKUP(A47, 'Country names'!$A$5:$C$53,3,FALSE)","v":"HRV"}]
["Croatia",{"$f":"VLOOKUP(A48, 'Country names'!$A$5:$C$53,3,FALSE)","v":"HRV"},"24250-24500"]
["Croatia",{"$f":"VLOOKUP(A49, 'Country names'!$A$5:$C$53,3,FALSE)","v":"HRV"}]
["Croatia",{"$f":"VLOOKUP(A50, 'Country names'!$A$5:$C$53,3,FALSE)","v":"HRV"},"24500-26500",null,null,null,null,null,null,null,null,null,null,null,null,null,null,"T/R 13-02 Annex B"]
["Croatia",{"$f":"VLOOKUP(A51, 'Country names'!$A$5:$C$53,3,FALSE)","v":"HRV"}]
["Croatia",{"$f":"VLOOKUP(A52, 'Country names'!$A$5:$C$53,3,FALSE)","v":"HRV"},"26500-27500"]
["Croatia",{"$f":"VLOOKUP(A53, 'Country names'!$A$5:$C$53,3,FALSE)","v":"HRV"}]
["Croatia",{"$f":"VLOOKUP(A54, 'Country names'!$A$5:$C$53,3,FALSE)","v":"HRV"},"27500-29500","X",null,null,null,"X",null,"X",null,null,null,null,null,4,null,"T/R 13-02 Annex C",null,null,"X",0.46,1.02,1.77,500]
["Croatia",{"$f":"VLOOKUP(A55, 'Country names'!$A$5:$C$53,3,FALSE)","v":"HRV"}]
["Croatia",{"$f":"VLOOKUP(A56, 'Country names'!$A$5:$C$53,3,FALSE)","v":"HRV"},"31000-31300",null,null,null,null,null,null,null,null,null,null,null,null,null,null,"ECC/REC/(02)02"]
["Croatia",{"$f":"VLOOKUP(A57, 'Country names'!$A$5:$C$53,3,FALSE)","v":"HRV"}]
["Croatia",{"$f":"VLOOKUP(A58, 'Country names'!$A$5:$C$53,3,FALSE)","v":"HRV"},"31800-33400",null,null,null,null,null,null,null,null,null,null,null,null,null,null,"ERC/REC/(01)02"]
["Croatia",{"$f":"VLOOKUP(A59, 'Country names'!$A$5:$C$53,3,FALSE)","v":"HRV"}]
["Croatia",{"$f":"VLOOKUP(A60, 'Country names'!$A$5:$C$53,3,FALSE)","v":"HRV"},"36000-37000"]
["Croatia",{"$f":"VLOOKUP(A61, 'Country names'!$A$5:$C$53,3,FALSE)","v":"HRV"}]
["Croatia",{"$f":"VLOOKUP(A62, 'Country names'!$A$5:$C$53,3,FALSE)","v":"HRV"},"37000-39500","X",null,null,null,"X",null,"X",null,null,null,null,null,455,null,"T/R 12-01",null,"X","X",0.05,1.56,7.55,10]
["Croatia",{"$f":"VLOOKUP(A63, 'Country names'!$A$5:$C$53,3,FALSE)","v":"HRV"}]
["Croatia",{"$f":"VLOOKUP(A64, 'Country names'!$A$5:$C$53,3,FALSE)","v":"HRV"},"39500-40500"]
["Croatia",{"$f":"VLOOKUP(A65, 'Country names'!$A$5:$C$53,3,FALSE)","v":"HRV"}]
["Croatia",{"$f":"VLOOKUP(A66, 'Country names'!$A$5:$C$53,3,FALSE)","v":"HRV"},"40500-43500",null,null,null,null,null,null,null,null,null,null,null,null,null,null,"ECC/REC/(01)04"]
["Croatia",{"$f":"VLOOKUP(A67, 'Country names'!$A$5:$C$53,3,FALSE)","v":"HRV"}]
["Croatia",{"$f":"VLOOKUP(A68, 'Country names'!$A$5:$C$53,3,FALSE)","v":"HRV"},"47200-48500"]
["Croatia",{"$f":"VLOOKUP(A69, 'Country names'!$A$5:$C$53,3,FALSE)","v":"HRV"}]
["Croatia",{"$f":"VLOOKUP(A70, 'Country names'!$A$5:$C$53,3,FALSE)","v":"HRV"},"48500-50200",null,null,null,null,null,null,null,null,null,null,null,null,null,null,"ERC/REC 12-11"]
["Croatia",{"$f":"VLOOKUP(A71, 'Country names'!$A$5:$C$53,3,FALSE)","v":"HRV"}]
["Croatia",{"$f":"VLOOKUP(A72, 'Country names'!$A$5:$C$53,3,FALSE)","v":"HRV"},"50400-51400"]
["Croatia",{"$f":"VLOOKUP(A73, 'Country names'!$A$5:$C$53,3,FALSE)","v":"HRV"}]
["Croatia",{"$f":"VLOOKUP(A74, 'Country names'!$A$5:$C$53,3,FALSE)","v":"HRV"},"51400-52600",null,null,null,null,null,null,null,null,null,null,null,null,null,null,"ERC/REC 12-11"]
["Croatia",{"$f":"VLOOKUP(A75, 'Country names'!$A$5:$C$53,3,FALSE)","v":"HRV"}]
["Croatia",{"$f":"VLOOKUP(A76, 'Country names'!$A$5:$C$53,3,FALSE)","v":"HRV"},"55780-57000",null,null,null,null,null,null,null,null,null,null,null,null,null,null,"ERC/REC 12-12"]
["Croatia",{"$f":"VLOOKUP(A77, 'Country names'!$A$5:$C$53,3,FALSE)","v":"HRV"}]
["Croatia",{"$f":"VLOOKUP(A78, 'Country names'!$A$5:$C$53,3,FALSE)","v":"HRV"},"57000-59000",null,null,null,null,null,null,null,null,null,null,null,null,null,null,"ECC/REC/(09)01"]
["Croatia",{"$f":"VLOOKUP(A79, 'Country names'!$A$5:$C$53,3,FALSE)","v":"HRV"}]
["Croatia",{"$f":"VLOOKUP(A80, 'Country names'!$A$5:$C$53,3,FALSE)","v":"HRV"},"59000-64000",null,null,null,null,null,null,null,null,null,null,null,null,null,null,"ECC/REC/(09)01"]
["Croatia",{"$f":"VLOOKUP(A81, 'Country names'!$A$5:$C$53,3,FALSE)","v":"HRV"}]
["Croatia",{"$f":"VLOOKUP(A82, 'Country names'!$A$5:$C$53,3,FALSE)","v":"HRV"},"64000-66000",null,null,null,null,null,null,null,null,null,null,null,null,null,null,"ECC/REC/(05)02"]
["Croatia",{"$f":"VLOOKUP(A83, 'Country names'!$A$5:$C$53,3,FALSE)","v":"HRV"}]
["Croatia",{"$f":"VLOOKUP(A84, 'Country names'!$A$5:$C$53,3,FALSE)","v":"HRV"},"71000-76000 and 81000-86000",null,null,"X",null,"X",null,"X","X",null,null,null,null,17,null,"ECC/REC/(05)07",null,null,"X",0.36,2.37,8.8000000000000007,500]
["Croatia",{"$f":"VLOOKUP(A85, 'Country names'!$A$5:$C$53,3,FALSE)","v":"HRV"}]
["Croatia",{"$f":"VLOOKUP(A86, 'Country names'!$A$5:$C$53,3,FALSE)","v":"HRV"},"92000-95000",null,null,null,null,null,null,null,null,null,null,null,null,null,null,"ECC/REC (14)01"]

{"sheet":"Malta","index":34,"n_rows":84,"n_cols":28,"rows_kept":84,"cut":false,"hidden":false,"merged":[[0,2,2,2],[0,3,0,6],[0,7,0,8],[0,9,0,13],[0,14,0,15],[0,18,0,23],[0,24,0,27],[1,7,1,8],[1,9,1,10],[1,18,1,20],[1,21,1,23],[0,17,2,17],[19,2,20,2],[3,2,4,2],[3,17,4,17],[5,2,6,2],[5,17,6,17],[7,2,8,2],[7,17,8,17],[9,2,10,2],[11,2,12,2],[13,2,14,2],[15,2,16,2],[17,2,18,2],[45,2,46,2],[21,2,22,2],[23,2,24,2],[25,2,26,2],[27,2,28,2],[29,2,30,2],[31,2,32,2],[33,2,34,2],[36,2,37,2],[38,2,39,2],[40,2,41,2],[43,2,44,2],[69,2,70,2],[47,2,48,2],[49,2,50,2],[51,2,52,2],[53,2,54,2],[55,2,56,2],[57,2,58,2],[59,2,60,2],[61,2,62,2],[63,2,64,2],[65,2,66,2],[67,2,68,2],[83,2,84,2],[71,2,72,2],[73,2,74,2],[75,2,76,2],[77,2,78,2],[79,2,80,2],[81,2,82,2]]}
[null,null,"Frequency band (MHz)","Licensing regime",null,null,null," Topo-logy",null,"Application",null,null,null,null,"Number of P-P links",null,"Number of CS","Channel/Frequency plan used (e.g. ERC/ECC Rec. ITU-R Rec.)","Link characteristics",null,null,null,null,null,"Future trends (e.g. in the next 5 years)"]
[null,null,null,null,null,null,null,"FWA",null,"Network Infrastruc-ture",null,null,null,null,null,null,null,null,"Capacity",null,null,"Hop length (km)"]
[null,null,null,"Link by link","Block","Light licensed","Licence exempt","P-P","P-MP","Mobile backhaul","Others","Broadcasting Infrastructure","No Information available on the application","Other (please indicate)","unidirection","bidirectional (1 bidirectional link counts 1)","(applicable only for P-MP and mesh networks)",null,"LOW (<10 Mbit/s)","MEDIUM (10 to 100 Mbit/s)","HIGH (>100 Mbit/s)","MIN","Typical figure","MAX","Anticipated growth/reduction (+/-%)","Currently congested","Planned reallocation to other service/application","Other (please describe)\n(see Question 3 of the Questionnaire)"]
["Malta",{"$f":"VLOOKUP(A4, 'Country names'!$A$5:$C$53,3,FALSE)","v":"MLT"},"1350-1375 and 1492-1517"," ",null,null,null,null,null,null,null,null,null," ",null,null,null,"ERC Rec T/R 13-01"]
["Malta",{"$f":"VLOOKUP(A5, 'Country names'!$A$5:$C$53,3,FALSE)","v":"MLT"},null," ",null,null,null,null,null,null,null,null,null," "]
["Malta",{"$f":"VLOOKUP(A6, 'Country names'!$A$5:$C$53,3,FALSE)","v":"MLT"},"1375-1400 and 1427-1452"," ",null,null,null,null,null,null,null,null,null," ",null,null,null,"ERC Rec T/R 13-01"]
["Malta",{"$f":"VLOOKUP(A7, 'Country names'!$A$5:$C$53,3,FALSE)","v":"MLT"}]
["Malta",{"$f":"VLOOKUP(A8, 'Country names'!$A$5:$C$53,3,FALSE)","v":"MLT"},"2025-2110 and 2200-2290","X",null,null,null,"X",null,null,null,"X",null,null,7,null,null,"ERC Rec T/R 13-01",null,null,null,7.7,7.7,7.7]
["Malta",{"$f":"VLOOKUP(A9, 'Country names'!$A$5:$C$53,3,FALSE)","v":"MLT"},null,"X",null,null,null,"X",null,null,null,"X",null,null,4," ",null,null,null,null,null,3,3.2,3.4]
["Malta",{"$f":"VLOOKUP(A10, 'Country names'!$A$5:$C$53,3,FALSE)","v":"MLT"},"3400-3600","X",null,null,null,"X",null,null,"X",null,null,"Telecomms infrastructure backhaul",null,1,null,"ERC Rec 14-03",null,null,null,9.1,9.1,9.1,-1]
["Malta",{"$f":"VLOOKUP(A11, 'Country names'!$A$5:$C$53,3,FALSE)","v":"MLT"}]
["Malta",{"$f":"VLOOKUP(A12, 'Country names'!$A$5:$C$53,3,FALSE)","v":"MLT"},"3600-4200",null,null,null,null,null,null,null,null,null,null,null,null,null,null,"ERC Rec 12-08"]
["Malta",{"$f":"VLOOKUP(A13, 'Country names'!$A$5:$C$53,3,FALSE)","v":"MLT"}]
["Malta",{"$f":"VLOOKUP(A14, 'Country names'!$A$5:$C$53,3,FALSE)","v":"MLT"},"4400-5000"]
["Malta",{"$f":"VLOOKUP(A15, 'Country names'!$A$5:$C$53,3,FALSE)","v":"MLT"}]
["Malta",{"$f":"VLOOKUP(A16, 'Country names'!$A$5:$C$53,3,FALSE)","v":"MLT"},"5850-5925"]
["Malta",{"$f":"VLOOKUP(A17, 'Country names'!$A$5:$C$53,3,FALSE)","v":"MLT"}]
["Malta",{"$f":"VLOOKUP(A18, 'Country names'!$A$5:$C$53,3,FALSE)","v":"MLT"},"5925-7125","X",null,null,null,"X",null,null,"X",null,null,"Telecomms infrastructure backhaul",null,7,null,"ERC Rec 14-01 and ERC Rec 14-02,",null,null,null,19.7,20.6,21.5]
["Malta",{"$f":"VLOOKUP(A19, 'Country names'!$A$5:$C$53,3,FALSE)","v":"MLT"},null," "]
["Malta",{"$f":"VLOOKUP(A20, 'Country names'!$A$5:$C$53,3,FALSE)","v":"MLT"},"7125-7750","X",null,null,null,"X",null,"X","X","X",null,"Telecomms infrastructure backhaul",3,12,null,"ECC Rec (02)06",null,"X","X",1.6,13,25,0.13]
["Malta",{"$f":"VLOOKUP(A21, 'Country names'!$A$5:$C$53,3,FALSE)","v":"MLT"}]
["Malta",{"$f":"VLOOKUP(A22, 'Country names'!$A$5:$C$53,3,FALSE)","v":"MLT"},"7750-7900",null,null,null,null,null,null,null,null,null,null,null,null,null,null,"ECC Rec (02)06"]
["Malta",{"$f":"VLOOKUP(A23, 'Country names'!$A$5:$C$53,3,FALSE)","v":"MLT"}]
["Malta",{"$f":"VLOOKUP(A24, 'Country names'!$A$5:$C$53,3,FALSE)","v":"MLT"},"7900-8500","X",null,null,null,"X",null,"X","X",null,null,"Telecomms infrastructure backhaul"," ",3,null,"ECC Rec (02)06",null,null,"X",2.9,15.6,28.3," "]
["Malta",{"$f":"VLOOKUP(A25, 'Country names'!$A$5:$C$53,3,FALSE)","v":"MLT"}]
["Malta",{"$f":"VLOOKUP(A26, 'Country names'!$A$5:$C$53,3,FALSE)","v":"MLT"},"10000-10680","X",null,null,null,"X",null,null,null,"X",null,null,4,1,null,"ERC Rec 12-05",null,null,null,3,4.8,7.3," "]
["Malta",{"$f":"VLOOKUP(A27, 'Country names'!$A$5:$C$53,3,FALSE)","v":"MLT"}]
["Malta",{"$f":"VLOOKUP(A28, 'Country names'!$A$5:$C$53,3,FALSE)","v":"MLT"},"10700-11700","X"," ",null,null,"X",null,"X",null,"X",null,null,null,43,null,"ERC Rec 12-06",null,null,"X",1.5,6.5,21.5,null,null,null,"No change"]
["Malta",{"$f":"VLOOKUP(A29, 'Country names'!$A$5:$C$53,3,FALSE)","v":"MLT"}]
["Malta",{"$f":"VLOOKUP(A30, 'Country names'!$A$5:$C$53,3,FALSE)","v":"MLT"},"11700-12500","X",null,null,null,"X",null,null,null,"X",null,null,2,null,null,null,null,null,null,5.4,14.2,23]
["Malta",{"$f":"VLOOKUP(A31, 'Country names'!$A$5:$C$53,3,FALSE)","v":"MLT"}]
["Malta",{"$f":"VLOOKUP(A32, 'Country names'!$A$5:$C$53,3,FALSE)","v":"MLT"},"12750-13250","X",null,null,null,"X"," ",null,null,"X",null,null,4," "," ","ERC Rec 12-02",null,null,null,1.8,2.8,3.8]
["Malta",{"$f":"VLOOKUP(A33, 'Country names'!$A$5:$C$53,3,FALSE)","v":"MLT"}]
["Malta",{"$f":"VLOOKUP(A34, 'Country names'!$A$5:$C$53,3,FALSE)","v":"MLT"},"14250-14500"]
["Malta",{"$f":"VLOOKUP(A35, 'Country names'!$A$5:$C$53,3,FALSE)","v":"MLT"}]
["Malta",{"$f":"VLOOKUP(A36, 'Country names'!$A$5:$C$53,3,FALSE)","v":"MLT"},"14500-15350","X",null,null,null,"X",null,"X","X",null,null,"Telecomms infrastructure backhaul"," ",23,null,"ITU-R F636-4",null,null,"X",1,9.1,20,0.17]
["Malta",{"$f":"VLOOKUP(A37, 'Country names'!$A$5:$C$53,3,FALSE)","v":"MLT"},"17300-17700",null,null,null,null,null,null,null,null,null,null,null,null,null,null,null,null,null,null,null," "]
["Malta",{"$f":"VLOOKUP(A38, 'Country names'!$A$5:$C$53,3,FALSE)","v":"MLT"}]
["Malta",{"$f":"VLOOKUP(A39, 'Country names'!$A$5:$C$53,3,FALSE)","v":"MLT"},"17700-19700","X"," ",null,null,"X",null,"X",null,null,null,null,null,79,null,"ERC Rec 12-03",null,null,"X",1,4,12,0.1]
["Malta",{"$f":"VLOOKUP(A40, 'Country names'!$A$5:$C$53,3,FALSE)","v":"MLT"}]
["Malta",{"$f":"VLOOKUP(A41, 'Country names'!$A$5:$C$53,3,FALSE)","v":"MLT"},"21200-22000"]
["Malta",{"$f":"VLOOKUP(A42, 'Country names'!$A$5:$C$53,3,FALSE)","v":"MLT"}]
["Malta",{"$f":"VLOOKUP(A43, 'Country names'!$A$5:$C$53,3,FALSE)","v":"MLT"},"22000-22600 and 23000-23600","X"," ",null,null,"X",null,"X",null,null,null,null,null,505,null,"ERC Rec T/R 13-02 ",null,null,"X",0.1,1.7,10,0.3]
["Malta",{"$f":"VLOOKUP(A44, 'Country names'!$A$5:$C$53,3,FALSE)","v":"MLT"},"22600-23000"]
["Malta",{"$f":"VLOOKUP(A45, 'Country names'!$A$5:$C$53,3,FALSE)","v":"MLT"}]
["Malta",{"$f":"VLOOKUP(A46, 'Country names'!$A$5:$C$53,3,FALSE)","v":"MLT"},"24250-24500"]
["Malta",{"$f":"VLOOKUP(A47, 'Country names'!$A$5:$C$53,3,FALSE)","v":"MLT"}]
["Malta",{"$f":"VLOOKUP(A48, 'Country names'!$A$5:$C$53,3,FALSE)","v":"MLT"},"24500-26500",null,null,null,null,null,null,null,null,null,null,null,null,null,null,"ERC Rec T/R 13-02 "]
["Malta",{"$f":"VLOOKUP(A49, 'Country names'!$A$5:$C$53,3,FALSE)","v":"MLT"}]
["Malta",{"$f":"VLOOKUP(A50, 'Country names'!$A$5:$C$53,3,FALSE)","v":"MLT"},"26500-27500"]
["Malta",{"$f":"VLOOKUP(A51, 'Country names'!$A$5:$C$53,3,FALSE)","v":"MLT"}]
["Malta",{"$f":"VLOOKUP(A52, 'Country names'!$A$5:$C$53,3,FALSE)","v":"MLT"},"27500-29500",null,null,null,null,null,null,null,null,null,null,null,null,null,null,"ERC Rec T/R 13-02"]
["Malta",{"$f":"VLOOKUP(A53, 'Country names'!$A$5:$C$53,3,FALSE)","v":"MLT"}]
["Malta",{"$f":"VLOOKUP(A54, 'Country names'!$A$5:$C$53,3,FALSE)","v":"MLT"},"31000-31300",null,null,null,null,null,null,null,null,null,null,null,null,null,null," "]
["Malta",{"$f":"VLOOKUP(A55, 'Country names'!$A$5:$C$53,3,FALSE)","v":"MLT"}]
["Malta",{"$f":"VLOOKUP(A56, 'Country names'!$A$5:$C$53,3,FALSE)","v":"MLT"},"31800-33400",null,null,null,null,null,null,null,null,null,null,null,null,null,null,"ECC Rec (01)02"]
["Malta",{"$f":"VLOOKUP(A57, 'Country names'!$A$5:$C$53,3,FALSE)","v":"MLT"}]
["Malta",{"$f":"VLOOKUP(A58, 'Country names'!$A$5:$C$53,3,FALSE)","v":"MLT"},"36000-37000"]
["Malta",{"$f":"VLOOKUP(A59, 'Country names'!$A$5:$C$53,3,FALSE)","v":"MLT"}]
["Malta",{"$f":"VLOOKUP(A60, 'Country names'!$A$5:$C$53,3,FALSE)","v":"MLT"},"37000-39500","X",null,null,null,"X",null,"X",null,null,null,null,null,1,null,"ERC Rec T/R 12-01",null,null,null,1.7,1.7,1.7]
["Malta",{"$f":"VLOOKUP(A61, 'Country names'!$A$5:$C$53,3,FALSE)","v":"MLT"}]
["Malta",{"$f":"VLOOKUP(A62, 'Country names'!$A$5:$C$53,3,FALSE)","v":"MLT"},"39500-40500"]
["Malta",{"$f":"VLOOKUP(A63, 'Country names'!$A$5:$C$53,3,FALSE)","v":"MLT"}]
["Malta",{"$f":"VLOOKUP(A64, 'Country names'!$A$5:$C$53,3,FALSE)","v":"MLT"},"40500-43500",null,null,null,null,null,null,null,null,null,null,null,null,null,null,"ECC Rec (01)04"]
["Malta",{"$f":"VLOOKUP(A65, 'Country names'!$A$5:$C$53,3,FALSE)","v":"MLT"}]
["Malta",{"$f":"VLOOKUP(A66, 'Country names'!$A$5:$C$53,3,FALSE)","v":"MLT"},"47200-48500"]
["Malta",{"$f":"VLOOKUP(A67, 'Country names'!$A$5:$C$53,3,FALSE)","v":"MLT"}]
["Malta",{"$f":"VLOOKUP(A68, 'Country names'!$A$5:$C$53,3,FALSE)","v":"MLT"},"48500-50200",null,null,null,null,null,null,null,null,null,null,null,null,null,null,"ERC Rec 12-11"]
["Malta",{"$f":"VLOOKUP(A69, 'Country names'!$A$5:$C$53,3,FALSE)","v":"MLT"}]
["Malta",{"$f":"VLOOKUP(A70, 'Country names'!$A$5:$C$53,3,FALSE)","v":"MLT"},"50400-51400"]
["Malta",{"$f":"VLOOKUP(A71, 'Country names'!$A$5:$C$53,3,FALSE)","v":"MLT"}]
["Malta",{"$f":"VLOOKUP(A72, 'Country names'!$A$5:$C$53,3,FALSE)","v":"MLT"},"51400-52600",null,null,null,null,null,null,null,null,null,null,null,null,null,null,"ERC Rec 12-11"]
["Malta",{"$f":"VLOOKUP(A73, 'Country names'!$A$5:$C$53,3,FALSE)","v":"MLT"}]
["Malta",{"$f":"VLOOKUP(A74, 'Country names'!$A$5:$C$53,3,FALSE)","v":"MLT"},"557800-57000",null,null,null,null,null,null,null,null,null,null,null,null,null,null,"ERC Rec 12-12"]
["Malta",{"$f":"VLOOKUP(A75, 'Country names'!$A$5:$C$53,3,FALSE)","v":"MLT"}]
["Malta",{"$f":"VLOOKUP(A76, 'Country names'!$A$5:$C$53,3,FALSE)","v":"MLT"},"57000-59000",null,null,null,null,null,null,null,null,null,null,null,null,null,null,"ECC Rec (09)01"]
["Malta",{"$f":"VLOOKUP(A77, 'Country names'!$A$5:$C$53,3,FALSE)","v":"MLT"}]
["Malta",{"$f":"VLOOKUP(A78, 'Country names'!$A$5:$C$53,3,FALSE)","v":"MLT"},"59000-64000",null,null,null,null,null,null,null,null,null,null,null,null,null,null,"ECC Rec (09)01"]
["Malta",{"$f":"VLOOKUP(A79, 'Country names'!$A$5:$C$53,3,FALSE)","v":"MLT"}]
["Malta",{"$f":"VLOOKUP(A80, 'Country names'!$A$5:$C$53,3,FALSE)","v":"MLT"},"64000-66000",null,null,null,null,null,null,null,null,null,null,null,null,null,null,"ECC Rec (05)02"]
["Malta",{"$f":"VLOOKUP(A81, 'Country names'!$A$5:$C$53,3,FALSE)","v":"MLT"}]
["Malta",{"$f":"VLOOKUP(A82, 'Country names'!$A$5:$C$53,3,FALSE)","v":"MLT"},"71000-76000 and 81000-86000",null,null,null,null,null,null,null,null,null,null,null,null,null,null,"ECC Rec (05)07"]
["Malta",{"$f":"VLOOKUP(A83, 'Country names'!$A$5:$C$53,3,FALSE)","v":"MLT"}]
["Malta",{"$f":"VLOOKUP(A84, 'Country names'!$A$5:$C$53,3,FALSE)","v":"MLT"},"92000-95000",null,null,null,null,null,null,null,null,null,null,null,null,null,null,"ECC Rec (14)01"]

{"sheet":"Norway","index":35,"n_rows":86,"n_cols":28,"rows_kept":86,"cut":false,"hidden":false,"merged":[[85,2,86,2],[63,2,64,2],[65,2,66,2],[67,2,68,2],[69,2,70,2],[71,2,72,2],[73,2,74,2],[75,2,76,2],[77,2,78,2],[79,2,80,2],[81,2,82,2],[83,2,84,2],[61,2,62,2],[39,2,40,2],[41,2,42,2],[43,2,44,2],[45,2,46,2],[47,2,48,2],[49,2,50,2],[51,2,52,2],[53,2,54,2],[55,2,56,2],[57,2,58,2],[59,2,60,2],[9,2,10,2],[11,2,12,2],[37,2,38,2],[15,2,16,2],[17,2,18,2],[19,2,20,2],[21,2,22,2],[23,2,24,2],[25,2,26,2],[27,2,28,2],[29,2,30,2],[31,2,32,2],[33,2,34,2],[35,2,36,2],[13,2,14,2],[0,24,0,27],[3,2,4,2],[5,2,6,2],[7,2,8,2],[0,2,2,2],[0,3,0,6],[1,7,1,8],[1,9,1,10],[1,18,1,20],[1,21,1,23],[0,17,2,17],[0,7,0,8],[0,9,0,13],[0,14,0,15],[0,18,0,23]]}
[null,null,"Frequency band (MHz)","Licensing regime",null,null,null," Topo-logy",null,"Application",null,null,null,null,"Number of P-P links",null,"Number of CS","Channel/Frequency plan used (e.g. ERC/ECC Rec. ITU-R Rec.)","Link characteristics",null,null,null,null,null,"Future trends (e.g. in the next 5 years)"]
[null,null,null,null,null,null,null,"FWA",null,"Network Infrastruc-ture",null,null,null,null,null,null,null,null,"Capacity",null,null,"Hop length (km)"]
[null,null,null,"Link by link","Block","Light licensed","Licence exempt","P-P","P-MP","Mobile backhaul","Others","Broadcasting Infrastructure","No Information available on the application","Other (please indicate)","unidirection","bidirectional (1 bidirectional link counts 1)","(applicable only for P-MP and mesh networks)",null,"LOW (<10 Mbit/s)","MEDIUM (10 to 100 Mbit/s)","HIGH (>100 Mbit/s)","MIN","Typical figure","MAX","Anticipated growth/reduction (+/-%)","Currently congested","Planned reallocation to other service/application","Other (please describe)\n(see Question 3 of the Questionnaire)"]
["Norway",{"$f":"VLOOKUP(A4, 'Country names'!$A$5:$C$53,3,FALSE)","v":"NOR"},"1350-1375 and 1492-1517",null,"x",null,null,null,null,null,null,null,null,null,null,null,0,"T/R 13-01 Annex A",null,null,null,null,null,null,null,null,"x"]
["Norway",{"$f":"VLOOKUP(A5, 'Country names'!$A$5:$C$53,3,FALSE)","v":"NOR"},null,"x",null,null,null,null,null,null,null,null,"x",null,5,29,0,null,"x",null,null,1,18,55,null,null,"x"]
["Norway",{"$f":"VLOOKUP(A6, 'Country names'!$A$5:$C$53,3,FALSE)","v":"NOR"},"1375-1400 and 1427-1452",null,null,null,null,null,null,null,null,null,null,null,null,null,null,"T/R 13-01 Annex B"]
["Norway",{"$f":"VLOOKUP(A7, 'Country names'!$A$5:$C$53,3,FALSE)","v":"NOR"},null,"x",null,null,null,null,null,null,null,null,"x",null,null,17,null,null,"x",null,null,1,19,66,null,null,"x"]
["Norway",{"$f":"VLOOKUP(A8, 'Country names'!$A$5:$C$53,3,FALSE)","v":"NOR"},"2025-2110 and 2200-2290",null,null,null,null,null,null,null,null,null,null,null,null,null,null,"T/R 13-01 Annex C"]
["Norway",{"$f":"VLOOKUP(A9, 'Country names'!$A$5:$C$53,3,FALSE)","v":"NOR"},null,null,"x","x",null,null,null,null,null,null,"x"]
["Norway",{"$f":"VLOOKUP(A10, 'Country names'!$A$5:$C$53,3,FALSE)","v":"NOR"},"3400-3600",null,"x",null,null,"x","x",null,null,null,null,null,null,null,null,"ERC/REC 14-03"]
["Norway",{"$f":"VLOOKUP(A11, 'Country names'!$A$5:$C$53,3,FALSE)","v":"NOR"}]
["Norway",{"$f":"VLOOKUP(A12, 'Country names'!$A$5:$C$53,3,FALSE)","v":"NOR"},"3600-4200",null,"x",null,null,null,"x",null,null,null,null,null,null,null,null,"ERC/REC 12-08"]
["Norway",{"$f":"VLOOKUP(A13, 'Country names'!$A$5:$C$53,3,FALSE)","v":"NOR"}]
["Norway",{"$f":"VLOOKUP(A14, 'Country names'!$A$5:$C$53,3,FALSE)","v":"NOR"},"4400-5000"]
["Norway",{"$f":"VLOOKUP(A15, 'Country names'!$A$5:$C$53,3,FALSE)","v":"NOR"}]
["Norway",{"$f":"VLOOKUP(A16, 'Country names'!$A$5:$C$53,3,FALSE)","v":"NOR"},"5850-5925"]
["Norway",{"$f":"VLOOKUP(A17, 'Country names'!$A$5:$C$53,3,FALSE)","v":"NOR"},null,null,null,null,"x"]
["Norway",{"$f":"VLOOKUP(A18, 'Country names'!$A$5:$C$53,3,FALSE)","v":"NOR"},"5925-7125",null,null,null,null,null,null,null,null,null,null,null,null,null,null,"ERC/REC 14-01 and ERC/REC 14-02, ECC/REC(14)06"]
["Norway",{"$f":"VLOOKUP(A19, 'Country names'!$A$5:$C$53,3,FALSE)","v":"NOR"},null,"x","x",null,null,null,null,null,null,"x","x",null,0,1666,0,null,null,null,null,2,24,123,5]
["Norway",{"$f":"VLOOKUP(A20, 'Country names'!$A$5:$C$53,3,FALSE)","v":"NOR"},"7125-7750",null,null,null,null,null,null,null,null,null,null,null,null,null,null,"National plan"]
["Norway",{"$f":"VLOOKUP(A21, 'Country names'!$A$5:$C$53,3,FALSE)","v":"NOR"},null,"x",null,null,null,null,null,"x",null,null,"x",null,0,622,null,null,"x","x","x",3,32,106,5]
["Norway",{"$f":"VLOOKUP(A22, 'Country names'!$A$5:$C$53,3,FALSE)","v":"NOR"},"7750-7900",null,null,null,null,null,null,null,null,null,null,null,null,null,null,"National plan"]
["Norway",{"$f":"VLOOKUP(A23, 'Country names'!$A$5:$C$53,3,FALSE)","v":"NOR"},null,"x",null,null,null,null,null,null,null,null,"x",null,0,3,null,null,null,null,null,null,40]
["Norway",{"$f":"VLOOKUP(A24, 'Country names'!$A$5:$C$53,3,FALSE)","v":"NOR"},"7900-8500",null,null,null,null,null,null,null,null,null,null,null,null,null,null,"ECC REC (02)06"]
["Norway",{"$f":"VLOOKUP(A25, 'Country names'!$A$5:$C$53,3,FALSE)","v":"NOR"},null,null,"x",null,null,"x",null,null,null,null,"x",null,0,1100,null,null,null,"x"]
["Norway",{"$f":"VLOOKUP(A26, 'Country names'!$A$5:$C$53,3,FALSE)","v":"NOR"},"10000-10680",null,null,null,null,null,null,null,null,null,null,null,null,null,null,"National plan"]
["Norway",{"$f":"VLOOKUP(A27, 'Country names'!$A$5:$C$53,3,FALSE)","v":"NOR"},null,null,"x",null,null,"x",null,null,null,null,"x",null,0,174,null,null,null,null,null,null,null,null,5]
["Norway",{"$f":"VLOOKUP(A28, 'Country names'!$A$5:$C$53,3,FALSE)","v":"NOR"},"10700-11700",null,"x",null,null,null,null,null,null,null,null,null,null,null,null,"ERC/REC 12-06",null,null,null,null,null,null,-100]
["Norway",{"$f":"VLOOKUP(A29, 'Country names'!$A$5:$C$53,3,FALSE)","v":"NOR"}]
["Norway",{"$f":"VLOOKUP(A30, 'Country names'!$A$5:$C$53,3,FALSE)","v":"NOR"},"11700-12500"]
["Norway",{"$f":"VLOOKUP(A31, 'Country names'!$A$5:$C$53,3,FALSE)","v":"NOR"}]
["Norway",{"$f":"VLOOKUP(A32, 'Country names'!$A$5:$C$53,3,FALSE)","v":"NOR"},"12750-13250","x",null,null,null,null,null,null,null,null,null,null,0,337,null,"ERC/REC 12-02",null,null,null,1,18,46]
["Norway",{"$f":"VLOOKUP(A33, 'Country names'!$A$5:$C$53,3,FALSE)","v":"NOR"},null,null,"x",null,null,null,null,null,null,null," x",null,0,1077,null,null,null,"x"]
["Norway",{"$f":"VLOOKUP(A34, 'Country names'!$A$5:$C$53,3,FALSE)","v":"NOR"},"14250-14500"]
["Norway",{"$f":"VLOOKUP(A35, 'Country names'!$A$5:$C$53,3,FALSE)","v":"NOR"},null,null,"x",null,null,null,null,null,null,null,"x"]
["Norway",{"$f":"VLOOKUP(A36, 'Country names'!$A$5:$C$53,3,FALSE)","v":"NOR"},"14500-14620 and 15230-15350",null,null,null,null,null,null,null,null,null,null,null,null,null,null,"ERC/REC 12-07"]
["Norway",{"$f":"VLOOKUP(A37, 'Country names'!$A$5:$C$53,3,FALSE)","v":"NOR"},null,null,"x",null,null,null,null,null,null,null,"x"]
["Norway",{"$f":"VLOOKUP(A38, 'Country names'!$A$5:$C$53,3,FALSE)","v":"NOR"},"17300-17700"]
["Norway",{"$f":"VLOOKUP(A39, 'Country names'!$A$5:$C$53,3,FALSE)","v":"NOR"}]
["Norway",{"$f":"VLOOKUP(A40, 'Country names'!$A$5:$C$53,3,FALSE)","v":"NOR"},"17700-19700","x",null,null,null,null,null,null,null,null,null,null,0,225,null,"ERC/REC 12-03"]
["Norway",{"$f":"VLOOKUP(A41, 'Country names'!$A$5:$C$53,3,FALSE)","v":"NOR"},null,null,"x",null,null,null,null,null,null,null,null,null,null,630,null,null,null,"x","x",1,11,38,10]
["Norway",{"$f":"VLOOKUP(A42, 'Country names'!$A$5:$C$53,3,FALSE)","v":"NOR"},"21200-22000"]
["Norway",{"$f":"VLOOKUP(A43, 'Country names'!$A$5:$C$53,3,FALSE)","v":"NOR"}]
["Norway",{"$f":"VLOOKUP(A44, 'Country names'!$A$5:$C$53,3,FALSE)","v":"NOR"},"22000-22600 and 23000-23600","x",null,null,null,null,null,null,null,null,null,null,null,57,null,"T/R 13-02 Annexes A1, A2, A3",null,"x","x",1,6,25,10]
["Norway",{"$f":"VLOOKUP(A45, 'Country names'!$A$5:$C$53,3,FALSE)","v":"NOR"},null,null,"x",null,null,null,null,null,null,null,null,null,null,235,null,null,null,"x","x"]
["Norway",{"$f":"VLOOKUP(A46, 'Country names'!$A$5:$C$53,3,FALSE)","v":"NOR"},"22600-23000"]
["Norway",{"$f":"VLOOKUP(A47, 'Country names'!$A$5:$C$53,3,FALSE)","v":"NOR"}]
["Norway",{"$f":"VLOOKUP(A48, 'Country names'!$A$5:$C$53,3,FALSE)","v":"NOR"},"24250-24500"]
["Norway",{"$f":"VLOOKUP(A49, 'Country names'!$A$5:$C$53,3,FALSE)","v":"NOR"},null,null,null,null,"x"]
["Norway",{"$f":"VLOOKUP(A50, 'Country names'!$A$5:$C$53,3,FALSE)","v":"NOR"},"24500-26500","x",null,null,null,null,null,null,null,null,null,null,0,18,null,"T/R 13-02 Annex B",null,"x","x",3,5,10]
["Norway",{"$f":"VLOOKUP(A51, 'Country names'!$A$5:$C$53,3,FALSE)","v":"NOR"},null,null,"x",null,null,null,null,null,null,null,null,null,null,410]
["Norway",{"$f":"VLOOKUP(A52, 'Country names'!$A$5:$C$53,3,FALSE)","v":"NOR"},"26500-27500"]
["Norway",{"$f":"VLOOKUP(A53, 'Country names'!$A$5:$C$53,3,FALSE)","v":"NOR"}]
["Norway",{"$f":"VLOOKUP(A54, 'Country names'!$A$5:$C$53,3,FALSE)","v":"NOR"},"27500-29500","x",null,null,null,null,null,null,null,null,null,null,0,1,null,"T/R 13-02 Annex C",null,"x","x"]
["Norway",{"$f":"VLOOKUP(A55, 'Country names'!$A$5:$C$53,3,FALSE)","v":"NOR"},null,null,"x"]
["Norway",{"$f":"VLOOKUP(A56, 'Country names'!$A$5:$C$53,3,FALSE)","v":"NOR"},"31000-31300",null,null,null,null,null,null,null,null,null,null,null,null,null,null,"ECC/REC/(02)02"]
["Norway",{"$f":"VLOOKUP(A57, 'Country names'!$A$5:$C$53,3,FALSE)","v":"NOR"}]
["Norway",{"$f":"VLOOKUP(A58, 'Country names'!$A$5:$C$53,3,FALSE)","v":"NOR"},"31800-33400","x","x",null,null,null,null,null,null,null,null,null,null,null,null,"ERC/REC/(01)02",null,"x","x"]
["Norway",{"$f":"VLOOKUP(A59, 'Country names'!$A$5:$C$53,3,FALSE)","v":"NOR"}]
["Norway",{"$f":"VLOOKUP(A60, 'Country names'!$A$5:$C$53,3,FALSE)","v":"NOR"},"36000-37000"]
["Norway",{"$f":"VLOOKUP(A61, 'Country names'!$A$5:$C$53,3,FALSE)","v":"NOR"}]
["Norway",{"$f":"VLOOKUP(A62, 'Country names'!$A$5:$C$53,3,FALSE)","v":"NOR"},"37000-39500","x",null,null,null,null,null,null,null,null,null,null,null,28,null,"T/R 12-01",null,"x","x"]
["Norway",{"$f":"VLOOKUP(A63, 'Country names'!$A$5:$C$53,3,FALSE)","v":"NOR"},null,null,"x",null,null,null,null,null,null,null,null,null,null,null,null,null,null,"x","x"]
["Norway",{"$f":"VLOOKUP(A64, 'Country names'!$A$5:$C$53,3,FALSE)","v":"NOR"},"39500-40500"]
["Norway",{"$f":"VLOOKUP(A65, 'Country names'!$A$5:$C$53,3,FALSE)","v":"NOR"}]
["Norway",{"$f":"VLOOKUP(A66, 'Country names'!$A$5:$C$53,3,FALSE)","v":"NOR"},"40500-43500",null,"x",null,null,null,null,null,null,null,null,null,null,null,null,"ECC/REC/(01)04",null,"x","x"]
["Norway",{"$f":"VLOOKUP(A67, 'Country names'!$A$5:$C$53,3,FALSE)","v":"NOR"}]
["Norway",{"$f":"VLOOKUP(A68, 'Country names'!$A$5:$C$53,3,FALSE)","v":"NOR"},"47200-48500"]
["Norway",{"$f":"VLOOKUP(A69, 'Country names'!$A$5:$C$53,3,FALSE)","v":"NOR"}]
["Norway",{"$f":"VLOOKUP(A70, 'Country names'!$A$5:$C$53,3,FALSE)","v":"NOR"},"48500-50200",null,null,null,null,null,null,null,null,null,null,null,null,null,null,"ERC/REC 12-11"]
["Norway",{"$f":"VLOOKUP(A71, 'Country names'!$A$5:$C$53,3,FALSE)","v":"NOR"}]
["Norway",{"$f":"VLOOKUP(A72, 'Country names'!$A$5:$C$53,3,FALSE)","v":"NOR"},"50400-51400"]
["Norway",{"$f":"VLOOKUP(A73, 'Country names'!$A$5:$C$53,3,FALSE)","v":"NOR"}]
["Norway",{"$f":"VLOOKUP(A74, 'Country names'!$A$5:$C$53,3,FALSE)","v":"NOR"},"51400-52600",null,null,null,null,null,null,null,null,null,null,null,null,null,null,"ERC/REC 12-11"]
["Norway",{"$f":"VLOOKUP(A75, 'Country names'!$A$5:$C$53,3,FALSE)","v":"NOR"}]
["Norway",{"$f":"VLOOKUP(A76, 'Country names'!$A$5:$C$53,3,FALSE)","v":"NOR"},"557800-57000",null,null,null,null,null,null,null,null,null,null,null,null,null,null,"ERC/REC 12-12"]
["Norway",{"$f":"VLOOKUP(A77, 'Country names'!$A$5:$C$53,3,FALSE)","v":"NOR"}]
["Norway",{"$f":"VLOOKUP(A78, 'Country names'!$A$5:$C$53,3,FALSE)","v":"NOR"},"57000-59000",null,null,null,"x",null,null,null,null,null,null,null,null,null,null,"ECC/REC/(09)01"]
["Norway",{"$f":"VLOOKUP(A79, 'Country names'!$A$5:$C$53,3,FALSE)","v":"NOR"}]
["Norway",{"$f":"VLOOKUP(A80, 'Country names'!$A$5:$C$53,3,FALSE)","v":"NOR"},"59000-64000",null,null,null,"x",null,null,null,null,null,null,null,null,null,null,"ECC/REC/(09)01"]
["Norway",{"$f":"VLOOKUP(A81, 'Country names'!$A$5:$C$53,3,FALSE)","v":"NOR"}]
["Norway",{"$f":"VLOOKUP(A82, 'Country names'!$A$5:$C$53,3,FALSE)","v":"NOR"},"64000-66000",null,null,null,"x",null,null,null,null,null,null,null,null,null,null,"ECC/REC/(05)02"]
["Norway",{"$f":"VLOOKUP(A83, 'Country names'!$A$5:$C$53,3,FALSE)","v":"NOR"}]
["Norway",{"$f":"VLOOKUP(A84, 'Country names'!$A$5:$C$53,3,FALSE)","v":"NOR"},"71000-76000 and 81000-86000","x",null,null,null,null,null,null,null,null,null,null,null,6,null,"ECC/REC/(05)07",null,null,"x"]
["Norway",{"$f":"VLOOKUP(A85, 'Country names'!$A$5:$C$53,3,FALSE)","v":"NOR"}]
["Norway",{"$f":"VLOOKUP(A86, 'Country names'!$A$5:$C$53,3,FALSE)","v":"NOR"},"92000-95000",null,null,null,null,null,null,null,null,null,null,null,null,null,null,"ECC/REC (14)01"]

{"sheet":"Operators","index":36,"n_rows":28,"n_cols":29,"rows_kept":28,"cut":false,"hidden":false,"merged":[[0,25,0,28],[1,8,1,9],[1,10,1,11],[1,19,1,21],[1,22,1,24],[0,19,0,24],[0,4,0,7],[0,8,0,9],[0,10,0,14],[0,15,0,16],[0,18,2,18]]}
["Respondent","Country code","Band index","Frequency band (MHz)","Licensing regime",null,null,null," Topo-logy",null,"Application",null,null,null,null,"Number of P-P links",null,"Number of CS","Channel/Frequency plan used (e.g. ERC/ECC Rec. ITU-R Rec.)","Link characteristics",null,null,null,null,null,"Future trends (e.g. in the next 5 years)"]
[null,null,null,null,null,null,null,null,"FWA",null,"Network Infrastruc-ture",null,null,null,null,null,null,null,null,"Capacity",null,null,"Hop length (km)"]
[null,null,null,null,"Link by link","Block","Light licensed","Licence exempt","P-P","P-MP","Mobile backhaul","Others","Broadcasting Infrastructure","No Information available on the application","Other (please indicate)","unidirection","bidirectional (1 bidirectional link counts 1)","(applicable only for P-MP and mesh networks)",null,"LOW (<10 Mbit/s)","MEDIUM (10 to 100 Mbit/s)","HIGH (>100 Mbit/s)","MIN","Typical figure","MAX","Anticipated growth/reduction (+/-%)","Currently congested","Planned reallocation to other service/application","Other (please describe)\n(see Question 3 of the Questionnaire)"]
["Mobitel EAD Bulgaria",{"$error":"#N/A"},29,"5925-7125","x",null,null,null,"x",null,"x",null,null,null,null,null,96,null,"ERC/REC 14-01 and ERC/REC 14-02, ECC/REC(14)06",null,null,"x",15.01,25.75,54.03,10]
["Mobitel EAD Bulgaria",{"$error":"#N/A"},48,"7900-8500","x",null,null,null,"x",null,"x",null,null,null,null,null,442,null,null,null,"x",null,15.02,21.77,54.37,10]
["Mobitel EAD Bulgaria",{"$error":"#N/A"},58,"12750-13250","x",null,null,null,"x",null,"x",null,null,null,null,null,267,null,"ERC/REC 12-02",null,"x",null,6.27,12.62,30.75,20]
["Mobitel EAD Bulgaria",{"$error":"#N/A"},64,"17700-19700","x",null,null,null,"x",null,"x",null,null,null,null,null,666,null,"ERC/REC 12-03",null,"x",null,2.97,8.23,21.01,10]
["Mobitel EAD Bulgaria",{"$error":"#N/A"},75,"24500-26500","x",null,null,null,"x",null,"x",null,null,null,null,null,474,null,"T/R 13-02 Annex B",null,"x",null,1.98,3.69,15.18,20]
["Mobitel EAD Bulgaria",{"$error":"#N/A"},78,"27500-29500","x",null,null,null,"x",null,"x",null,null,null,null,null,440,null,"T/R 13-02 Annex C",null,"x",null,7.0000000000000007E-2,1.9,5.67,10]
["Mobitel EAD Bulgaria",{"$error":"#N/A"},86,"37000-39500","x",null,null,null,"x",null,"x",null,null,null,null,null,671,null,"T/R 12-01",null,"x",null,0.04,0.79,2.61,-10]
["Telenor Bulgaria",{"$error":"#N/A"},29,"5925-7125","X",null,null,null,"X",null,"X",null,null,null,null,null,7,null,"ERC/REC 14-01 and ERC/REC 14-02, ECC/REC(14)06",null,null,"X",25,40,58]
["Telenor Bulgaria",{"$error":"#N/A"},36,"7125-7750","X",null,null,null,"X",null,"X",null,null,null,null,null,111,null,"ECC REC (02)06",null,null,"X",20,35,45]
["Telenor Bulgaria",{"$error":"#N/A"},54,"10700-11700","X",null,null,null,"X",null,"X",null,null,null,null,null,33,null,"ERC/REC 12-06",null,null,"X",9,18,33]
["Telenor Bulgaria",{"$error":"#N/A"},58,"12750-13250","X",null,null,null,"X",null,"X",null,null,null,null,null,86,null,"ERC/REC 12-02",null,null,"X",9,19,31]
["Telenor Bulgaria",{"$error":"#N/A"},64,"17700-19700","X",null,null,null,"X",null,"X",null,null,null,null,null,779,null,"ERC/REC 12-03",null,null,"X",5.14,12,26.5,null,"X"]
["Telenor Bulgaria",{"$error":"#N/A"},68,"22000-22600 and 23000-23600","X",null,null,null,"X",null,"X",null,null,null,null,null,224,null,"T/R 13-02 Annexes A1, A2, A3",null,null,"X",2.2999999999999998,5,21.3]
["Telenor Bulgaria",{"$error":"#N/A"},75,"24500-26500",null,"X",null,null,"X",null,"X",null,null,null,null,null,727,null,"T/R 13-02 Annex B",null,null,"X",0.1,3.5,12]
["Telenor Bulgaria",{"$error":"#N/A"},78,"27500-29500","X",null,null,null,"X",null,"X",null,null,null,null,null,79,null,"T/R 13-02 Annex C",null,null,"X",0.28000000000000003,2.2999999999999998,10]
["Telenor Bulgaria",{"$error":"#N/A"},86,"37000-39500","X",null,null,null,"X",null,"X",null,null,null,null,null,309,null,"T/R 12-01",null,null,"X",0.03,1.3,5.14]
["Magyar Telecom Hungary",{"$error":"#N/A"},13,"2025-2110 and 2200-2290","    "]
["Magyar Telecom Hungary",{"$error":"#N/A"},58,"12750-13250","X",null,null,null,"X",null,"X",null,null,null,null,null,913,null,"ERC/REC 12-02",16,427,470,1.7,15,46.2,0.15]
["Magyar Telecom Hungary",{"$error":"#N/A"},62,"14923-15180","X",null,null,null,"X",null,"X","X",null,null,null,null,12,null,"ITU-R F 636-3",5,7,0,3.1,12,18.600000000000001,-1,null,null,"Till 31.12.2018"]
["Magyar Telecom Hungary",{"$error":"#N/A"},64,"17700-19700","X",null,null,null,"X",null,"X",null,null,null,null,null,338,null,"ERC/REC 12-03",0,34,304,0.2,10,31.7,0.15]
["Magyar Telecom Hungary",{"$error":"#N/A"},68,"22000-22600 and 23000-23600","X",null,null,null,"X",null,"X","X",null,null,null,null,330,null,"T/R 13-02 Annexes A1, A2, A3",15,227,88,0.3,5,15.4,-0.2]
["Magyar Telecom Hungary",{"$error":"#N/A"},75,"24500-26500",null,"X",null,null,"X",null,"X","X",null,null,null,null,1480,null,"T/R 13-02 Annex B",0,721,759,0.03,3,28.7,0.3]
["Magyar Telecom Hungary",{"$error":"#N/A"},75,"24500-26500",null,"X",null,null,null,"X",null,"X",null,null,null,null,null,31,null,0,267,0,0.1,1.6,3.9,0]
["Magyar Telecom Hungary",{"$error":"#N/A"},86,"37000-39500","X",null,null,null,"X",null,"X","X",null,null,null,null,1182,null,"T/R 12-01",150,885,147,0.06,1.7,13.3,-0.1]
["Magyar Telecom Hungary",{"$error":"#N/A"},104,"71000-76000 and 81000-86000",null,null,"X",null,"X",null,"X","X",null,null,null,null,405,null,"ECC/REC/(05)07",0,0,405,0.03,0.8,2.9,0.5]

{"sheet":"Sheet4","index":37,"n_rows":0,"n_cols":0,"rows_kept":0,"cut":false,"hidden":false,"merged":[]}